{"text_format":"1","workbook":"xlsx","n_sheets":39,"sheets":["START","Misc_1_2","Step 1","Step 2","Step 3A","Step 3B PP","PP_NYF_submission","PP_nyf_base","PP_pre_survey","PP_pre_survey_base","PP_post_survey","PP_post_survey_base","Step 3B CPP","Step 3B Custom","Custom_survey","Custom_NYF_Submission","CPP_NYF_submission","CPP_nyf_base","Custom_nyf_base","CPP_survey","CPP_survey_base","Custom_survey_base","Step 4A PP Pre","data_pp_pre","4a_pp_pre_misc","Step 4B PP Post","data_pp_post","data_pp_combined","4b_pp_post_misc","Step 4 CPP","data_entry_direct","4_cpp_misc","data_longform","Sheet1","data_entry_misc","End","Results","Sheet7","Sheet6"],"not_rendered":{"charts":2,"images":1,"macros":1,"external_links":0,"defined_names":12,"comments":0,"pivot_tables":0},"unopened":[],"bounds":{"document_bytes":16777216,"sheet_cells":100000,"rows_first":2000,"rows_last":500,"rows_between":2000,"halvings":0,"cell_chars":16384,"cell_head_chars":4096},"cells_cut":0,"cells_raw":0,"read":"whole","date_system":"1900"}

{"sheet":"START","index":0,"n_rows":25,"n_cols":2,"rows_kept":25,"cut":false,"hidden":false,"merged":[[13,1,13,2],[15,1,15,2],[18,1,18,2]]}
[]
[null,"NYC Programme Impact Assessment Toolkit"]
[]
[null,"The Youth Programme Impact Assessment Toolkit is a guide developed by the National Youth Council (NYC) to help us measure the impact of programmes more effectively through the use of validated youth development outcome indicators. The toolkit is primarily designed for NYC and National Youth Fund (NYF)-funded programmes, and the indicators are based on youth developmental outcomes that contribute towards NYC’s mission of developing youths who are future-ready and committed to Singapore. "]
[]
[null,"This toolkit will guide you through the following steps:"]
[]
[]
[]
[]
[]
[]
[]
[null,"To start, please enter the following details."]
[]
[null,"Name of your programme:"]
[]
[]
[null,"Name of your organisation:"]
[]
[]
[]
[]
[]
[null,"We seek to further build upon the indicators and refine this beta-version of the toolkit with your feedback. If you have feedback on the toolkit, please share with us via Partnership_Enquiries@nyc.gov.sg"]

{"sheet":"Misc_1_2","index":1,"n_rows":19,"n_cols":3,"rows_kept":19,"cut":false,"hidden":true,"merged":[]}
["Yes"]
["No"]
[]
["Pre- and Post-Programme Survey",{"$f":"IF('Step 3A'!D5=Misc_1_2!A4, 1, 0)","v":1}]
["Post-only Programme Survey",{"$f":"IF('Step 3A'!D5=Misc_1_2!A5, 1, 0)","v":0}]
[]
["Mentor"]
["Facilitator"]
["Teacher"]
["Guide"]
["Leader"]
[]
["name",{"$f":"IF(START!B17=\"\", 1, 0)","v":1},"Please enter your programme name."]
["org",{"$f":"IF(START!B20=\"\", 1, 0)","v":1},"Please enter your organisation's name."]
["error",{"$f":"IF(SUM(B13:B14)=0,0,1)","v":1},{"$f":"OFFSET($C$12, MATCH(1, B13:B14, 0), 0)","v":"Please enter your programme name."}]
[]
["min 1",{"$f":"IF(COUNTIF('Step 1'!$B$8:$B$55, \"Yes\")=0, 1, 0)","v":1},"Please select at least 1 outcome"]
["max 5",{"$f":"IF(COUNTIF('Step 1'!$B$8:$B$55, \"Yes\")>5, 1, 0)","v":0},"Please select at most 5 outcomes"]
["error",{"$f":"IF(SUM(B17:B18)=0, 0, 1)","v":1},{"$f":"OFFSET(C16, MATCH(1, B17:B18, 0), 0)","v":"Please select at least 1 outcome"}]

{"sheet":"Step 1","index":2,"n_rows":55,"n_cols":5,"rows_kept":55,"cut":false,"hidden":true,"merged":[[3,1,3,4],[4,1,4,4]]}
[]
[]
[]
[null,"Step 1: Identify Your Programme Outcomes"]
[null,"Please refer to the diagram above for the youth developmental outcomes and identify up to five outcomes from the list below that are relevant to your programme. Please focus on the primary targeted outcomes that your programme is intentionally designed to achieve, rather than secondary outcomes that may occur as a by-product of the programme."]
[]
[null,null,null,"Driven"]
[null,"No",null,"Tenacity","Our youths persevere through difficulties to achieve their goals."]
[null,"No",null,"Confidence","Our youths view themselves positively and believe they can succeed. "]
[]
[null,null,null,"Resilient"]
[null,"No",null,"Proactiveness","Our youths take initiative. "]
[null,"No",null,"Growth Mindset","Our youths view challenges as opportunities for growth. "]
[null,"No",null,"Emotional Awareness","Our youths know the symptoms of mental and emotional distress."]
[null,"No",null,"Emotional Management","Our youths are able to manage negative thoughts and emotions."]
[null,"No",null,"Emotional Support","Our youths are able to support others who are struggling mentally and emotionally."]
[null,"No",null,"Social Support Networks","Our youths have people that they can turn to for support."]
[]
[null,null,null,"Competent"]
[null,"No",null,"Critical Thinking","Our youths are able to analyse issues objectively."]
[null,"No",null,"Problem Solving","Our youths are able to identify the problem, and generate, evaluate and implement solutions."]
[null,"No",null,"Innovative","Our youths are able to come up with new ideas."]
[null,"No",null,"Financial Literacy","Our youths are able to make informed decisions with regard to their financial resources."]
[null,"No",null,"Project Management","Our youths are able to plan, coordinate and execute an event/project."]
[null,"No",null,"Career Preparedness","Our youths understand what it takes to succeed in their career."]
[]
[null,null,null,"Collaborative"]
[null,"No",null,"Stakeholder Management","Our youths are able to work well with various parties involved in their projects."]
[null,"No",null,"Teamwork","Our youths are able to work well with others in a team."]
[]
[null,null,null,"Thriving & Healthy"]
[null,"No",null,"Physical Health","Our youths maintain good physical health."]
[null,"No",null,"Emotional Awareness","Our youths know the symptoms of mental and emotional distress."]
[null,"No",null,"Emotional Management","Our youths are able to manage negative thoughts and emotions."]
[null,"No",null,"Emotional Support","Our youths are able to support others who are struggling mentally and emotionally."]
[]
[null,null,null,"Global"]
[null,"No",null,"Cultural Awareness","Our youths are aware of the differences between cultures. "]
[null,"No",null,"Global Perspectives","Our youths understand the issues affecting other countries; and the opportunities and challenges that they have. "]
[]
[null,null,null,"Informed"]
[null,"No",null,"National Perspectives","Our youths understand the issues affecting Singapore, and the opportunities and challenges that Singapore has."]
[null,"No",null,"Public Policy Awareness","Our youths are aware of the policies and programmes that tackle issues affecting Singapore’s society."]
[]
[null,null,null,"Rooted"]
[null,"No",null,"National Pride","Our youths are proud to be Singaporeans."]
[null,"No",null,"Social Support Networks","Our youths have people that they can turn to for support."]
[null,"No",null,"Open to Diversity","Our youths embrace diversity and maintain positive attitudes towards those from different social groups."]
[]
[null,null,null,"Caring"]
[null,"No",null,"Empathy","Our youths are able to place themselves in the shoes of others."]
[null,"No",null,"Ability to Effect Change (Community)","Our youths feel that they can play a part in bringing about change in Singapore."]
[null,"No",null,"Ability to Effect Change (Government)","Our youths feel that they can influence government decisions on issues."]
[null,"No",null,"Civic Engagement (Community)","Our youths take an interest in the community and actively seek to improve the lives of others."]
[null,"No",null,"Civic Engagement (Environmental)","Our youths care for the environment."]

{"sheet":"Step 2","index":3,"n_rows":136,"n_cols":7,"rows_kept":136,"cut":false,"hidden":true,"merged":[[1,1,1,4],[2,1,2,4]]}
[]
[null,"Step 2: Identify Youth Outcome Indicators"]
[null,"For each of the outcomes that you have selected, please select at least one indicator. Respondents will be asked to rate, on a 5 point scale, how strongly they agree or disagree with each statement. Some of the indicators are mandatory indicators, while others are optional based on  your programme. Mandatory indicators are marked with an asterix on the left.\n\nThe indicators here are not intended to be prescriptive or exhaustive. We understand that every programme is unique, hence you may pick and choose indicators that you find relevant to your programme. You are also encouraged to include additional programme-specific outcome indicators beyond this toolkit, where helpful, to more accurately understand your programme impact. "]
[]
[{"$f":"MATCH(D5, 'Step 1'!$D$7:$D$55, 0)","v":2},null,null,"Tenacity",null,null,{"$f":"OFFSET('Step 1'!B$6, 'Step 2'!A5, 0)","v":"No"}]
[{"$f":"A5","v":2},"Yes","*","I am able to persevere in the face of challenges.",null,null,{"$f":"OFFSET('Step 1'!B$6, 'Step 2'!A6, 0)","v":"No"}]
[{"$f":"A6","v":2},"No",null,"I do not give up even after experiencing failure. ",null,null,{"$f":"OFFSET('Step 1'!B$6, 'Step 2'!A7, 0)","v":"No"}]
[{"$f":"A7","v":2},null,null,null,null,null,{"$f":"OFFSET('Step 1'!B$6, 'Step 2'!A8, 0)","v":"No"}]
[{"$f":"MATCH(D9, 'Step 1'!$D$7:$D$55, 0)","v":3},null,null,"Confidence",null,null,{"$f":"OFFSET('Step 1'!B$6, 'Step 2'!A9, 0)","v":"No"}]
[{"$f":"A9","v":3},"No",null,"I feel that I have a number of good qualities.",null,null,{"$f":"OFFSET('Step 1'!B$6, 'Step 2'!A10, 0)","v":"No"}]
[3,"No",null,"I am able to do things as well as most other people. ",null,null,{"$f":"OFFSET('Step 1'!B$6, 'Step 2'!A11, 0)","v":"No"}]
[3,"No",null,"I believe I can achieve my goals.",null,null,{"$f":"OFFSET('Step 1'!B$6, 'Step 2'!A12, 0)","v":"No"}]
[3,"Yes","*","I believe I have the ability to succeed in the things I want to do.",null,null,{"$f":"OFFSET('Step 1'!B$6, 'Step 2'!A13, 0)","v":"No"}]
[3,"No",null,"I am confident I can succeed when I try my best.",null,null,{"$f":"OFFSET('Step 1'!B$6, 'Step 2'!A14, 0)","v":"No"}]
[3,null,null,null,null,null,{"$f":"OFFSET('Step 1'!B$6, 'Step 2'!A15, 0)","v":"No"}]
[{"$f":"MATCH(D16, 'Step 1'!$D$7:$D$55, 0)","v":6},null,null,"Proactiveness",null,null,{"$f":"OFFSET('Step 1'!B$6, 'Step 2'!A16, 0)","v":"No"}]
[{"$f":"A16","v":6},"Yes","*","I seize the opportunity whenever I see one. ",null,null,{"$f":"OFFSET('Step 1'!B$6, 'Step 2'!A17, 0)","v":"No"}]
[{"$f":"A17","v":6},"No",null,"I take initiative instead of waiting for things to happen.",null,null,{"$f":"OFFSET('Step 1'!B$6, 'Step 2'!A18, 0)","v":"No"}]
[{"$f":"A18","v":6},null,null,null,null,null,{"$f":"OFFSET('Step 1'!B$6, 'Step 2'!A19, 0)","v":"No"}]
[{"$f":"MATCH(D20, 'Step 1'!$D$7:$D$55, 0)","v":7},null,null,"Growth Mindset",null,null,{"$f":"OFFSET('Step 1'!B$6, 'Step 2'!A20, 0)","v":"No"}]
[{"$f":"A20","v":7},"No",null,"I believe it is important to challenge myself to grow. ",null,null,{"$f":"OFFSET('Step 1'!B$6, 'Step 2'!A21, 0)","v":"No"}]
[{"$f":"A21","v":7},"Yes","*","Difficult times are an opportunity for me to learn and grow as a person.",null,null,{"$f":"OFFSET('Step 1'!B$6, 'Step 2'!A22, 0)","v":"No"}]
[{"$f":"A22","v":7},null,null,null,null,null,{"$f":"OFFSET('Step 1'!B$6, 'Step 2'!A23, 0)","v":"No"}]
[27,null,null,"Emotional Awareness",null,null,{"$f":"OFFSET('Step 1'!B$6, 'Step 2'!A24, 0)","v":"No"}]
[{"$f":"A24","v":27},"Yes","*","I know how to identify symptoms of mental and emotional distress. ",null,null,{"$f":"OFFSET('Step 1'!B$6, 'Step 2'!A25, 0)","v":"No"}]
[{"$f":"A25","v":27},null,null,null,null,null,{"$f":"OFFSET('Step 1'!B$6, 'Step 2'!A26, 0)","v":"No"}]
[28,null,null,"Emotional Management",null,null,{"$f":"OFFSET('Step 1'!B$6, 'Step 2'!A27, 0)","v":"No"}]
[{"$f":"A27","v":28},"Yes","*","I know how I can manage negative thoughts and emotions. ",null,null,{"$f":"OFFSET('Step 1'!B$6, 'Step 2'!A28, 0)","v":"No"}]
[{"$f":"A28","v":28},"No",null,"I know where to seek help when I have distressing thoughts and emotions beyond my control. ",null,null,{"$f":"OFFSET('Step 1'!B$6, 'Step 2'!A29, 0)","v":"No"}]
[{"$f":"A29","v":28},"No",null,"If I have distressing thoughts and emotions beyond my control, I would seek help.",null,null,{"$f":"OFFSET('Step 1'!B$6, 'Step 2'!A30, 0)","v":"No"}]
[{"$f":"A30","v":28},null,null,null,null,null,{"$f":"OFFSET('Step 1'!B$6, 'Step 2'!A31, 0)","v":"No"}]
[29,null,null,"Emotional Support",null,null,{"$f":"OFFSET('Step 1'!B$6, 'Step 2'!A32, 0)","v":"No"}]
[{"$f":"A32","v":29},"Yes","*","I am able to support those struggling mentally and emotionally. ",null,null,{"$f":"OFFSET('Step 1'!B$6, 'Step 2'!A33, 0)","v":"No"}]
[{"$f":"A33","v":29},null,null,null,null,null,{"$f":"OFFSET('Step 1'!B$6, 'Step 2'!A34, 0)","v":"No"}]
[41,null,null,"Social Support Networks",null,null,{"$f":"OFFSET('Step 1'!B$6, 'Step 2'!A35, 0)","v":"No"}]
[41,"No",null,"I have people that I can talk with about my problems.",null,null,{"$f":"OFFSET('Step 1'!B$6, 'Step 2'!A36, 0)","v":"No"}]
[41,"Yes","*","I have people whom I can turn to for support. ",null,null,{"$f":"OFFSET('Step 1'!B$6, 'Step 2'!A37, 0)","v":"No"}]
[{"$f":"A37","v":41},null,null,null,null,null,{"$f":"OFFSET('Step 1'!B$6, 'Step 2'!A38, 0)","v":"No"}]
[{"$f":"MATCH(D39, 'Step 1'!$D$7:$D$55, 0)","v":14},null,null,"Critical Thinking",null,null,{"$f":"OFFSET('Step 1'!B$6, 'Step 2'!A39, 0)","v":"No"}]
[{"$f":"A39","v":14},"No",null,"I am able to link different information together. ",null,null,{"$f":"OFFSET('Step 1'!B$6, 'Step 2'!A40, 0)","v":"No"}]
[{"$f":"A40","v":14},"No",null,"I think through issues from different angles.",null,null,{"$f":"OFFSET('Step 1'!B$6, 'Step 2'!A41, 0)","v":"No"}]
[{"$f":"A41","v":14},"Yes","*","I analyse an issue thoroughly before coming to a conclusion.",null,null,{"$f":"OFFSET('Step 1'!B$6, 'Step 2'!A42, 0)","v":"No"}]
[{"$f":"A42","v":14},null,null,null,null,null,{"$f":"OFFSET('Step 1'!B$6, 'Step 2'!A43, 0)","v":"No"}]
[{"$f":"MATCH(D44, 'Step 1'!$D$7:$D$55, 0)","v":15},null,null,"Problem Solving",null,null,{"$f":"OFFSET('Step 1'!B$6, 'Step 2'!A44, 0)","v":"No"}]
[{"$f":"A44","v":15},"Yes","*","I know how to identify and solve problems.",null,null,{"$f":"OFFSET('Step 1'!B$6, 'Step 2'!A45, 0)","v":"No"}]
[15,"Yes","*","I am able to solve problems that I face.",null,null,{"$f":"OFFSET('Step 1'!B$6, 'Step 2'!A46, 0)","v":"No"}]
[15,"No",null,"After I have tried to solve a problem, I examine why it did or did not work.",null,null,{"$f":"OFFSET('Step 1'!B$6, 'Step 2'!A47, 0)","v":"No"}]
[15,"No",null,"When solving a problem, I compare the pros and cons of my solutions. ",null,null,{"$f":"OFFSET('Step 1'!B$6, 'Step 2'!A48, 0)","v":"No"}]
[15,"No",null,"When faced with a problem, I try to find out the cause of the problem.",null,null,{"$f":"OFFSET('Step 1'!B$6, 'Step 2'!A49, 0)","v":"No"}]
[15,null,null,null,null,null,{"$f":"OFFSET('Step 1'!B$6, 'Step 2'!A50, 0)","v":"No"}]
[{"$f":"MATCH(D51, 'Step 1'!$D$7:$D$55, 0)","v":16},null,null,"Innovative",null,null,{"$f":"OFFSET('Step 1'!B$6, 'Step 2'!A51, 0)","v":"No"}]
[{"$f":"A51","v":16},"Yes","*","I know of ways to come up with new ideas. ",null,null,{"$f":"OFFSET('Step 1'!B$6, 'Step 2'!A52, 0)","v":"No"}]
[{"$f":"A52","v":16},null,null,null,null,null,{"$f":"OFFSET('Step 1'!B$6, 'Step 2'!A53, 0)","v":"No"}]
[{"$f":"MATCH(D54, 'Step 1'!$D$7:$D$55, 0)","v":17},null,null,"Financial Literacy",null,null,{"$f":"OFFSET('Step 1'!B$6, 'Step 2'!A54, 0)","v":"No"}]
[{"$f":"A54","v":17},"Yes","*","I know the steps that I can take to meet my financial goals.",null,null,{"$f":"OFFSET('Step 1'!B$6, 'Step 2'!A55, 0)","v":"No"}]
[{"$f":"A55","v":17},null,null,null,null,null,{"$f":"OFFSET('Step 1'!B$6, 'Step 2'!A56, 0)","v":"No"}]
[{"$f":"MATCH(D57, 'Step 1'!$D$7:$D$55, 0)","v":18},null,null,"Project Management",null,null,{"$f":"OFFSET('Step 1'!B$6, 'Step 2'!A57, 0)","v":"No"}]
[{"$f":"A57","v":18},"Yes","*","I understand the factors that are critical to the smooth running of an event or a project. ",null,null,{"$f":"OFFSET('Step 1'!B$6, 'Step 2'!A58, 0)","v":"No"}]
[{"$f":"A58","v":18},null,null,null,null,null,{"$f":"OFFSET('Step 1'!B$6, 'Step 2'!A59, 0)","v":"No"}]
[{"$f":"MATCH(D60, 'Step 1'!$D$7:$D$55, 0)","v":19},null,null,"Career Preparedness",null,null,{"$f":"OFFSET('Step 1'!B$6, 'Step 2'!A60, 0)","v":"No"}]
[{"$f":"A60","v":19},"Yes","*","I am aware of the skills that will help me to succeed in my career in future.",null,null,{"$f":"OFFSET('Step 1'!B$6, 'Step 2'!A61, 0)","v":"No"}]
[{"$f":"A61","v":19},"No",null,"I am aware of the potential career pathways that I can take to achieve my goals.",null,null,{"$f":"OFFSET('Step 1'!B$6, 'Step 2'!A62, 0)","v":"No"}]
[{"$f":"A62","v":19},"Yes","*","I believe I will be able to adapt to changes that affect my job opportunities.",null,null,{"$f":"OFFSET('Step 1'!B$6, 'Step 2'!A63, 0)","v":"No"}]
[{"$f":"A63","v":19},"No",null,"I believe I can achieve my career goals. ",null,null,{"$f":"OFFSET('Step 1'!B$6, 'Step 2'!A64, 0)","v":"No"}]
[{"$f":"A64","v":19},null,null,null,null,null,{"$f":"OFFSET('Step 1'!B$6, 'Step 2'!A65, 0)","v":"No"}]
[{"$f":"MATCH(D66, 'Step 1'!$D$7:$D$55, 0)","v":22},null,null,"Stakeholder Management",null,null,{"$f":"OFFSET('Step 1'!B$6, 'Step 2'!A66, 0)","v":"No"}]
[{"$f":"A66","v":22},"Yes","*","I know how to work well with my stakeholders.",null,null,{"$f":"OFFSET('Step 1'!B$6, 'Step 2'!A67, 0)","v":"No"}]
[{"$f":"A67","v":22},"No",null,"I seek to understand the needs of my stakeholders.",null,null,{"$f":"OFFSET('Step 1'!B$6, 'Step 2'!A68, 0)","v":"No"}]
[{"$f":"A68","v":22},"No",null,"I am able to establish common understanding and build trust with my stakeholders.",null,null,{"$f":"OFFSET('Step 1'!B$6, 'Step 2'!A69, 0)","v":"No"}]
[{"$f":"A69","v":22},"No",null,"I work well with my stakeholders.",null,null,{"$f":"OFFSET('Step 1'!B$6, 'Step 2'!A70, 0)","v":"No"}]
[{"$f":"A70","v":22},null,null,null,null,null,{"$f":"OFFSET('Step 1'!B$6, 'Step 2'!A71, 0)","v":"No"}]
[{"$f":"MATCH(D72, 'Step 1'!$D$7:$D$55, 0)","v":23},null,null,"Teamwork",null,null,{"$f":"OFFSET('Step 1'!B$6, 'Step 2'!A72, 0)","v":"No"}]
[{"$f":"A72","v":23},"Yes","*","I know how to work well in a team.",null,null,{"$f":"OFFSET('Step 1'!B$6, 'Step 2'!A73, 0)","v":"No"}]
[23,"No",null,"I support others in the team.",null,null,{"$f":"OFFSET('Step 1'!B$6, 'Step 2'!A74, 0)","v":"No"}]
[23,"No",null,"I communicate well with my team members.",null,null,{"$f":"OFFSET('Step 1'!B$6, 'Step 2'!A75, 0)","v":"No"}]
[23,"No",null,"I work well in a team.",null,null,{"$f":"OFFSET('Step 1'!B$6, 'Step 2'!A76, 0)","v":"No"}]
[23,"No",null,"I treat other members of my team as equal to myself.",null,null,{"$f":"OFFSET('Step 1'!B$6, 'Step 2'!A77, 0)","v":"No"}]
[23,"No",null,"I am able to work with people who have different working styles from me.",null,null,{"$f":"OFFSET('Step 1'!B$6, 'Step 2'!A78, 0)","v":"No"}]
[23,null,null,null,null,null,{"$f":"OFFSET('Step 1'!B$6, 'Step 2'!A79, 0)","v":"No"}]
[{"$f":"MATCH(D80, 'Step 1'!$D$7:$D$55, 0)","v":26},null,null,"Physical Health",null,null,{"$f":"OFFSET('Step 1'!B$6, 'Step 2'!A80, 0)","v":"No"}]
[{"$f":"A80","v":26},"Yes","*","I believe it is important to stay physically healthy. ",null,null,{"$f":"OFFSET('Step 1'!B$6, 'Step 2'!A81, 0)","v":"No"}]
[{"$f":"A81","v":26},"Yes","*","I make a conscious effort to maintain a healthy lifestyle.",null,null,{"$f":"OFFSET('Step 1'!B$6, 'Step 2'!A82, 0)","v":"No"}]
[{"$f":"A82","v":26},null,null,null,null,null,{"$f":"OFFSET('Step 1'!B$6, 'Step 2'!A83, 0)","v":"No"}]
[{"$f":"MATCH(D84, 'Step 1'!$D$7:$D$55, 0)","v":32},null,null,"Cultural Awareness",null,null,{"$f":"OFFSET('Step 1'!B$6, 'Step 2'!A84, 0)","v":"No"}]
[{"$f":"A84","v":32},"Yes","*","I am aware of differences between cultures.",null,null,{"$f":"OFFSET('Step 1'!B$6, 'Step 2'!A85, 0)","v":"No"}]
[{"$f":"A85","v":32},null,null,null,null,null,{"$f":"OFFSET('Step 1'!B$6, 'Step 2'!A86, 0)","v":"No"}]
[{"$f":"MATCH(D87, 'Step 1'!$D$7:$D$55, 0)","v":33},null,null,"Global Perspectives",null,null,{"$f":"OFFSET('Step 1'!B$6, 'Step 2'!A87, 0)","v":"No"}]
[{"$f":"A87","v":33},"Yes","*","I am aware of issues affecting other countries",null,null,{"$f":"OFFSET('Step 1'!B$6, 'Step 2'!A88, 0)","v":"No"}]
[{"$f":"A88","v":33},"Yes","*","I understand how changes around the world affect other countries.",null,null,{"$f":"OFFSET('Step 1'!B$6, 'Step 2'!A89, 0)","v":"No"}]
[{"$f":"A89","v":33},"No",null,"I understand the opportunities and challenges other countries have.",null,null,{"$f":"OFFSET('Step 1'!B$6, 'Step 2'!A90, 0)","v":"No"}]
[{"$f":"A90","v":33},"No",null,"I understand the difficulties in trying to solve global issues.",null,null,{"$f":"OFFSET('Step 1'!B$6, 'Step 2'!A91, 0)","v":"No"}]
[{"$f":"A91","v":33},null,null,null,null,null,{"$f":"OFFSET('Step 1'!B$6, 'Step 2'!A92, 0)","v":"No"}]
[{"$f":"MATCH(D93, 'Step 1'!$D$7:$D$55, 0)","v":36},null,null,"National Perspectives",null,null,{"$f":"OFFSET('Step 1'!B$6, 'Step 2'!A93, 0)","v":"No"}]
[{"$f":"A93","v":36},"Yes","*","I am aware of issues affecting Singapore.",null,null,{"$f":"OFFSET('Step 1'!B$6, 'Step 2'!A94, 0)","v":"No"}]
[{"$f":"A94","v":36},"No",null,"I understand how changes around the world affect Singapore and its future.",null,null,{"$f":"OFFSET('Step 1'!B$6, 'Step 2'!A95, 0)","v":"No"}]
[{"$f":"A95","v":36},"No",null,"I understand the opportunities and challenges that Singapore has.",null,null,{"$f":"OFFSET('Step 1'!B$6, 'Step 2'!A96, 0)","v":"No"}]
[{"$f":"A96","v":36},"No",null,"I understand the difficulties in trying to solve issues affecting Singapore's society.",null,null,{"$f":"OFFSET('Step 1'!B$6, 'Step 2'!A97, 0)","v":"No"}]
[{"$f":"A97","v":36},null,null,null,null,null,{"$f":"OFFSET('Step 1'!B$6, 'Step 2'!A98, 0)","v":"No"}]
[{"$f":"MATCH(D99, 'Step 1'!$D$7:$D$55, 0)","v":37},null,null,"Public Policy Awareness",null,null,{"$f":"OFFSET('Step 1'!B$6, 'Step 2'!A99, 0)","v":"No"}]
[{"$f":"A99","v":37},"Yes","*","I am aware of policies and programmes that tackle issues affecting Singapore's society.",null,null,{"$f":"OFFSET('Step 1'!B$6, 'Step 2'!A100, 0)","v":"No"}]
[{"$f":"A100","v":37},null,null,null,null,null,{"$f":"OFFSET('Step 1'!B$6, 'Step 2'!A101, 0)","v":"No"}]
[{"$f":"MATCH(D102, 'Step 1'!$D$7:$D$55, 0)","v":40},null,null,"National Pride",null,null,{"$f":"OFFSET('Step 1'!B$6, 'Step 2'!A102, 0)","v":"No"}]
[{"$f":"A102","v":40},"Yes","*","I am proud to be a Singaporean. ",null,null,{"$f":"OFFSET('Step 1'!B$6, 'Step 2'!A103, 0)","v":"No"}]
[{"$f":"A103","v":40},null,null,null,null,null,{"$f":"OFFSET('Step 1'!B$6, 'Step 2'!A104, 0)","v":"No"}]
[{"$f":"MATCH(D105, 'Step 1'!$D$7:$D$55, 0)","v":42},null,null,"Open to Diversity",null,null,{"$f":"OFFSET('Step 1'!B$6, 'Step 2'!A105, 0)","v":"No"}]
[{"$f":"A105","v":42},"No",null,"I respect the opinions of others, even if I do not agree with it. ",null,null,{"$f":"OFFSET('Step 1'!B$6, 'Step 2'!A106, 0)","v":"No"}]
[{"$f":"A106","v":42},"Yes","*","I respect the values and beliefs of people who are of a different background from me.",null,null,{"$f":"OFFSET('Step 1'!B$6, 'Step 2'!A107, 0)","v":"No"}]
[{"$f":"A107","v":42},null,null,null,null,null,{"$f":"OFFSET('Step 1'!B$6, 'Step 2'!A108, 0)","v":"No"}]
[{"$f":"MATCH(D109, 'Step 1'!$D$7:$D$55, 0)","v":45},null,null,"Empathy",null,null,{"$f":"OFFSET('Step 1'!B$6, 'Step 2'!A109, 0)","v":"No"}]
[{"$f":"A109","v":45},"Yes","*","I put myself in the shoes of others to understand how they feel.",null,null,{"$f":"OFFSET('Step 1'!B$6, 'Step 2'!A110, 0)","v":"No"}]
[{"$f":"A110","v":45},null,null,null,null,null,{"$f":"OFFSET('Step 1'!B$6, 'Step 2'!A111, 0)","v":"No"}]
[{"$f":"MATCH(D112, 'Step 1'!$D$7:$D$55, 0)","v":46},null,null,"Ability to Effect Change (Community)",null,null,{"$f":"OFFSET('Step 1'!B$6, 'Step 2'!A112, 0)","v":"No"}]
[{"$f":"A112","v":46},"No",null,"I believe that I can make a difference in the community.",null,null,{"$f":"OFFSET('Step 1'!B$6, 'Step 2'!A113, 0)","v":"No"}]
[{"$f":"A113","v":46},"Yes","*","I believe I can help to shape society.",null,null,{"$f":"OFFSET('Step 1'!B$6, 'Step 2'!A114, 0)","v":"No"}]
[{"$f":"A114","v":46},null,null,null,null,null,{"$f":"OFFSET('Step 1'!B$6, 'Step 2'!A115, 0)","v":"No"}]
[{"$f":"MATCH(D116, 'Step 1'!$D$7:$D$55, 0)","v":47},null,null,"Ability to Effect Change (Government)",null,null,{"$f":"OFFSET('Step 1'!B$6, 'Step 2'!A116, 0)","v":"No"}]
[{"$f":"A116","v":47},"Yes","*","I believe that I can influence government decisions on issues. ",null,null,{"$f":"OFFSET('Step 1'!B$6, 'Step 2'!A117, 0)","v":"No"}]
[{"$f":"A117","v":47},null,null,null,null,null,{"$f":"OFFSET('Step 1'!B$6, 'Step 2'!A118, 0)","v":"No"}]
[{"$f":"MATCH(D119, 'Step 1'!$D$7:$D$55, 0)","v":48},null,null,"Civic Engagement (Community)",null,null,{"$f":"OFFSET('Step 1'!B$6, 'Step 2'!A119, 0)","v":"No"}]
[{"$f":"A119","v":48},"Yes","*","I am aware of the needs in the community.",null,null,{"$f":"OFFSET('Step 1'!B$6, 'Step 2'!A120, 0)","v":"No"}]
[48,"Yes","*","I understand the ways that I can contribute to the community.",null,null,{"$f":"OFFSET('Step 1'!B$6, 'Step 2'!A121, 0)","v":"No"}]
[48,"Yes","*","I believe I have a role to play in improving the community.",null,null,{"$f":"OFFSET('Step 1'!B$6, 'Step 2'!A122, 0)","v":"No"}]
[48,"No",null,"I feel a strong conviction to give back to the community.",null,null,{"$f":"OFFSET('Step 1'!B$6, 'Step 2'!A123, 0)","v":"No"}]
[48,"Yes","*","I actively participate in efforts that help to improve the community.",null,null,{"$f":"OFFSET('Step 1'!B$6, 'Step 2'!A124, 0)","v":"No"}]
[48,"No",null,"I participate in discussions on national, community or social issues.",null,null,{"$f":"OFFSET('Step 1'!B$6, 'Step 2'!A125, 0)","v":"No"}]
[48,"No",null,"I encourage my peers to participate in activities that help to improve the community.",null,null,{"$f":"OFFSET('Step 1'!B$6, 'Step 2'!A126, 0)","v":"No"}]
[48,null,null,null,null,null,{"$f":"OFFSET('Step 1'!B$6, 'Step 2'!A127, 0)","v":"No"}]
[{"$f":"MATCH(D128, 'Step 1'!$D$7:$D$55, 0)","v":49},null,null,"Civic Engagement (Environmental)",null,null,{"$f":"OFFSET('Step 1'!B$6, 'Step 2'!A128, 0)","v":"No"}]
[{"$f":"A128","v":49},"Yes","*","I am aware of the effects of my actions on the environment.",null,null,{"$f":"OFFSET('Step 1'!B$6, 'Step 2'!A129, 0)","v":"No"}]
[49,"Yes","*","I understand the ways that I can care for the environment.",null,null,{"$f":"OFFSET('Step 1'!B$6, 'Step 2'!A130, 0)","v":"No"}]
[49,"Yes","*","I feel responsible towards the environment.",null,null,{"$f":"OFFSET('Step 1'!B$6, 'Step 2'!A131, 0)","v":"No"}]
[49,"No",null,"My efforts to care for the environment will make a difference.",null,null,{"$f":"OFFSET('Step 1'!B$6, 'Step 2'!A132, 0)","v":"No"}]
[49,"Yes","*","I actively participate in efforts to care for the environment.",null,null,{"$f":"OFFSET('Step 1'!B$6, 'Step 2'!A133, 0)","v":"No"}]
[49,"No",null,"I encourage my peers to care for the environment.",null,null,{"$f":"OFFSET('Step 1'!B$6, 'Step 2'!A134, 0)","v":"No"}]
[49,null,null,null,null,null,{"$f":"OFFSET('Step 1'!B$6, 'Step 2'!A135, 0)","v":"No"}]
[49,null,null,null,null,null,{"$f":"OFFSET('Step 1'!B$6, 'Step 2'!A136, 0)","v":"No"}]

{"sheet":"Step 3A","index":4,"n_rows":7,"n_cols":4,"rows_kept":7,"cut":false,"hidden":true,"merged":[[1,1,1,4],[2,1,2,4]]}
[]
[null,"Step 3A: Select Evaluation Design"]
[null,"You are highly encouraged to use a pre/post programme survey to evaluate your programmes. What this entails is that participants will complete 1 set of the evaluation prior to participation, or at the start of participation in your programme, followed by a post-programme evaluation. However, programmes that are unable to do so may administer a post-only survey, in which respondents will be asked to rate their change in awareness, attitude or behaviour post-programme."]
[]
[null,"Select design:",null,"Pre- and Post-Programme Survey"]
[]
[null,"Note: The post-only design is only applicable for programmes spanning between 1 to 3 days in duration. Selecting Post-only design will require that you work with an NYC representative to finalise your evaluation design."]

{"sheet":"Step 3B PP","index":5,"n_rows":57,"n_cols":7,"rows_kept":57,"cut":false,"hidden":true,"merged":[[4,1,4,4],[2,1,2,4],[15,1,15,4],[1,1,1,4]]}
[]
[null,"Step 3B: Generate Documents"]
[]
[]
[]
[]
[]
[null,"No"]
[null,"No"]
[]
[]
[]
[]
[]
[]
[]
[]
[]
[null,"No"]
[null,"No"]
[null,"No"]
[null,"No"]
[null,"No"]
[]
[null,null,null,null,null,null,"*Change noun here"]
[null,"No"]
[null,"No"]
[null,"No"]
[null,"No"]
[null,"No"]
[null,"No"]
[null,"No"]
[null,"No"]
[null,"No"]
[]
[]
[null,"No"]
[null,"No"]
[]
[]
[]
[]
[]
[]
[]
[]
[]
[]
[]
[]
[null,"No"]
[null,"No"]
[null,"No"]
[null,"No"]
[null,"No"]
[null,"No"]
[null,"No"]

{"sheet":"PP_NYF_submission","index":6,"n_rows":22,"n_cols":2,"rows_kept":22,"cut":false,"hidden":true,"merged":[]}
["Submission for NYF Grant Application"]
["Please save this page as a PDF and submit the form to partnership_enquiries@nyc.gov.sg "]
["If you intend to add additional questions not included within the toolkit, please indicate them here as well."]
[]
["Applicant Organisation:","NYC"]
["Programme Name:","ABC"]
["Study Design:","PRE- AND POST-PROGRAMME SURVEY"]
[]
["Selected Programme Indicators:"]
["Subconstruct","Indicator Statement"]
["Career preparedness","I am aware of the skills that will help me to succeed in my career in future."]
["Career preparedness","I am aware of the potential career pathways that I can take to achieve my goals."]
["Career preparedness","I believe I will be able to adapt to changes that affect my job opportunities."]
["Career preparedness","I believe I can achieve my career goals. "]
["Critical thinking","I analyse an issue thoroughly before coming to a conclusion."]
["Social support networks","I have people that I can talk with about my problems."]
["Social support networks","I have people whom I can turn to for support. "]
[]
["Selected Process Improvement Questions:"]
["Feedback Area","Question"]
[]
["Submission generated:","2021-12-14T14:40:40.510"]

{"sheet":"PP_nyf_base","index":7,"n_rows":121,"n_cols":9,"rows_kept":121,"cut":false,"hidden":true,"merged":[]}
["Submission for NYF Grant Application",null,null,null,null,null,1]
["Please save this page as a PDF and submit the form to partnership_enquiries@nyc.gov.sg ",null,null,null,null,null,1]
["If you intend to add additional questions not included within the toolkit, please indicate them here as well.",null,null,null,null,null,1]
[null,null,null,null,null,null,1]
["Applicant Organisation:",{"$f":"UPPER(START!B20)","v":""},null,null,null,null,1]
["Programme Name:",{"$f":"UPPER(START!B17)","v":""},null,null,null,null,1]
["Study Design:",{"$f":"UPPER('Step 3A'!D5)","v":"PRE- AND POST-PROGRAMME SURVEY"},null,null,null,null,1]
[null,null,null,null,null,null,1]
["Selected Programme Indicators:",null,null,null,null,null,1]
["Subconstruct","Indicator Statement",null,null,null,null,1]
["Tenacity","I am able to persevere in the face of challenges.",2,{"$f":"OFFSET('Step 1'!$B$6, PP_nyf_base!C11, 0)","v":"No"},2,{"$f":"OFFSET('Step 2'!$B$4, PP_nyf_base!E11, 0)","v":"Yes"},{"$f":"IF(AND(F11=\"Yes\", D11=\"Yes\"), 1, 0)","v":0}]
["Tenacity","I do not give up even after experiencing failure. ",2,{"$f":"OFFSET('Step 1'!$B$6, PP_nyf_base!C12, 0)","v":"No"},3,{"$f":"OFFSET('Step 2'!$B$4, PP_nyf_base!E12, 0)","v":"No"},{"$f":"IF(AND(F12=\"Yes\", D12=\"Yes\"), 1, 0)","v":0}]
["Confidence","I feel that I have a number of good qualities.",3,{"$f":"OFFSET('Step 1'!$B$6, PP_nyf_base!C13, 0)","v":"No"},6,{"$f":"OFFSET('Step 2'!$B$4, PP_nyf_base!E13, 0)","v":"No"},0]
["Confidence","I am able to do things as well as most other people. ",3,{"$f":"OFFSET('Step 1'!$B$6, PP_nyf_base!C14, 0)","v":"No"},7,{"$f":"OFFSET('Step 2'!$B$4, PP_nyf_base!E14, 0)","v":"No"},0]
["Confidence","I believe I can achieve my goals.",3,{"$f":"OFFSET('Step 1'!$B$6, PP_nyf_base!C15, 0)","v":"No"},8,{"$f":"OFFSET('Step 2'!$B$4, PP_nyf_base!E15, 0)","v":"No"},0]
["Confidence","I believe I have the ability to succeed in the things I want to do.",3,{"$f":"OFFSET('Step 1'!$B$6, PP_nyf_base!C16, 0)","v":"No"},9,{"$f":"OFFSET('Step 2'!$B$4, PP_nyf_base!E16, 0)","v":"Yes"},0]
["Confidence","I am confident I can succeed when I try my best.",3,{"$f":"OFFSET('Step 1'!$B$6, PP_nyf_base!C17, 0)","v":"No"},10,{"$f":"OFFSET('Step 2'!$B$4, PP_nyf_base!E17, 0)","v":"No"},0]
["Proactiveness","I seize the opportunity whenever I see one. ",6,{"$f":"OFFSET('Step 1'!$B$6, PP_nyf_base!C18, 0)","v":"No"},13,{"$f":"OFFSET('Step 2'!$B$4, PP_nyf_base!E18, 0)","v":"Yes"},0]
["Proactiveness","I take initiative instead of waiting for things to happen.",6,{"$f":"OFFSET('Step 1'!$B$6, PP_nyf_base!C19, 0)","v":"No"},14,{"$f":"OFFSET('Step 2'!$B$4, PP_nyf_base!E19, 0)","v":"No"},0]
["Growth mindset","I believe it is important to challenge myself to grow. ",7,{"$f":"OFFSET('Step 1'!$B$6, PP_nyf_base!C20, 0)","v":"No"},17,{"$f":"OFFSET('Step 2'!$B$4, PP_nyf_base!E20, 0)","v":"No"},0]
["Growth mindset","Difficult times are an opportunity for me to learn and grow as a person.",7,{"$f":"OFFSET('Step 1'!$B$6, PP_nyf_base!C21, 0)","v":"No"},18,{"$f":"OFFSET('Step 2'!$B$4, PP_nyf_base!E21, 0)","v":"Yes"},0]
["Career preparedness","I am aware of the skills that will help me to succeed in my career in future.",19,{"$f":"OFFSET('Step 1'!$B$6, PP_nyf_base!C22, 0)","v":"No"},57,{"$f":"OFFSET('Step 2'!$B$4, PP_nyf_base!E22, 0)","v":"Yes"},0]
["Career preparedness","I am aware of the potential career pathways that I can take to achieve my goals.",19,{"$f":"OFFSET('Step 1'!$B$6, PP_nyf_base!C23, 0)","v":"No"},58,{"$f":"OFFSET('Step 2'!$B$4, PP_nyf_base!E23, 0)","v":"No"},0]
["Career preparedness","I believe I will be able to adapt to changes that affect my job opportunities.",19,{"$f":"OFFSET('Step 1'!$B$6, PP_nyf_base!C24, 0)","v":"No"},59,{"$f":"OFFSET('Step 2'!$B$4, PP_nyf_base!E24, 0)","v":"Yes"},{"$f":"IF(AND(F24=\"Yes\", D24=\"Yes\"), 1, 0)","v":0}]
["Career preparedness","I believe I can achieve my career goals. ",19,{"$f":"OFFSET('Step 1'!$B$6, PP_nyf_base!C25, 0)","v":"No"},60,{"$f":"OFFSET('Step 2'!$B$4, PP_nyf_base!E25, 0)","v":"No"},0]
["Cultural awareness","I am aware of differences between cultures.",32,{"$f":"OFFSET('Step 1'!$B$6, PP_nyf_base!C26, 0)","v":"No"},81,{"$f":"OFFSET('Step 2'!$B$4, PP_nyf_base!E26, 0)","v":"Yes"},0]
["Global perspectives","I am aware of issues affecting other countries",33,{"$f":"OFFSET('Step 1'!$B$6, PP_nyf_base!C27, 0)","v":"No"},84,{"$f":"OFFSET('Step 2'!$B$4, PP_nyf_base!E27, 0)","v":"Yes"},0]
["Global perspectives","I understand how changes around the world affect other countries.",33,{"$f":"OFFSET('Step 1'!$B$6, PP_nyf_base!C28, 0)","v":"No"},85,{"$f":"OFFSET('Step 2'!$B$4, PP_nyf_base!E28, 0)","v":"Yes"},0]
["Global perspectives","I understand the opportunities and challenges other countries have.",33,{"$f":"OFFSET('Step 1'!$B$6, PP_nyf_base!C29, 0)","v":"No"},86,{"$f":"OFFSET('Step 2'!$B$4, PP_nyf_base!E29, 0)","v":"No"},0]
["Global perspectives","I understand the difficulties in trying to solve global issues.",33,{"$f":"OFFSET('Step 1'!$B$6, PP_nyf_base!C30, 0)","v":"No"},87,{"$f":"OFFSET('Step 2'!$B$4, PP_nyf_base!E30, 0)","v":"No"},0]
["Innovative","I know of ways to come up with new ideas. ",16,{"$f":"OFFSET('Step 1'!$B$6, PP_nyf_base!C31, 0)","v":"No"},48,{"$f":"OFFSET('Step 2'!$B$4, PP_nyf_base!E31, 0)","v":"Yes"},0]
["Critical thinking","I am able to link different information together. ",14,{"$f":"OFFSET('Step 1'!$B$6, PP_nyf_base!C32, 0)","v":"No"},36,{"$f":"OFFSET('Step 2'!$B$4, PP_nyf_base!E32, 0)","v":"No"},0]
["Critical thinking","I think through issues from different angles.",14,{"$f":"OFFSET('Step 1'!$B$6, PP_nyf_base!C33, 0)","v":"No"},37,{"$f":"OFFSET('Step 2'!$B$4, PP_nyf_base!E33, 0)","v":"No"},0]
["Critical thinking","I analyse an issue thoroughly before coming to a conclusion.",14,{"$f":"OFFSET('Step 1'!$B$6, PP_nyf_base!C34, 0)","v":"No"},38,{"$f":"OFFSET('Step 2'!$B$4, PP_nyf_base!E34, 0)","v":"Yes"},0]
["Problem solving","I know how to identify and solve problems.",15,{"$f":"OFFSET('Step 1'!$B$6, PP_nyf_base!C35, 0)","v":"No"},41,{"$f":"OFFSET('Step 2'!$B$4, PP_nyf_base!E35, 0)","v":"Yes"},0]
["Problem solving","I am able to solve problems that I face.",15,{"$f":"OFFSET('Step 1'!$B$6, PP_nyf_base!C36, 0)","v":"No"},42,{"$f":"OFFSET('Step 2'!$B$4, PP_nyf_base!E36, 0)","v":"Yes"},0]
["Problem solving","After I have tried to solve a problem, I examine why it did or did not work.",15,{"$f":"OFFSET('Step 1'!$B$6, PP_nyf_base!C37, 0)","v":"No"},43,{"$f":"OFFSET('Step 2'!$B$4, PP_nyf_base!E37, 0)","v":"No"},0]
["Problem solving","When solving a problem, I compare the pros and cons of my solutions. ",15,{"$f":"OFFSET('Step 1'!$B$6, PP_nyf_base!C38, 0)","v":"No"},44,{"$f":"OFFSET('Step 2'!$B$4, PP_nyf_base!E38, 0)","v":"No"},0]
["Problem solving","When faced with a problem, I try to find out the cause of the problem.",15,{"$f":"OFFSET('Step 1'!$B$6, PP_nyf_base!C39, 0)","v":"No"},45,{"$f":"OFFSET('Step 2'!$B$4, PP_nyf_base!E39, 0)","v":"No"},0]
["Teamwork","I know how to work well in a team.",23,{"$f":"OFFSET('Step 1'!$B$6, PP_nyf_base!C40, 0)","v":"No"},69,{"$f":"OFFSET('Step 2'!$B$4, PP_nyf_base!E40, 0)","v":"Yes"},0]
["Teamwork","I support others in the team.",23,{"$f":"OFFSET('Step 1'!$B$6, PP_nyf_base!C41, 0)","v":"No"},70,{"$f":"OFFSET('Step 2'!$B$4, PP_nyf_base!E41, 0)","v":"No"},0]
["Teamwork","I communicate well with my team members.",23,{"$f":"OFFSET('Step 1'!$B$6, PP_nyf_base!C42, 0)","v":"No"},71,{"$f":"OFFSET('Step 2'!$B$4, PP_nyf_base!E42, 0)","v":"No"},0]
["Teamwork","I work well in a team.",23,{"$f":"OFFSET('Step 1'!$B$6, PP_nyf_base!C43, 0)","v":"No"},72,{"$f":"OFFSET('Step 2'!$B$4, PP_nyf_base!E43, 0)","v":"No"},0]
["Teamwork","I treat other members of my team as equal to myself.",23,{"$f":"OFFSET('Step 1'!$B$6, PP_nyf_base!C44, 0)","v":"No"},73,{"$f":"OFFSET('Step 2'!$B$4, PP_nyf_base!E44, 0)","v":"No"},0]
["Teamwork","I am able to work with people who have different working styles from me.",23,{"$f":"OFFSET('Step 1'!$B$6, PP_nyf_base!C45, 0)","v":"No"},74,{"$f":"OFFSET('Step 2'!$B$4, PP_nyf_base!E45, 0)","v":"No"},0]
["Stakeholder management","I know how to work well with my stakeholders.",22,{"$f":"OFFSET('Step 1'!$B$6, PP_nyf_base!C46, 0)","v":"No"},63,{"$f":"OFFSET('Step 2'!$B$4, PP_nyf_base!E46, 0)","v":"Yes"},0]
["Stakeholder management","I seek to understand the needs of my stakeholders.",22,{"$f":"OFFSET('Step 1'!$B$6, PP_nyf_base!C47, 0)","v":"No"},64,{"$f":"OFFSET('Step 2'!$B$4, PP_nyf_base!E47, 0)","v":"No"},0]
["Stakeholder management","I am able to establish common understanding and build trust with my stakeholders.",22,{"$f":"OFFSET('Step 1'!$B$6, PP_nyf_base!C48, 0)","v":"No"},65,{"$f":"OFFSET('Step 2'!$B$4, PP_nyf_base!E48, 0)","v":"No"},0]
["Stakeholder management","I work well with my stakeholders.",22,{"$f":"OFFSET('Step 1'!$B$6, PP_nyf_base!C49, 0)","v":"No"},66,{"$f":"OFFSET('Step 2'!$B$4, PP_nyf_base!E49, 0)","v":"No"},0]
["Project management","I understand the factors that are critical to the smooth running of an event or a project. ",18,{"$f":"OFFSET('Step 1'!$B$6, PP_nyf_base!C50, 0)","v":"No"},54,{"$f":"OFFSET('Step 2'!$B$4, PP_nyf_base!E50, 0)","v":"Yes"},0]
["Emotional awareness","I know how to identify symptoms of mental and emotional distress. ",27,{"$f":"OFFSET('Step 1'!$B$6, PP_nyf_base!C51, 0)","v":"No"},21,{"$f":"OFFSET('Step 2'!$B$4, PP_nyf_base!E51, 0)","v":"Yes"},0]
["Emotional support","I am able to support those struggling mentally and emotionally. ",29,{"$f":"OFFSET('Step 1'!$B$6, PP_nyf_base!C52, 0)","v":"No"},29,{"$f":"OFFSET('Step 2'!$B$4, PP_nyf_base!E52, 0)","v":"Yes"},0]
["Emotional management","I know how I can manage negative thoughts and emotions. ",28,{"$f":"OFFSET('Step 1'!$B$6, PP_nyf_base!C53, 0)","v":"No"},24,{"$f":"OFFSET('Step 2'!$B$4, PP_nyf_base!E53, 0)","v":"Yes"},0]
["Emotional management","I know where to seek help when I have distressing thoughts and emotions beyond my control. ",28,{"$f":"OFFSET('Step 1'!$B$6, PP_nyf_base!C54, 0)","v":"No"},25,{"$f":"OFFSET('Step 2'!$B$4, PP_nyf_base!E54, 0)","v":"No"},0]
["Emotional management","If I have distressing thoughts and emotions beyond my control, I would seek help.",28,{"$f":"OFFSET('Step 1'!$B$6, PP_nyf_base!C55, 0)","v":"No"},26,{"$f":"OFFSET('Step 2'!$B$4, PP_nyf_base!E55, 0)","v":"No"},0]
["Financial literacy","I know the steps that I can take to meet my financial goals.",17,{"$f":"OFFSET('Step 1'!$B$6, PP_nyf_base!C56, 0)","v":"No"},51,{"$f":"OFFSET('Step 2'!$B$4, PP_nyf_base!E56, 0)","v":"Yes"},0]
["Physical health","I believe it is important to stay physically healthy. ",26,{"$f":"OFFSET('Step 1'!$B$6, PP_nyf_base!C57, 0)","v":"No"},77,{"$f":"OFFSET('Step 2'!$B$4, PP_nyf_base!E57, 0)","v":"Yes"},0]
["Physical health","I make a conscious effort to maintain a healthy lifestyle.",26,{"$f":"OFFSET('Step 1'!$B$6, PP_nyf_base!C58, 0)","v":"No"},78,{"$f":"OFFSET('Step 2'!$B$4, PP_nyf_base!E58, 0)","v":"Yes"},0]
["National pride","I am proud to be a Singaporean. ",40,{"$f":"OFFSET('Step 1'!$B$6, PP_nyf_base!C59, 0)","v":"No"},99,{"$f":"OFFSET('Step 2'!$B$4, PP_nyf_base!E59, 0)","v":"Yes"},0]
["National perspectives","I am aware of issues affecting Singapore.",36,{"$f":"OFFSET('Step 1'!$B$6, PP_nyf_base!C60, 0)","v":"No"},90,{"$f":"OFFSET('Step 2'!$B$4, PP_nyf_base!E60, 0)","v":"Yes"},0]
["National perspectives","I understand how changes around the world affect Singapore and its future.",36,{"$f":"OFFSET('Step 1'!$B$6, PP_nyf_base!C61, 0)","v":"No"},91,{"$f":"OFFSET('Step 2'!$B$4, PP_nyf_base!E61, 0)","v":"No"},0]
["National perspectives","I understand the opportunities and challenges that Singapore has.",36,{"$f":"OFFSET('Step 1'!$B$6, PP_nyf_base!C62, 0)","v":"No"},92,{"$f":"OFFSET('Step 2'!$B$4, PP_nyf_base!E62, 0)","v":"No"},0]
["National perspectives","I understand the difficulties in trying to solve issues affecting Singapore's society.",36,{"$f":"OFFSET('Step 1'!$B$6, PP_nyf_base!C63, 0)","v":"No"},93,{"$f":"OFFSET('Step 2'!$B$4, PP_nyf_base!E63, 0)","v":"No"},0]
["Public policy awareness","I am aware of policies and programmes that tackle issues affecting Singapore's society.",37,{"$f":"OFFSET('Step 1'!$B$6, PP_nyf_base!C64, 0)","v":"No"},96,{"$f":"OFFSET('Step 2'!$B$4, PP_nyf_base!E64, 0)","v":"Yes"},0]
["Trust in the Government","I trust the government. ",1,{"$f":"OFFSET('Step 1'!$B$6, PP_nyf_base!C65, 0)","v":0},1,{"$f":"OFFSET('Step 2'!$B$4, PP_nyf_base!E65, 0)","v":0},0]
["Trust in the Government","I feel that the government understands the concerns of Singaporeans like me.",1,{"$f":"OFFSET('Step 1'!$B$6, PP_nyf_base!C66, 0)","v":0},1,{"$f":"OFFSET('Step 2'!$B$4, PP_nyf_base!E66, 0)","v":0},0]
["Trust in the Government","I feel that the government cares for the wellbeing of Singaporeans like me.",1,{"$f":"OFFSET('Step 1'!$B$6, PP_nyf_base!C67, 0)","v":0},1,{"$f":"OFFSET('Step 2'!$B$4, PP_nyf_base!E67, 0)","v":0},0]
["Trust in the Government","I feel that the government values my views.",1,{"$f":"OFFSET('Step 1'!$B$6, PP_nyf_base!C68, 0)","v":0},1,{"$f":"OFFSET('Step 2'!$B$4, PP_nyf_base!E68, 0)","v":0},0]
["Social support networks","I have people that I can talk with about my problems.",41,{"$f":"OFFSET('Step 1'!$B$6, PP_nyf_base!C69, 0)","v":"No"},32,{"$f":"OFFSET('Step 2'!$B$4, PP_nyf_base!E69, 0)","v":"No"},0]
["Social support networks","I have people whom I can turn to for support. ",41,{"$f":"OFFSET('Step 1'!$B$6, PP_nyf_base!C70, 0)","v":"No"},33,{"$f":"OFFSET('Step 2'!$B$4, PP_nyf_base!E70, 0)","v":"Yes"},0]
["Open to diversity","I respect the opinions of others, even if I do not agree with it. ",42,{"$f":"OFFSET('Step 1'!$B$6, PP_nyf_base!C71, 0)","v":"No"},102,{"$f":"OFFSET('Step 2'!$B$4, PP_nyf_base!E71, 0)","v":"No"},0]
["Open to diversity","I respect the values and beliefs of people who are of a different background from me.",42,{"$f":"OFFSET('Step 1'!$B$6, PP_nyf_base!C72, 0)","v":"No"},103,{"$f":"OFFSET('Step 2'!$B$4, PP_nyf_base!E72, 0)","v":"Yes"},0]
["Empathy","I put myself in the shoes of others to understand how they feel.",45,{"$f":"OFFSET('Step 1'!$B$6, PP_nyf_base!C73, 0)","v":"No"},106,{"$f":"OFFSET('Step 2'!$B$4, PP_nyf_base!E73, 0)","v":"Yes"},0]
["Ability to effect change (community)","I believe that I can make a difference in the community.",46,{"$f":"OFFSET('Step 1'!$B$6, PP_nyf_base!C74, 0)","v":"No"},109,{"$f":"OFFSET('Step 2'!$B$4, PP_nyf_base!E74, 0)","v":"No"},0]
["Ability to effect change (community)","I believe I can help to shape society.",46,{"$f":"OFFSET('Step 1'!$B$6, PP_nyf_base!C75, 0)","v":"No"},110,{"$f":"OFFSET('Step 2'!$B$4, PP_nyf_base!E75, 0)","v":"Yes"},0]
["Civic Engagement (Community)","I am aware of the needs in the community.",48,{"$f":"OFFSET('Step 1'!$B$6, PP_nyf_base!C76, 0)","v":"No"},116,{"$f":"OFFSET('Step 2'!$B$4, PP_nyf_base!E76, 0)","v":"Yes"},0]
["Civic Engagement (Community)","I understand the ways that I can contribute to the community.",48,{"$f":"OFFSET('Step 1'!$B$6, PP_nyf_base!C77, 0)","v":"No"},117,{"$f":"OFFSET('Step 2'!$B$4, PP_nyf_base!E77, 0)","v":"Yes"},{"$f":"IF(AND(F77=\"Yes\", D77=\"Yes\"), 1, 0)","v":0}]
["Civic Engagement (Community)","I believe I have a role to play in improving the community.",48,{"$f":"OFFSET('Step 1'!$B$6, PP_nyf_base!C78, 0)","v":"No"},118,{"$f":"OFFSET('Step 2'!$B$4, PP_nyf_base!E78, 0)","v":"Yes"},0]
["Civic Engagement (Community)","I feel a strong conviction to give back to the community.",48,{"$f":"OFFSET('Step 1'!$B$6, PP_nyf_base!C79, 0)","v":"No"},119,{"$f":"OFFSET('Step 2'!$B$4, PP_nyf_base!E79, 0)","v":"No"},0]
["Civic Engagement (Community)","I actively participate in efforts that help to improve the community.",48,{"$f":"OFFSET('Step 1'!$B$6, PP_nyf_base!C80, 0)","v":"No"},120,{"$f":"OFFSET('Step 2'!$B$4, PP_nyf_base!E80, 0)","v":"Yes"},0]
["Civic Engagement (Community)","I participate in discussions on national, community or social issues.",48,{"$f":"OFFSET('Step 1'!$B$6, PP_nyf_base!C81, 0)","v":"No"},121,{"$f":"OFFSET('Step 2'!$B$4, PP_nyf_base!E81, 0)","v":"No"},0]
["Civic Engagement (Community)","I encourage my peers to participate in activities that help to improve the community.",48,{"$f":"OFFSET('Step 1'!$B$6, PP_nyf_base!C82, 0)","v":"No"},122,{"$f":"OFFSET('Step 2'!$B$4, PP_nyf_base!E82, 0)","v":"No"},0]
["Civic Engagement (Environmental)","I am aware of the effects of my actions on the environment.",49,{"$f":"OFFSET('Step 1'!$B$6, PP_nyf_base!C83, 0)","v":"No"},125,{"$f":"OFFSET('Step 2'!$B$4, PP_nyf_base!E83, 0)","v":"Yes"},0]
["Civic Engagement (Environmental)","I understand the ways that I can care for the environment.",49,{"$f":"OFFSET('Step 1'!$B$6, PP_nyf_base!C84, 0)","v":"No"},126,{"$f":"OFFSET('Step 2'!$B$4, PP_nyf_base!E84, 0)","v":"Yes"},0]
["Civic Engagement (Environmental)","I feel responsible towards the environment.",49,{"$f":"OFFSET('Step 1'!$B$6, PP_nyf_base!C85, 0)","v":"No"},127,{"$f":"OFFSET('Step 2'!$B$4, PP_nyf_base!E85, 0)","v":"Yes"},0]
["Civic Engagement (Environmental)","My efforts to care for the environment will make a difference.",49,{"$f":"OFFSET('Step 1'!$B$6, PP_nyf_base!C86, 0)","v":"No"},128,{"$f":"OFFSET('Step 2'!$B$4, PP_nyf_base!E86, 0)","v":"No"},0]
["Civic Engagement (Environmental)","I actively participate in efforts to care for the environment.",49,{"$f":"OFFSET('Step 1'!$B$6, PP_nyf_base!C87, 0)","v":"No"},129,{"$f":"OFFSET('Step 2'!$B$4, PP_nyf_base!E87, 0)","v":"Yes"},0]
["Civic Engagement (Environmental)","I encourage my peers to care for the environment.",49,{"$f":"OFFSET('Step 1'!$B$6, PP_nyf_base!C88, 0)","v":"No"},130,{"$f":"OFFSET('Step 2'!$B$4, PP_nyf_base!E88, 0)","v":"No"},0]
["Ability to Effect Change (Government)","I believe that I can influence government decisions on issues. ",47,{"$f":"OFFSET('Step 1'!$B$6, PP_nyf_base!C89, 0)","v":"No"},113,{"$f":"OFFSET('Step 2'!$B$4, PP_nyf_base!E89, 0)","v":"Yes"},0]
[null,null,null,null,null,null,1]
["Selected Process Improvement Questions:",null,null,null,null,null,1]
["Feedback Area","Question",null,null,null,null,1]
["Programme expectations","What are some new skill(s) or knowledge you hope to gain through programme_name?",null,{"$f":"'Step 3B PP'!B8","v":"No"},null,"Yes",{"$f":"IF(AND(F93=\"Yes\", D93=\"Yes\"), 1, 0)","v":0}]
["Programme expectations","What are your personal goal(s) for participating in programme_name?",null,{"$f":"'Step 3B PP'!B9","v":"No"},null,"Yes",0]
["Programme implementation","What do you think of the duration of programme_name?",2,{"$f":"OFFSET('Step 3B PP'!$B$17, PP_nyf_base!C95, 0)","v":"No"},null,"Yes",0,"Prog_imp1",1]
["Programme implementation","I feel that the pace of programme_name was…",3,{"$f":"OFFSET('Step 3B PP'!$B$17, PP_nyf_base!C96, 0)","v":"No"},null,"Yes",0,"Prog_imp2",2]
["Programme implementation","The accommodation is of acceptable standard.",4,{"$f":"OFFSET('Step 3B PP'!$B$17, PP_nyf_base!C97, 0)","v":"No"},null,"Yes",0,"Prog_imp3",3]
["Programme implementation","The meal(s) are of acceptable standard.",5,{"$f":"OFFSET('Step 3B PP'!$B$17, PP_nyf_base!C98, 0)","v":"No"},null,"Yes",0,"Prog_imp4",4]
["Programme implementation","The facilities are of acceptable standard.",6,{"$f":"OFFSET('Step 3B PP'!$B$17, PP_nyf_base!C99, 0)","v":"No"},null,"Yes",0,"Prog_imp5",5]
["Feedback on mentor","The mentor provided sufficient guidance. ",9,{"$f":"OFFSET('Step 3B PP'!$B$17, PP_nyf_base!C100, 0)","v":"No"},null,"Yes",0,"Feed1",6]
["Feedback on mentor","The mentor provided useful insights.",10,{"$f":"OFFSET('Step 3B PP'!$B$17, PP_nyf_base!C101, 0)","v":"No"},null,"Yes",0,"Feed2",7]
["Feedback on mentor","The mentor was able to facilitate learning through reflections and asking critical questions. ",11,{"$f":"OFFSET('Step 3B PP'!$B$17, PP_nyf_base!C102, 0)","v":"No"},null,"Yes",0,"Feed3",8]
["Feedback on mentor","The mentor provided useful feedback for my personal growth.",12,{"$f":"OFFSET('Step 3B PP'!$B$17, PP_nyf_base!C103, 0)","v":"No"},null,"Yes",0,"Feed4",9]
["Feedback on mentor","The mentor has the necessary knowledge and skills for the role.",13,{"$f":"OFFSET('Step 3B PP'!$B$17, PP_nyf_base!C104, 0)","v":"No"},null,"Yes",0,"Feed5",10]
["Feedback on mentor","The mentor was able to point me to useful resources.",14,{"$f":"OFFSET('Step 3B PP'!$B$17, PP_nyf_base!C105, 0)","v":"No"},null,"Yes",0,"Feed6",11]
["Feedback on mentor","The mentor is able to communicate well with the group.",15,{"$f":"OFFSET('Step 3B PP'!$B$17, PP_nyf_base!C106, 0)","v":"No"},null,"Yes",0,"Feed7",12]
["Feedback on mentor","The mentor was able to manage the group effectively",16,{"$f":"OFFSET('Step 3B PP'!$B$17, PP_nyf_base!C107, 0)","v":"No"},null,"Yes",0,"Feed8",13]
["Feedback on mentor","How would you rate the mentor as a whole?",17,{"$f":"OFFSET('Step 3B PP'!$B$17, PP_nyf_base!C108, 0)","v":"No"},null,"Yes",0,"Feed9",14]
["Programme content","What were your key takeaways? \nThis may include new skills and knowledge, or achievements of personal goals.",20,{"$f":"OFFSET('Step 3B PP'!$B$17, PP_nyf_base!C109, 0)","v":"No"},null,"Yes",0,null,15]
["Programme content","For each of the following  activities please indicate the extent to which you find them useful.",21,{"$f":"OFFSET('Step 3B PP'!$B$17, PP_nyf_base!C110, 0)","v":"No"},null,"Yes",0,null,16]
["Overall feedback","Overall, I am satisfied with  programme_name.",34,{"$f":"OFFSET('Step 3B PP'!$B$17, PP_nyf_base!C111, 0)","v":"No"},null,"Yes",0,"Over1",17]
["Overall feedback","How would you rate  programme_name as a whole? ",35,{"$f":"OFFSET('Step 3B PP'!$B$17, PP_nyf_base!C112, 0)","v":"No"},null,"Yes",0,"Over2",18]
["Overall feedback","I would recommend  programme_name to others. ",36,{"$f":"OFFSET('Step 3B PP'!$B$17, PP_nyf_base!C113, 0)","v":"No"},null,"Yes",0,"Over3",19]
["Overall feedback","I would like to take part in other activities organised by organisation_name.",37,{"$f":"OFFSET('Step 3B PP'!$B$17, PP_nyf_base!C114, 0)","v":"No"},null,"Yes",0,"Over4",20]
["Overall feedback","This programme has allowed me to expand my networks.",38,{"$f":"OFFSET('Step 3B PP'!$B$17, PP_nyf_base!C115, 0)","v":"No"},null,"Yes",0,"Over5",21]
["Overall feedback","What worked well or could be improved? ",39,{"$f":"OFFSET('Step 3B PP'!$B$17, PP_nyf_base!C116, 0)","v":"No"},null,"Yes",0,"Over6",22]
["Overall feedback","What else do you wish to be covered during programme_name?",40,{"$f":"OFFSET('Step 3B PP'!$B$17, PP_nyf_base!C117, 0)","v":"No"},null,"Yes",0,"Over7",23]
[null,null,null,null,null,null,1]
["Submission generated:",{"$f":"NOW()","v":"2021-12-24T08:46:04.370"},null,null,null,null,1]
[null,null,null,null,null,null,1]
[null,null,null,null,null,null,1]

{"sheet":"PP_pre_survey","index":8,"n_rows":11,"n_cols":6,"rows_kept":11,"cut":false,"hidden":true,"merged":[[6,0,6,5],[10,0,10,5],[2,0,2,5],[3,0,3,5],[0,0,0,5],[1,0,1,5]]}
["Pre-Programme Survey for Programme_Name"]
["We are glad to have you join our programme! We would appreciate your help to take 10 to 15 minutes to complete the survey below. Your responses will enable us to understand you better so as to better cater to your needs."]
["Learning Outcomes"]
["Please select the option that best describes your response to the following statements."]
[null,"Strongly disagree","Disagree","Neither agree nor disagree","Agree","Strongly agree"]
["I am able to persevere in the face of challenges.","☐","☐","☐","☐","☐"]
[]
["Please provide the last 5 characters of your NRIC (last 4 digits + alphabet)."]
["This unique identifier will help us to match pre and post-programme responses in order to understand how the programme has impacted you. Please be rest assured that the responses are anonymous and kept confidential."]
[]
["Thank you for your participation!"]

{"sheet":"PP_pre_survey_base","index":9,"n_rows":999,"n_cols":8,"rows_kept":999,"cut":false,"hidden":true,"merged":[[85,0,85,5],[90,0,90,5],[98,0,98,5],[0,0,0,5],[1,0,1,5],[2,0,2,5],[3,0,3,5],[83,0,83,5],[84,0,84,5]]}
["Pre-Programme Survey for Programme_Name",null,null,null,null,null,null,1]
["We are glad to have you join our programme! We would appreciate your help to take 10 to 15 minutes to complete the survey below. Your responses will enable us to understand you better so as to better cater to your needs.",null,null,null,null,null,null,1]
["Learning Outcomes",null,null,null,null,null,null,1]
["Please select the option that best describes your response to the following statements.",null,null,null,null,null,null,1]
[null,"Strongly disagree","Disagree","Neither agree nor disagree","Agree","Strongly agree",null,1]
["I am able to persevere in the face of challenges.","☐","☐","☐","☐","☐",null,{"$f":"PP_nyf_base!G11","v":0}]
["I do not give up even after experiencing failure. ","☐","☐","☐","☐","☐",null,{"$f":"PP_nyf_base!G12","v":0}]
["I feel that I have a number of good qualities.","☐","☐","☐","☐","☐",null,{"$f":"PP_nyf_base!G13","v":0}]
["I am able to do things as well as most other people. ","☐","☐","☐","☐","☐",null,{"$f":"PP_nyf_base!G14","v":0}]
["I believe I can achieve my goals.","☐","☐","☐","☐","☐",null,{"$f":"PP_nyf_base!G15","v":0}]
["I believe I have the ability to succeed in the things I want to do.","☐","☐","☐","☐","☐",null,{"$f":"PP_nyf_base!G16","v":0}]
["I am confident I can succeed when I try my best.","☐","☐","☐","☐","☐",null,{"$f":"PP_nyf_base!G17","v":0}]
["I seize the opportunity whenever I see one. ","☐","☐","☐","☐","☐",null,{"$f":"PP_nyf_base!G18","v":0}]
["I take initiative instead of waiting for things to happen.","☐","☐","☐","☐","☐",null,{"$f":"PP_nyf_base!G19","v":0}]
["I believe it is important to challenge myself to grow. ","☐","☐","☐","☐","☐",null,{"$f":"PP_nyf_base!G20","v":0}]
["Difficult times are an opportunity for me to learn and grow as a person.","☐","☐","☐","☐","☐",null,{"$f":"PP_nyf_base!G21","v":0}]
["I am aware of the skills that will help me to succeed in my career in future.","☐","☐","☐","☐","☐",null,{"$f":"PP_nyf_base!G22","v":0}]
["I am aware of the potential career pathways that I can take to achieve my goals.","☐","☐","☐","☐","☐",null,{"$f":"PP_nyf_base!G23","v":0}]
["I believe I can achieve my career goals. ","☐","☐","☐","☐","☐",null,{"$f":"PP_nyf_base!G25","v":0}]
["I am aware of differences between cultures.","☐","☐","☐","☐","☐",null,{"$f":"PP_nyf_base!G26","v":0}]
["I am aware of issues affecting other countries","☐","☐","☐","☐","☐",null,{"$f":"PP_nyf_base!G27","v":0}]
["I understand how changes around the world affect other countries.","☐","☐","☐","☐","☐",null,{"$f":"PP_nyf_base!G28","v":0}]
["I understand the opportunities and challenges other countries have.","☐","☐","☐","☐","☐",null,{"$f":"PP_nyf_base!G29","v":0}]
["I understand the difficulties in trying to solve global issues.","☐","☐","☐","☐","☐",null,{"$f":"PP_nyf_base!G30","v":0}]
["I know of ways to come up with new ideas. ","☐","☐","☐","☐","☐",null,{"$f":"PP_nyf_base!G31","v":0}]
["I am able to link different information together. ","☐","☐","☐","☐","☐",null,{"$f":"PP_nyf_base!G32","v":0}]
["I think through issues from different angles.","☐","☐","☐","☐","☐",null,{"$f":"PP_nyf_base!G33","v":0}]
["I analyse an issue thoroughly before coming to a conclusion.","☐","☐","☐","☐","☐",null,{"$f":"PP_nyf_base!G34","v":0}]
["I know how to identify and solve problems.","☐","☐","☐","☐","☐",null,{"$f":"PP_nyf_base!G35","v":0}]
["I am able to solve problems that I face.","☐","☐","☐","☐","☐",null,{"$f":"PP_nyf_base!G36","v":0}]
["After I have tried to solve a problem, I examine why it did or did not work.","☐","☐","☐","☐","☐",null,{"$f":"PP_nyf_base!G37","v":0}]
["When solving a problem, I compare the pros and cons of my solutions. ","☐","☐","☐","☐","☐",null,{"$f":"PP_nyf_base!G38","v":0}]
["When faced with a problem, I try to find out the cause of the problem.","☐","☐","☐","☐","☐",null,{"$f":"PP_nyf_base!G39","v":0}]
["I know how to work well in a team.","☐","☐","☐","☐","☐",null,{"$f":"PP_nyf_base!G40","v":0}]
["I support others in the team.","☐","☐","☐","☐","☐",null,{"$f":"PP_nyf_base!G41","v":0}]
["I communicate well with my team members.","☐","☐","☐","☐","☐",null,{"$f":"PP_nyf_base!G42","v":0}]
["I work well in a team.","☐","☐","☐","☐","☐",null,{"$f":"PP_nyf_base!G43","v":0}]
["I treat other members of my team as equal to myself.","☐","☐","☐","☐","☐",null,{"$f":"PP_nyf_base!G44","v":0}]
["I am able to work with people who have different working styles from me.","☐","☐","☐","☐","☐",null,{"$f":"PP_nyf_base!G45","v":0}]
["I know how to work well with my stakeholders.","☐","☐","☐","☐","☐",null,{"$f":"PP_nyf_base!G46","v":0}]
["I seek to understand the needs of my stakeholders.","☐","☐","☐","☐","☐",null,{"$f":"PP_nyf_base!G47","v":0}]
["I am able to establish common understanding and build trust with my stakeholders.","☐","☐","☐","☐","☐",null,{"$f":"PP_nyf_base!G48","v":0}]
["I work well with my stakeholders.","☐","☐","☐","☐","☐",null,{"$f":"PP_nyf_base!G49","v":0}]
["I understand the factors that are critical to the smooth running of an event or a project. ","☐","☐","☐","☐","☐",null,{"$f":"PP_nyf_base!G50","v":0}]
["I know how to identify symptoms of mental and emotional distress. ","☐","☐","☐","☐","☐",null,{"$f":"PP_nyf_base!G51","v":0}]
["I am able to support those struggling mentally and emotionally. ","☐","☐","☐","☐","☐",null,{"$f":"PP_nyf_base!G52","v":0}]
["I know how I can manage negative thoughts and emotions. ","☐","☐","☐","☐","☐",null,{"$f":"PP_nyf_base!G53","v":0}]
["I know where to seek help when I have distressing thoughts and emotions beyond my control. ","☐","☐","☐","☐","☐",null,{"$f":"PP_nyf_base!G54","v":0}]
["If I have distressing thoughts and emotions beyond my control, I would seek help.","☐","☐","☐","☐","☐",null,{"$f":"PP_nyf_base!G55","v":0}]
["I know the steps that I can take to meet my financial goals.","☐","☐","☐","☐","☐",null,{"$f":"PP_nyf_base!G56","v":0}]
["I believe it is important to stay physically healthy. ","☐","☐","☐","☐","☐",null,{"$f":"PP_nyf_base!G57","v":0}]
["I make a conscious effort to maintain a healthy lifestyle.","☐","☐","☐","☐","☐",null,{"$f":"PP_nyf_base!G58","v":0}]
["I am proud to be a Singaporean. ","☐","☐","☐","☐","☐",null,{"$f":"PP_nyf_base!G59","v":0}]
["I am aware of issues affecting Singapore.","☐","☐","☐","☐","☐",null,{"$f":"PP_nyf_base!G60","v":0}]
["I understand how changes around the world affect Singapore and its future.","☐","☐","☐","☐","☐",null,{"$f":"PP_nyf_base!G61","v":0}]
["I understand the opportunities and challenges that Singapore has.","☐","☐","☐","☐","☐",null,{"$f":"PP_nyf_base!G62","v":0}]
["I understand the difficulties in trying to solve issues affecting Singapore's society.","☐","☐","☐","☐","☐",null,{"$f":"PP_nyf_base!G63","v":0}]
["I am aware of policies and programmes that tackle issues affecting Singapore's society.","☐","☐","☐","☐","☐",null,{"$f":"PP_nyf_base!G64","v":0}]
["I trust the government. ","☐","☐","☐","☐","☐",null,{"$f":"PP_nyf_base!G65","v":0}]
["I feel that the government understands the concerns of Singaporeans like me.","☐","☐","☐","☐","☐",null,{"$f":"PP_nyf_base!G66","v":0}]
["I feel that the government cares for the wellbeing of Singaporeans like me.","☐","☐","☐","☐","☐",null,{"$f":"PP_nyf_base!G67","v":0}]
["I feel that the government values my views.","☐","☐","☐","☐","☐",null,{"$f":"PP_nyf_base!G68","v":0}]
["I have people that I can talk with about my problems.","☐","☐","☐","☐","☐",null,{"$f":"PP_nyf_base!G69","v":0}]
["I have people whom I can turn to for support. ","☐","☐","☐","☐","☐",null,{"$f":"PP_nyf_base!G70","v":0}]
["I respect the opinions of others, even if I do not agree with it. ","☐","☐","☐","☐","☐",null,{"$f":"PP_nyf_base!G71","v":0}]
["I respect the values and beliefs of people who are of a different background from me.","☐","☐","☐","☐","☐",null,{"$f":"PP_nyf_base!G72","v":0}]
["I put myself in the shoes of others to understand how they feel.","☐","☐","☐","☐","☐",null,{"$f":"PP_nyf_base!G73","v":0}]
["I believe that I can make a difference in the community.","☐","☐","☐","☐","☐",null,{"$f":"PP_nyf_base!G74","v":0}]
["I believe I can help to shape society.","☐","☐","☐","☐","☐",null,{"$f":"PP_nyf_base!G75","v":0}]
["I am aware of the needs in the community.","☐","☐","☐","☐","☐",null,{"$f":"PP_nyf_base!G76","v":0}]
["I understand the ways that I can contribute to the community.","☐","☐","☐","☐","☐",null,{"$f":"PP_nyf_base!G77","v":0}]
["I believe I have a role to play in improving the community.","☐","☐","☐","☐","☐",null,{"$f":"PP_nyf_base!G78","v":0}]
["I feel a strong conviction to give back to the community.","☐","☐","☐","☐","☐",null,{"$f":"PP_nyf_base!G79","v":0}]
["I actively participate in efforts that help to improve the community.","☐","☐","☐","☐","☐",null,{"$f":"PP_nyf_base!G80","v":0}]
["I participate in discussions on national, community or social issues.","☐","☐","☐","☐","☐",null,{"$f":"PP_nyf_base!G81","v":0}]
["I encourage my peers to participate in activities that help to improve the community.","☐","☐","☐","☐","☐",null,{"$f":"PP_nyf_base!G82","v":0}]
["I am aware of the effects of my actions on the environment.","☐","☐","☐","☐","☐",null,{"$f":"PP_nyf_base!G83","v":0}]
["I understand the ways that I can care for the environment.","☐","☐","☐","☐","☐",null,{"$f":"PP_nyf_base!G84","v":0}]
["I feel responsible towards the environment.","☐","☐","☐","☐","☐",null,{"$f":"PP_nyf_base!G85","v":0}]
["My efforts to care for the environment will make a difference.","☐","☐","☐","☐","☐",null,{"$f":"PP_nyf_base!G86","v":0}]
["I actively participate in efforts to care for the environment.","☐","☐","☐","☐","☐",null,{"$f":"PP_nyf_base!G87","v":0}]
["I encourage my peers to care for the environment.","☐","☐","☐","☐","☐",null,{"$f":"PP_nyf_base!G88","v":0}]
["I believe that I can influence government decisions on issues. ","☐","☐","☐","☐","☐",null,{"$f":"PP_nyf_base!G89","v":0}]
[null,null,null,null,null,null,null,1]
["Programme Expectations",null,null,null,null,null,null,{"$f":"IF(SUM(H86:H95)=0, 0, 1)","v":0}]
["What are some new skill(s) or knowledge you hope to gain through programme_name?",null,null,null,null,null,null,{"$f":"PP_nyf_base!G93","v":0}]
[null,null,null,null,null,null,null,{"$f":"H86","v":0}]
[null,null,null,null,null,null,null,{"$f":"H87","v":0}]
[null,null,null,null,null,null,null,{"$f":"H88","v":0}]
[null,null,null,null,null,null,null,{"$f":"H89","v":0}]
["What are your personal goal(s) for participating in programme_name?",null,null,null,null,null,null,{"$f":"PP_nyf_base!G94","v":0}]
[null,null,null,null,null,null,null,{"$f":"H91","v":0}]
[null,null,null,null,null,null,null,{"$f":"H92","v":0}]
[null,null,null,null,null,null,null,{"$f":"H93","v":0}]
[null,null,null,null,null,null,null,{"$f":"H94","v":0}]
["Please provide the last 5 characters of your NRIC (last 4 digits + alphabet).",null,null,null,null,null,null,1]
["This unique identifier will help us to match pre and post-programme responses in order to understand how the programme has impacted you. Please be rest assured that the responses are anonymous and kept confidential.",null,null,null,null,null,null,1]
[null,null,null,null,null,null,null,1]
["Thank you for your participation!",null,null,null,null,null,null,1]
[null,null,null,null,null,null,null,1]
[null,null,null,null,null,null,null,1]
[null,null,null,null,null,null,null,1]
[null,null,null,null,null,null,null,1]
[null,null,null,null,null,null,null,1]
[null,null,null,null,null,null,null,1]
[null,null,null,null,null,null,null,1]
[null,null,null,null,null,null,null,1]
[null,null,null,null,null,null,null,1]
[null,null,null,null,null,null,null,1]
[null,null,null,null,null,null,null,1]
[null,null,null,null,null,null,null,1]
[null,null,null,null,null,null,null,1]
[null,null,null,null,null,null,null,1]
[null,null,null,null,null,null,null,1]
[null,null,null,null,null,null,null,1]
[null,null,null,null,null,null,null,1]
[null,null,null,null,null,null,null,1]
[null,null,null,null,null,null,null,1]
[null,null,null,null,null,null,null,1]
[null,null,null,null,null,null,null,1]
[null,null,null,null,null,null,null,1]
[null,null,null,null,null,null,null,1]
[null,null,null,null,null,null,null,1]
[null,null,null,null,null,null,null,1]
[null,null,null,null,null,null,null,1]
[null,null,null,null,null,null,null,1]
[null,null,null,null,null,null,null,1]
[null,null,null,null,null,null,null,1]
[null,null,null,null,null,null,null,1]
[null,null,null,null,null,null,null,1]
[null,null,null,null,null,null,null,1]
[null,null,null,null,null,null,null,1]
[null,null,null,null,null,null,null,1]
[null,null,null,null,null,null,null,1]
[null,null,null,null,null,null,null,1]
[null,null,null,null,null,null,null,1]
[null,null,null,null,null,null,null,1]
[null,null,null,null,null,null,null,1]
[null,null,null,null,null,null,null,1]
[null,null,null,null,null,null,null,1]
[null,null,null,null,null,null,null,1]
[null,null,null,null,null,null,null,1]
[null,null,null,null,null,null,null,1]
[null,null,null,null,null,null,null,1]
[null,null,null,null,null,null,null,1]
[null,null,null,null,null,null,null,1]
[null,null,null,null,null,null,null,1]
[null,null,null,null,null,null,null,1]
[null,null,null,null,null,null,null,1]
[null,null,null,null,null,null,null,1]
[null,null,null,null,null,null,null,1]
[null,null,null,null,null,null,null,1]
[null,null,null,null,null,null,null,1]
[null,null,null,null,null,null,null,1]
[null,null,null,null,null,null,null,1]
[null,null,null,null,null,null,null,1]
[null,null,null,null,null,null,null,1]
[null,null,null,null,null,null,null,1]
[null,null,null,null,null,null,null,1]
[null,null,null,null,null,null,null,1]
[null,null,null,null,null,null,null,1]
[null,null,null,null,null,null,null,1]
[null,null,null,null,null,null,null,1]
[null,null,null,null,null,null,null,1]
[null,null,null,null,null,null,null,1]
[null,null,null,null,null,null,null,1]
[null,null,null,null,null,null,null,1]
[null,null,null,null,null,null,null,1]
[null,null,null,null,null,null,null,1]
[null,null,null,null,null,null,null,1]
[null,null,null,null,null,null,null,1]
[null,null,null,null,null,null,null,1]
[null,null,null,null,null,null,null,1]
[null,null,null,null,null,null,null,1]
[null,null,null,null,null,null,null,1]
[null,null,null,null,null,null,null,1]
[null,null,null,null,null,null,null,1]
[null,null,null,null,null,null,null,1]
[null,null,null,null,null,null,null,1]
[null,null,null,null,null,null,null,1]
[null,null,null,null,null,null,null,1]
[null,null,null,null,null,null,null,1]
[null,null,null,null,null,null,null,1]
[null,null,null,null,null,null,null,1]
[null,null,null,null,null,null,null,1]
[null,null,null,null,null,null,null,1]
[null,null,null,null,null,null,null,1]
[null,null,null,null,null,null,null,1]
[null,null,null,null,null,null,null,1]
[null,null,null,null,null,null,null,1]
[null,null,null,null,null,null,null,1]
[null,null,null,null,null,null,null,1]
[null,null,null,null,null,null,null,1]
[null,null,null,null,null,null,null,1]
[null,null,null,null,null,null,null,1]
[null,null,null,null,null,null,null,1]
[null,null,null,null,null,null,null,1]
[null,null,null,null,null,null,null,1]
[null,null,null,null,null,null,null,1]
[null,null,null,null,null,null,null,1]
[null,null,null,null,null,null,null,1]
[null,null,null,null,null,null,null,1]
[null,null,null,null,null,null,null,1]
[null,null,null,null,null,null,null,1]
[null,null,null,null,null,null,null,1]
[null,null,null,null,null,null,null,1]
[null,null,null,null,null,null,null,1]
[null,null,null,null,null,null,null,1]
[null,null,null,null,null,null,null,1]
[null,null,null,null,null,null,null,1]
[null,null,null,null,null,null,null,1]
[null,null,null,null,null,null,null,1]
[null,null,null,null,null,null,null,1]
[null,null,null,null,null,null,null,1]
[null,null,null,null,null,null,null,1]
[null,null,null,null,null,null,null,1]
[null,null,null,null,null,null,null,1]
[null,null,null,null,null,null,null,1]
[null,null,null,null,null,null,null,1]
[null,null,null,null,null,null,null,1]
[null,null,null,null,null,null,null,1]
[null,null,null,null,null,null,null,1]
[null,null,null,null,null,null,null,1]
[null,null,null,null,null,null,null,1]
[null,null,null,null,null,null,null,1]
[null,null,null,null,null,null,null,1]
[null,null,null,null,null,null,null,1]
[null,null,null,null,null,null,null,1]
[null,null,null,null,null,null,null,1]
[null,null,null,null,null,null,null,1]
[null,null,null,null,null,null,null,1]
[null,null,null,null,null,null,null,1]
[null,null,null,null,null,null,null,1]
[null,null,null,null,null,null,null,1]
[null,null,null,null,null,null,null,1]
[null,null,null,null,null,null,null,1]
[null,null,null,null,null,null,null,1]
[null,null,null,null,null,null,null,1]
[null,null,null,null,null,null,null,1]
[null,null,null,null,null,null,null,1]
[null,null,null,null,null,null,null,1]
[null,null,null,null,null,null,null,1]
[null,null,null,null,null,null,null,1]
[null,null,null,null,null,null,null,1]
[null,null,null,null,null,null,null,1]
[null,null,null,null,null,null,null,1]
[null,null,null,null,null,null,null,1]
[null,null,null,null,null,null,null,1]
[null,null,null,null,null,null,null,1]
[null,null,null,null,null,null,null,1]
[null,null,null,null,null,null,null,1]
[null,null,null,null,null,null,null,1]
[null,null,null,null,null,null,null,1]
[null,null,null,null,null,null,null,1]
[null,null,null,null,null,null,null,1]
[null,null,null,null,null,null,null,1]
[null,null,null,null,null,null,null,1]
[null,null,null,null,null,null,null,1]
[null,null,null,null,null,null,null,1]
[null,null,null,null,null,null,null,1]
[null,null,null,null,null,null,null,1]
[null,null,null,null,null,null,null,1]
[null,null,null,null,null,null,null,1]
[null,null,null,null,null,null,null,1]
[null,null,null,null,null,null,null,1]
[null,null,null,null,null,null,null,1]
[null,null,null,null,null,null,null,1]
[null,null,null,null,null,null,null,1]
[null,null,null,null,null,null,null,1]
[null,null,null,null,null,null,null,1]
[null,null,null,null,null,null,null,1]
[null,null,null,null,null,null,null,1]
[null,null,null,null,null,null,null,1]
[null,null,null,null,null,null,null,1]
[null,null,null,null,null,null,null,1]
[null,null,null,null,null,null,null,1]
[null,null,null,null,null,null,null,1]
[null,null,null,null,null,null,null,1]
[null,null,null,null,null,null,null,1]
[null,null,null,null,null,null,null,1]
[null,null,null,null,null,null,null,1]
[null,null,null,null,null,null,null,1]
[null,null,null,null,null,null,null,1]
[null,null,null,null,null,null,null,1]
[null,null,null,null,null,null,null,1]
[null,null,null,null,null,null,null,1]
[null,null,null,null,null,null,null,1]
[null,null,null,null,null,null,null,1]
[null,null,null,null,null,null,null,1]
[null,null,null,null,null,null,null,1]
[null,null,null,null,null,null,null,1]
[null,null,null,null,null,null,null,1]
[null,null,null,null,null,null,null,1]
[null,null,null,null,null,null,null,1]
[null,null,null,null,null,null,null,1]
[null,null,null,null,null,null,null,1]
[null,null,null,null,null,null,null,1]
[null,null,null,null,null,null,null,1]
[null,null,null,null,null,null,null,1]
[null,null,null,null,null,null,null,1]
[null,null,null,null,null,null,null,1]
[null,null,null,null,null,null,null,1]
[null,null,null,null,null,null,null,1]
[null,null,null,null,null,null,null,1]
[null,null,null,null,null,null,null,1]
[null,null,null,null,null,null,null,1]
[null,null,null,null,null,null,null,1]
[null,null,null,null,null,null,null,1]
[null,null,null,null,null,null,null,1]
[null,null,null,null,null,null,null,1]
[null,null,null,null,null,null,null,1]
[null,null,null,null,null,null,null,1]
[null,null,null,null,null,null,null,1]
[null,null,null,null,null,null,null,1]
[null,null,null,null,null,null,null,1]
[null,null,null,null,null,null,null,1]
[null,null,null,null,null,null,null,1]
[null,null,null,null,null,null,null,1]
[null,null,null,null,null,null,null,1]
[null,null,null,null,null,null,null,1]
[null,null,null,null,null,null,null,1]
[null,null,null,null,null,null,null,1]
[null,null,null,null,null,null,null,1]
[null,null,null,null,null,null,null,1]
[null,null,null,null,null,null,null,1]
[null,null,null,null,null,null,null,1]
[null,null,null,null,null,null,null,1]
[null,null,null,null,null,null,null,1]
[null,null,null,null,null,null,null,1]
[null,null,null,null,null,null,null,1]
[null,null,null,null,null,null,null,1]
[null,null,null,null,null,null,null,1]
[null,null,null,null,null,null,null,1]
[null,null,null,null,null,null,null,1]
[null,null,null,null,null,null,null,1]
[null,null,null,null,null,null,null,1]
[null,null,null,null,null,null,null,1]
[null,null,null,null,null,null,null,1]
[null,null,null,null,null,null,null,1]
[null,null,null,null,null,null,null,1]
[null,null,null,null,null,null,null,1]
[null,null,null,null,null,null,null,1]
[null,null,null,null,null,null,null,1]
[null,null,null,null,null,null,null,1]
[null,null,null,null,null,null,null,1]
[null,null,null,null,null,null,null,1]
[null,null,null,null,null,null,null,1]
[null,null,null,null,null,null,null,1]
[null,null,null,null,null,null,null,1]
[null,null,null,null,null,null,null,1]
[null,null,null,null,null,null,null,1]
[null,null,null,null,null,null,null,1]
[null,null,null,null,null,null,null,1]
[null,null,null,null,null,null,null,1]
[null,null,null,null,null,null,null,1]
[null,null,null,null,null,null,null,1]
[null,null,null,null,null,null,null,1]
[null,null,null,null,null,null,null,1]
[null,null,null,null,null,null,null,1]
[null,null,null,null,null,null,null,1]
[null,null,null,null,null,null,null,1]
[null,null,null,null,null,null,null,1]
[null,null,null,null,null,null,null,1]
[null,null,null,null,null,null,null,1]
[null,null,null,null,null,null,null,1]
[null,null,null,null,null,null,null,1]
[null,null,null,null,null,null,null,1]
[null,null,null,null,null,null,null,1]
[null,null,null,null,null,null,null,1]
[null,null,null,null,null,null,null,1]
[null,null,null,null,null,null,null,1]
[null,null,null,null,null,null,null,1]
[null,null,null,null,null,null,null,1]
[null,null,null,null,null,null,null,1]
[null,null,null,null,null,null,null,1]
[null,null,null,null,null,null,null,1]
[null,null,null,null,null,null,null,1]
[null,null,null,null,null,null,null,1]
[null,null,null,null,null,null,null,1]
[null,null,null,null,null,null,null,1]
[null,null,null,null,null,null,null,1]
[null,null,null,null,null,null,null,1]
[null,null,null,null,null,null,null,1]
[null,null,null,null,null,null,null,1]
[null,null,null,null,null,null,null,1]
[null,null,null,null,null,null,null,1]
[null,null,null,null,null,null,null,1]
[null,null,null,null,null,null,null,1]
[null,null,null,null,null,null,null,1]
[null,null,null,null,null,null,null,1]
[null,null,null,null,null,null,null,1]
[null,null,null,null,null,null,null,1]
[null,null,null,null,null,null,null,1]
[null,null,null,null,null,null,null,1]
[null,null,null,null,null,null,null,1]
[null,null,null,null,null,null,null,1]
[null,null,null,null,null,null,null,1]
[null,null,null,null,null,null,null,1]
[null,null,null,null,null,null,null,1]
[null,null,null,null,null,null,null,1]
[null,null,null,null,null,null,null,1]
[null,null,null,null,null,null,null,1]
[null,null,null,null,null,null,null,1]
[null,null,null,null,null,null,null,1]
[null,null,null,null,null,null,null,1]
[null,null,null,null,null,null,null,1]
[null,null,null,null,null,null,null,1]
[null,null,null,null,null,null,null,1]
[null,null,null,null,null,null,null,1]
[null,null,null,null,null,null,null,1]
[null,null,null,null,null,null,null,1]
[null,null,null,null,null,null,null,1]
[null,null,null,null,null,null,null,1]
[null,null,null,null,null,null,null,1]
[null,null,null,null,null,null,null,1]
[null,null,null,null,null,null,null,1]
[null,null,null,null,null,null,null,1]
[null,null,null,null,null,null,null,1]
[null,null,null,null,null,null,null,1]
[null,null,null,null,null,null,null,1]
[null,null,null,null,null,null,null,1]
[null,null,null,null,null,null,null,1]
[null,null,null,null,null,null,null,1]
[null,null,null,null,null,null,null,1]
[null,null,null,null,null,null,null,1]
[null,null,null,null,null,null,null,1]
[null,null,null,null,null,null,null,1]
[null,null,null,null,null,null,null,1]
[null,null,null,null,null,null,null,1]
[null,null,null,null,null,null,null,1]
[null,null,null,null,null,null,null,1]
[null,null,null,null,null,null,null,1]
[null,null,null,null,null,null,null,1]
[null,null,null,null,null,null,null,1]
[null,null,null,null,null,null,null,1]
[null,null,null,null,null,null,null,1]
[null,null,null,null,null,null,null,1]
[null,null,null,null,null,null,null,1]
[null,null,null,null,null,null,null,1]
[null,null,null,null,null,null,null,1]
[null,null,null,null,null,null,null,1]
[null,null,null,null,null,null,null,1]
[null,null,null,null,null,null,null,1]
[null,null,null,null,null,null,null,1]
[null,null,null,null,null,null,null,1]
[null,null,null,null,null,null,null,1]
[null,null,null,null,null,null,null,1]
[null,null,null,null,null,null,null,1]
[null,null,null,null,null,null,null,1]
[null,null,null,null,null,null,null,1]
[null,null,null,null,null,null,null,1]
[null,null,null,null,null,null,null,1]
[null,null,null,null,null,null,null,1]
[null,null,null,null,null,null,null,1]
[null,null,null,null,null,null,null,1]
[null,null,null,null,null,null,null,1]
[null,null,null,null,null,null,null,1]
[null,null,null,null,null,null,null,1]
[null,null,null,null,null,null,null,1]
[null,null,null,null,null,null,null,1]
[null,null,null,null,null,null,null,1]
[null,null,null,null,null,null,null,1]
[null,null,null,null,null,null,null,1]
[null,null,null,null,null,null,null,1]
[null,null,null,null,null,null,null,1]
[null,null,null,null,null,null,null,1]
[null,null,null,null,null,null,null,1]
[null,null,null,null,null,null,null,1]
[null,null,null,null,null,null,null,1]
[null,null,null,null,null,null,null,1]
[null,null,null,null,null,null,null,1]
[null,null,null,null,null,null,null,1]
[null,null,null,null,null,null,null,1]
[null,null,null,null,null,null,null,1]
[null,null,null,null,null,null,null,1]
[null,null,null,null,null,null,null,1]
[null,null,null,null,null,null,null,1]
[null,null,null,null,null,null,null,1]
[null,null,null,null,null,null,null,1]
[null,null,null,null,null,null,null,1]
[null,null,null,null,null,null,null,1]
[null,null,null,null,null,null,null,1]
[null,null,null,null,null,null,null,1]
[null,null,null,null,null,null,null,1]
[null,null,null,null,null,null,null,1]
[null,null,null,null,null,null,null,1]
[null,null,null,null,null,null,null,1]
[null,null,null,null,null,null,null,1]
[null,null,null,null,null,null,null,1]
[null,null,null,null,null,null,null,1]
[null,null,null,null,null,null,null,1]
[null,null,null,null,null,null,null,1]
[null,null,null,null,null,null,null,1]
[null,null,null,null,null,null,null,1]
[null,null,null,null,null,null,null,1]
[null,null,null,null,null,null,null,1]
[null,null,null,null,null,null,null,1]
[null,null,null,null,null,null,null,1]
[null,null,null,null,null,null,null,1]
[null,null,null,null,null,null,null,1]
[null,null,null,null,null,null,null,1]
[null,null,null,null,null,null,null,1]
[null,null,null,null,null,null,null,1]
[null,null,null,null,null,null,null,1]
[null,null,null,null,null,null,null,1]
[null,null,null,null,null,null,null,1]
[null,null,null,null,null,null,null,1]
[null,null,null,null,null,null,null,1]
[null,null,null,null,null,null,null,1]
[null,null,null,null,null,null,null,1]
[null,null,null,null,null,null,null,1]
[null,null,null,null,null,null,null,1]
[null,null,null,null,null,null,null,1]
[null,null,null,null,null,null,null,1]
[null,null,null,null,null,null,null,1]
[null,null,null,null,null,null,null,1]
[null,null,null,null,null,null,null,1]
[null,null,null,null,null,null,null,1]
[null,null,null,null,null,null,null,1]
[null,null,null,null,null,null,null,1]
[null,null,null,null,null,null,null,1]
[null,null,null,null,null,null,null,1]
[null,null,null,null,null,null,null,1]
[null,null,null,null,null,null,null,1]
[null,null,null,null,null,null,null,1]
[null,null,null,null,null,null,null,1]
[null,null,null,null,null,null,null,1]
[null,null,null,null,null,null,null,1]
[null,null,null,null,null,null,null,1]
[null,null,null,null,null,null,null,1]
[null,null,null,null,null,null,null,1]
[null,null,null,null,null,null,null,1]
[null,null,null,null,null,null,null,1]
[null,null,null,null,null,null,null,1]
[null,null,null,null,null,null,null,1]
[null,null,null,null,null,null,null,1]
[null,null,null,null,null,null,null,1]
[null,null,null,null,null,null,null,1]
[null,null,null,null,null,null,null,1]
[null,null,null,null,null,null,null,1]
[null,null,null,null,null,null,null,1]
[null,null,null,null,null,null,null,1]
[null,null,null,null,null,null,null,1]
[null,null,null,null,null,null,null,1]
[null,null,null,null,null,null,null,1]
[null,null,null,null,null,null,null,1]
[null,null,null,null,null,null,null,1]
[null,null,null,null,null,null,null,1]
[null,null,null,null,null,null,null,1]
[null,null,null,null,null,null,null,1]
[null,null,null,null,null,null,null,1]
[null,null,null,null,null,null,null,1]
[null,null,null,null,null,null,null,1]
[null,null,null,null,null,null,null,1]
[null,null,null,null,null,null,null,1]
[null,null,null,null,null,null,null,1]
[null,null,null,null,null,null,null,1]
[null,null,null,null,null,null,null,1]
[null,null,null,null,null,null,null,1]
[null,null,null,null,null,null,null,1]
[null,null,null,null,null,null,null,1]
[null,null,null,null,null,null,null,1]
[null,null,null,null,null,null,null,1]
[null,null,null,null,null,null,null,1]
[null,null,null,null,null,null,null,1]
[null,null,null,null,null,null,null,1]
[null,null,null,null,null,null,null,1]
[null,null,null,null,null,null,null,1]
[null,null,null,null,null,null,null,1]
[null,null,null,null,null,null,null,1]
[null,null,null,null,null,null,null,1]
[null,null,null,null,null,null,null,1]
[null,null,null,null,null,null,null,1]
[null,null,null,null,null,null,null,1]
[null,null,null,null,null,null,null,1]
[null,null,null,null,null,null,null,1]
[null,null,null,null,null,null,null,1]
[null,null,null,null,null,null,null,1]
[null,null,null,null,null,null,null,1]
[null,null,null,null,null,null,null,1]
[null,null,null,null,null,null,null,1]
[null,null,null,null,null,null,null,1]
[null,null,null,null,null,null,null,1]
[null,null,null,null,null,null,null,1]
[null,null,null,null,null,null,null,1]
[null,null,null,null,null,null,null,1]
[null,null,null,null,null,null,null,1]
[null,null,null,null,null,null,null,1]
[null,null,null,null,null,null,null,1]
[null,null,null,null,null,null,null,1]
[null,null,null,null,null,null,null,1]
[null,null,null,null,null,null,null,1]
[null,null,null,null,null,null,null,1]
[null,null,null,null,null,null,null,1]
[null,null,null,null,null,null,null,1]
[null,null,null,null,null,null,null,1]
[null,null,null,null,null,null,null,1]
[null,null,null,null,null,null,null,1]
[null,null,null,null,null,null,null,1]
[null,null,null,null,null,null,null,1]
[null,null,null,null,null,null,null,1]
[null,null,null,null,null,null,null,1]
[null,null,null,null,null,null,null,1]
[null,null,null,null,null,null,null,1]
[null,null,null,null,null,null,null,1]
[null,null,null,null,null,null,null,1]
[null,null,null,null,null,null,null,1]
[null,null,null,null,null,null,null,1]
[null,null,null,null,null,null,null,1]
[null,null,null,null,null,null,null,1]
[null,null,null,null,null,null,null,1]
[null,null,null,null,null,null,null,1]
[null,null,null,null,null,null,null,1]
[null,null,null,null,null,null,null,1]
[null,null,null,null,null,null,null,1]
[null,null,null,null,null,null,null,1]
[null,null,null,null,null,null,null,1]
[null,null,null,null,null,null,null,1]
[null,null,null,null,null,null,null,1]
[null,null,null,null,null,null,null,1]
[null,null,null,null,null,null,null,1]
[null,null,null,null,null,null,null,1]
[null,null,null,null,null,null,null,1]
[null,null,null,null,null,null,null,1]
[null,null,null,null,null,null,null,1]
[null,null,null,null,null,null,null,1]
[null,null,null,null,null,null,null,1]
[null,null,null,null,null,null,null,1]
[null,null,null,null,null,null,null,1]
[null,null,null,null,null,null,null,1]
[null,null,null,null,null,null,null,1]
[null,null,null,null,null,null,null,1]
[null,null,null,null,null,null,null,1]
[null,null,null,null,null,null,null,1]
[null,null,null,null,null,null,null,1]
[null,null,null,null,null,null,null,1]
[null,null,null,null,null,null,null,1]
[null,null,null,null,null,null,null,1]
[null,null,null,null,null,null,null,1]
[null,null,null,null,null,null,null,1]
[null,null,null,null,null,null,null,1]
[null,null,null,null,null,null,null,1]
[null,null,null,null,null,null,null,1]
[null,null,null,null,null,null,null,1]
[null,null,null,null,null,null,null,1]
[null,null,null,null,null,null,null,1]
[null,null,null,null,null,null,null,1]
[null,null,null,null,null,null,null,1]
[null,null,null,null,null,null,null,1]
[null,null,null,null,null,null,null,1]
[null,null,null,null,null,null,null,1]
[null,null,null,null,null,null,null,1]
[null,null,null,null,null,null,null,1]
[null,null,null,null,null,null,null,1]
[null,null,null,null,null,null,null,1]
[null,null,null,null,null,null,null,1]
[null,null,null,null,null,null,null,1]
[null,null,null,null,null,null,null,1]
[null,null,null,null,null,null,null,1]
[null,null,null,null,null,null,null,1]
[null,null,null,null,null,null,null,1]
[null,null,null,null,null,null,null,1]
[null,null,null,null,null,null,null,1]
[null,null,null,null,null,null,null,1]
[null,null,null,null,null,null,null,1]
[null,null,null,null,null,null,null,1]
[null,null,null,null,null,null,null,1]
[null,null,null,null,null,null,null,1]
[null,null,null,null,null,null,null,1]
[null,null,null,null,null,null,null,1]
[null,null,null,null,null,null,null,1]
[null,null,null,null,null,null,null,1]
[null,null,null,null,null,null,null,1]
[null,null,null,null,null,null,null,1]
[null,null,null,null,null,null,null,1]
[null,null,null,null,null,null,null,1]
[null,null,null,null,null,null,null,1]
[null,null,null,null,null,null,null,1]
[null,null,null,null,null,null,null,1]
[null,null,null,null,null,null,null,1]
[null,null,null,null,null,null,null,1]
[null,null,null,null,null,null,null,1]
[null,null,null,null,null,null,null,1]
[null,null,null,null,null,null,null,1]
[null,null,null,null,null,null,null,1]
[null,null,null,null,null,null,null,1]
[null,null,null,null,null,null,null,1]
[null,null,null,null,null,null,null,1]
[null,null,null,null,null,null,null,1]
[null,null,null,null,null,null,null,1]
[null,null,null,null,null,null,null,1]
[null,null,null,null,null,null,null,1]
[null,null,null,null,null,null,null,1]
[null,null,null,null,null,null,null,1]
[null,null,null,null,null,null,null,1]
[null,null,null,null,null,null,null,1]
[null,null,null,null,null,null,null,1]
[null,null,null,null,null,null,null,1]
[null,null,null,null,null,null,null,1]
[null,null,null,null,null,null,null,1]
[null,null,null,null,null,null,null,1]
[null,null,null,null,null,null,null,1]
[null,null,null,null,null,null,null,1]
[null,null,null,null,null,null,null,1]
[null,null,null,null,null,null,null,1]
[null,null,null,null,null,null,null,1]
[null,null,null,null,null,null,null,1]
[null,null,null,null,null,null,null,1]
[null,null,null,null,null,null,null,1]
[null,null,null,null,null,null,null,1]
[null,null,null,null,null,null,null,1]
[null,null,null,null,null,null,null,1]
[null,null,null,null,null,null,null,1]
[null,null,null,null,null,null,null,1]
[null,null,null,null,null,null,null,1]
[null,null,null,null,null,null,null,1]
[null,null,null,null,null,null,null,1]
[null,null,null,null,null,null,null,1]
[null,null,null,null,null,null,null,1]
[null,null,null,null,null,null,null,1]
[null,null,null,null,null,null,null,1]
[null,null,null,null,null,null,null,1]
[null,null,null,null,null,null,null,1]
[null,null,null,null,null,null,null,1]
[null,null,null,null,null,null,null,1]
[null,null,null,null,null,null,null,1]
[null,null,null,null,null,null,null,1]
[null,null,null,null,null,null,null,1]
[null,null,null,null,null,null,null,1]
[null,null,null,null,null,null,null,1]
[null,null,null,null,null,null,null,1]
[null,null,null,null,null,null,null,1]
[null,null,null,null,null,null,null,1]
[null,null,null,null,null,null,null,1]
[null,null,null,null,null,null,null,1]
[null,null,null,null,null,null,null,1]
[null,null,null,null,null,null,null,1]
[null,null,null,null,null,null,null,1]
[null,null,null,null,null,null,null,1]
[null,null,null,null,null,null,null,1]
[null,null,null,null,null,null,null,1]
[null,null,null,null,null,null,null,1]
[null,null,null,null,null,null,null,1]
[null,null,null,null,null,null,null,1]
[null,null,null,null,null,null,null,1]
[null,null,null,null,null,null,null,1]
[null,null,null,null,null,null,null,1]
[null,null,null,null,null,null,null,1]
[null,null,null,null,null,null,null,1]
[null,null,null,null,null,null,null,1]
[null,null,null,null,null,null,null,1]
[null,null,null,null,null,null,null,1]
[null,null,null,null,null,null,null,1]
[null,null,null,null,null,null,null,1]
[null,null,null,null,null,null,null,1]
[null,null,null,null,null,null,null,1]
[null,null,null,null,null,null,null,1]
[null,null,null,null,null,null,null,1]
[null,null,null,null,null,null,null,1]
[null,null,null,null,null,null,null,1]
[null,null,null,null,null,null,null,1]
[null,null,null,null,null,null,null,1]
[null,null,null,null,null,null,null,1]
[null,null,null,null,null,null,null,1]
[null,null,null,null,null,null,null,1]
[null,null,null,null,null,null,null,1]
[null,null,null,null,null,null,null,1]
[null,null,null,null,null,null,null,1]
[null,null,null,null,null,null,null,1]
[null,null,null,null,null,null,null,1]
[null,null,null,null,null,null,null,1]
[null,null,null,null,null,null,null,1]
[null,null,null,null,null,null,null,1]
[null,null,null,null,null,null,null,1]
[null,null,null,null,null,null,null,1]
[null,null,null,null,null,null,null,1]
[null,null,null,null,null,null,null,1]
[null,null,null,null,null,null,null,1]
[null,null,null,null,null,null,null,1]
[null,null,null,null,null,null,null,1]
[null,null,null,null,null,null,null,1]
[null,null,null,null,null,null,null,1]
[null,null,null,null,null,null,null,1]
[null,null,null,null,null,null,null,1]
[null,null,null,null,null,null,null,1]
[null,null,null,null,null,null,null,1]
[null,null,null,null,null,null,null,1]
[null,null,null,null,null,null,null,1]
[null,null,null,null,null,null,null,1]
[null,null,null,null,null,null,null,1]
[null,null,null,null,null,null,null,1]
[null,null,null,null,null,null,null,1]
[null,null,null,null,null,null,null,1]
[null,null,null,null,null,null,null,1]
[null,null,null,null,null,null,null,1]
[null,null,null,null,null,null,null,1]
[null,null,null,null,null,null,null,1]
[null,null,null,null,null,null,null,1]
[null,null,null,null,null,null,null,1]
[null,null,null,null,null,null,null,1]
[null,null,null,null,null,null,null,1]
[null,null,null,null,null,null,null,1]
[null,null,null,null,null,null,null,1]
[null,null,null,null,null,null,null,1]
[null,null,null,null,null,null,null,1]
[null,null,null,null,null,null,null,1]
[null,null,null,null,null,null,null,1]
[null,null,null,null,null,null,null,1]
[null,null,null,null,null,null,null,1]
[null,null,null,null,null,null,null,1]
[null,null,null,null,null,null,null,1]
[null,null,null,null,null,null,null,1]
[null,null,null,null,null,null,null,1]
[null,null,null,null,null,null,null,1]
[null,null,null,null,null,null,null,1]
[null,null,null,null,null,null,null,1]
[null,null,null,null,null,null,null,1]
[null,null,null,null,null,null,null,1]
[null,null,null,null,null,null,null,1]
[null,null,null,null,null,null,null,1]
[null,null,null,null,null,null,null,1]
[null,null,null,null,null,null,null,1]
[null,null,null,null,null,null,null,1]
[null,null,null,null,null,null,null,1]
[null,null,null,null,null,null,null,1]
[null,null,null,null,null,null,null,1]
[null,null,null,null,null,null,null,1]
[null,null,null,null,null,null,null,1]
[null,null,null,null,null,null,null,1]
[null,null,null,null,null,null,null,1]
[null,null,null,null,null,null,null,1]
[null,null,null,null,null,null,null,1]
[null,null,null,null,null,null,null,1]
[null,null,null,null,null,null,null,1]
[null,null,null,null,null,null,null,1]
[null,null,null,null,null,null,null,1]
[null,null,null,null,null,null,null,1]
[null,null,null,null,null,null,null,1]
[null,null,null,null,null,null,null,1]
[null,null,null,null,null,null,null,1]
[null,null,null,null,null,null,null,1]
[null,null,null,null,null,null,null,1]
[null,null,null,null,null,null,null,1]
[null,null,null,null,null,null,null,1]
[null,null,null,null,null,null,null,1]
[null,null,null,null,null,null,null,1]
[null,null,null,null,null,null,null,1]
[null,null,null,null,null,null,null,1]
[null,null,null,null,null,null,null,1]
[null,null,null,null,null,null,null,1]
[null,null,null,null,null,null,null,1]
[null,null,null,null,null,null,null,1]
[null,null,null,null,null,null,null,1]
[null,null,null,null,null,null,null,1]
[null,null,null,null,null,null,null,1]
[null,null,null,null,null,null,null,1]
[null,null,null,null,null,null,null,1]
[null,null,null,null,null,null,null,1]
[null,null,null,null,null,null,null,1]
[null,null,null,null,null,null,null,1]
[null,null,null,null,null,null,null,1]
[null,null,null,null,null,null,null,1]
[null,null,null,null,null,null,null,1]
[null,null,null,null,null,null,null,1]
[null,null,null,null,null,null,null,1]
[null,null,null,null,null,null,null,1]
[null,null,null,null,null,null,null,1]
[null,null,null,null,null,null,null,1]
[null,null,null,null,null,null,null,1]
[null,null,null,null,null,null,null,1]
[null,null,null,null,null,null,null,1]
[null,null,null,null,null,null,null,1]
[null,null,null,null,null,null,null,1]
[null,null,null,null,null,null,null,1]
[null,null,null,null,null,null,null,1]
[null,null,null,null,null,null,null,1]
[null,null,null,null,null,null,null,1]
[null,null,null,null,null,null,null,1]
[null,null,null,null,null,null,null,1]
[null,null,null,null,null,null,null,1]
[null,null,null,null,null,null,null,1]
[null,null,null,null,null,null,null,1]
[null,null,null,null,null,null,null,1]
[null,null,null,null,null,null,null,1]
[null,null,null,null,null,null,null,1]
[null,null,null,null,null,null,null,1]
[null,null,null,null,null,null,null,1]
[null,null,null,null,null,null,null,1]
[null,null,null,null,null,null,null,1]
[null,null,null,null,null,null,null,1]
[null,null,null,null,null,null,null,1]
[null,null,null,null,null,null,null,1]
[null,null,null,null,null,null,null,1]
[null,null,null,null,null,null,null,1]
[null,null,null,null,null,null,null,1]
[null,null,null,null,null,null,null,1]
[null,null,null,null,null,null,null,1]
[null,null,null,null,null,null,null,1]
[null,null,null,null,null,null,null,1]
[null,null,null,null,null,null,null,1]
[null,null,null,null,null,null,null,1]
[null,null,null,null,null,null,null,1]
[null,null,null,null,null,null,null,1]
[null,null,null,null,null,null,null,1]
[null,null,null,null,null,null,null,1]
[null,null,null,null,null,null,null,1]
[null,null,null,null,null,null,null,1]
[null,null,null,null,null,null,null,1]
[null,null,null,null,null,null,null,1]
[null,null,null,null,null,null,null,1]
[null,null,null,null,null,null,null,1]
[null,null,null,null,null,null,null,1]
[null,null,null,null,null,null,null,1]
[null,null,null,null,null,null,null,1]
[null,null,null,null,null,null,null,1]
[null,null,null,null,null,null,null,1]
[null,null,null,null,null,null,null,1]
[null,null,null,null,null,null,null,1]
[null,null,null,null,null,null,null,1]
[null,null,null,null,null,null,null,1]
[null,null,null,null,null,null,null,1]
[null,null,null,null,null,null,null,1]
[null,null,null,null,null,null,null,1]
[null,null,null,null,null,null,null,1]
[null,null,null,null,null,null,null,1]
[null,null,null,null,null,null,null,1]
[null,null,null,null,null,null,null,1]
[null,null,null,null,null,null,null,1]
[null,null,null,null,null,null,null,1]
[null,null,null,null,null,null,null,1]
[null,null,null,null,null,null,null,1]
[null,null,null,null,null,null,null,1]
[null,null,null,null,null,null,null,1]
[null,null,null,null,null,null,null,1]
[null,null,null,null,null,null,null,1]
[null,null,null,null,null,null,null,1]
[null,null,null,null,null,null,null,1]
[null,null,null,null,null,null,null,1]
[null,null,null,null,null,null,null,1]
[null,null,null,null,null,null,null,1]
[null,null,null,null,null,null,null,1]
[null,null,null,null,null,null,null,1]
[null,null,null,null,null,null,null,1]
[null,null,null,null,null,null,null,1]
[null,null,null,null,null,null,null,1]
[null,null,null,null,null,null,null,1]
[null,null,null,null,null,null,null,1]
[null,null,null,null,null,null,null,1]
[null,null,null,null,null,null,null,1]
[null,null,null,null,null,null,null,1]
[null,null,null,null,null,null,null,1]
[null,null,null,null,null,null,null,1]
[null,null,null,null,null,null,null,1]
[null,null,null,null,null,null,null,1]
[null,null,null,null,null,null,null,1]
[null,null,null,null,null,null,null,1]
[null,null,null,null,null,null,null,1]
[null,null,null,null,null,null,null,1]
[null,null,null,null,null,null,null,1]
[null,null,null,null,null,null,null,1]
[null,null,null,null,null,null,null,1]
[null,null,null,null,null,null,null,1]
[null,null,null,null,null,null,null,1]
[null,null,null,null,null,null,null,1]
[null,null,null,null,null,null,null,1]
[null,null,null,null,null,null,null,1]
[null,null,null,null,null,null,null,1]
[null,null,null,null,null,null,null,1]
[null,null,null,null,null,null,null,1]
[null,null,null,null,null,null,null,1]
[null,null,null,null,null,null,null,1]
[null,null,null,null,null,null,null,1]
[null,null,null,null,null,null,null,1]
[null,null,null,null,null,null,null,1]
[null,null,null,null,null,null,null,1]
[null,null,null,null,null,null,null,1]
[null,null,null,null,null,null,null,1]
[null,null,null,null,null,null,null,1]
[null,null,null,null,null,null,null,1]
[null,null,null,null,null,null,null,1]
[null,null,null,null,null,null,null,1]
[null,null,null,null,null,null,null,1]
[null,null,null,null,null,null,null,1]
[null,null,null,null,null,null,null,1]
[null,null,null,null,null,null,null,1]
[null,null,null,null,null,null,null,1]
[null,null,null,null,null,null,null,1]
[null,null,null,null,null,null,null,1]
[null,null,null,null,null,null,null,1]
[null,null,null,null,null,null,null,1]
[null,null,null,null,null,null,null,1]
[null,null,null,null,null,null,null,1]
[null,null,null,null,null,null,null,1]
[null,null,null,null,null,null,null,1]
[null,null,null,null,null,null,null,1]
[null,null,null,null,null,null,null,1]
[null,null,null,null,null,null,null,1]
[null,null,null,null,null,null,null,1]
[null,null,null,null,null,null,null,1]

{"sheet":"PP_post_survey","index":10,"n_rows":25,"n_cols":6,"rows_kept":25,"cut":false,"hidden":true,"merged":[[13,0,13,5],[15,0,15,5],[16,0,16,5],[24,0,24,5],[7,0,7,5],[8,0,8,5],[9,0,9,5],[10,0,10,5],[12,0,12,5],[6,0,6,5],[0,0,0,5],[1,0,1,5],[2,0,2,5],[3,0,3,5]]}
[{"$f":"\"Post-Programme Survey for \"&PROPER(START!B17)","v":"Post-Programme Survey for "}]
["Thank you for participating in our programme! We would appreciate your help to take 10 to 15 minutes to complete the survey below. Your feedback will help us to improve, so we ask that you answer as honestly as possible. "]
["Learning Outcomes"]
["Please select the option that best describes your response to the following statements."]
[null,"Strongly disagree","Disagree","Neither agree nor disagree","Agree","Strongly agree"]
["I am able to persevere in the face of challenges.","☐","☐","☐","☐","☐"]
[]
["Participant Information"]
["For the last section, we would like to find out some information about yourself."]
["What is your gender?"]
["☐ Male     ☐ Female "]
[]
["What is your ethnicity?"]
["☐ Chinese     ☐ Malay     ☐ Indian     ☐ Others    "]
[]
["What is your age?"]
["☐ 15 to 19 years old     ☐ 20 to 24 years old     ☐ 25 to 29 years old     ☐ 30 to 34 years old    "]
["☐ Others, please specify: ____________________"]
[]
["What is your main occupational status?"]
["☐ Student (Secondary School)\n☐ Student (Junior College/Centralised Institute/IB & IP schools)\n☐ Student (ITE/Vocational institute)\n☐ Student (Polytechnic)\n☐ Student (University)\n☐6 Student (Private Educational Institutions)\n☐7 Working Adult\n☐8 Others (e.g. Madrasah/Homeschool/NS/Gap year)"]
[]
["Please provide the last 5 characters of your NRIC (last 4 digits + alphabet)."]
["This unique identifier will help us to match pre and post-programme responses in order to understand how the programme has impacted you. Please be rest assured that the responses are anonymous and kept confidential."]
["Thank you for your participation!"]

{"sheet":"PP_post_survey_base","index":11,"n_rows":999,"n_cols":8,"rows_kept":999,"cut":false,"hidden":true,"merged":[[186,0,186,5],[187,0,187,5],[195,0,195,5],[178,0,178,5],[179,0,179,5],[180,0,180,5],[181,0,181,5],[183,0,183,5],[184,0,184,5],[166,0,166,5],[168,0,168,5],[173,0,173,5],[157,0,157,5],[159,0,159,5],[160,0,160,5],[162,0,162,5],[163,0,163,5],[165,0,165,5],[156,0,156,5],[124,0,124,5],[126,0,126,5],[127,0,127,5],[130,0,130,5],[131,0,131,5],[133,0,133,5],[134,0,134,5],[147,0,147,5],[152,0,152,5],[153,0,153,5],[154,0,154,5],[123,0,123,5],[105,0,105,5],[107,0,107,5],[108,0,108,5],[110,0,110,5],[111,0,111,5],[113,0,113,5],[114,0,114,5],[116,0,116,5],[117,0,117,5],[119,0,119,5],[120,0,120,5],[104,0,104,5],[86,0,86,5],[87,0,87,5],[89,0,89,5],[90,0,90,5],[93,0,93,5],[94,0,94,5],[96,0,96,5],[97,0,97,5],[99,0,99,5],[100,0,100,5],[102,0,102,5],[84,0,84,5],[0,0,0,5],[1,0,1,5],[2,0,2,5],[3,0,3,5],[83,0,83,5]]}
[{"$f":"\"Post-Programme Survey for \"&PROPER(START!B17)","v":"Post-Programme Survey for "},null,null,null,null,null,null,1]
["Thank you for participating in our programme! We would appreciate your help to take 10 to 15 minutes to complete the survey below. Your feedback will help us to improve, so we ask that you answer as honestly as possible. ",null,null,null,null,null,null,1]
["Learning Outcomes",null,null,null,null,null,null,1]
["Please select the option that best describes your response to the following statements.",null,null,null,null,null,null,1]
[null,"Strongly disagree","Disagree","Neither agree nor disagree","Agree","Strongly agree",null,1]
["I am able to persevere in the face of challenges.","☐","☐","☐","☐","☐",null,{"$f":"PP_nyf_base!G11","v":0}]
["I do not give up even after experiencing failure. ","☐","☐","☐","☐","☐",null,{"$f":"PP_nyf_base!G12","v":0}]
["I feel that I have a number of good qualities.","☐","☐","☐","☐","☐",null,{"$f":"PP_nyf_base!G13","v":0}]
["I am able to do things as well as most other people. ","☐","☐","☐","☐","☐",null,{"$f":"PP_nyf_base!G14","v":0}]
["I believe I can achieve my goals.","☐","☐","☐","☐","☐",null,{"$f":"PP_nyf_base!G15","v":0}]
["I believe I have the ability to succeed in the things I want to do.","☐","☐","☐","☐","☐",null,{"$f":"PP_nyf_base!G16","v":0}]
["I am confident I can succeed when I try my best.","☐","☐","☐","☐","☐",null,{"$f":"PP_nyf_base!G17","v":0}]
["I seize the opportunity whenever I see one. ","☐","☐","☐","☐","☐",null,{"$f":"PP_nyf_base!G18","v":0}]
["I take initiative instead of waiting for things to happen.","☐","☐","☐","☐","☐",null,{"$f":"PP_nyf_base!G19","v":0}]
["I believe it is important to challenge myself to grow. ","☐","☐","☐","☐","☐",null,{"$f":"PP_nyf_base!G20","v":0}]
["Difficult times are an opportunity for me to learn and grow as a person.","☐","☐","☐","☐","☐",null,{"$f":"PP_nyf_base!G21","v":0}]
["I am aware of the skills that will help me to succeed in my career in future.","☐","☐","☐","☐","☐",null,{"$f":"PP_nyf_base!G22","v":0}]
["I am aware of the potential career pathways that I can take to achieve my goals.","☐","☐","☐","☐","☐",null,{"$f":"PP_nyf_base!G23","v":0}]
["I believe I can achieve my career goals. ","☐","☐","☐","☐","☐",null,{"$f":"PP_nyf_base!G25","v":0}]
["I am aware of differences between cultures.","☐","☐","☐","☐","☐",null,{"$f":"PP_nyf_base!G26","v":0}]
["I am aware of issues affecting other countries","☐","☐","☐","☐","☐",null,{"$f":"PP_nyf_base!G27","v":0}]
["I understand how changes around the world affect other countries.","☐","☐","☐","☐","☐",null,{"$f":"PP_nyf_base!G28","v":0}]
["I understand the opportunities and challenges other countries have.","☐","☐","☐","☐","☐",null,{"$f":"PP_nyf_base!G29","v":0}]
["I understand the difficulties in trying to solve global issues.","☐","☐","☐","☐","☐",null,{"$f":"PP_nyf_base!G30","v":0}]
["I know of ways to come up with new ideas. ","☐","☐","☐","☐","☐",null,{"$f":"PP_nyf_base!G31","v":0}]
["I am able to link different information together. ","☐","☐","☐","☐","☐",null,{"$f":"PP_nyf_base!G32","v":0}]
["I think through issues from different angles.","☐","☐","☐","☐","☐",null,{"$f":"PP_nyf_base!G33","v":0}]
["I analyse an issue thoroughly before coming to a conclusion.","☐","☐","☐","☐","☐",null,{"$f":"PP_nyf_base!G34","v":0}]
["I know how to identify and solve problems.","☐","☐","☐","☐","☐",null,{"$f":"PP_nyf_base!G35","v":0}]
["I am able to solve problems that I face.","☐","☐","☐","☐","☐",null,{"$f":"PP_nyf_base!G36","v":0}]
["After I have tried to solve a problem, I examine why it did or did not work.","☐","☐","☐","☐","☐",null,{"$f":"PP_nyf_base!G37","v":0}]
["When solving a problem, I compare the pros and cons of my solutions. ","☐","☐","☐","☐","☐",null,{"$f":"PP_nyf_base!G38","v":0}]
["When faced with a problem, I try to find out the cause of the problem.","☐","☐","☐","☐","☐",null,{"$f":"PP_nyf_base!G39","v":0}]
["I know how to work well in a team.","☐","☐","☐","☐","☐",null,{"$f":"PP_nyf_base!G40","v":0}]
["I support others in the team.","☐","☐","☐","☐","☐",null,{"$f":"PP_nyf_base!G41","v":0}]
["I communicate well with my team members.","☐","☐","☐","☐","☐",null,{"$f":"PP_nyf_base!G42","v":0}]
["I work well in a team.","☐","☐","☐","☐","☐",null,{"$f":"PP_nyf_base!G43","v":0}]
["I treat other members of my team as equal to myself.","☐","☐","☐","☐","☐",null,{"$f":"PP_nyf_base!G44","v":0}]
["I am able to work with people who have different working styles from me.","☐","☐","☐","☐","☐",null,{"$f":"PP_nyf_base!G45","v":0}]
["I know how to work well with my stakeholders.","☐","☐","☐","☐","☐",null,{"$f":"PP_nyf_base!G46","v":0}]
["I seek to understand the needs of my stakeholders.","☐","☐","☐","☐","☐",null,{"$f":"PP_nyf_base!G47","v":0}]
["I am able to establish common understanding and build trust with my stakeholders.","☐","☐","☐","☐","☐",null,{"$f":"PP_nyf_base!G48","v":0}]
["I work well with my stakeholders.","☐","☐","☐","☐","☐",null,{"$f":"PP_nyf_base!G49","v":0}]
["I understand the factors that are critical to the smooth running of an event or a project. ","☐","☐","☐","☐","☐",null,{"$f":"PP_nyf_base!G50","v":0}]
["I know how to identify symptoms of mental and emotional distress. ","☐","☐","☐","☐","☐",null,{"$f":"PP_nyf_base!G51","v":0}]
["I am able to support those struggling mentally and emotionally. ","☐","☐","☐","☐","☐",null,{"$f":"PP_nyf_base!G52","v":0}]
["I know how I can manage negative thoughts and emotions. ","☐","☐","☐","☐","☐",null,{"$f":"PP_nyf_base!G53","v":0}]
["I know where to seek help when I have distressing thoughts and emotions beyond my control. ","☐","☐","☐","☐","☐",null,{"$f":"PP_nyf_base!G54","v":0}]
["If I have distressing thoughts and emotions beyond my control, I would seek help.","☐","☐","☐","☐","☐",null,{"$f":"PP_nyf_base!G55","v":0}]
["I know the steps that I can take to meet my financial goals.","☐","☐","☐","☐","☐",null,{"$f":"PP_nyf_base!G56","v":0}]
["I believe it is important to stay physically healthy. ","☐","☐","☐","☐","☐",null,{"$f":"PP_nyf_base!G57","v":0}]
["I make a conscious effort to maintain a healthy lifestyle.","☐","☐","☐","☐","☐",null,{"$f":"PP_nyf_base!G58","v":0}]
["I am proud to be a Singaporean. ","☐","☐","☐","☐","☐",null,{"$f":"PP_nyf_base!G59","v":0}]
["I am aware of issues affecting Singapore.","☐","☐","☐","☐","☐",null,{"$f":"PP_nyf_base!G60","v":0}]
["I understand how changes around the world affect Singapore and its future.","☐","☐","☐","☐","☐",null,{"$f":"PP_nyf_base!G61","v":0}]
["I understand the opportunities and challenges that Singapore has.","☐","☐","☐","☐","☐",null,{"$f":"PP_nyf_base!G62","v":0}]
["I understand the difficulties in trying to solve issues affecting Singapore's society.","☐","☐","☐","☐","☐",null,{"$f":"PP_nyf_base!G63","v":0}]
["I am aware of policies and programmes that tackle issues affecting Singapore's society.","☐","☐","☐","☐","☐",null,{"$f":"PP_nyf_base!G64","v":0}]
["I trust the government. ","☐","☐","☐","☐","☐",null,{"$f":"PP_nyf_base!G65","v":0}]
["I feel that the government understands the concerns of Singaporeans like me.","☐","☐","☐","☐","☐",null,{"$f":"PP_nyf_base!G66","v":0}]
["I feel that the government cares for the wellbeing of Singaporeans like me.","☐","☐","☐","☐","☐",null,{"$f":"PP_nyf_base!G67","v":0}]
["I feel that the government values my views.","☐","☐","☐","☐","☐",null,{"$f":"PP_nyf_base!G68","v":0}]
["I have people that I can talk with about my problems.","☐","☐","☐","☐","☐",null,{"$f":"PP_nyf_base!G69","v":0}]
["I have people whom I can turn to for support. ","☐","☐","☐","☐","☐",null,{"$f":"PP_nyf_base!G70","v":0}]
["I respect the opinions of others, even if I do not agree with it. ","☐","☐","☐","☐","☐",null,{"$f":"PP_nyf_base!G71","v":0}]
["I respect the values and beliefs of people who are of a different background from me.","☐","☐","☐","☐","☐",null,{"$f":"PP_nyf_base!G72","v":0}]
["I put myself in the shoes of others to understand how they feel.","☐","☐","☐","☐","☐",null,{"$f":"PP_nyf_base!G73","v":0}]
["I believe that I can make a difference in the community.","☐","☐","☐","☐","☐",null,{"$f":"PP_nyf_base!G74","v":0}]
["I believe I can help to shape society.","☐","☐","☐","☐","☐",null,{"$f":"PP_nyf_base!G75","v":0}]
["I am aware of the needs in the community.","☐","☐","☐","☐","☐",null,{"$f":"PP_nyf_base!G76","v":0}]
["I understand the ways that I can contribute to the community.","☐","☐","☐","☐","☐",null,{"$f":"PP_nyf_base!G77","v":0}]
["I believe I have a role to play in improving the community.","☐","☐","☐","☐","☐",null,{"$f":"PP_nyf_base!G78","v":0}]
["I feel a strong conviction to give back to the community.","☐","☐","☐","☐","☐",null,{"$f":"PP_nyf_base!G79","v":0}]
["I actively participate in efforts that help to improve the community.","☐","☐","☐","☐","☐",null,{"$f":"PP_nyf_base!G80","v":0}]
["I participate in discussions on national, community or social issues.","☐","☐","☐","☐","☐",null,{"$f":"PP_nyf_base!G81","v":0}]
["I encourage my peers to participate in activities that help to improve the community.","☐","☐","☐","☐","☐",null,{"$f":"PP_nyf_base!G82","v":0}]
["I am aware of the effects of my actions on the environment.","☐","☐","☐","☐","☐",null,{"$f":"PP_nyf_base!G83","v":0}]
["I understand the ways that I can care for the environment.","☐","☐","☐","☐","☐",null,{"$f":"PP_nyf_base!G84","v":0}]
["I feel responsible towards the environment.","☐","☐","☐","☐","☐",null,{"$f":"PP_nyf_base!G85","v":0}]
["My efforts to care for the environment will make a difference.","☐","☐","☐","☐","☐",null,{"$f":"PP_nyf_base!G86","v":0}]
["I actively participate in efforts to care for the environment.","☐","☐","☐","☐","☐",null,{"$f":"PP_nyf_base!G87","v":0}]
["I encourage my peers to care for the environment.","☐","☐","☐","☐","☐",null,{"$f":"PP_nyf_base!G88","v":0}]
["I believe that I can influence government decisions on issues. ","☐","☐","☐","☐","☐",null,{"$f":"PP_nyf_base!G89","v":0}]
[null,null,null,null,null,null,null,1]
["Feedback on Programme Implementation",null,null,null,null,null,null,{"$f":"IF(SUM(H86:H102)=0, 0, 1)","v":0}]
["Duration and Pace of the Programme",null,null,null,null,null,null,{"$f":"IF(SUM(H87:H92)=0, 0, 1)","v":0}]
[{"$f":"'Step 3B PP'!D19","v":0},null,null,null,null,null,null,{"$f":"PP_nyf_base!G95","v":0}]
["☐ Too Slow     ☐ Slow     ☐ Just Right     ☐ Long     ☐ Too Long     ",null,null,null,null,null,null,{"$f":"H87","v":0}]
[null,null,null,null,null,null,null,{"$f":"H88","v":0}]
[{"$f":"'Step 3B PP'!D20","v":0},null,null,null,null,null,null,{"$f":"PP_nyf_base!G96","v":0}]
["☐ Too Slow     ☐ Slow     ☐ Just Right     ☐ Fast     ☐ Too Fast     ",null,null,null,null,null,null,{"$f":"H90","v":0}]
[null,null,null,null,null,null,null,{"$f":"H91","v":0}]
["Facilities and Logistics",null,null,null,null,null,null,{"$f":"IF(SUM(H94:H102)=0, 0, 1)","v":0}]
["The accommodation is of acceptable standard.",null,null,null,null,null,null,{"$f":"PP_nyf_base!G97","v":0}]
["☐ Strongly disagree     ☐ Disagree     ☐ Neither agree nor disagree     ☐ Agree     ☐ Strongly agree     ",null,null,null,null,null,null,{"$f":"H94","v":0}]
[null,null,null,null,null,null,null,0]
["The meal(s) are of acceptable standard.",null,null,null,null,null,null,{"$f":"PP_nyf_base!G98","v":0}]
["☐ Strongly disagree     ☐ Disagree     ☐ Neither agree nor disagree     ☐ Agree     ☐ Strongly agree     ",null,null,null,null,null,null,0]
[null,null,null,null,null,null,null,0]
["The facilities are of acceptable standard.",null,null,null,null,null,null,{"$f":"PP_nyf_base!G99","v":0}]
["☐ Strongly disagree     ☐ Disagree     ☐ Neither agree nor disagree     ☐ Agree     ☐ Strongly agree     ",null,null,null,null,null,null,0]
[null,null,null,null,null,null,null,0]
[{"$f":"'Step 3B PP'!D25","v":0},null,null,null,null,null,null,{"$f":"IF(SUM(H104:H133)=0, 0, 1)","v":0}]
["Teaching Effectiveness",null,null,null,null,null,null,{"$f":"IF(SUM(H105:H122)=0, 0, 1)","v":0}]
[{"$f":"'Step 3B PP'!D26","v":0},null,null,null,null,null,null,{"$f":"PP_nyf_base!G100","v":0}]
["☐ Strongly disagree     ☐ Disagree     ☐ Neither agree nor disagree     ☐ Agree     ☐ Strongly agree     ",null,null,null,null,null,null,{"$f":"H105","v":0}]
[null,null,null,null,null,null,null,{"$f":"H106","v":0}]
[{"$f":"'Step 3B PP'!D27","v":0},null,null,null,null,null,null,{"$f":"PP_nyf_base!G101","v":0}]
["☐ Strongly disagree     ☐ Disagree     ☐ Neither agree nor disagree     ☐ Agree     ☐ Strongly agree     ",null,null,null,null,null,null,{"$f":"H108","v":0}]
[null,null,null,null,null,null,null,{"$f":"H109","v":0}]
[{"$f":"'Step 3B PP'!D28","v":0},null,null,null,null,null,null,{"$f":"PP_nyf_base!G102","v":0}]
["☐ Strongly disagree     ☐ Disagree     ☐ Neither agree nor disagree     ☐ Agree     ☐ Strongly agree     ",null,null,null,null,null,null,{"$f":"H111","v":0}]
[null,null,null,null,null,null,null,{"$f":"H112","v":0}]
[{"$f":"'Step 3B PP'!D29","v":0},null,null,null,null,null,null,{"$f":"PP_nyf_base!G103","v":0}]
["☐ Strongly disagree     ☐ Disagree     ☐ Neither agree nor disagree     ☐ Agree     ☐ Strongly agree     ",null,null,null,null,null,null,{"$f":"H114","v":0}]
[null,null,null,null,null,null,null,{"$f":"H115","v":0}]
[{"$f":"'Step 3B PP'!D30","v":0},null,null,null,null,null,null,{"$f":"PP_nyf_base!G104","v":0}]
["☐ Strongly disagree     ☐ Disagree     ☐ Neither agree nor disagree     ☐ Agree     ☐ Strongly agree     ",null,null,null,null,null,null,{"$f":"H117","v":0}]
[null,null,null,null,null,null,null,{"$f":"H118","v":0}]
[{"$f":"'Step 3B PP'!D31","v":0},null,null,null,null,null,null,{"$f":"PP_nyf_base!G105","v":0}]
["☐ Strongly disagree     ☐ Disagree     ☐ Neither agree nor disagree     ☐ Agree     ☐ Strongly agree     ",null,null,null,null,null,null,{"$f":"H120","v":0}]
[null,null,null,null,null,null,null,{"$f":"H121","v":0}]
["Ability to Manage Group Dynamics",null,null,null,null,null,null,{"$f":"IF(SUM(H124:H129)=0, 0, 1)","v":0}]
[{"$f":"'Step 3B PP'!D32","v":0},null,null,null,null,null,null,{"$f":"PP_nyf_base!G106","v":0}]
["☐ Strongly disagree     ☐ Disagree     ☐ Neither agree nor disagree     ☐ Agree     ☐ Strongly agree     ",null,null,null,null,null,null,{"$f":"H124","v":0}]
[null,null,null,null,null,null,null,{"$f":"H125","v":0}]
[{"$f":"'Step 3B PP'!D33","v":0},null,null,null,null,null,null,{"$f":"PP_nyf_base!G107","v":0}]
["☐ Strongly disagree     ☐ Disagree     ☐ Neither agree nor disagree     ☐ Agree     ☐ Strongly agree     ",null,null,null,null,null,null,{"$f":"H127","v":0}]
[null,null,null,null,null,null,null,{"$f":"H128","v":0}]
["Overall Effectiveness",null,null,null,null,null,null,{"$f":"IF(SUM(H131:H133)=0, 0, 1)","v":0}]
[{"$f":"'Step 3B PP'!D34","v":0},null,null,null,null,null,null,{"$f":"PP_nyf_base!G108","v":0}]
["☐ Very poor     ☐ Poor     ☐ Fair     ☐ Good     ☐ Very good     ",null,null,null,null,null,null,{"$f":"H131","v":0}]
[null,null,null,null,null,null,null,{"$f":"H132","v":0}]
["Feedback on Programme Content",null,null,null,null,null,null,{"$f":"IF(SUM(H135:H152)=0, 0, 1)","v":0}]
["For each of the following modules/ activities please indicate the extent to which you find them useful. Kindly tick your answer in the boxes on the right. For activities which you did not participate in, or which are not applicable, you may leave them blank.",null,null,null,null,null,null,{"$f":"PP_nyf_base!G110","v":0}]
[null,"Not at all","To a little extent","To some extent","To a great extent","To a very great extent",null,{"$f":"H135","v":0}]
[{"$f":"'Step 3B PP'!E39","v":0},"☐","☐","☐","☐","☐",null,{"$f":"IF(AND($H$135=1,'Step 3B PP'!E39<>\"\"),1,0)","v":0}]
[{"$f":"'Step 3B PP'!E40","v":0},"☐","☐","☐","☐","☐",null,{"$f":"IF(AND($H$135=1,'Step 3B PP'!E40<>\"\"),1,0)","v":0}]
[{"$f":"'Step 3B PP'!E41","v":0},"☐","☐","☐","☐","☐",null,{"$f":"IF(AND($H$135=1,'Step 3B PP'!E41<>\"\"),1,0)","v":0}]
[{"$f":"'Step 3B PP'!E42","v":0},"☐","☐","☐","☐","☐",null,{"$f":"IF(AND($H$135=1,'Step 3B PP'!E42<>\"\"),1,0)","v":0}]
[{"$f":"'Step 3B PP'!E43","v":0},"☐","☐","☐","☐","☐",null,{"$f":"IF(AND($H$135=1,'Step 3B PP'!E43<>\"\"),1,0)","v":0}]
[{"$f":"'Step 3B PP'!E44","v":0},"☐","☐","☐","☐","☐",null,{"$f":"IF(AND($H$135=1,'Step 3B PP'!E44<>\"\"),1,0)","v":0}]
[{"$f":"'Step 3B PP'!E45","v":0},"☐","☐","☐","☐","☐",null,{"$f":"IF(AND($H$135=1,'Step 3B PP'!E45<>\"\"),1,0)","v":0}]
[{"$f":"'Step 3B PP'!E46","v":0},"☐","☐","☐","☐","☐",null,{"$f":"IF(AND($H$135=1,'Step 3B PP'!E46<>\"\"),1,0)","v":0}]
[{"$f":"'Step 3B PP'!E47","v":0},"☐","☐","☐","☐","☐",null,{"$f":"IF(AND($H$135=1,'Step 3B PP'!E47<>\"\"),1,0)","v":0}]
[{"$f":"'Step 3B PP'!E48","v":0},"☐","☐","☐","☐","☐",null,{"$f":"IF(AND($H$135=1,'Step 3B PP'!E48<>\"\"),1,0)","v":0}]
[null,null,null,null,null,null,null,{"$f":"H135","v":0}]
["What were your key takeaways?\nThis may include new skills and knowledge, or achievements of personal goals. ",null,null,null,null,null,null,{"$f":"PP_nyf_base!G109","v":0}]
[null,null,null,null,null,null,null,{"$f":"H148","v":0}]
[null,null,null,null,null,null,null,{"$f":"H149","v":0}]
[null,null,null,null,null,null,null,{"$f":"H150","v":0}]
[null,null,null,null,null,null,null,{"$f":"H151","v":0}]
["Overall Programme Feedback",null,null,null,null,null,null,{"$f":"IF(SUM(H154:H178)=0, 0, 1)","v":0}]
[{"$f":"'Step 3B PP'!D51","v":0},null,null,null,null,null,null,{"$f":"PP_nyf_base!G111","v":0}]
["☐ Strongly disagree     ☐ Disagree     ☐ Neither agree nor disagree     ☐ Agree     ☐ Strongly agree     ",null,null,null,null,null,null,{"$f":"H154","v":0}]
[null,null,null,null,null,null,null,{"$f":"H155","v":0}]
[{"$f":"'Step 3B PP'!D52","v":0},null,null,null,null,null,null,{"$f":"PP_nyf_base!G112","v":0}]
["☐ Very poor     ☐ Poor     ☐ Fair     ☐ Good     ☐ Very good     ",null,null,null,null,null,null,{"$f":"H157","v":0}]
[null,null,null,null,null,null,null,{"$f":"H158","v":0}]
[{"$f":"'Step 3B PP'!D53","v":0},null,null,null,null,null,null,{"$f":"PP_nyf_base!G113","v":0}]
["☐ Strongly disagree     ☐ Disagree     ☐ Neither agree nor disagree     ☐ Agree     ☐ Strongly agree     ",null,null,null,null,null,null,{"$f":"H160","v":0}]
[null,null,null,null,null,null,null,{"$f":"H161","v":0}]
[{"$f":"'Step 3B PP'!D54","v":0},null,null,null,null,null,null,{"$f":"PP_nyf_base!G114","v":0}]
["☐ Yes     ☐ No ",null,null,null,null,null,null,{"$f":"H163","v":0}]
[null,null,null,null,null,null,null,{"$f":"H164","v":0}]
["This programme has allowed me to expand my networks.",null,null,null,null,null,null,{"$f":"PP_nyf_base!G115","v":0}]
["☐ Strongly disagree     ☐ Disagree     ☐ Neither agree nor disagree     ☐ Agree     ☐ Strongly agree     ",null,null,null,null,null,null,{"$f":"H166","v":0}]
[null,null,null,null,null,null,null,{"$f":"H167","v":0}]
["What worked well or could be improved? ",null,null,null,null,null,null,{"$f":"PP_nyf_base!G116","v":0}]
[null,null,null,null,null,null,null,{"$f":"H169","v":0}]
[null,null,null,null,null,null,null,{"$f":"H170","v":0}]
[null,null,null,null,null,null,null,{"$f":"H171","v":0}]
[null,null,null,null,null,null,null,{"$f":"H172","v":0}]
[{"$f":"'Step 3B PP'!D57","v":0},null,null,null,null,null,null,{"$f":"PP_nyf_base!G117","v":0}]
[null,null,null,null,null,null,null,{"$f":"H174","v":0}]
[null,null,null,null,null,null,null,{"$f":"H175","v":0}]
[null,null,null,null,null,null,null,{"$f":"H176","v":0}]
[null,null,null,null,null,null,null,{"$f":"H177","v":0}]
["Participant Information",null,null,null,null,null,null,1]
["For the last section, we would like to find out some information about yourself.",null,null,null,null,null,null,1]
["What is your gender?",null,null,null,null,null,null,1]
["☐ Male     ☐ Female ",null,null,null,null,null,null,1]
[null,null,null,null,null,null,null,1]
["What is your ethnicity?",null,null,null,null,null,null,1]
["☐ Chinese     ☐ Malay     ☐ Indian     ☐ Others    ",null,null,null,null,null,null,1]
[null,null,null,null,null,null,null,1]
["What is your age?",null,null,null,null,null,null,1]
["☐ 15 to 19 years old     ☐ 20 to 24 years old     ☐ 25 to 29 years old     ☐ 30 to 34 years old    ",null,null,null,null,null,null,1]
["☐ Others, please specify: ____________________",null,null,null,null,null,null,1]
[null,null,null,null,null,null,null,1]
["What is your main occupational status?",null,null,null,null,null,null,1]
["☐ Student (Secondary School)\n☐ Student (Junior College/Centralised Institute/IB & IP schools)\n☐ Student (ITE/Vocational institute)\n☐ Student (Polytechnic)\n☐ Student (University)\n☐6 Student (Private Educational Institutions)\n☐7 Working Adult\n☐8 Others (e.g. Madrasah/Homeschool/NS/Gap year)",null,null,null,null,null,null,1]
[null,null,null,null,null,null,null,1]
["Please provide the last 5 characters of your NRIC (last 4 digits + alphabet).",null,null,null,null,null,null,1]
["This unique identifier will help us to match pre and post-programme responses in order to understand how the programme has impacted you. Please be rest assured that the responses are anonymous and kept confidential.",null,null,null,null,null,null,1]
["Thank you for your participation!",null,null,null,null,null,null,1]
[null,null,null,null,null,null,null,1]
[null,null,null,null,null,null,null,1]
[null,null,null,null,null,null,null,1]
[null,null,null,null,null,null,null,1]
[null,null,null,null,null,null,null,1]
[null,null,null,null,null,null,null,1]
[null,null,null,null,null,null,null,1]
[null,null,null,null,null,null,null,1]
[null,null,null,null,null,null,null,1]
[null,null,null,null,null,null,null,1]
[null,null,null,null,null,null,null,1]
[null,null,null,null,null,null,null,1]
[null,null,null,null,null,null,null,1]
[null,null,null,null,null,null,null,1]
[null,null,null,null,null,null,null,1]
[null,null,null,null,null,null,null,1]
[null,null,null,null,null,null,null,1]
[null,null,null,null,null,null,null,1]
[null,null,null,null,null,null,null,1]
[null,null,null,null,null,null,null,1]
[null,null,null,null,null,null,null,1]
[null,null,null,null,null,null,null,1]
[null,null,null,null,null,null,null,1]
[null,null,null,null,null,null,null,1]
[null,null,null,null,null,null,null,1]
[null,null,null,null,null,null,null,1]
[null,null,null,null,null,null,null,1]
[null,null,null,null,null,null,null,1]
[null,null,null,null,null,null,null,1]
[null,null,null,null,null,null,null,1]
[null,null,null,null,null,null,null,1]
[null,null,null,null,null,null,null,1]
[null,null,null,null,null,null,null,1]
[null,null,null,null,null,null,null,1]
[null,null,null,null,null,null,null,1]
[null,null,null,null,null,null,null,1]
[null,null,null,null,null,null,null,1]
[null,null,null,null,null,null,null,1]
[null,null,null,null,null,null,null,1]
[null,null,null,null,null,null,null,1]
[null,null,null,null,null,null,null,1]
[null,null,null,null,null,null,null,1]
[null,null,null,null,null,null,null,1]
[null,null,null,null,null,null,null,1]
[null,null,null,null,null,null,null,1]
[null,null,null,null,null,null,null,1]
[null,null,null,null,null,null,null,1]
[null,null,null,null,null,null,null,1]
[null,null,null,null,null,null,null,1]
[null,null,null,null,null,null,null,1]
[null,null,null,null,null,null,null,1]
[null,null,null,null,null,null,null,1]
[null,null,null,null,null,null,null,1]
[null,null,null,null,null,null,null,1]
[null,null,null,null,null,null,null,1]
[null,null,null,null,null,null,null,1]
[null,null,null,null,null,null,null,1]
[null,null,null,null,null,null,null,1]
[null,null,null,null,null,null,null,1]
[null,null,null,null,null,null,null,1]
[null,null,null,null,null,null,null,1]
[null,null,null,null,null,null,null,1]
[null,null,null,null,null,null,null,1]
[null,null,null,null,null,null,null,1]
[null,null,null,null,null,null,null,1]
[null,null,null,null,null,null,null,1]
[null,null,null,null,null,null,null,1]
[null,null,null,null,null,null,null,1]
[null,null,null,null,null,null,null,1]
[null,null,null,null,null,null,null,1]
[null,null,null,null,null,null,null,1]
[null,null,null,null,null,null,null,1]
[null,null,null,null,null,null,null,1]
[null,null,null,null,null,null,null,1]
[null,null,null,null,null,null,null,1]
[null,null,null,null,null,null,null,1]
[null,null,null,null,null,null,null,1]
[null,null,null,null,null,null,null,1]
[null,null,null,null,null,null,null,1]
[null,null,null,null,null,null,null,1]
[null,null,null,null,null,null,null,1]
[null,null,null,null,null,null,null,1]
[null,null,null,null,null,null,null,1]
[null,null,null,null,null,null,null,1]
[null,null,null,null,null,null,null,1]
[null,null,null,null,null,null,null,1]
[null,null,null,null,null,null,null,1]
[null,null,null,null,null,null,null,1]
[null,null,null,null,null,null,null,1]
[null,null,null,null,null,null,null,1]
[null,null,null,null,null,null,null,1]
[null,null,null,null,null,null,null,1]
[null,null,null,null,null,null,null,1]
[null,null,null,null,null,null,null,1]
[null,null,null,null,null,null,null,1]
[null,null,null,null,null,null,null,1]
[null,null,null,null,null,null,null,1]
[null,null,null,null,null,null,null,1]
[null,null,null,null,null,null,null,1]
[null,null,null,null,null,null,null,1]
[null,null,null,null,null,null,null,1]
[null,null,null,null,null,null,null,1]
[null,null,null,null,null,null,null,1]
[null,null,null,null,null,null,null,1]
[null,null,null,null,null,null,null,1]
[null,null,null,null,null,null,null,1]
[null,null,null,null,null,null,null,1]
[null,null,null,null,null,null,null,1]
[null,null,null,null,null,null,null,1]
[null,null,null,null,null,null,null,1]
[null,null,null,null,null,null,null,1]
[null,null,null,null,null,null,null,1]
[null,null,null,null,null,null,null,1]
[null,null,null,null,null,null,null,1]
[null,null,null,null,null,null,null,1]
[null,null,null,null,null,null,null,1]
[null,null,null,null,null,null,null,1]
[null,null,null,null,null,null,null,1]
[null,null,null,null,null,null,null,1]
[null,null,null,null,null,null,null,1]
[null,null,null,null,null,null,null,1]
[null,null,null,null,null,null,null,1]
[null,null,null,null,null,null,null,1]
[null,null,null,null,null,null,null,1]
[null,null,null,null,null,null,null,1]
[null,null,null,null,null,null,null,1]
[null,null,null,null,null,null,null,1]
[null,null,null,null,null,null,null,1]
[null,null,null,null,null,null,null,1]
[null,null,null,null,null,null,null,1]
[null,null,null,null,null,null,null,1]
[null,null,null,null,null,null,null,1]
[null,null,null,null,null,null,null,1]
[null,null,null,null,null,null,null,1]
[null,null,null,null,null,null,null,1]
[null,null,null,null,null,null,null,1]
[null,null,null,null,null,null,null,1]
[null,null,null,null,null,null,null,1]
[null,null,null,null,null,null,null,1]
[null,null,null,null,null,null,null,1]
[null,null,null,null,null,null,null,1]
[null,null,null,null,null,null,null,1]
[null,null,null,null,null,null,null,1]
[null,null,null,null,null,null,null,1]
[null,null,null,null,null,null,null,1]
[null,null,null,null,null,null,null,1]
[null,null,null,null,null,null,null,1]
[null,null,null,null,null,null,null,1]
[null,null,null,null,null,null,null,1]
[null,null,null,null,null,null,null,1]
[null,null,null,null,null,null,null,1]
[null,null,null,null,null,null,null,1]
[null,null,null,null,null,null,null,1]
[null,null,null,null,null,null,null,1]
[null,null,null,null,null,null,null,1]
[null,null,null,null,null,null,null,1]
[null,null,null,null,null,null,null,1]
[null,null,null,null,null,null,null,1]
[null,null,null,null,null,null,null,1]
[null,null,null,null,null,null,null,1]
[null,null,null,null,null,null,null,1]
[null,null,null,null,null,null,null,1]
[null,null,null,null,null,null,null,1]
[null,null,null,null,null,null,null,1]
[null,null,null,null,null,null,null,1]
[null,null,null,null,null,null,null,1]
[null,null,null,null,null,null,null,1]
[null,null,null,null,null,null,null,1]
[null,null,null,null,null,null,null,1]
[null,null,null,null,null,null,null,1]
[null,null,null,null,null,null,null,1]
[null,null,null,null,null,null,null,1]
[null,null,null,null,null,null,null,1]
[null,null,null,null,null,null,null,1]
[null,null,null,null,null,null,null,1]
[null,null,null,null,null,null,null,1]
[null,null,null,null,null,null,null,1]
[null,null,null,null,null,null,null,1]
[null,null,null,null,null,null,null,1]
[null,null,null,null,null,null,null,1]
[null,null,null,null,null,null,null,1]
[null,null,null,null,null,null,null,1]
[null,null,null,null,null,null,null,1]
[null,null,null,null,null,null,null,1]
[null,null,null,null,null,null,null,1]
[null,null,null,null,null,null,null,1]
[null,null,null,null,null,null,null,1]
[null,null,null,null,null,null,null,1]
[null,null,null,null,null,null,null,1]
[null,null,null,null,null,null,null,1]
[null,null,null,null,null,null,null,1]
[null,null,null,null,null,null,null,1]
[null,null,null,null,null,null,null,1]
[null,null,null,null,null,null,null,1]
[null,null,null,null,null,null,null,1]
[null,null,null,null,null,null,null,1]
[null,null,null,null,null,null,null,1]
[null,null,null,null,null,null,null,1]
[null,null,null,null,null,null,null,1]
[null,null,null,null,null,null,null,1]
[null,null,null,null,null,null,null,1]
[null,null,null,null,null,null,null,1]
[null,null,null,null,null,null,null,1]
[null,null,null,null,null,null,null,1]
[null,null,null,null,null,null,null,1]
[null,null,null,null,null,null,null,1]
[null,null,null,null,null,null,null,1]
[null,null,null,null,null,null,null,1]
[null,null,null,null,null,null,null,1]
[null,null,null,null,null,null,null,1]
[null,null,null,null,null,null,null,1]
[null,null,null,null,null,null,null,1]
[null,null,null,null,null,null,null,1]
[null,null,null,null,null,null,null,1]
[null,null,null,null,null,null,null,1]
[null,null,null,null,null,null,null,1]
[null,null,null,null,null,null,null,1]
[null,null,null,null,null,null,null,1]
[null,null,null,null,null,null,null,1]
[null,null,null,null,null,null,null,1]
[null,null,null,null,null,null,null,1]
[null,null,null,null,null,null,null,1]
[null,null,null,null,null,null,null,1]
[null,null,null,null,null,null,null,1]
[null,null,null,null,null,null,null,1]
[null,null,null,null,null,null,null,1]
[null,null,null,null,null,null,null,1]
[null,null,null,null,null,null,null,1]
[null,null,null,null,null,null,null,1]
[null,null,null,null,null,null,null,1]
[null,null,null,null,null,null,null,1]
[null,null,null,null,null,null,null,1]
[null,null,null,null,null,null,null,1]
[null,null,null,null,null,null,null,1]
[null,null,null,null,null,null,null,1]
[null,null,null,null,null,null,null,1]
[null,null,null,null,null,null,null,1]
[null,null,null,null,null,null,null,1]
[null,null,null,null,null,null,null,1]
[null,null,null,null,null,null,null,1]
[null,null,null,null,null,null,null,1]
[null,null,null,null,null,null,null,1]
[null,null,null,null,null,null,null,1]
[null,null,null,null,null,null,null,1]
[null,null,null,null,null,null,null,1]
[null,null,null,null,null,null,null,1]
[null,null,null,null,null,null,null,1]
[null,null,null,null,null,null,null,1]
[null,null,null,null,null,null,null,1]
[null,null,null,null,null,null,null,1]
[null,null,null,null,null,null,null,1]
[null,null,null,null,null,null,null,1]
[null,null,null,null,null,null,null,1]
[null,null,null,null,null,null,null,1]
[null,null,null,null,null,null,null,1]
[null,null,null,null,null,null,null,1]
[null,null,null,null,null,null,null,1]
[null,null,null,null,null,null,null,1]
[null,null,null,null,null,null,null,1]
[null,null,null,null,null,null,null,1]
[null,null,null,null,null,null,null,1]
[null,null,null,null,null,null,null,1]
[null,null,null,null,null,null,null,1]
[null,null,null,null,null,null,null,1]
[null,null,null,null,null,null,null,1]
[null,null,null,null,null,null,null,1]
[null,null,null,null,null,null,null,1]
[null,null,null,null,null,null,null,1]
[null,null,null,null,null,null,null,1]
[null,null,null,null,null,null,null,1]
[null,null,null,null,null,null,null,1]
[null,null,null,null,null,null,null,1]
[null,null,null,null,null,null,null,1]
[null,null,null,null,null,null,null,1]
[null,null,null,null,null,null,null,1]
[null,null,null,null,null,null,null,1]
[null,null,null,null,null,null,null,1]
[null,null,null,null,null,null,null,1]
[null,null,null,null,null,null,null,1]
[null,null,null,null,null,null,null,1]
[null,null,null,null,null,null,null,1]
[null,null,null,null,null,null,null,1]
[null,null,null,null,null,null,null,1]
[null,null,null,null,null,null,null,1]
[null,null,null,null,null,null,null,1]
[null,null,null,null,null,null,null,1]
[null,null,null,null,null,null,null,1]
[null,null,null,null,null,null,null,1]
[null,null,null,null,null,null,null,1]
[null,null,null,null,null,null,null,1]
[null,null,null,null,null,null,null,1]
[null,null,null,null,null,null,null,1]
[null,null,null,null,null,null,null,1]
[null,null,null,null,null,null,null,1]
[null,null,null,null,null,null,null,1]
[null,null,null,null,null,null,null,1]
[null,null,null,null,null,null,null,1]
[null,null,null,null,null,null,null,1]
[null,null,null,null,null,null,null,1]
[null,null,null,null,null,null,null,1]
[null,null,null,null,null,null,null,1]
[null,null,null,null,null,null,null,1]
[null,null,null,null,null,null,null,1]
[null,null,null,null,null,null,null,1]
[null,null,null,null,null,null,null,1]
[null,null,null,null,null,null,null,1]
[null,null,null,null,null,null,null,1]
[null,null,null,null,null,null,null,1]
[null,null,null,null,null,null,null,1]
[null,null,null,null,null,null,null,1]
[null,null,null,null,null,null,null,1]
[null,null,null,null,null,null,null,1]
[null,null,null,null,null,null,null,1]
[null,null,null,null,null,null,null,1]
[null,null,null,null,null,null,null,1]
[null,null,null,null,null,null,null,1]
[null,null,null,null,null,null,null,1]
[null,null,null,null,null,null,null,1]
[null,null,null,null,null,null,null,1]
[null,null,null,null,null,null,null,1]
[null,null,null,null,null,null,null,1]
[null,null,null,null,null,null,null,1]
[null,null,null,null,null,null,null,1]
[null,null,null,null,null,null,null,1]
[null,null,null,null,null,null,null,1]
[null,null,null,null,null,null,null,1]
[null,null,null,null,null,null,null,1]
[null,null,null,null,null,null,null,1]
[null,null,null,null,null,null,null,1]
[null,null,null,null,null,null,null,1]
[null,null,null,null,null,null,null,1]
[null,null,null,null,null,null,null,1]
[null,null,null,null,null,null,null,1]
[null,null,null,null,null,null,null,1]
[null,null,null,null,null,null,null,1]
[null,null,null,null,null,null,null,1]
[null,null,null,null,null,null,null,1]
[null,null,null,null,null,null,null,1]
[null,null,null,null,null,null,null,1]
[null,null,null,null,null,null,null,1]
[null,null,null,null,null,null,null,1]
[null,null,null,null,null,null,null,1]
[null,null,null,null,null,null,null,1]
[null,null,null,null,null,null,null,1]
[null,null,null,null,null,null,null,1]
[null,null,null,null,null,null,null,1]
[null,null,null,null,null,null,null,1]
[null,null,null,null,null,null,null,1]
[null,null,null,null,null,null,null,1]
[null,null,null,null,null,null,null,1]
[null,null,null,null,null,null,null,1]
[null,null,null,null,null,null,null,1]
[null,null,null,null,null,null,null,1]
[null,null,null,null,null,null,null,1]
[null,null,null,null,null,null,null,1]
[null,null,null,null,null,null,null,1]
[null,null,null,null,null,null,null,1]
[null,null,null,null,null,null,null,1]
[null,null,null,null,null,null,null,1]
[null,null,null,null,null,null,null,1]
[null,null,null,null,null,null,null,1]
[null,null,null,null,null,null,null,1]
[null,null,null,null,null,null,null,1]
[null,null,null,null,null,null,null,1]
[null,null,null,null,null,null,null,1]
[null,null,null,null,null,null,null,1]
[null,null,null,null,null,null,null,1]
[null,null,null,null,null,null,null,1]
[null,null,null,null,null,null,null,1]
[null,null,null,null,null,null,null,1]
[null,null,null,null,null,null,null,1]
[null,null,null,null,null,null,null,1]
[null,null,null,null,null,null,null,1]
[null,null,null,null,null,null,null,1]
[null,null,null,null,null,null,null,1]
[null,null,null,null,null,null,null,1]
[null,null,null,null,null,null,null,1]
[null,null,null,null,null,null,null,1]
[null,null,null,null,null,null,null,1]
[null,null,null,null,null,null,null,1]
[null,null,null,null,null,null,null,1]
[null,null,null,null,null,null,null,1]
[null,null,null,null,null,null,null,1]
[null,null,null,null,null,null,null,1]
[null,null,null,null,null,null,null,1]
[null,null,null,null,null,null,null,1]
[null,null,null,null,null,null,null,1]
[null,null,null,null,null,null,null,1]
[null,null,null,null,null,null,null,1]
[null,null,null,null,null,null,null,1]
[null,null,null,null,null,null,null,1]
[null,null,null,null,null,null,null,1]
[null,null,null,null,null,null,null,1]
[null,null,null,null,null,null,null,1]
[null,null,null,null,null,null,null,1]
[null,null,null,null,null,null,null,1]
[null,null,null,null,null,null,null,1]
[null,null,null,null,null,null,null,1]
[null,null,null,null,null,null,null,1]
[null,null,null,null,null,null,null,1]
[null,null,null,null,null,null,null,1]
[null,null,null,null,null,null,null,1]
[null,null,null,null,null,null,null,1]
[null,null,null,null,null,null,null,1]
[null,null,null,null,null,null,null,1]
[null,null,null,null,null,null,null,1]
[null,null,null,null,null,null,null,1]
[null,null,null,null,null,null,null,1]
[null,null,null,null,null,null,null,1]
[null,null,null,null,null,null,null,1]
[null,null,null,null,null,null,null,1]
[null,null,null,null,null,null,null,1]
[null,null,null,null,null,null,null,1]
[null,null,null,null,null,null,null,1]
[null,null,null,null,null,null,null,1]
[null,null,null,null,null,null,null,1]
[null,null,null,null,null,null,null,1]
[null,null,null,null,null,null,null,1]
[null,null,null,null,null,null,null,1]
[null,null,null,null,null,null,null,1]
[null,null,null,null,null,null,null,1]
[null,null,null,null,null,null,null,1]
[null,null,null,null,null,null,null,1]
[null,null,null,null,null,null,null,1]
[null,null,null,null,null,null,null,1]
[null,null,null,null,null,null,null,1]
[null,null,null,null,null,null,null,1]
[null,null,null,null,null,null,null,1]
[null,null,null,null,null,null,null,1]
[null,null,null,null,null,null,null,1]
[null,null,null,null,null,null,null,1]
[null,null,null,null,null,null,null,1]
[null,null,null,null,null,null,null,1]
[null,null,null,null,null,null,null,1]
[null,null,null,null,null,null,null,1]
[null,null,null,null,null,null,null,1]
[null,null,null,null,null,null,null,1]
[null,null,null,null,null,null,null,1]
[null,null,null,null,null,null,null,1]
[null,null,null,null,null,null,null,1]
[null,null,null,null,null,null,null,1]
[null,null,null,null,null,null,null,1]
[null,null,null,null,null,null,null,1]
[null,null,null,null,null,null,null,1]
[null,null,null,null,null,null,null,1]
[null,null,null,null,null,null,null,1]
[null,null,null,null,null,null,null,1]
[null,null,null,null,null,null,null,1]
[null,null,null,null,null,null,null,1]
[null,null,null,null,null,null,null,1]
[null,null,null,null,null,null,null,1]
[null,null,null,null,null,null,null,1]
[null,null,null,null,null,null,null,1]
[null,null,null,null,null,null,null,1]
[null,null,null,null,null,null,null,1]
[null,null,null,null,null,null,null,1]
[null,null,null,null,null,null,null,1]
[null,null,null,null,null,null,null,1]
[null,null,null,null,null,null,null,1]
[null,null,null,null,null,null,null,1]
[null,null,null,null,null,null,null,1]
[null,null,null,null,null,null,null,1]
[null,null,null,null,null,null,null,1]
[null,null,null,null,null,null,null,1]
[null,null,null,null,null,null,null,1]
[null,null,null,null,null,null,null,1]
[null,null,null,null,null,null,null,1]
[null,null,null,null,null,null,null,1]
[null,null,null,null,null,null,null,1]
[null,null,null,null,null,null,null,1]
[null,null,null,null,null,null,null,1]
[null,null,null,null,null,null,null,1]
[null,null,null,null,null,null,null,1]
[null,null,null,null,null,null,null,1]
[null,null,null,null,null,null,null,1]
[null,null,null,null,null,null,null,1]
[null,null,null,null,null,null,null,1]
[null,null,null,null,null,null,null,1]
[null,null,null,null,null,null,null,1]
[null,null,null,null,null,null,null,1]
[null,null,null,null,null,null,null,1]
[null,null,null,null,null,null,null,1]
[null,null,null,null,null,null,null,1]
[null,null,null,null,null,null,null,1]
[null,null,null,null,null,null,null,1]
[null,null,null,null,null,null,null,1]
[null,null,null,null,null,null,null,1]
[null,null,null,null,null,null,null,1]
[null,null,null,null,null,null,null,1]
[null,null,null,null,null,null,null,1]
[null,null,null,null,null,null,null,1]
[null,null,null,null,null,null,null,1]
[null,null,null,null,null,null,null,1]
[null,null,null,null,null,null,null,1]
[null,null,null,null,null,null,null,1]
[null,null,null,null,null,null,null,1]
[null,null,null,null,null,null,null,1]
[null,null,null,null,null,null,null,1]
[null,null,null,null,null,null,null,1]
[null,null,null,null,null,null,null,1]
[null,null,null,null,null,null,null,1]
[null,null,null,null,null,null,null,1]
[null,null,null,null,null,null,null,1]
[null,null,null,null,null,null,null,1]
[null,null,null,null,null,null,null,1]
[null,null,null,null,null,null,null,1]
[null,null,null,null,null,null,null,1]
[null,null,null,null,null,null,null,1]
[null,null,null,null,null,null,null,1]
[null,null,null,null,null,null,null,1]
[null,null,null,null,null,null,null,1]
[null,null,null,null,null,null,null,1]
[null,null,null,null,null,null,null,1]
[null,null,null,null,null,null,null,1]
[null,null,null,null,null,null,null,1]
[null,null,null,null,null,null,null,1]
[null,null,null,null,null,null,null,1]
[null,null,null,null,null,null,null,1]
[null,null,null,null,null,null,null,1]
[null,null,null,null,null,null,null,1]
[null,null,null,null,null,null,null,1]
[null,null,null,null,null,null,null,1]
[null,null,null,null,null,null,null,1]
[null,null,null,null,null,null,null,1]
[null,null,null,null,null,null,null,1]
[null,null,null,null,null,null,null,1]
[null,null,null,null,null,null,null,1]
[null,null,null,null,null,null,null,1]
[null,null,null,null,null,null,null,1]
[null,null,null,null,null,null,null,1]
[null,null,null,null,null,null,null,1]
[null,null,null,null,null,null,null,1]
[null,null,null,null,null,null,null,1]
[null,null,null,null,null,null,null,1]
[null,null,null,null,null,null,null,1]
[null,null,null,null,null,null,null,1]
[null,null,null,null,null,null,null,1]
[null,null,null,null,null,null,null,1]
[null,null,null,null,null,null,null,1]
[null,null,null,null,null,null,null,1]
[null,null,null,null,null,null,null,1]
[null,null,null,null,null,null,null,1]
[null,null,null,null,null,null,null,1]
[null,null,null,null,null,null,null,1]
[null,null,null,null,null,null,null,1]
[null,null,null,null,null,null,null,1]
[null,null,null,null,null,null,null,1]
[null,null,null,null,null,null,null,1]
[null,null,null,null,null,null,null,1]
[null,null,null,null,null,null,null,1]
[null,null,null,null,null,null,null,1]
[null,null,null,null,null,null,null,1]
[null,null,null,null,null,null,null,1]
[null,null,null,null,null,null,null,1]
[null,null,null,null,null,null,null,1]
[null,null,null,null,null,null,null,1]
[null,null,null,null,null,null,null,1]
[null,null,null,null,null,null,null,1]
[null,null,null,null,null,null,null,1]
[null,null,null,null,null,null,null,1]
[null,null,null,null,null,null,null,1]
[null,null,null,null,null,null,null,1]
[null,null,null,null,null,null,null,1]
[null,null,null,null,null,null,null,1]
[null,null,null,null,null,null,null,1]
[null,null,null,null,null,null,null,1]
[null,null,null,null,null,null,null,1]
[null,null,null,null,null,null,null,1]
[null,null,null,null,null,null,null,1]
[null,null,null,null,null,null,null,1]
[null,null,null,null,null,null,null,1]
[null,null,null,null,null,null,null,1]
[null,null,null,null,null,null,null,1]
[null,null,null,null,null,null,null,1]
[null,null,null,null,null,null,null,1]
[null,null,null,null,null,null,null,1]
[null,null,null,null,null,null,null,1]
[null,null,null,null,null,null,null,1]
[null,null,null,null,null,null,null,1]
[null,null,null,null,null,null,null,1]
[null,null,null,null,null,null,null,1]
[null,null,null,null,null,null,null,1]
[null,null,null,null,null,null,null,1]
[null,null,null,null,null,null,null,1]
[null,null,null,null,null,null,null,1]
[null,null,null,null,null,null,null,1]
[null,null,null,null,null,null,null,1]
[null,null,null,null,null,null,null,1]
[null,null,null,null,null,null,null,1]
[null,null,null,null,null,null,null,1]
[null,null,null,null,null,null,null,1]
[null,null,null,null,null,null,null,1]
[null,null,null,null,null,null,null,1]
[null,null,null,null,null,null,null,1]
[null,null,null,null,null,null,null,1]
[null,null,null,null,null,null,null,1]
[null,null,null,null,null,null,null,1]
[null,null,null,null,null,null,null,1]
[null,null,null,null,null,null,null,1]
[null,null,null,null,null,null,null,1]
[null,null,null,null,null,null,null,1]
[null,null,null,null,null,null,null,1]
[null,null,null,null,null,null,null,1]
[null,null,null,null,null,null,null,1]
[null,null,null,null,null,null,null,1]
[null,null,null,null,null,null,null,1]
[null,null,null,null,null,null,null,1]
[null,null,null,null,null,null,null,1]
[null,null,null,null,null,null,null,1]
[null,null,null,null,null,null,null,1]
[null,null,null,null,null,null,null,1]
[null,null,null,null,null,null,null,1]
[null,null,null,null,null,null,null,1]
[null,null,null,null,null,null,null,1]
[null,null,null,null,null,null,null,1]
[null,null,null,null,null,null,null,1]
[null,null,null,null,null,null,null,1]
[null,null,null,null,null,null,null,1]
[null,null,null,null,null,null,null,1]
[null,null,null,null,null,null,null,1]
[null,null,null,null,null,null,null,1]
[null,null,null,null,null,null,null,1]
[null,null,null,null,null,null,null,1]
[null,null,null,null,null,null,null,1]
[null,null,null,null,null,null,null,1]
[null,null,null,null,null,null,null,1]
[null,null,null,null,null,null,null,1]
[null,null,null,null,null,null,null,1]
[null,null,null,null,null,null,null,1]
[null,null,null,null,null,null,null,1]
[null,null,null,null,null,null,null,1]
[null,null,null,null,null,null,null,1]
[null,null,null,null,null,null,null,1]
[null,null,null,null,null,null,null,1]
[null,null,null,null,null,null,null,1]
[null,null,null,null,null,null,null,1]
[null,null,null,null,null,null,null,1]
[null,null,null,null,null,null,null,1]
[null,null,null,null,null,null,null,1]
[null,null,null,null,null,null,null,1]
[null,null,null,null,null,null,null,1]
[null,null,null,null,null,null,null,1]
[null,null,null,null,null,null,null,1]
[null,null,null,null,null,null,null,1]
[null,null,null,null,null,null,null,1]
[null,null,null,null,null,null,null,1]
[null,null,null,null,null,null,null,1]
[null,null,null,null,null,null,null,1]
[null,null,null,null,null,null,null,1]
[null,null,null,null,null,null,null,1]
[null,null,null,null,null,null,null,1]
[null,null,null,null,null,null,null,1]
[null,null,null,null,null,null,null,1]
[null,null,null,null,null,null,null,1]
[null,null,null,null,null,null,null,1]
[null,null,null,null,null,null,null,1]
[null,null,null,null,null,null,null,1]
[null,null,null,null,null,null,null,1]
[null,null,null,null,null,null,null,1]
[null,null,null,null,null,null,null,1]
[null,null,null,null,null,null,null,1]
[null,null,null,null,null,null,null,1]
[null,null,null,null,null,null,null,1]
[null,null,null,null,null,null,null,1]
[null,null,null,null,null,null,null,1]
[null,null,null,null,null,null,null,1]
[null,null,null,null,null,null,null,1]
[null,null,null,null,null,null,null,1]
[null,null,null,null,null,null,null,1]
[null,null,null,null,null,null,null,1]
[null,null,null,null,null,null,null,1]
[null,null,null,null,null,null,null,1]
[null,null,null,null,null,null,null,1]
[null,null,null,null,null,null,null,1]
[null,null,null,null,null,null,null,1]
[null,null,null,null,null,null,null,1]
[null,null,null,null,null,null,null,1]
[null,null,null,null,null,null,null,1]
[null,null,null,null,null,null,null,1]
[null,null,null,null,null,null,null,1]
[null,null,null,null,null,null,null,1]
[null,null,null,null,null,null,null,1]
[null,null,null,null,null,null,null,1]
[null,null,null,null,null,null,null,1]
[null,null,null,null,null,null,null,1]
[null,null,null,null,null,null,null,1]
[null,null,null,null,null,null,null,1]
[null,null,null,null,null,null,null,1]
[null,null,null,null,null,null,null,1]
[null,null,null,null,null,null,null,1]
[null,null,null,null,null,null,null,1]
[null,null,null,null,null,null,null,1]
[null,null,null,null,null,null,null,1]
[null,null,null,null,null,null,null,1]
[null,null,null,null,null,null,null,1]
[null,null,null,null,null,null,null,1]
[null,null,null,null,null,null,null,1]
[null,null,null,null,null,null,null,1]
[null,null,null,null,null,null,null,1]
[null,null,null,null,null,null,null,1]
[null,null,null,null,null,null,null,1]
[null,null,null,null,null,null,null,1]
[null,null,null,null,null,null,null,1]
[null,null,null,null,null,null,null,1]
[null,null,null,null,null,null,null,1]
[null,null,null,null,null,null,null,1]
[null,null,null,null,null,null,null,1]
[null,null,null,null,null,null,null,1]
[null,null,null,null,null,null,null,1]
[null,null,null,null,null,null,null,1]
[null,null,null,null,null,null,null,1]
[null,null,null,null,null,null,null,1]
[null,null,null,null,null,null,null,1]
[null,null,null,null,null,null,null,1]
[null,null,null,null,null,null,null,1]
[null,null,null,null,null,null,null,1]
[null,null,null,null,null,null,null,1]
[null,null,null,null,null,null,null,1]
[null,null,null,null,null,null,null,1]
[null,null,null,null,null,null,null,1]
[null,null,null,null,null,null,null,1]
[null,null,null,null,null,null,null,1]
[null,null,null,null,null,null,null,1]
[null,null,null,null,null,null,null,1]
[null,null,null,null,null,null,null,1]
[null,null,null,null,null,null,null,1]
[null,null,null,null,null,null,null,1]
[null,null,null,null,null,null,null,1]
[null,null,null,null,null,null,null,1]
[null,null,null,null,null,null,null,1]
[null,null,null,null,null,null,null,1]
[null,null,null,null,null,null,null,1]
[null,null,null,null,null,null,null,1]
[null,null,null,null,null,null,null,1]
[null,null,null,null,null,null,null,1]
[null,null,null,null,null,null,null,1]
[null,null,null,null,null,null,null,1]
[null,null,null,null,null,null,null,1]
[null,null,null,null,null,null,null,1]
[null,null,null,null,null,null,null,1]
[null,null,null,null,null,null,null,1]
[null,null,null,null,null,null,null,1]
[null,null,null,null,null,null,null,1]
[null,null,null,null,null,null,null,1]
[null,null,null,null,null,null,null,1]
[null,null,null,null,null,null,null,1]
[null,null,null,null,null,null,null,1]
[null,null,null,null,null,null,null,1]
[null,null,null,null,null,null,null,1]
[null,null,null,null,null,null,null,1]
[null,null,null,null,null,null,null,1]
[null,null,null,null,null,null,null,1]
[null,null,null,null,null,null,null,1]
[null,null,null,null,null,null,null,1]
[null,null,null,null,null,null,null,1]
[null,null,null,null,null,null,null,1]
[null,null,null,null,null,null,null,1]
[null,null,null,null,null,null,null,1]
[null,null,null,null,null,null,null,1]
[null,null,null,null,null,null,null,1]
[null,null,null,null,null,null,null,1]
[null,null,null,null,null,null,null,1]
[null,null,null,null,null,null,null,1]
[null,null,null,null,null,null,null,1]
[null,null,null,null,null,null,null,1]
[null,null,null,null,null,null,null,1]
[null,null,null,null,null,null,null,1]
[null,null,null,null,null,null,null,1]
[null,null,null,null,null,null,null,1]
[null,null,null,null,null,null,null,1]
[null,null,null,null,null,null,null,1]
[null,null,null,null,null,null,null,1]
[null,null,null,null,null,null,null,1]
[null,null,null,null,null,null,null,1]
[null,null,null,null,null,null,null,1]
[null,null,null,null,null,null,null,1]
[null,null,null,null,null,null,null,1]
[null,null,null,null,null,null,null,1]
[null,null,null,null,null,null,null,1]
[null,null,null,null,null,null,null,1]
[null,null,null,null,null,null,null,1]
[null,null,null,null,null,null,null,1]
[null,null,null,null,null,null,null,1]
[null,null,null,null,null,null,null,1]
[null,null,null,null,null,null,null,1]
[null,null,null,null,null,null,null,1]
[null,null,null,null,null,null,null,1]
[null,null,null,null,null,null,null,1]
[null,null,null,null,null,null,null,1]
[null,null,null,null,null,null,null,1]
[null,null,null,null,null,null,null,1]
[null,null,null,null,null,null,null,1]
[null,null,null,null,null,null,null,1]
[null,null,null,null,null,null,null,1]
[null,null,null,null,null,null,null,1]
[null,null,null,null,null,null,null,1]
[null,null,null,null,null,null,null,1]
[null,null,null,null,null,null,null,1]
[null,null,null,null,null,null,null,1]
[null,null,null,null,null,null,null,1]
[null,null,null,null,null,null,null,1]
[null,null,null,null,null,null,null,1]
[null,null,null,null,null,null,null,1]

{"sheet":"Step 3B CPP","index":12,"n_rows":45,"n_cols":2,"rows_kept":45,"cut":false,"hidden":true,"merged":[[1,1,1,4],[2,1,2,4],[3,1,3,4]]}
[]
[null,"Step 3B: Generate Documents"]
[]
[]
[]
[]
[null,"No"]
[null,"No"]
[null,"No"]
[null,"No"]
[null,"No"]
[]
[]
[null,"No"]
[null,"No"]
[null,"No"]
[null,"No"]
[null,"No"]
[null,"No"]
[null,"No"]
[null,"No"]
[null,"No"]
[]
[]
[null,"No"]
[null,"No"]
[]
[]
[]
[]
[]
[]
[]
[]
[]
[]
[]
[]
[null,"No"]
[null,"No"]
[null,"No"]
[null,"No"]
[null,"No"]
[null,"No"]
[null,"No"]

{"sheet":"Step 3B Custom","index":13,"n_rows":45,"n_cols":2,"rows_kept":45,"cut":false,"hidden":true,"merged":[[1,1,1,4],[2,1,2,4],[3,1,3,4]]}
[]
[null,"Step 3B: Generate Documents"]
[]
[]
[]
[]
[null,"No"]
[null,"No"]
[null,"No"]
[null,"No"]
[null,"No"]
[]
[]
[null,"No"]
[null,"No"]
[null,"No"]
[null,"No"]
[null,"No"]
[null,"No"]
[null,"No"]
[null,"No"]
[null,"No"]
[]
[]
[null,"No"]
[null,"No"]
[]
[]
[]
[]
[]
[]
[]
[]
[]
[]
[]
[]
[null,"No"]
[null,"No"]
[null,"No"]
[null,"No"]
[null,"No"]
[null,"No"]
[null,"No"]

{"sheet":"Custom_survey","index":14,"n_rows":21,"n_cols":6,"rows_kept":21,"cut":false,"hidden":true,"merged":[[16,0,16,5],[7,0,7,5],[8,0,8,5],[6,0,6,5],[0,0,0,5],[1,0,1,5],[2,0,2,5],[3,0,3,5],[9,0,9,5],[10,0,10,5],[12,0,12,5],[13,0,13,5],[15,0,15,5]]}
[{"$f":"\"Programme Survey for \"&PROPER(START!B17)","v":"Programme Survey for "}]
["Thank you for participating in our programme! We would appreciate your help to take 10 to 15 minutes to complete the survey below. Your feedback will help us to improve, so we ask that you answer as honestly as possible. "]
["Learning Outcomes"]
["Please select the option that best describes your response to the following statements."]
[null,"Strongly disagree","Disagree","Neither agree nor disagree","Agree","Strongly agree"]
["I analyse an issue thoroughly before coming to a conclusion.","☐","☐","☐","☐","☐"]
[]
["Participant Information"]
["For the last section, we would like to find out some information about yourself."]
["What is your gender?"]
["☐ Male     ☐ Female "]
[]
["What is your ethnicity?"]
["☐ Chinese     ☐ Malay     ☐ Indian     ☐ Others    "]
[]
["What is your age?"]
["☐ 15 to 19 years old     ☐ 20 to 24 years old     ☐ 25 to 29 years old     ☐ 30 to 34 years old    "]
["☐ Others, please specify: ____________________"]
[]
["What is your main occupational status?"]
["☐ Student (Secondary School)\n☐ Student (Junior College/Centralised Institute/IB & IP schools)\n☐ Student (ITE/Vocational institute)\n☐ Student (Polytechnic)\n☐ Student (University)\n☐6 Student (Private Educational Institutions)\n☐7 Working Adult\n☐8 Others (e.g. Madrasah/Homeschool/NS/Gap year)"]

{"sheet":"Custom_NYF_Submission","index":15,"n_rows":16,"n_cols":2,"rows_kept":16,"cut":false,"hidden":true,"merged":[]}
["Submission for NYF Grant Application"]
["Please save this page as a PDF and submit the form to GrantMgmt_Enquiries@nyc.gov.sg"]
["If you intend to add additional questions not included within the toolkit, please indicate them here as well."]
[]
["Applicant Organisation:",""]
["Programme Name:",""]
["Study Design:","CUSTOM DESIGN"]
[]
["Selected Programme Indicators:"]
["Subconstruct","Indicator Statement"]
["Critical thinking","I analyse an issue thoroughly before coming to a conclusion."]
[]
["Selected Process Improvement Questions:"]
["Feedback Area","Question"]
[]
["Submission generated:","2019-10-22T20:52:45.380"]

{"sheet":"CPP_NYF_submission","index":16,"n_rows":118,"n_cols":2,"rows_kept":118,"cut":false,"hidden":true,"merged":[]}
["Submission for NYF Grant Application"]
["Please save this page as a PDF and submit the form to GrantMgmt_Enquiries@nyc.gov.sg"]
["If you intend to add additional questions not included within the toolkit, please indicate them here as well."]
[]
["Applicant Organisation:",{"$f":"UPPER(START!B20)","v":""}]
["Programme Name:",{"$f":"UPPER(START!B17)","v":""}]
["Study Design:",{"$f":"UPPER('Step 3A'!$D$5:$D$5)","v":"PRE- AND POST-PROGRAMME SURVEY"}]
[]
["Selected Programme Indicators:"]
["Subconstruct","Indicator Statement"]
["Tenacity","I am able to persevere in the face of challenges."]
["Tenacity","I do not give up even after experiencing failure. "]
["Confidence","I feel that I have a number of good qualities."]
["Confidence","I am able to do things as well as most other people. "]
["Confidence","I believe I can achieve my goals."]
["Confidence","I believe I have the ability to succeed in the things I want to do."]
["Confidence","I am confident I can succeed when I try my best."]
["Proactiveness","I seize the opportunity whenever I see one. "]
["Proactiveness","I take initiative instead of waiting for things to happen."]
["Growth mindset","I believe it is important to challenge myself to grow. "]
["Growth mindset","Difficult times are an opportunity for me to learn and grow as a person."]
["Career preparedness","I am aware of the skills that will help me to succeed in my career in future."]
["Career preparedness","I am aware of the potential career pathways that I can take to achieve my goals."]
["Career preparedness","I believe I can achieve my career goals. "]
["Cultural awareness","I am aware of differences between cultures."]
["Global perspectives","I am aware of issues affecting other countries"]
["Global perspectives","I understand how changes around the world affect other countries."]
["Global perspectives","I understand the opportunities and challenges other countries have."]
["Global perspectives","I understand the difficulties in trying to solve global issues."]
["Innovative","I know of ways to come up with new ideas. "]
["Critical thinking","I am able to link different information together. "]
["Critical thinking","I think through issues from different angles."]
["Critical thinking","I analyse an issue thoroughly before coming to a conclusion."]
["Problem solving","I know how to identify and solve problems."]
["Problem solving","I am able to solve problems that I face."]
["Problem solving","After I have tried to solve a problem, I examine why it did or did not work."]
["Problem solving","When solving a problem, I compare the pros and cons of my solutions. "]
["Problem solving","When faced with a problem, I try to find out the cause of the problem."]
["Teamwork","I know how to work well in a team."]
["Teamwork","I support others in the team."]
["Teamwork","I communicate well with my team members."]
["Teamwork","I work well in a team."]
["Teamwork","I treat other members of my team as equal to myself."]
["Teamwork","I am able to work with people who have different working styles from me."]
["Stakeholder management","I know how to work well with my stakeholders."]
["Stakeholder management","I seek to understand the needs of my stakeholders."]
["Stakeholder management","I am able to establish common understanding and build trust with my stakeholders."]
["Stakeholder management","I work well with my stakeholders."]
["Project management","I understand the factors that are critical to the smooth running of an event or a project. "]
["Emotional awareness","I know how to identify symptoms of mental and emotional distress. "]
["Emotional support","I am able to support those struggling mentally and emotionally. "]
["Emotional management","I know how I can manage negative thoughts and emotions. "]
["Emotional management","I know where to seek help when I have distressing thoughts and emotions beyond my control. "]
["Emotional management","If I have distressing thoughts and emotions beyond my control, I would seek help."]
["Financial literacy","I know the steps that I can take to meet my financial goals."]
["Physical health","I believe it is important to stay physically healthy. "]
["Physical health","I make a conscious effort to maintain a healthy lifestyle."]
["National pride","I am proud to be a Singaporean. "]
["National perspectives","I am aware of issues affecting Singapore."]
["National perspectives","I understand how changes around the world affect Singapore and its future."]
["National perspectives","I understand the opportunities and challenges that Singapore has."]
["National perspectives","I understand the difficulties in trying to solve issues affecting Singapore's society."]
["Public policy awareness","I am aware of policies and programmes that tackle issues affecting Singapore's society."]
["Trust in the Government","I trust the government. "]
["Trust in the Government","I feel that the government understands the concerns of Singaporeans like me."]
["Trust in the Government","I feel that the government cares for the wellbeing of Singaporeans like me."]
["Trust in the Government","I feel that the government values my views."]
["Social support networks","I have people that I can talk with about my problems."]
["Social support networks","I have people whom I can turn to for support. "]
["Open to diversity","I respect the opinions of others, even if I do not agree with it. "]
["Open to diversity","I respect the values and beliefs of people who are of a different background from me."]
["Empathy","I put myself in the shoes of others to understand how they feel."]
["Ability to effect change (community)","I believe that I can make a difference in the community."]
["Ability to effect change (community)","I believe I can help to shape society."]
["Civic Engagement (Community)","I am aware of the needs in the community."]
["Civic Engagement (Community)","I understand the ways that I can contribute to the community."]
["Civic Engagement (Community)","I believe I have a role to play in improving the community."]
["Civic Engagement (Community)","I feel a strong conviction to give back to the community."]
["Civic Engagement (Community)","I actively participate in efforts that help to improve the community."]
["Civic Engagement (Community)","I participate in discussions on national, community or social issues."]
["Civic Engagement (Community)","I encourage my peers to participate in activities that help to improve the community."]
["Civic Engagement (Environmental)","I am aware of the effects of my actions on the environment."]
["Civic Engagement (Environmental)","I understand the ways that I can care for the environment."]
["Civic Engagement (Environmental)","I feel responsible towards the environment."]
["Civic Engagement (Environmental)","My efforts to care for the environment will make a difference."]
["Civic Engagement (Environmental)","I actively participate in efforts to care for the environment."]
["Civic Engagement (Environmental)","I encourage my peers to care for the environment."]
["Ability to Effect Change (Government)","I believe that I can influence government decisions on issues. "]
[]
["Selected Process Improvement Questions:"]
["Feedback Area","Question"]
["Programme expectations","What are some new skill(s) or knowledge you hope to gain through programme_name?"]
["Programme expectations","What are your personal goal(s) for participating in programme_name?"]
["Programme implementation","What do you think of the duration of programme_name?"]
["Programme implementation","I feel that the pace of programme_name was…"]
["Programme implementation","The accommodation is of acceptable standard."]
["Programme implementation","The meal(s) are of acceptable standard."]
["Programme implementation","The facilities are of acceptable standard."]
["Feedback on mentor","The mentor provided sufficient guidance. "]
["Feedback on mentor","The mentor provided useful insights."]
["Feedback on mentor","The mentor was able to facilitate learning through reflections and asking critical questions. "]
["Feedback on mentor","The mentor provided useful feedback for my personal growth."]
["Feedback on mentor","The mentor has the necessary knowledge and skills for the role."]
["Feedback on mentor","The mentor was able to point me to useful resources."]
["Feedback on mentor","The mentor is able to communicate well with the group."]
["Feedback on mentor","The mentor was able to manage the group effectively"]
["Feedback on mentor","How would you rate the mentor as a whole?"]
["Programme content","What were your key takeaways? \nThis may include new skills and knowledge, or achievements of personal goals."]
["Programme content","For each of the following  activities please indicate the extent to which you find them useful."]
["Overall feedback","Overall, I am satisfied with  programme_name."]
["Overall feedback","How would you rate  programme_name as a whole? "]
["Overall feedback","I would recommend  programme_name to others. "]
["Overall feedback","I would like to take part in other activities organised by organisation_name."]
["Overall feedback","This programme has allowed me to expand my networks."]
["Overall feedback","What worked well or could be improved? "]
["Overall feedback","What else do you wish to be covered during programme_name?"]
[]
["Submission generated:",{"$f":"NOW()","v":"2021-12-24T08:46:04.330"}]

{"sheet":"CPP_nyf_base","index":17,"n_rows":120,"n_cols":7,"rows_kept":120,"cut":false,"hidden":true,"merged":[]}
["Submission for NYF Grant Application",null,null,null,null,null,1]
["Please save this page as a PDF and submit the form to GrantMgmt_Enquiries@nyc.gov.sg",null,null,null,null,null,1]
["If you intend to add additional questions not included within the toolkit, please indicate them here as well.",null,null,null,null,null,1]
[null,null,null,null,null,null,1]
["Applicant Organisation:",{"$f":"UPPER(START!B20)","v":""},null,null,null,null,1]
["Programme Name:",{"$f":"UPPER(START!B17)","v":""},null,null,null,null,1]
["Study Design:",{"$f":"UPPER('Step 3A'!$D$5:$D$5)","v":"PRE- AND POST-PROGRAMME SURVEY"},null,null,null,null,1]
[null,null,null,null,null,null,1]
["Selected Programme Indicators:",null,null,null,null,null,1]
["Subconstruct","Indicator Statement",null,null,null,null,1]
["Tenacity","I am able to persevere in the face of challenges.",2,{"$f":"OFFSET('Step 1'!$B$6, CPP_nyf_base!C11, 0)","v":"No"},2,{"$f":"OFFSET('Step 2'!$B$4, CPP_nyf_base!E11, 0)","v":"Yes"},{"$f":"IF(AND(F11=\"Yes\", D11=\"Yes\"), 1, 0)","v":0}]
["Tenacity","I do not give up even after experiencing failure. ",2,{"$f":"OFFSET('Step 1'!$B$6, CPP_nyf_base!C12, 0)","v":"No"},3,{"$f":"OFFSET('Step 2'!$B$4, CPP_nyf_base!E12, 0)","v":"No"},{"$f":"IF(AND(F12=\"Yes\", D12=\"Yes\"), 1, 0)","v":0}]
["Confidence","I feel that I have a number of good qualities.",3,{"$f":"OFFSET('Step 1'!$B$6, CPP_nyf_base!C13, 0)","v":"No"},6,{"$f":"OFFSET('Step 2'!$B$4, CPP_nyf_base!E13, 0)","v":"No"},0]
["Confidence","I am able to do things as well as most other people. ",3,{"$f":"OFFSET('Step 1'!$B$6, CPP_nyf_base!C14, 0)","v":"No"},7,{"$f":"OFFSET('Step 2'!$B$4, CPP_nyf_base!E14, 0)","v":"No"},0]
["Confidence","I believe I can achieve my goals.",3,{"$f":"OFFSET('Step 1'!$B$6, CPP_nyf_base!C15, 0)","v":"No"},8,{"$f":"OFFSET('Step 2'!$B$4, CPP_nyf_base!E15, 0)","v":"No"},0]
["Confidence","I believe I have the ability to succeed in the things I want to do.",3,{"$f":"OFFSET('Step 1'!$B$6, CPP_nyf_base!C16, 0)","v":"No"},9,{"$f":"OFFSET('Step 2'!$B$4, CPP_nyf_base!E16, 0)","v":"Yes"},0]
["Confidence","I am confident I can succeed when I try my best.",3,{"$f":"OFFSET('Step 1'!$B$6, CPP_nyf_base!C17, 0)","v":"No"},10,{"$f":"OFFSET('Step 2'!$B$4, CPP_nyf_base!E17, 0)","v":"No"},0]
["Proactiveness","I seize the opportunity whenever I see one. ",6,{"$f":"OFFSET('Step 1'!$B$6, CPP_nyf_base!C18, 0)","v":"No"},13,{"$f":"OFFSET('Step 2'!$B$4, CPP_nyf_base!E18, 0)","v":"Yes"},0]
["Proactiveness","I take initiative instead of waiting for things to happen.",6,{"$f":"OFFSET('Step 1'!$B$6, CPP_nyf_base!C19, 0)","v":"No"},14,{"$f":"OFFSET('Step 2'!$B$4, CPP_nyf_base!E19, 0)","v":"No"},0]
["Growth mindset","I believe it is important to challenge myself to grow. ",7,{"$f":"OFFSET('Step 1'!$B$6, CPP_nyf_base!C20, 0)","v":"No"},17,{"$f":"OFFSET('Step 2'!$B$4, CPP_nyf_base!E20, 0)","v":"No"},0]
["Growth mindset","Difficult times are an opportunity for me to learn and grow as a person.",7,{"$f":"OFFSET('Step 1'!$B$6, CPP_nyf_base!C21, 0)","v":"No"},18,{"$f":"OFFSET('Step 2'!$B$4, CPP_nyf_base!E21, 0)","v":"Yes"},0]
["Career preparedness","I am aware of the skills that will help me to succeed in my career in future.",19,{"$f":"OFFSET('Step 1'!$B$6, CPP_nyf_base!C22, 0)","v":"No"},57,{"$f":"OFFSET('Step 2'!$B$4, CPP_nyf_base!E22, 0)","v":"Yes"},0]
["Career preparedness","I am aware of the potential career pathways that I can take to achieve my goals.",19,{"$f":"OFFSET('Step 1'!$B$6, CPP_nyf_base!C23, 0)","v":"No"},58,{"$f":"OFFSET('Step 2'!$B$4, CPP_nyf_base!E23, 0)","v":"No"},0]
["Career preparedness","I believe I can achieve my career goals. ",19,{"$f":"OFFSET('Step 1'!$B$6, CPP_nyf_base!C24, 0)","v":"No"},60,{"$f":"OFFSET('Step 2'!$B$4, CPP_nyf_base!E24, 0)","v":"No"},0]
["Cultural awareness","I am aware of differences between cultures.",32,{"$f":"OFFSET('Step 1'!$B$6, CPP_nyf_base!C25, 0)","v":"No"},81,{"$f":"OFFSET('Step 2'!$B$4, CPP_nyf_base!E25, 0)","v":"Yes"},0]
["Global perspectives","I am aware of issues affecting other countries",33,{"$f":"OFFSET('Step 1'!$B$6, CPP_nyf_base!C26, 0)","v":"No"},84,{"$f":"OFFSET('Step 2'!$B$4, CPP_nyf_base!E26, 0)","v":"Yes"},0]
["Global perspectives","I understand how changes around the world affect other countries.",33,{"$f":"OFFSET('Step 1'!$B$6, CPP_nyf_base!C27, 0)","v":"No"},85,{"$f":"OFFSET('Step 2'!$B$4, CPP_nyf_base!E27, 0)","v":"Yes"},0]
["Global perspectives","I understand the opportunities and challenges other countries have.",33,{"$f":"OFFSET('Step 1'!$B$6, CPP_nyf_base!C28, 0)","v":"No"},86,{"$f":"OFFSET('Step 2'!$B$4, CPP_nyf_base!E28, 0)","v":"No"},0]
["Global perspectives","I understand the difficulties in trying to solve global issues.",33,{"$f":"OFFSET('Step 1'!$B$6, CPP_nyf_base!C29, 0)","v":"No"},87,{"$f":"OFFSET('Step 2'!$B$4, CPP_nyf_base!E29, 0)","v":"No"},0]
["Innovative","I know of ways to come up with new ideas. ",16,{"$f":"OFFSET('Step 1'!$B$6, CPP_nyf_base!C30, 0)","v":"No"},48,{"$f":"OFFSET('Step 2'!$B$4, CPP_nyf_base!E30, 0)","v":"Yes"},0]
["Critical thinking","I am able to link different information together. ",14,{"$f":"OFFSET('Step 1'!$B$6, CPP_nyf_base!C31, 0)","v":"No"},36,{"$f":"OFFSET('Step 2'!$B$4, CPP_nyf_base!E31, 0)","v":"No"},0]
["Critical thinking","I think through issues from different angles.",14,{"$f":"OFFSET('Step 1'!$B$6, CPP_nyf_base!C32, 0)","v":"No"},37,{"$f":"OFFSET('Step 2'!$B$4, CPP_nyf_base!E32, 0)","v":"No"},0]
["Critical thinking","I analyse an issue thoroughly before coming to a conclusion.",14,{"$f":"OFFSET('Step 1'!$B$6, CPP_nyf_base!C33, 0)","v":"No"},38,{"$f":"OFFSET('Step 2'!$B$4, CPP_nyf_base!E33, 0)","v":"Yes"},0]
["Problem solving","I know how to identify and solve problems.",15,{"$f":"OFFSET('Step 1'!$B$6, CPP_nyf_base!C34, 0)","v":"No"},41,{"$f":"OFFSET('Step 2'!$B$4, CPP_nyf_base!E34, 0)","v":"Yes"},0]
["Problem solving","I am able to solve problems that I face.",15,{"$f":"OFFSET('Step 1'!$B$6, CPP_nyf_base!C35, 0)","v":"No"},42,{"$f":"OFFSET('Step 2'!$B$4, CPP_nyf_base!E35, 0)","v":"Yes"},0]
["Problem solving","After I have tried to solve a problem, I examine why it did or did not work.",15,{"$f":"OFFSET('Step 1'!$B$6, CPP_nyf_base!C36, 0)","v":"No"},43,{"$f":"OFFSET('Step 2'!$B$4, CPP_nyf_base!E36, 0)","v":"No"},0]
["Problem solving","When solving a problem, I compare the pros and cons of my solutions. ",15,{"$f":"OFFSET('Step 1'!$B$6, CPP_nyf_base!C37, 0)","v":"No"},44,{"$f":"OFFSET('Step 2'!$B$4, CPP_nyf_base!E37, 0)","v":"No"},0]
["Problem solving","When faced with a problem, I try to find out the cause of the problem.",15,{"$f":"OFFSET('Step 1'!$B$6, CPP_nyf_base!C38, 0)","v":"No"},45,{"$f":"OFFSET('Step 2'!$B$4, CPP_nyf_base!E38, 0)","v":"No"},0]
["Teamwork","I know how to work well in a team.",23,{"$f":"OFFSET('Step 1'!$B$6, CPP_nyf_base!C39, 0)","v":"No"},69,{"$f":"OFFSET('Step 2'!$B$4, CPP_nyf_base!E39, 0)","v":"Yes"},0]
["Teamwork","I support others in the team.",23,{"$f":"OFFSET('Step 1'!$B$6, CPP_nyf_base!C40, 0)","v":"No"},70,{"$f":"OFFSET('Step 2'!$B$4, CPP_nyf_base!E40, 0)","v":"No"},0]
["Teamwork","I communicate well with my team members.",23,{"$f":"OFFSET('Step 1'!$B$6, CPP_nyf_base!C41, 0)","v":"No"},71,{"$f":"OFFSET('Step 2'!$B$4, CPP_nyf_base!E41, 0)","v":"No"},0]
["Teamwork","I work well in a team.",23,{"$f":"OFFSET('Step 1'!$B$6, CPP_nyf_base!C42, 0)","v":"No"},72,{"$f":"OFFSET('Step 2'!$B$4, CPP_nyf_base!E42, 0)","v":"No"},0]
["Teamwork","I treat other members of my team as equal to myself.",23,{"$f":"OFFSET('Step 1'!$B$6, CPP_nyf_base!C43, 0)","v":"No"},73,{"$f":"OFFSET('Step 2'!$B$4, CPP_nyf_base!E43, 0)","v":"No"},0]
["Teamwork","I am able to work with people who have different working styles from me.",23,{"$f":"OFFSET('Step 1'!$B$6, CPP_nyf_base!C44, 0)","v":"No"},74,{"$f":"OFFSET('Step 2'!$B$4, CPP_nyf_base!E44, 0)","v":"No"},0]
["Stakeholder management","I know how to work well with my stakeholders.",22,{"$f":"OFFSET('Step 1'!$B$6, CPP_nyf_base!C45, 0)","v":"No"},63,{"$f":"OFFSET('Step 2'!$B$4, CPP_nyf_base!E45, 0)","v":"Yes"},0]
["Stakeholder management","I seek to understand the needs of my stakeholders.",22,{"$f":"OFFSET('Step 1'!$B$6, CPP_nyf_base!C46, 0)","v":"No"},64,{"$f":"OFFSET('Step 2'!$B$4, CPP_nyf_base!E46, 0)","v":"No"},0]
["Stakeholder management","I am able to establish common understanding and build trust with my stakeholders.",22,{"$f":"OFFSET('Step 1'!$B$6, CPP_nyf_base!C47, 0)","v":"No"},65,{"$f":"OFFSET('Step 2'!$B$4, CPP_nyf_base!E47, 0)","v":"No"},0]
["Stakeholder management","I work well with my stakeholders.",22,{"$f":"OFFSET('Step 1'!$B$6, CPP_nyf_base!C48, 0)","v":"No"},66,{"$f":"OFFSET('Step 2'!$B$4, CPP_nyf_base!E48, 0)","v":"No"},0]
["Project management","I understand the factors that are critical to the smooth running of an event or a project. ",18,{"$f":"OFFSET('Step 1'!$B$6, CPP_nyf_base!C49, 0)","v":"No"},54,{"$f":"OFFSET('Step 2'!$B$4, CPP_nyf_base!E49, 0)","v":"Yes"},0]
["Emotional awareness","I know how to identify symptoms of mental and emotional distress. ",8,{"$f":"OFFSET('Step 1'!$B$6, CPP_nyf_base!C50, 0)","v":"No"},21,{"$f":"OFFSET('Step 2'!$B$4, CPP_nyf_base!E50, 0)","v":"Yes"},0]
["Emotional support","I am able to support those struggling mentally and emotionally. ",10,{"$f":"OFFSET('Step 1'!$B$6, CPP_nyf_base!C51, 0)","v":"No"},29,{"$f":"OFFSET('Step 2'!$B$4, CPP_nyf_base!E51, 0)","v":"Yes"},0]
["Emotional management","I know how I can manage negative thoughts and emotions. ",9,{"$f":"OFFSET('Step 1'!$B$6, CPP_nyf_base!C52, 0)","v":"No"},24,{"$f":"OFFSET('Step 2'!$B$4, CPP_nyf_base!E52, 0)","v":"Yes"},0]
["Emotional management","I know where to seek help when I have distressing thoughts and emotions beyond my control. ",9,{"$f":"OFFSET('Step 1'!$B$6, CPP_nyf_base!C53, 0)","v":"No"},25,{"$f":"OFFSET('Step 2'!$B$4, CPP_nyf_base!E53, 0)","v":"No"},0]
["Emotional management","If I have distressing thoughts and emotions beyond my control, I would seek help.",9,{"$f":"OFFSET('Step 1'!$B$6, CPP_nyf_base!C54, 0)","v":"No"},26,{"$f":"OFFSET('Step 2'!$B$4, CPP_nyf_base!E54, 0)","v":"No"},0]
["Financial literacy","I know the steps that I can take to meet my financial goals.",17,{"$f":"OFFSET('Step 1'!$B$6, CPP_nyf_base!C55, 0)","v":"No"},51,{"$f":"OFFSET('Step 2'!$B$4, CPP_nyf_base!E55, 0)","v":"Yes"},0]
["Physical health","I believe it is important to stay physically healthy. ",26,{"$f":"OFFSET('Step 1'!$B$6, CPP_nyf_base!C56, 0)","v":"No"},77,{"$f":"OFFSET('Step 2'!$B$4, CPP_nyf_base!E56, 0)","v":"Yes"},0]
["Physical health","I make a conscious effort to maintain a healthy lifestyle.",26,{"$f":"OFFSET('Step 1'!$B$6, CPP_nyf_base!C57, 0)","v":"No"},78,{"$f":"OFFSET('Step 2'!$B$4, CPP_nyf_base!E57, 0)","v":"Yes"},0]
["National pride","I am proud to be a Singaporean. ",40,{"$f":"OFFSET('Step 1'!$B$6, CPP_nyf_base!C58, 0)","v":"No"},99,{"$f":"OFFSET('Step 2'!$B$4, CPP_nyf_base!E58, 0)","v":"Yes"},0]
["National perspectives","I am aware of issues affecting Singapore.",36,{"$f":"OFFSET('Step 1'!$B$6, CPP_nyf_base!C59, 0)","v":"No"},90,{"$f":"OFFSET('Step 2'!$B$4, CPP_nyf_base!E59, 0)","v":"Yes"},0]
["National perspectives","I understand how changes around the world affect Singapore and its future.",36,{"$f":"OFFSET('Step 1'!$B$6, CPP_nyf_base!C60, 0)","v":"No"},91,{"$f":"OFFSET('Step 2'!$B$4, CPP_nyf_base!E60, 0)","v":"No"},0]
["National perspectives","I understand the opportunities and challenges that Singapore has.",36,{"$f":"OFFSET('Step 1'!$B$6, CPP_nyf_base!C61, 0)","v":"No"},92,{"$f":"OFFSET('Step 2'!$B$4, CPP_nyf_base!E61, 0)","v":"No"},0]
["National perspectives","I understand the difficulties in trying to solve issues affecting Singapore's society.",36,{"$f":"OFFSET('Step 1'!$B$6, CPP_nyf_base!C62, 0)","v":"No"},93,{"$f":"OFFSET('Step 2'!$B$4, CPP_nyf_base!E62, 0)","v":"No"},0]
["Public policy awareness","I am aware of policies and programmes that tackle issues affecting Singapore's society.",37,{"$f":"OFFSET('Step 1'!$B$6, CPP_nyf_base!C63, 0)","v":"No"},96,{"$f":"OFFSET('Step 2'!$B$4, CPP_nyf_base!E63, 0)","v":"Yes"},0]
["Trust in the Government","I trust the government. ",41,{"$f":"OFFSET('Step 1'!$B$6, CPP_nyf_base!C64, 0)","v":"No"},102,{"$f":"OFFSET('Step 2'!$B$4, CPP_nyf_base!E64, 0)","v":"No"},0]
["Trust in the Government","I feel that the government understands the concerns of Singaporeans like me.",41,{"$f":"OFFSET('Step 1'!$B$6, CPP_nyf_base!C65, 0)","v":"No"},103,{"$f":"OFFSET('Step 2'!$B$4, CPP_nyf_base!E65, 0)","v":"Yes"},0]
["Trust in the Government","I feel that the government cares for the wellbeing of Singaporeans like me.",41,{"$f":"OFFSET('Step 1'!$B$6, CPP_nyf_base!C66, 0)","v":"No"},104,{"$f":"OFFSET('Step 2'!$B$4, CPP_nyf_base!E66, 0)","v":0},0]
["Trust in the Government","I feel that the government values my views.",41,{"$f":"OFFSET('Step 1'!$B$6, CPP_nyf_base!C67, 0)","v":"No"},105,{"$f":"OFFSET('Step 2'!$B$4, CPP_nyf_base!E67, 0)","v":0},0]
["Social support networks","I have people that I can talk with about my problems.",11,{"$f":"OFFSET('Step 1'!$B$6, CPP_nyf_base!C68, 0)","v":"No"},32,{"$f":"OFFSET('Step 2'!$B$4, CPP_nyf_base!E68, 0)","v":"No"},0]
["Social support networks","I have people whom I can turn to for support. ",11,{"$f":"OFFSET('Step 1'!$B$6, CPP_nyf_base!C69, 0)","v":"No"},33,{"$f":"OFFSET('Step 2'!$B$4, CPP_nyf_base!E69, 0)","v":"Yes"},0]
["Open to diversity","I respect the opinions of others, even if I do not agree with it. ",43,{"$f":"OFFSET('Step 1'!$B$6, CPP_nyf_base!C70, 0)","v":0},108,{"$f":"OFFSET('Step 2'!$B$4, CPP_nyf_base!E70, 0)","v":0},0]
["Open to diversity","I respect the values and beliefs of people who are of a different background from me.",43,{"$f":"OFFSET('Step 1'!$B$6, CPP_nyf_base!C71, 0)","v":0},109,{"$f":"OFFSET('Step 2'!$B$4, CPP_nyf_base!E71, 0)","v":"No"},{"$f":"IF(AND(F71=\"Yes\", D71=\"Yes\"), 1, 0)","v":0}]
["Empathy","I put myself in the shoes of others to understand how they feel.",46,{"$f":"OFFSET('Step 1'!$B$6, CPP_nyf_base!C72, 0)","v":"No"},112,{"$f":"OFFSET('Step 2'!$B$4, CPP_nyf_base!E72, 0)","v":0},0]
["Ability to effect change (community)","I believe that I can make a difference in the community.",47,{"$f":"OFFSET('Step 1'!$B$6, CPP_nyf_base!C73, 0)","v":"No"},115,{"$f":"OFFSET('Step 2'!$B$4, CPP_nyf_base!E73, 0)","v":0},0]
["Ability to effect change (community)","I believe I can help to shape society.",47,{"$f":"OFFSET('Step 1'!$B$6, CPP_nyf_base!C74, 0)","v":"No"},116,{"$f":"OFFSET('Step 2'!$B$4, CPP_nyf_base!E74, 0)","v":"Yes"},0]
["Civic Engagement (Community)","I am aware of the needs in the community.",49,{"$f":"OFFSET('Step 1'!$B$6, CPP_nyf_base!C75, 0)","v":"No"},122,{"$f":"OFFSET('Step 2'!$B$4, CPP_nyf_base!E75, 0)","v":"No"},0]
["Civic Engagement (Community)","I understand the ways that I can contribute to the community.",49,{"$f":"OFFSET('Step 1'!$B$6, CPP_nyf_base!C76, 0)","v":"No"},123,{"$f":"OFFSET('Step 2'!$B$4, CPP_nyf_base!E76, 0)","v":0},{"$f":"IF(AND(F76=\"Yes\", D76=\"Yes\"), 1, 0)","v":0}]
["Civic Engagement (Community)","I believe I have a role to play in improving the community.",49,{"$f":"OFFSET('Step 1'!$B$6, CPP_nyf_base!C77, 0)","v":"No"},124,{"$f":"OFFSET('Step 2'!$B$4, CPP_nyf_base!E77, 0)","v":0},0]
["Civic Engagement (Community)","I feel a strong conviction to give back to the community.",49,{"$f":"OFFSET('Step 1'!$B$6, CPP_nyf_base!C78, 0)","v":"No"},125,{"$f":"OFFSET('Step 2'!$B$4, CPP_nyf_base!E78, 0)","v":"Yes"},0]
["Civic Engagement (Community)","I actively participate in efforts that help to improve the community.",49,{"$f":"OFFSET('Step 1'!$B$6, CPP_nyf_base!C79, 0)","v":"No"},126,{"$f":"OFFSET('Step 2'!$B$4, CPP_nyf_base!E79, 0)","v":"Yes"},0]
["Civic Engagement (Community)","I participate in discussions on national, community or social issues.",49,{"$f":"OFFSET('Step 1'!$B$6, CPP_nyf_base!C80, 0)","v":"No"},127,{"$f":"OFFSET('Step 2'!$B$4, CPP_nyf_base!E80, 0)","v":"Yes"},0]
["Civic Engagement (Community)","I encourage my peers to participate in activities that help to improve the community.",49,{"$f":"OFFSET('Step 1'!$B$6, CPP_nyf_base!C81, 0)","v":"No"},128,{"$f":"OFFSET('Step 2'!$B$4, CPP_nyf_base!E81, 0)","v":"No"},0]
["Civic Engagement (Environmental)","I am aware of the effects of my actions on the environment.",50,{"$f":"OFFSET('Step 1'!$B$6, CPP_nyf_base!C82, 0)","v":0},131,{"$f":"OFFSET('Step 2'!$B$4, CPP_nyf_base!E82, 0)","v":0},0]
["Civic Engagement (Environmental)","I understand the ways that I can care for the environment.",50,{"$f":"OFFSET('Step 1'!$B$6, CPP_nyf_base!C83, 0)","v":0},132,{"$f":"OFFSET('Step 2'!$B$4, CPP_nyf_base!E83, 0)","v":0},0]
["Civic Engagement (Environmental)","I feel responsible towards the environment.",50,{"$f":"OFFSET('Step 1'!$B$6, CPP_nyf_base!C84, 0)","v":0},133,{"$f":"OFFSET('Step 2'!$B$4, CPP_nyf_base!E84, 0)","v":0},0]
["Civic Engagement (Environmental)","My efforts to care for the environment will make a difference.",50,{"$f":"OFFSET('Step 1'!$B$6, CPP_nyf_base!C85, 0)","v":0},134,{"$f":"OFFSET('Step 2'!$B$4, CPP_nyf_base!E85, 0)","v":0},0]
["Civic Engagement (Environmental)","I actively participate in efforts to care for the environment.",50,{"$f":"OFFSET('Step 1'!$B$6, CPP_nyf_base!C86, 0)","v":0},135,{"$f":"OFFSET('Step 2'!$B$4, CPP_nyf_base!E86, 0)","v":0},0]
["Civic Engagement (Environmental)","I encourage my peers to care for the environment.",50,{"$f":"OFFSET('Step 1'!$B$6, CPP_nyf_base!C87, 0)","v":0},136,{"$f":"OFFSET('Step 2'!$B$4, CPP_nyf_base!E87, 0)","v":0},0]
["Ability to Effect Change (Government)","I believe that I can influence government decisions on issues. ",48,{"$f":"OFFSET('Step 1'!$B$6, CPP_nyf_base!C88, 0)","v":"No"},119,{"$f":"OFFSET('Step 2'!$B$4, CPP_nyf_base!E88, 0)","v":"No"},0]
[null,null,null,null,null,null,1]
["Selected Process Improvement Questions:",null,null,null,null,null,1]
["Feedback Area","Question",null,null,null,null,1]
["Programme expectations","What are some new skill(s) or knowledge you hope to gain through programme_name?",null,"No",null,"Yes",{"$f":"IF(AND(F92=\"Yes\", D92=\"Yes\"), 1, 0)","v":0}]
["Programme expectations","What are your personal goal(s) for participating in programme_name?",null,"No",null,"Yes",{"$f":"IF(AND(F93=\"Yes\", D93=\"Yes\"), 1, 0)","v":0}]
["Programme implementation","What do you think of the duration of programme_name?",2,{"$f":"OFFSET('Step 3B CPP'!$B$5, CPP_nyf_base!C94, 0)","v":"No"},null,"Yes",0]
["Programme implementation","I feel that the pace of programme_name was…",3,{"$f":"OFFSET('Step 3B CPP'!$B$5, CPP_nyf_base!C95, 0)","v":"No"},null,"Yes",0]
["Programme implementation","The accommodation is of acceptable standard.",4,{"$f":"OFFSET('Step 3B CPP'!$B$5, CPP_nyf_base!C96, 0)","v":"No"},null,"Yes",0]
["Programme implementation","The meal(s) are of acceptable standard.",5,{"$f":"OFFSET('Step 3B CPP'!$B$5, CPP_nyf_base!C97, 0)","v":"No"},null,"Yes",0]
["Programme implementation","The facilities are of acceptable standard.",6,{"$f":"OFFSET('Step 3B CPP'!$B$5, CPP_nyf_base!C98, 0)","v":"No"},null,"Yes",0]
["Feedback on mentor","The mentor provided sufficient guidance. ",9,{"$f":"OFFSET('Step 3B CPP'!$B$5, CPP_nyf_base!C99, 0)","v":"No"},null,"Yes",0]
["Feedback on mentor","The mentor provided useful insights.",10,{"$f":"OFFSET('Step 3B CPP'!$B$5, CPP_nyf_base!C100, 0)","v":"No"},null,"Yes",0]
["Feedback on mentor","The mentor was able to facilitate learning through reflections and asking critical questions. ",11,{"$f":"OFFSET('Step 3B CPP'!$B$5, CPP_nyf_base!C101, 0)","v":"No"},null,"Yes",0]
["Feedback on mentor","The mentor provided useful feedback for my personal growth.",12,{"$f":"OFFSET('Step 3B CPP'!$B$5, CPP_nyf_base!C102, 0)","v":"No"},null,"Yes",0]
["Feedback on mentor","The mentor has the necessary knowledge and skills for the role.",13,{"$f":"OFFSET('Step 3B CPP'!$B$5, CPP_nyf_base!C103, 0)","v":"No"},null,"Yes",0]
["Feedback on mentor","The mentor was able to point me to useful resources.",14,{"$f":"OFFSET('Step 3B CPP'!$B$5, CPP_nyf_base!C104, 0)","v":"No"},null,"Yes",0]
["Feedback on mentor","The mentor is able to communicate well with the group.",15,{"$f":"OFFSET('Step 3B CPP'!$B$5, CPP_nyf_base!C105, 0)","v":"No"},null,"Yes",0]
["Feedback on mentor","The mentor was able to manage the group effectively",16,{"$f":"OFFSET('Step 3B CPP'!$B$5, CPP_nyf_base!C106, 0)","v":"No"},null,"Yes",0]
["Feedback on mentor","How would you rate the mentor as a whole?",17,{"$f":"OFFSET('Step 3B CPP'!$B$5, CPP_nyf_base!C107, 0)","v":"No"},null,"Yes",0]
["Programme content","What were your key takeaways? \nThis may include new skills and knowledge, or achievements of personal goals.",20,{"$f":"OFFSET('Step 3B CPP'!$B$5, CPP_nyf_base!C108, 0)","v":"No"},null,"Yes",0]
["Programme content","For each of the following  activities please indicate the extent to which you find them useful.",21,{"$f":"OFFSET('Step 3B CPP'!$B$5, CPP_nyf_base!C109, 0)","v":"No"},null,"Yes",0]
["Overall feedback","Overall, I am satisfied with  programme_name.",34,{"$f":"OFFSET('Step 3B CPP'!$B$5, CPP_nyf_base!C110, 0)","v":"No"},null,"Yes",0]
["Overall feedback","How would you rate  programme_name as a whole? ",35,{"$f":"OFFSET('Step 3B CPP'!$B$5, CPP_nyf_base!C111, 0)","v":"No"},null,"Yes",0]
["Overall feedback","I would recommend  programme_name to others. ",36,{"$f":"OFFSET('Step 3B CPP'!$B$5, CPP_nyf_base!C112, 0)","v":"No"},null,"Yes",0]
["Overall feedback","I would like to take part in other activities organised by organisation_name.",37,{"$f":"OFFSET('Step 3B CPP'!$B$5, CPP_nyf_base!C113, 0)","v":"No"},null,"Yes",0]
["Overall feedback","This programme has allowed me to expand my networks.",38,{"$f":"OFFSET('Step 3B CPP'!$B$5, CPP_nyf_base!C114, 0)","v":"No"},null,"Yes",0]
["Overall feedback","What worked well or could be improved? ",39,{"$f":"OFFSET('Step 3B CPP'!$B$5, CPP_nyf_base!C115, 0)","v":"No"},null,"Yes",0]
["Overall feedback","What else do you wish to be covered during programme_name?",40,{"$f":"OFFSET('Step 3B CPP'!$B$5, CPP_nyf_base!C116, 0)","v":"No"},null,"Yes",0]
[null,null,null,null,null,null,1]
["Submission generated:",{"$f":"NOW()","v":"2021-12-24T08:46:04.370"},null,null,null,null,1]
[null,null,null,null,null,null,1]
[null,null,null,null,null,null,1]

{"sheet":"Custom_nyf_base","index":18,"n_rows":120,"n_cols":7,"rows_kept":120,"cut":false,"hidden":true,"merged":[]}
["Submission for NYF Grant Application",null,null,null,null,null,1]
["Please save this page as a PDF and submit the form to GrantMgmt_Enquiries@nyc.gov.sg",null,null,null,null,null,1]
["If you intend to add additional questions not included within the toolkit, please indicate them here as well.",null,null,null,null,null,1]
[null,null,null,null,null,null,1]
["Applicant Organisation:",{"$f":"UPPER(START!B20)","v":""},null,null,null,null,1]
["Programme Name:",{"$f":"UPPER(START!B17)","v":""},null,null,null,null,1]
["Study Design:",{"$f":"UPPER('Step 3A'!$D$5:$D$5)","v":"PRE- AND POST-PROGRAMME SURVEY"},null,null,null,null,1]
[null,null,null,null,null,null,1]
["Selected Programme Indicators:",null,null,null,null,null,1]
["Subconstruct","Indicator Statement",null,null,null,null,1]
["Tenacity","I am able to persevere in the face of challenges.",2,{"$f":"OFFSET('Step 1'!$B$6, C11, 0)","v":"No"},2,{"$f":"OFFSET('Step 2'!$B$4, E11, 0)","v":"Yes"},{"$f":"IF(AND(F11=\"Yes\", D11=\"Yes\"), 1, 0)","v":0}]
["Tenacity","I do not give up even after experiencing failure. ",2,{"$f":"OFFSET('Step 1'!$B$6, C12, 0)","v":"No"},3,{"$f":"OFFSET('Step 2'!$B$4, E12, 0)","v":"No"},{"$f":"IF(AND(F12=\"Yes\", D12=\"Yes\"), 1, 0)","v":0}]
["Confidence","I feel that I have a number of good qualities.",3,{"$f":"OFFSET('Step 1'!$B$6, C13, 0)","v":"No"},6,{"$f":"OFFSET('Step 2'!$B$4, E13, 0)","v":"No"},0]
["Confidence","I am able to do things as well as most other people. ",3,{"$f":"OFFSET('Step 1'!$B$6, C14, 0)","v":"No"},7,{"$f":"OFFSET('Step 2'!$B$4, E14, 0)","v":"No"},0]
["Confidence","I believe I can achieve my goals.",3,{"$f":"OFFSET('Step 1'!$B$6, C15, 0)","v":"No"},8,{"$f":"OFFSET('Step 2'!$B$4, E15, 0)","v":"No"},0]
["Confidence","I believe I have the ability to succeed in the things I want to do.",3,{"$f":"OFFSET('Step 1'!$B$6, C16, 0)","v":"No"},9,{"$f":"OFFSET('Step 2'!$B$4, E16, 0)","v":"Yes"},0]
["Confidence","I am confident I can succeed when I try my best.",3,{"$f":"OFFSET('Step 1'!$B$6, C17, 0)","v":"No"},10,{"$f":"OFFSET('Step 2'!$B$4, E17, 0)","v":"No"},0]
["Proactiveness","I seize the opportunity whenever I see one. ",6,{"$f":"OFFSET('Step 1'!$B$6, C18, 0)","v":"No"},13,{"$f":"OFFSET('Step 2'!$B$4, E18, 0)","v":"Yes"},0]
["Proactiveness","I take initiative instead of waiting for things to happen.",6,{"$f":"OFFSET('Step 1'!$B$6, C19, 0)","v":"No"},14,{"$f":"OFFSET('Step 2'!$B$4, E19, 0)","v":"No"},0]
["Growth mindset","I believe it is important to challenge myself to grow. ",7,{"$f":"OFFSET('Step 1'!$B$6, C20, 0)","v":"No"},17,{"$f":"OFFSET('Step 2'!$B$4, E20, 0)","v":"No"},0]
["Growth mindset","Difficult times are an opportunity for me to learn and grow as a person.",7,{"$f":"OFFSET('Step 1'!$B$6, C21, 0)","v":"No"},18,{"$f":"OFFSET('Step 2'!$B$4, E21, 0)","v":"Yes"},0]
["Career preparedness","I am aware of the skills that will help me to succeed in my career in future.",19,{"$f":"OFFSET('Step 1'!$B$6, C22, 0)","v":"No"},57,{"$f":"OFFSET('Step 2'!$B$4, E22, 0)","v":"Yes"},0]
["Career preparedness","I am aware of the potential career pathways that I can take to achieve my goals.",19,{"$f":"OFFSET('Step 1'!$B$6, C23, 0)","v":"No"},58,{"$f":"OFFSET('Step 2'!$B$4, E23, 0)","v":"No"},0]
["Career preparedness","I believe I can achieve my career goals. ",19,{"$f":"OFFSET('Step 1'!$B$6, C24, 0)","v":"No"},60,{"$f":"OFFSET('Step 2'!$B$4, E24, 0)","v":"No"},0]
["Cultural awareness","I am aware of differences between cultures.",32,{"$f":"OFFSET('Step 1'!$B$6, C25, 0)","v":"No"},81,{"$f":"OFFSET('Step 2'!$B$4, E25, 0)","v":"Yes"},0]
["Global perspectives","I am aware of issues affecting other countries",33,{"$f":"OFFSET('Step 1'!$B$6, C26, 0)","v":"No"},84,{"$f":"OFFSET('Step 2'!$B$4, E26, 0)","v":"Yes"},0]
["Global perspectives","I understand how changes around the world affect other countries.",33,{"$f":"OFFSET('Step 1'!$B$6, C27, 0)","v":"No"},85,{"$f":"OFFSET('Step 2'!$B$4, E27, 0)","v":"Yes"},0]
["Global perspectives","I understand the opportunities and challenges other countries have.",33,{"$f":"OFFSET('Step 1'!$B$6, C28, 0)","v":"No"},86,{"$f":"OFFSET('Step 2'!$B$4, E28, 0)","v":"No"},0]
["Global perspectives","I understand the difficulties in trying to solve global issues.",33,{"$f":"OFFSET('Step 1'!$B$6, C29, 0)","v":"No"},87,{"$f":"OFFSET('Step 2'!$B$4, E29, 0)","v":"No"},0]
["Innovative","I know of ways to come up with new ideas. ",16,{"$f":"OFFSET('Step 1'!$B$6, C30, 0)","v":"No"},48,{"$f":"OFFSET('Step 2'!$B$4, E30, 0)","v":"Yes"},0]
["Critical thinking","I am able to link different information together. ",14,{"$f":"OFFSET('Step 1'!$B$6, C31, 0)","v":"No"},36,{"$f":"OFFSET('Step 2'!$B$4, E31, 0)","v":"No"},0]
["Critical thinking","I think through issues from different angles.",14,{"$f":"OFFSET('Step 1'!$B$6, C32, 0)","v":"No"},37,{"$f":"OFFSET('Step 2'!$B$4, E32, 0)","v":"No"},0]
["Critical thinking","I analyse an issue thoroughly before coming to a conclusion.",14,{"$f":"OFFSET('Step 1'!$B$6, C33, 0)","v":"No"},38,{"$f":"OFFSET('Step 2'!$B$4, E33, 0)","v":"Yes"},0]
["Problem solving","I know how to identify and solve problems.",15,{"$f":"OFFSET('Step 1'!$B$6, C34, 0)","v":"No"},41,{"$f":"OFFSET('Step 2'!$B$4, E34, 0)","v":"Yes"},0]
["Problem solving","I am able to solve problems that I face.",15,{"$f":"OFFSET('Step 1'!$B$6, C35, 0)","v":"No"},42,{"$f":"OFFSET('Step 2'!$B$4, E35, 0)","v":"Yes"},0]
["Problem solving","After I have tried to solve a problem, I examine why it did or did not work.",15,{"$f":"OFFSET('Step 1'!$B$6, C36, 0)","v":"No"},43,{"$f":"OFFSET('Step 2'!$B$4, E36, 0)","v":"No"},0]
["Problem solving","When solving a problem, I compare the pros and cons of my solutions. ",15,{"$f":"OFFSET('Step 1'!$B$6, C37, 0)","v":"No"},44,{"$f":"OFFSET('Step 2'!$B$4, E37, 0)","v":"No"},0]
["Problem solving","When faced with a problem, I try to find out the cause of the problem.",15,{"$f":"OFFSET('Step 1'!$B$6, C38, 0)","v":"No"},45,{"$f":"OFFSET('Step 2'!$B$4, E38, 0)","v":"No"},0]
["Teamwork","I know how to work well in a team.",23,{"$f":"OFFSET('Step 1'!$B$6, C39, 0)","v":"No"},69,{"$f":"OFFSET('Step 2'!$B$4, E39, 0)","v":"Yes"},0]
["Teamwork","I support others in the team.",23,{"$f":"OFFSET('Step 1'!$B$6, C40, 0)","v":"No"},70,{"$f":"OFFSET('Step 2'!$B$4, E40, 0)","v":"No"},0]
["Teamwork","I communicate well with my team members.",23,{"$f":"OFFSET('Step 1'!$B$6, C41, 0)","v":"No"},71,{"$f":"OFFSET('Step 2'!$B$4, E41, 0)","v":"No"},0]
["Teamwork","I work well in a team.",23,{"$f":"OFFSET('Step 1'!$B$6, C42, 0)","v":"No"},72,{"$f":"OFFSET('Step 2'!$B$4, E42, 0)","v":"No"},0]
["Teamwork","I treat other members of my team as equal to myself.",23,{"$f":"OFFSET('Step 1'!$B$6, C43, 0)","v":"No"},73,{"$f":"OFFSET('Step 2'!$B$4, E43, 0)","v":"No"},0]
["Teamwork","I am able to work with people who have different working styles from me.",23,{"$f":"OFFSET('Step 1'!$B$6, C44, 0)","v":"No"},74,{"$f":"OFFSET('Step 2'!$B$4, E44, 0)","v":"No"},0]
["Stakeholder management","I know how to work well with my stakeholders.",22,{"$f":"OFFSET('Step 1'!$B$6, C45, 0)","v":"No"},63,{"$f":"OFFSET('Step 2'!$B$4, E45, 0)","v":"Yes"},0]
["Stakeholder management","I seek to understand the needs of my stakeholders.",22,{"$f":"OFFSET('Step 1'!$B$6, C46, 0)","v":"No"},64,{"$f":"OFFSET('Step 2'!$B$4, E46, 0)","v":"No"},0]
["Stakeholder management","I am able to establish common understanding and build trust with my stakeholders.",22,{"$f":"OFFSET('Step 1'!$B$6, C47, 0)","v":"No"},65,{"$f":"OFFSET('Step 2'!$B$4, E47, 0)","v":"No"},0]
["Stakeholder management","I work well with my stakeholders.",22,{"$f":"OFFSET('Step 1'!$B$6, C48, 0)","v":"No"},66,{"$f":"OFFSET('Step 2'!$B$4, E48, 0)","v":"No"},0]
["Project management","I understand the factors that are critical to the smooth running of an event or a project. ",18,{"$f":"OFFSET('Step 1'!$B$6, C49, 0)","v":"No"},54,{"$f":"OFFSET('Step 2'!$B$4, E49, 0)","v":"Yes"},0]
["Emotional awareness","I know how to identify symptoms of mental and emotional distress. ",8,{"$f":"OFFSET('Step 1'!$B$6, C50, 0)","v":"No"},21,{"$f":"OFFSET('Step 2'!$B$4, E50, 0)","v":"Yes"},0]
["Emotional support","I am able to support those struggling mentally and emotionally. ",10,{"$f":"OFFSET('Step 1'!$B$6, C51, 0)","v":"No"},29,{"$f":"OFFSET('Step 2'!$B$4, E51, 0)","v":"Yes"},0]
["Emotional management","I know how I can manage negative thoughts and emotions. ",9,{"$f":"OFFSET('Step 1'!$B$6, C52, 0)","v":"No"},24,{"$f":"OFFSET('Step 2'!$B$4, E52, 0)","v":"Yes"},0]
["Emotional management","I know where to seek help when I have distressing thoughts and emotions beyond my control. ",9,{"$f":"OFFSET('Step 1'!$B$6, C53, 0)","v":"No"},25,{"$f":"OFFSET('Step 2'!$B$4, E53, 0)","v":"No"},0]
["Emotional management","If I have distressing thoughts and emotions beyond my control, I would seek help.",9,{"$f":"OFFSET('Step 1'!$B$6, C54, 0)","v":"No"},26,{"$f":"OFFSET('Step 2'!$B$4, E54, 0)","v":"No"},0]
["Financial literacy","I know the steps that I can take to meet my financial goals.",17,{"$f":"OFFSET('Step 1'!$B$6, C55, 0)","v":"No"},51,{"$f":"OFFSET('Step 2'!$B$4, E55, 0)","v":"Yes"},0]
["Physical health","I believe it is important to stay physically healthy. ",26,{"$f":"OFFSET('Step 1'!$B$6, C56, 0)","v":"No"},77,{"$f":"OFFSET('Step 2'!$B$4, E56, 0)","v":"Yes"},0]
["Physical health","I make a conscious effort to maintain a healthy lifestyle.",26,{"$f":"OFFSET('Step 1'!$B$6, C57, 0)","v":"No"},78,{"$f":"OFFSET('Step 2'!$B$4, E57, 0)","v":"Yes"},0]
["National pride","I am proud to be a Singaporean. ",40,{"$f":"OFFSET('Step 1'!$B$6, C58, 0)","v":"No"},99,{"$f":"OFFSET('Step 2'!$B$4, E58, 0)","v":"Yes"},0]
["National perspectives","I am aware of issues affecting Singapore.",36,{"$f":"OFFSET('Step 1'!$B$6, C59, 0)","v":"No"},90,{"$f":"OFFSET('Step 2'!$B$4, E59, 0)","v":"Yes"},0]
["National perspectives","I understand how changes around the world affect Singapore and its future.",36,{"$f":"OFFSET('Step 1'!$B$6, C60, 0)","v":"No"},91,{"$f":"OFFSET('Step 2'!$B$4, E60, 0)","v":"No"},0]
["National perspectives","I understand the opportunities and challenges that Singapore has.",36,{"$f":"OFFSET('Step 1'!$B$6, C61, 0)","v":"No"},92,{"$f":"OFFSET('Step 2'!$B$4, E61, 0)","v":"No"},0]
["National perspectives","I understand the difficulties in trying to solve issues affecting Singapore's society.",36,{"$f":"OFFSET('Step 1'!$B$6, C62, 0)","v":"No"},93,{"$f":"OFFSET('Step 2'!$B$4, E62, 0)","v":"No"},0]
["Public policy awareness","I am aware of policies and programmes that tackle issues affecting Singapore's society.",37,{"$f":"OFFSET('Step 1'!$B$6, C63, 0)","v":"No"},96,{"$f":"OFFSET('Step 2'!$B$4, E63, 0)","v":"Yes"},0]
["Trust in the Government","I trust the government. ",41,{"$f":"OFFSET('Step 1'!$B$6, C64, 0)","v":"No"},102,{"$f":"OFFSET('Step 2'!$B$4, E64, 0)","v":"No"},0]
["Trust in the Government","I feel that the government understands the concerns of Singaporeans like me.",41,{"$f":"OFFSET('Step 1'!$B$6, C65, 0)","v":"No"},103,{"$f":"OFFSET('Step 2'!$B$4, E65, 0)","v":"Yes"},0]
["Trust in the Government","I feel that the government cares for the wellbeing of Singaporeans like me.",41,{"$f":"OFFSET('Step 1'!$B$6, C66, 0)","v":"No"},104,{"$f":"OFFSET('Step 2'!$B$4, E66, 0)","v":0},0]
["Trust in the Government","I feel that the government values my views.",41,{"$f":"OFFSET('Step 1'!$B$6, C67, 0)","v":"No"},105,{"$f":"OFFSET('Step 2'!$B$4, E67, 0)","v":0},0]
["Social support networks","I have people that I can talk with about my problems.",11,{"$f":"OFFSET('Step 1'!$B$6, C68, 0)","v":"No"},32,{"$f":"OFFSET('Step 2'!$B$4, E68, 0)","v":"No"},0]
["Social support networks","I have people whom I can turn to for support. ",11,{"$f":"OFFSET('Step 1'!$B$6, C69, 0)","v":"No"},33,{"$f":"OFFSET('Step 2'!$B$4, E69, 0)","v":"Yes"},0]
["Open to diversity","I respect the opinions of others, even if I do not agree with it. ",43,{"$f":"OFFSET('Step 1'!$B$6, C70, 0)","v":0},108,{"$f":"OFFSET('Step 2'!$B$4, E70, 0)","v":0},0]
["Open to diversity","I respect the values and beliefs of people who are of a different background from me.",43,{"$f":"OFFSET('Step 1'!$B$6, C71, 0)","v":0},109,{"$f":"OFFSET('Step 2'!$B$4, E71, 0)","v":"No"},{"$f":"IF(AND(F71=\"Yes\", D71=\"Yes\"), 1, 0)","v":0}]
["Empathy","I put myself in the shoes of others to understand how they feel.",46,{"$f":"OFFSET('Step 1'!$B$6, C72, 0)","v":"No"},112,{"$f":"OFFSET('Step 2'!$B$4, E72, 0)","v":0},0]
["Ability to effect change (community)","I believe that I can make a difference in the community.",47,{"$f":"OFFSET('Step 1'!$B$6, C73, 0)","v":"No"},115,{"$f":"OFFSET('Step 2'!$B$4, E73, 0)","v":0},0]
["Ability to effect change (community)","I believe I can help to shape society.",47,{"$f":"OFFSET('Step 1'!$B$6, C74, 0)","v":"No"},116,{"$f":"OFFSET('Step 2'!$B$4, E74, 0)","v":"Yes"},0]
["Civic Engagement (Community)","I am aware of the needs in the community.",49,{"$f":"OFFSET('Step 1'!$B$6, C75, 0)","v":"No"},122,{"$f":"OFFSET('Step 2'!$B$4, E75, 0)","v":"No"},0]
["Civic Engagement (Community)","I understand the ways that I can contribute to the community.",49,{"$f":"OFFSET('Step 1'!$B$6, C76, 0)","v":"No"},123,{"$f":"OFFSET('Step 2'!$B$4, E76, 0)","v":0},{"$f":"IF(AND(F76=\"Yes\", D76=\"Yes\"), 1, 0)","v":0}]
["Civic Engagement (Community)","I believe I have a role to play in improving the community.",49,{"$f":"OFFSET('Step 1'!$B$6, C77, 0)","v":"No"},124,{"$f":"OFFSET('Step 2'!$B$4, E77, 0)","v":0},0]
["Civic Engagement (Community)","I feel a strong conviction to give back to the community.",49,{"$f":"OFFSET('Step 1'!$B$6, C78, 0)","v":"No"},125,{"$f":"OFFSET('Step 2'!$B$4, E78, 0)","v":"Yes"},0]
["Civic Engagement (Community)","I actively participate in efforts that help to improve the community.",49,{"$f":"OFFSET('Step 1'!$B$6, C79, 0)","v":"No"},126,{"$f":"OFFSET('Step 2'!$B$4, E79, 0)","v":"Yes"},0]
["Civic Engagement (Community)","I participate in discussions on national, community or social issues.",49,{"$f":"OFFSET('Step 1'!$B$6, C80, 0)","v":"No"},127,{"$f":"OFFSET('Step 2'!$B$4, E80, 0)","v":"Yes"},0]
["Civic Engagement (Community)","I encourage my peers to participate in activities that help to improve the community.",49,{"$f":"OFFSET('Step 1'!$B$6, C81, 0)","v":"No"},128,{"$f":"OFFSET('Step 2'!$B$4, E81, 0)","v":"No"},0]
["Civic Engagement (Environmental)","I am aware of the effects of my actions on the environment.",50,{"$f":"OFFSET('Step 1'!$B$6, C82, 0)","v":0},131,{"$f":"OFFSET('Step 2'!$B$4, E82, 0)","v":0},0]
["Civic Engagement (Environmental)","I understand the ways that I can care for the environment.",50,{"$f":"OFFSET('Step 1'!$B$6, C83, 0)","v":0},132,{"$f":"OFFSET('Step 2'!$B$4, E83, 0)","v":0},0]
["Civic Engagement (Environmental)","I feel responsible towards the environment.",50,{"$f":"OFFSET('Step 1'!$B$6, C84, 0)","v":0},133,{"$f":"OFFSET('Step 2'!$B$4, E84, 0)","v":0},0]
["Civic Engagement (Environmental)","My efforts to care for the environment will make a difference.",50,{"$f":"OFFSET('Step 1'!$B$6, C85, 0)","v":0},134,{"$f":"OFFSET('Step 2'!$B$4, E85, 0)","v":0},0]
["Civic Engagement (Environmental)","I actively participate in efforts to care for the environment.",50,{"$f":"OFFSET('Step 1'!$B$6, C86, 0)","v":0},135,{"$f":"OFFSET('Step 2'!$B$4, E86, 0)","v":0},0]
["Civic Engagement (Environmental)","I encourage my peers to care for the environment.",50,{"$f":"OFFSET('Step 1'!$B$6, C87, 0)","v":0},136,{"$f":"OFFSET('Step 2'!$B$4, E87, 0)","v":0},0]
["Ability to Effect Change (Government)","I believe that I can influence government decisions on issues. ",48,{"$f":"OFFSET('Step 1'!$B$6, C88, 0)","v":"No"},119,{"$f":"OFFSET('Step 2'!$B$4, E88, 0)","v":"No"},0]
[null,null,null,null,null,null,1]
["Selected Process Improvement Questions:",null,null,null,null,null,1]
["Feedback Area","Question",null,null,null,null,1]
["Programme expectations","What are some new skill(s) or knowledge you hope to gain through programme_name?",null,"No",null,"Yes",{"$f":"IF(AND(F92=\"Yes\", D92=\"Yes\"), 1, 0)","v":0}]
["Programme expectations","What are your personal goal(s) for participating in programme_name?",null,"No",null,"Yes",{"$f":"IF(AND(F93=\"Yes\", D93=\"Yes\"), 1, 0)","v":0}]
["Programme implementation","What do you think of the duration of programme_name?",2,{"$f":"OFFSET('Step 3B CPP'!$B$5, C94, 0)","v":"No"},null,"Yes",0]
["Programme implementation","I feel that the pace of programme_name was…",3,{"$f":"OFFSET('Step 3B CPP'!$B$5, C95, 0)","v":"No"},null,"Yes",0]
["Programme implementation","The accommodation is of acceptable standard.",4,{"$f":"OFFSET('Step 3B CPP'!$B$5, C96, 0)","v":"No"},null,"Yes",0]
["Programme implementation","The meal(s) are of acceptable standard.",5,{"$f":"OFFSET('Step 3B CPP'!$B$5, C97, 0)","v":"No"},null,"Yes",0]
["Programme implementation","The facilities are of acceptable standard.",6,{"$f":"OFFSET('Step 3B CPP'!$B$5, C98, 0)","v":"No"},null,"Yes",0]
["Feedback on mentor","The mentor provided sufficient guidance. ",9,{"$f":"OFFSET('Step 3B CPP'!$B$5, C99, 0)","v":"No"},null,"Yes",0]
["Feedback on mentor","The mentor provided useful insights.",10,{"$f":"OFFSET('Step 3B CPP'!$B$5, C100, 0)","v":"No"},null,"Yes",0]
["Feedback on mentor","The mentor was able to facilitate learning through reflections and asking critical questions. ",11,{"$f":"OFFSET('Step 3B CPP'!$B$5, C101, 0)","v":"No"},null,"Yes",0]
["Feedback on mentor","The mentor provided useful feedback for my personal growth.",12,{"$f":"OFFSET('Step 3B CPP'!$B$5, C102, 0)","v":"No"},null,"Yes",0]
["Feedback on mentor","The mentor has the necessary knowledge and skills for the role.",13,{"$f":"OFFSET('Step 3B CPP'!$B$5, C103, 0)","v":"No"},null,"Yes",0]
["Feedback on mentor","The mentor was able to point me to useful resources.",14,{"$f":"OFFSET('Step 3B CPP'!$B$5, C104, 0)","v":"No"},null,"Yes",0]
["Feedback on mentor","The mentor is able to communicate well with the group.",15,{"$f":"OFFSET('Step 3B CPP'!$B$5, C105, 0)","v":"No"},null,"Yes",0]
["Feedback on mentor","The mentor was able to manage the group effectively",16,{"$f":"OFFSET('Step 3B CPP'!$B$5, C106, 0)","v":"No"},null,"Yes",0]
["Feedback on mentor","How would you rate the mentor as a whole?",17,{"$f":"OFFSET('Step 3B CPP'!$B$5, C107, 0)","v":"No"},null,"Yes",0]
["Programme content","What were your key takeaways? \nThis may include new skills and knowledge, or achievements of personal goals.",20,{"$f":"OFFSET('Step 3B CPP'!$B$5, C108, 0)","v":"No"},null,"Yes",0]
["Programme content","For each of the following  activities please indicate the extent to which you find them useful.",21,{"$f":"OFFSET('Step 3B CPP'!$B$5, C109, 0)","v":"No"},null,"Yes",0]
["Overall feedback","Overall, I am satisfied with  programme_name.",34,{"$f":"OFFSET('Step 3B CPP'!$B$5, C110, 0)","v":"No"},null,"Yes",0]
["Overall feedback","How would you rate  programme_name as a whole? ",35,{"$f":"OFFSET('Step 3B CPP'!$B$5, C111, 0)","v":"No"},null,"Yes",0]
["Overall feedback","I would recommend  programme_name to others. ",36,{"$f":"OFFSET('Step 3B CPP'!$B$5, C112, 0)","v":"No"},null,"Yes",0]
["Overall feedback","I would like to take part in other activities organised by organisation_name.",37,{"$f":"OFFSET('Step 3B CPP'!$B$5, C113, 0)","v":"No"},null,"Yes",0]
["Overall feedback","This programme has allowed me to expand my networks.",38,{"$f":"OFFSET('Step 3B CPP'!$B$5, C114, 0)","v":"No"},null,"Yes",0]
["Overall feedback","What worked well or could be improved? ",39,{"$f":"OFFSET('Step 3B CPP'!$B$5, C115, 0)","v":"No"},null,"Yes",0]
["Overall feedback","What else do you wish to be covered during programme_name?",40,{"$f":"OFFSET('Step 3B CPP'!$B$5, C116, 0)","v":"No"},null,"Yes",0]
[null,null,null,null,null,null,1]
["Submission generated:",{"$f":"NOW()","v":"2021-12-24T08:46:04.330"},null,null,null,null,1]
[null,null,null,null,null,null,1]
[null,null,null,null,null,null,1]

{"sheet":"CPP_survey","index":19,"n_rows":30,"n_cols":6,"rows_kept":30,"cut":false,"hidden":true,"merged":[[20,0,20,5],[21,0,21,5],[29,0,29,5],[12,0,12,5],[13,0,13,5],[14,0,14,5],[15,0,15,5],[17,0,17,5],[18,0,18,5],[8,0,8,5],[11,0,11,5],[0,0,0,5],[1,0,1,5],[2,0,2,5],[3,0,3,5],[6,0,6,5],[7,0,7,5]]}
[{"$f":"\"Post-Programme Survey for \"&PROPER(START!B17)","v":"Post-Programme Survey for "}]
["Thank you for participating in our programme! We would appreciate your help to take 10 to 15 minutes to complete the survey below. Your feedback will help us to improve, so we ask that you answer as honestly as possible. "]
["Learning Outcomes Before Participation"]
["Please select the option that best describes your response to the following statements AS OF BEFORE YOU HAD TAKEN PART IN THE PROGRAMME"]
[null,"Strongly disagree","Disagree","Neither agree nor disagree","Agree","Strongly agree"]
["I am able to persevere in the face of challenges.","☐","☐","☐","☐","☐"]
[]
["Learning Outcomes After Participation"]
["Please select the option that best describes your response to the following statements AS OF AFTER YOU HAD TAKEN PART IN THE PROGRAMME"]
[null,"Strongly disagree","Disagree","Neither agree nor disagree","Agree","Strongly agree"]
["I am able to persevere in the face of challenges.","☐","☐","☐","☐","☐"]
[]
["Participant Information"]
["For the last section, we would like to find out some information about yourself."]
["What is your gender?"]
["☐ Male     ☐ Female "]
[]
["What is your ethnicity?"]
["☐ Chinese     ☐ Malay     ☐ Indian     ☐ Others    "]
[]
["What is your age?"]
["☐ 15 to 19 years old     ☐ 20 to 24 years old     ☐ 25 to 29 years old     ☐ 30 to 34 years old    "]
["☐ Others, please specify: ____________________"]
[]
["What is your main occupational status?"]
["☐ Student (Secondary School)\n☐ Student (Junior College/Centralised Institute/IB & IP schools)\n☐ Student (ITE/Vocational institute)\n☐ Student (Polytechnic)\n☐ Student (University)\n☐6 Student (Private Educational Institutions)\n☐7 Working Adult\n☐8 Others (e.g. Madrasah/Homeschool/NS/Gap year)"]
[]
["Please provide the last 5 characters of your NRIC (last 4 digits + alphabet)."]
["This unique identifier will help us to match pre and post-programme responses in order to understand how the programme has impacted you. Please be rest assured that the responses are anonymous and kept confidential."]
["Thank you for your participation!"]

{"sheet":"CPP_survey_base","index":20,"n_rows":279,"n_cols":8,"rows_kept":279,"cut":false,"hidden":true,"merged":[[277,0,277,5],[260,0,260,5],[261,0,261,5],[262,0,262,5],[244,0,244,5],[245,0,245,5],[247,0,247,5],[248,0,248,5],[250,0,250,5],[255,0,255,5],[263,0,263,5],[265,0,265,5],[266,0,266,5],[268,0,268,5],[269,0,269,5],[242,0,242,5],[212,0,212,5],[213,0,213,5],[215,0,215,5],[216,0,216,5],[229,0,229,5],[234,0,234,5],[235,0,235,5],[236,0,236,5],[238,0,238,5],[239,0,239,5],[241,0,241,5],[209,0,209,5],[192,0,192,5],[193,0,193,5],[195,0,195,5],[196,0,196,5],[198,0,198,5],[199,0,199,5],[201,0,201,5],[202,0,202,5],[205,0,205,5],[206,0,206,5],[208,0,208,5],[190,0,190,5],[172,0,172,5],[175,0,175,5],[176,0,176,5],[178,0,178,5],[179,0,179,5],[181,0,181,5],[182,0,182,5],[184,0,184,5],[186,0,186,5],[187,0,187,5],[189,0,189,5],[171,0,171,5],[0,0,0,5],[1,0,1,5],[2,0,2,5],[3,0,3,5],[83,0,83,5],[84,0,84,5],[85,0,85,5],[165,0,165,5],[166,0,166,5],[168,0,168,5],[169,0,169,5]]}
[{"$f":"\"Post-Programme Survey for \"&PROPER(START!B17)","v":"Post-Programme Survey for "},null,null,null,null,null,null,1]
["Thank you for participating in our programme! We would appreciate your help to take 10 to 15 minutes to complete the survey below. Your feedback will help us to improve, so we ask that you answer as honestly as possible. ",null,null,null,null,null,null,1]
["Learning Outcomes Before Participation",null,null,null,null,null,null,1]
["Please select the option that best describes your response to the following statements AS OF BEFORE YOU HAD TAKEN PART IN THE PROGRAMME",null,null,null,null,null,null,1]
[null,"Strongly disagree","Disagree","Neither agree nor disagree","Agree","Strongly agree",null,1]
["I am able to persevere in the face of challenges.","☐","☐","☐","☐","☐",null,{"$f":"CPP_nyf_base!G11","v":0}]
["I do not give up even after experiencing failure. ","☐","☐","☐","☐","☐",null,{"$f":"CPP_nyf_base!G12","v":0}]
["I feel that I have a number of good qualities.","☐","☐","☐","☐","☐",null,{"$f":"CPP_nyf_base!G13","v":0}]
["I am able to do things as well as most other people. ","☐","☐","☐","☐","☐",null,{"$f":"CPP_nyf_base!G14","v":0}]
["I believe I can achieve my goals.","☐","☐","☐","☐","☐",null,{"$f":"CPP_nyf_base!G15","v":0}]
["I believe I have the ability to succeed in the things I want to do.","☐","☐","☐","☐","☐",null,{"$f":"CPP_nyf_base!G16","v":0}]
["I am confident I can succeed when I try my best.","☐","☐","☐","☐","☐",null,{"$f":"CPP_nyf_base!G17","v":0}]
["I seize the opportunity whenever I see one. ","☐","☐","☐","☐","☐",null,{"$f":"CPP_nyf_base!G18","v":0}]
["I take initiative instead of waiting for things to happen.","☐","☐","☐","☐","☐",null,{"$f":"CPP_nyf_base!G19","v":0}]
["I believe it is important to challenge myself to grow. ","☐","☐","☐","☐","☐",null,{"$f":"CPP_nyf_base!G20","v":0}]
["Difficult times are an opportunity for me to learn and grow as a person.","☐","☐","☐","☐","☐",null,{"$f":"CPP_nyf_base!G21","v":0}]
["I am aware of the skills that will help me to succeed in my career in future.","☐","☐","☐","☐","☐",null,{"$f":"CPP_nyf_base!G22","v":0}]
["I am aware of the potential career pathways that I can take to achieve my goals.","☐","☐","☐","☐","☐",null,{"$f":"CPP_nyf_base!G23","v":0}]
["I believe I can achieve my career goals. ","☐","☐","☐","☐","☐",null,{"$f":"CPP_nyf_base!G24","v":0}]
["I am aware of differences between cultures.","☐","☐","☐","☐","☐",null,{"$f":"CPP_nyf_base!G25","v":0}]
["I am aware of issues affecting other countries","☐","☐","☐","☐","☐",null,{"$f":"CPP_nyf_base!G26","v":0}]
["I understand how changes around the world affect other countries.","☐","☐","☐","☐","☐",null,{"$f":"CPP_nyf_base!G27","v":0}]
["I understand the opportunities and challenges other countries have.","☐","☐","☐","☐","☐",null,{"$f":"CPP_nyf_base!G28","v":0}]
["I understand the difficulties in trying to solve global issues.","☐","☐","☐","☐","☐",null,{"$f":"CPP_nyf_base!G29","v":0}]
["I know of ways to come up with new ideas. ","☐","☐","☐","☐","☐",null,{"$f":"CPP_nyf_base!G30","v":0}]
["I am able to link different information together. ","☐","☐","☐","☐","☐",null,{"$f":"CPP_nyf_base!G31","v":0}]
["I think through issues from different angles.","☐","☐","☐","☐","☐",null,{"$f":"CPP_nyf_base!G32","v":0}]
["I analyse an issue thoroughly before coming to a conclusion.","☐","☐","☐","☐","☐",null,{"$f":"CPP_nyf_base!G33","v":0}]
["I know how to identify and solve problems.","☐","☐","☐","☐","☐",null,{"$f":"CPP_nyf_base!G34","v":0}]
["I am able to solve problems that I face.","☐","☐","☐","☐","☐",null,{"$f":"CPP_nyf_base!G35","v":0}]
["After I have tried to solve a problem, I examine why it did or did not work.","☐","☐","☐","☐","☐",null,{"$f":"CPP_nyf_base!G36","v":0}]
["When solving a problem, I compare the pros and cons of my solutions. ","☐","☐","☐","☐","☐",null,{"$f":"CPP_nyf_base!G37","v":0}]
["When faced with a problem, I try to find out the cause of the problem.","☐","☐","☐","☐","☐",null,{"$f":"CPP_nyf_base!G38","v":0}]
["I know how to work well in a team.","☐","☐","☐","☐","☐",null,{"$f":"CPP_nyf_base!G39","v":0}]
["I support others in the team.","☐","☐","☐","☐","☐",null,{"$f":"CPP_nyf_base!G40","v":0}]
["I communicate well with my team members.","☐","☐","☐","☐","☐",null,{"$f":"CPP_nyf_base!G41","v":0}]
["I work well in a team.","☐","☐","☐","☐","☐",null,{"$f":"CPP_nyf_base!G42","v":0}]
["I treat other members of my team as equal to myself.","☐","☐","☐","☐","☐",null,{"$f":"CPP_nyf_base!G43","v":0}]
["I am able to work with people who have different working styles from me.","☐","☐","☐","☐","☐",null,{"$f":"CPP_nyf_base!G44","v":0}]
["I know how to work well with my stakeholders.","☐","☐","☐","☐","☐",null,{"$f":"CPP_nyf_base!G45","v":0}]
["I seek to understand the needs of my stakeholders.","☐","☐","☐","☐","☐",null,{"$f":"CPP_nyf_base!G46","v":0}]
["I am able to establish common understanding and build trust with my stakeholders.","☐","☐","☐","☐","☐",null,{"$f":"CPP_nyf_base!G47","v":0}]
["I work well with my stakeholders.","☐","☐","☐","☐","☐",null,{"$f":"CPP_nyf_base!G48","v":0}]
["I understand the factors that are critical to the smooth running of an event or a project. ","☐","☐","☐","☐","☐",null,{"$f":"CPP_nyf_base!G49","v":0}]
["I know how to identify symptoms of mental and emotional distress. ","☐","☐","☐","☐","☐",null,{"$f":"CPP_nyf_base!G50","v":0}]
["I am able to support those struggling mentally and emotionally. ","☐","☐","☐","☐","☐",null,{"$f":"CPP_nyf_base!G51","v":0}]
["I know how I can manage negative thoughts and emotions. ","☐","☐","☐","☐","☐",null,{"$f":"CPP_nyf_base!G52","v":0}]
["I know where to seek help when I have distressing thoughts and emotions beyond my control. ","☐","☐","☐","☐","☐",null,{"$f":"CPP_nyf_base!G53","v":0}]
["If I have distressing thoughts and emotions beyond my control, I would seek help.","☐","☐","☐","☐","☐",null,{"$f":"CPP_nyf_base!G54","v":0}]
["I know the steps that I can take to meet my financial goals.","☐","☐","☐","☐","☐",null,{"$f":"CPP_nyf_base!G55","v":0}]
["I believe it is important to stay physically healthy. ","☐","☐","☐","☐","☐",null,{"$f":"CPP_nyf_base!G56","v":0}]
["I make a conscious effort to maintain a healthy lifestyle.","☐","☐","☐","☐","☐",null,{"$f":"CPP_nyf_base!G57","v":0}]
["I am proud to be a Singaporean. ","☐","☐","☐","☐","☐",null,{"$f":"CPP_nyf_base!G58","v":0}]
["I am aware of issues affecting Singapore.","☐","☐","☐","☐","☐",null,{"$f":"CPP_nyf_base!G59","v":0}]
["I understand how changes around the world affect Singapore and its future.","☐","☐","☐","☐","☐",null,{"$f":"CPP_nyf_base!G60","v":0}]
["I understand the opportunities and challenges that Singapore has.","☐","☐","☐","☐","☐",null,{"$f":"CPP_nyf_base!G61","v":0}]
["I understand the difficulties in trying to solve issues affecting Singapore's society.","☐","☐","☐","☐","☐",null,{"$f":"CPP_nyf_base!G62","v":0}]
["I am aware of policies and programmes that tackle issues affecting Singapore's society.","☐","☐","☐","☐","☐",null,{"$f":"CPP_nyf_base!G63","v":0}]
["I trust the government. ","☐","☐","☐","☐","☐",null,{"$f":"CPP_nyf_base!G64","v":0}]
["I feel that the government understands the concerns of Singaporeans like me.","☐","☐","☐","☐","☐",null,{"$f":"CPP_nyf_base!G65","v":0}]
["I feel that the government cares for the wellbeing of Singaporeans like me.","☐","☐","☐","☐","☐",null,{"$f":"CPP_nyf_base!G66","v":0}]
["I feel that the government values my views.","☐","☐","☐","☐","☐",null,{"$f":"CPP_nyf_base!G67","v":0}]
["I have people that I can talk with about my problems.","☐","☐","☐","☐","☐",null,{"$f":"CPP_nyf_base!G68","v":0}]
["I have people whom I can turn to for support. ","☐","☐","☐","☐","☐",null,{"$f":"CPP_nyf_base!G69","v":0}]
["I respect the opinions of others, even if I do not agree with it. ","☐","☐","☐","☐","☐",null,{"$f":"CPP_nyf_base!G70","v":0}]
["I respect the values and beliefs of people who are of a different background from me.","☐","☐","☐","☐","☐",null,{"$f":"CPP_nyf_base!G71","v":0}]
["I put myself in the shoes of others to understand how they feel.","☐","☐","☐","☐","☐",null,{"$f":"CPP_nyf_base!G72","v":0}]
["I believe that I can make a difference in the community.","☐","☐","☐","☐","☐",null,{"$f":"CPP_nyf_base!G73","v":0}]
["I believe I can help to shape society.","☐","☐","☐","☐","☐",null,{"$f":"CPP_nyf_base!G74","v":0}]
["I am aware of the needs in the community.","☐","☐","☐","☐","☐",null,{"$f":"CPP_nyf_base!G75","v":0}]
["I understand the ways that I can contribute to the community.","☐","☐","☐","☐","☐",null,{"$f":"CPP_nyf_base!G76","v":0}]
["I believe I have a role to play in improving the community.","☐","☐","☐","☐","☐",null,{"$f":"CPP_nyf_base!G77","v":0}]
["I feel a strong conviction to give back to the community.","☐","☐","☐","☐","☐",null,{"$f":"CPP_nyf_base!G78","v":0}]
["I actively participate in efforts that help to improve the community.","☐","☐","☐","☐","☐",null,{"$f":"CPP_nyf_base!G79","v":0}]
["I participate in discussions on national, community or social issues.","☐","☐","☐","☐","☐",null,{"$f":"CPP_nyf_base!G80","v":0}]
["I encourage my peers to participate in activities that help to improve the community.","☐","☐","☐","☐","☐",null,{"$f":"CPP_nyf_base!G81","v":0}]
["I am aware of the effects of my actions on the environment.","☐","☐","☐","☐","☐",null,{"$f":"CPP_nyf_base!G82","v":0}]
["I understand the ways that I can care for the environment.","☐","☐","☐","☐","☐",null,{"$f":"CPP_nyf_base!G83","v":0}]
["I feel responsible towards the environment.","☐","☐","☐","☐","☐",null,{"$f":"CPP_nyf_base!G84","v":0}]
["My efforts to care for the environment will make a difference.","☐","☐","☐","☐","☐",null,{"$f":"CPP_nyf_base!G85","v":0}]
["I actively participate in efforts to care for the environment.","☐","☐","☐","☐","☐",null,{"$f":"CPP_nyf_base!G86","v":0}]
["I encourage my peers to care for the environment.","☐","☐","☐","☐","☐",null,{"$f":"CPP_nyf_base!G87","v":0}]
["I believe that I can influence government decisions on issues. ","☐","☐","☐","☐","☐",null,{"$f":"CPP_nyf_base!G88","v":0}]
[null,null,null,null,null,null,null,1]
["Learning Outcomes After Participation",null,null,null,null,null,null,1]
["Please select the option that best describes your response to the following statements AS OF AFTER YOU HAD TAKEN PART IN THE PROGRAMME",null,null,null,null,null,null,1]
[null,"Strongly disagree","Disagree","Neither agree nor disagree","Agree","Strongly agree",null,1]
["I am able to persevere in the face of challenges.","☐","☐","☐","☐","☐",null,{"$f":"H6","v":0}]
["I do not give up even after experiencing failure. ","☐","☐","☐","☐","☐",null,{"$f":"H7","v":0}]
["I feel that I have a number of good qualities.","☐","☐","☐","☐","☐",null,0]
["I am able to do things as well as most other people. ","☐","☐","☐","☐","☐",null,0]
["I believe I can achieve my goals.","☐","☐","☐","☐","☐",null,0]
["I believe I have the ability to succeed in the things I want to do.","☐","☐","☐","☐","☐",null,0]
["I am confident I can succeed when I try my best.","☐","☐","☐","☐","☐",null,0]
["I seize the opportunity whenever I see one. ","☐","☐","☐","☐","☐",null,0]
["I take initiative instead of waiting for things to happen.","☐","☐","☐","☐","☐",null,0]
["I believe it is important to challenge myself to grow. ","☐","☐","☐","☐","☐",null,0]
["Difficult times are an opportunity for me to learn and grow as a person.","☐","☐","☐","☐","☐",null,0]
["I am aware of the skills that will help me to succeed in my career in future.","☐","☐","☐","☐","☐",null,0]
["I am aware of the potential career pathways that I can take to achieve my goals.","☐","☐","☐","☐","☐",null,0]
["I believe I can achieve my career goals. ","☐","☐","☐","☐","☐",null,0]
["I am aware of differences between cultures.","☐","☐","☐","☐","☐",null,0]
["I am aware of issues affecting other countries","☐","☐","☐","☐","☐",null,0]
["I understand how changes around the world affect other countries.","☐","☐","☐","☐","☐",null,0]
["I understand the opportunities and challenges other countries have.","☐","☐","☐","☐","☐",null,0]
["I understand the difficulties in trying to solve global issues.","☐","☐","☐","☐","☐",null,0]
["I know of ways to come up with new ideas. ","☐","☐","☐","☐","☐",null,0]
["I am able to link different information together. ","☐","☐","☐","☐","☐",null,0]
["I think through issues from different angles.","☐","☐","☐","☐","☐",null,0]
["I analyse an issue thoroughly before coming to a conclusion.","☐","☐","☐","☐","☐",null,0]
["I know how to identify and solve problems.","☐","☐","☐","☐","☐",null,0]
["I am able to solve problems that I face.","☐","☐","☐","☐","☐",null,0]
["After I have tried to solve a problem, I examine why it did or did not work.","☐","☐","☐","☐","☐",null,0]
["When solving a problem, I compare the pros and cons of my solutions. ","☐","☐","☐","☐","☐",null,0]
["When faced with a problem, I try to find out the cause of the problem.","☐","☐","☐","☐","☐",null,0]
["I know how to work well in a team.","☐","☐","☐","☐","☐",null,0]
["I support others in the team.","☐","☐","☐","☐","☐",null,0]
["I communicate well with my team members.","☐","☐","☐","☐","☐",null,0]
["I work well in a team.","☐","☐","☐","☐","☐",null,0]
["I treat other members of my team as equal to myself.","☐","☐","☐","☐","☐",null,0]
["I am able to work with people who have different working styles from me.","☐","☐","☐","☐","☐",null,0]
["I know how to work well with my stakeholders.","☐","☐","☐","☐","☐",null,0]
["I seek to understand the needs of my stakeholders.","☐","☐","☐","☐","☐",null,0]
["I am able to establish common understanding and build trust with my stakeholders.","☐","☐","☐","☐","☐",null,0]
["I work well with my stakeholders.","☐","☐","☐","☐","☐",null,0]
["I understand the factors that are critical to the smooth running of an event or a project. ","☐","☐","☐","☐","☐",null,0]
["I know how to identify symptoms of mental and emotional distress. ","☐","☐","☐","☐","☐",null,0]
["I am able to support those struggling mentally and emotionally. ","☐","☐","☐","☐","☐",null,0]
["I know how I can manage negative thoughts and emotions. ","☐","☐","☐","☐","☐",null,0]
["I know where to seek help when I have distressing thoughts and emotions beyond my control. ","☐","☐","☐","☐","☐",null,0]
["If I have distressing thoughts and emotions beyond my control, I would seek help.","☐","☐","☐","☐","☐",null,0]
["I know the steps that I can take to meet my financial goals.","☐","☐","☐","☐","☐",null,0]
["I believe it is important to stay physically healthy. ","☐","☐","☐","☐","☐",null,0]
["I make a conscious effort to maintain a healthy lifestyle.","☐","☐","☐","☐","☐",null,0]
["I am proud to be a Singaporean. ","☐","☐","☐","☐","☐",null,0]
["I am aware of issues affecting Singapore.","☐","☐","☐","☐","☐",null,0]
["I understand how changes around the world affect Singapore and its future.","☐","☐","☐","☐","☐",null,0]
["I understand the opportunities and challenges that Singapore has.","☐","☐","☐","☐","☐",null,0]
["I understand the difficulties in trying to solve issues affecting Singapore's society.","☐","☐","☐","☐","☐",null,0]
["I am aware of policies and programmes that tackle issues affecting Singapore's society.","☐","☐","☐","☐","☐",null,0]
["I trust the government. ","☐","☐","☐","☐","☐",null,0]
["I feel that the government understands the concerns of Singaporeans like me.","☐","☐","☐","☐","☐",null,0]
["I feel that the government cares for the wellbeing of Singaporeans like me.","☐","☐","☐","☐","☐",null,0]
["I feel that the government values my views.","☐","☐","☐","☐","☐",null,0]
["I have people that I can talk with about my problems.","☐","☐","☐","☐","☐",null,0]
["I have people whom I can turn to for support. ","☐","☐","☐","☐","☐",null,0]
["I respect the opinions of others, even if I do not agree with it. ","☐","☐","☐","☐","☐",null,0]
["I respect the values and beliefs of people who are of a different background from me.","☐","☐","☐","☐","☐",null,0]
["I put myself in the shoes of others to understand how they feel.","☐","☐","☐","☐","☐",null,0]
["I believe that I can make a difference in the community.","☐","☐","☐","☐","☐",null,0]
["I believe I can help to shape society.","☐","☐","☐","☐","☐",null,0]
["I am aware of the needs in the community.","☐","☐","☐","☐","☐",null,0]
["I understand the ways that I can contribute to the community.","☐","☐","☐","☐","☐",null,{"$f":"H71","v":0}]
["I believe I have a role to play in improving the community.","☐","☐","☐","☐","☐",null,0]
["I feel a strong conviction to give back to the community.","☐","☐","☐","☐","☐",null,0]
["I actively participate in efforts that help to improve the community.","☐","☐","☐","☐","☐",null,0]
["I participate in discussions on national, community or social issues.","☐","☐","☐","☐","☐",null,0]
["I encourage my peers to participate in activities that help to improve the community.","☐","☐","☐","☐","☐",null,0]
["I am aware of the effects of my actions on the environment.","☐","☐","☐","☐","☐",null,0]
["I understand the ways that I can care for the environment.","☐","☐","☐","☐","☐",null,0]
["I feel responsible towards the environment.","☐","☐","☐","☐","☐",null,0]
["My efforts to care for the environment will make a difference.","☐","☐","☐","☐","☐",null,0]
["I actively participate in efforts to care for the environment.","☐","☐","☐","☐","☐",null,0]
["I encourage my peers to care for the environment.","☐","☐","☐","☐","☐",null,0]
["I believe that I can influence government decisions on issues. ","☐","☐","☐","☐","☐",null,0]
[null,null,null,null,null,null,null,1]
["Feedback on Programme Implementation",null,null,null,null,null,null,{"$f":"IF(SUM(H168:H184)=0, 0, 1)","v":0}]
["Duration and Pace of the Programme",null,null,null,null,null,null,{"$f":"IF(SUM(H169:H174)=0, 0, 1)","v":0}]
[{"$f":"'Step 3B CPP'!D7","v":0},null,null,null,null,null,null,{"$f":"CPP_nyf_base!G94","v":0}]
["☐ Too Slow     ☐ Slow     ☐ Just Right     ☐ Long     ☐ Too Long     ",null,null,null,null,null,null,{"$f":"H169","v":0}]
[null,null,null,null,null,null,null,{"$f":"H170","v":0}]
[{"$f":"'Step 3B CPP'!D8","v":0},null,null,null,null,null,null,{"$f":"CPP_nyf_base!G95","v":0}]
["☐ Too Slow     ☐ Slow     ☐ Just Right     ☐ Fast     ☐ Too Fast     ",null,null,null,null,null,null,{"$f":"H172","v":0}]
[null,null,null,null,null,null,null,{"$f":"H173","v":0}]
["Facilities and Logistics",null,null,null,null,null,null,{"$f":"IF(SUM(H176:H184)=0, 0, 1)","v":0}]
["The accommodation is of acceptable standard.",null,null,null,null,null,null,{"$f":"CPP_nyf_base!G96","v":0}]
["☐ Strongly disagree     ☐ Disagree     ☐ Neither agree nor disagree     ☐ Agree     ☐ Strongly agree     ",null,null,null,null,null,null,{"$f":"H176","v":0}]
[null,null,null,null,null,null,null,{"$f":"H177","v":0}]
["The meal(s) are of acceptable standard.",null,null,null,null,null,null,{"$f":"CPP_nyf_base!G97","v":0}]
["☐ Strongly disagree     ☐ Disagree     ☐ Neither agree nor disagree     ☐ Agree     ☐ Strongly agree     ",null,null,null,null,null,null,{"$f":"H179","v":0}]
[null,null,null,null,null,null,null,{"$f":"H180","v":0}]
["The facilities are of acceptable standard.",null,null,null,null,null,null,{"$f":"CPP_nyf_base!G98","v":0}]
["☐ Strongly disagree     ☐ Disagree     ☐ Neither agree nor disagree     ☐ Agree     ☐ Strongly agree     ",null,null,null,null,null,null,{"$f":"H182","v":0}]
[null,null,null,null,null,null,null,{"$f":"H183","v":0}]
["Feedback on Mentor/Facilitator/Trainer/Speaker",null,null,null,null,null,null,{"$f":"IF(SUM(H186:H215)=0, 0, 1)","v":0}]
["Teaching Effectiveness",null,null,null,null,null,null,{"$f":"IF(SUM(H187:H204)=0, 0, 1)","v":0}]
[{"$f":"'Step 3B CPP'!D14","v":0},null,null,null,null,null,null,{"$f":"CPP_nyf_base!G99","v":0}]
["☐ Strongly disagree     ☐ Disagree     ☐ Neither agree nor disagree     ☐ Agree     ☐ Strongly agree     ",null,null,null,null,null,null,{"$f":"H187","v":0}]
[null,null,null,null,null,null,null,{"$f":"H188","v":0}]
[{"$f":"'Step 3B CPP'!D15","v":0},null,null,null,null,null,null,{"$f":"CPP_nyf_base!G100","v":0}]
["☐ Strongly disagree     ☐ Disagree     ☐ Neither agree nor disagree     ☐ Agree     ☐ Strongly agree     ",null,null,null,null,null,null,{"$f":"H190","v":0}]
[null,null,null,null,null,null,null,{"$f":"H191","v":0}]
[{"$f":"'Step 3B CPP'!D16","v":0},null,null,null,null,null,null,{"$f":"CPP_nyf_base!G101","v":0}]
["☐ Strongly disagree     ☐ Disagree     ☐ Neither agree nor disagree     ☐ Agree     ☐ Strongly agree     ",null,null,null,null,null,null,{"$f":"H193","v":0}]
[null,null,null,null,null,null,null,{"$f":"H194","v":0}]
[{"$f":"'Step 3B CPP'!D17","v":0},null,null,null,null,null,null,{"$f":"CPP_nyf_base!G102","v":0}]
["☐ Strongly disagree     ☐ Disagree     ☐ Neither agree nor disagree     ☐ Agree     ☐ Strongly agree     ",null,null,null,null,null,null,{"$f":"H196","v":0}]
[null,null,null,null,null,null,null,{"$f":"H197","v":0}]
[{"$f":"'Step 3B CPP'!D18","v":0},null,null,null,null,null,null,{"$f":"CPP_nyf_base!G103","v":0}]
["☐ Strongly disagree     ☐ Disagree     ☐ Neither agree nor disagree     ☐ Agree     ☐ Strongly agree     ",null,null,null,null,null,null,{"$f":"H199","v":0}]
[null,null,null,null,null,null,null,{"$f":"H200","v":0}]
[{"$f":"'Step 3B CPP'!D19","v":0},null,null,null,null,null,null,{"$f":"CPP_nyf_base!G104","v":0}]
["☐ Strongly disagree     ☐ Disagree     ☐ Neither agree nor disagree     ☐ Agree     ☐ Strongly agree     ",null,null,null,null,null,null,{"$f":"H202","v":0}]
[null,null,null,null,null,null,null,{"$f":"H203","v":0}]
["Ability to Manage Group Dynamics",null,null,null,null,null,null,{"$f":"IF(SUM(H206:H211)=0, 0, 1)","v":0}]
[{"$f":"'Step 3B CPP'!D20","v":0},null,null,null,null,null,null,{"$f":"CPP_nyf_base!G105","v":0}]
["☐ Strongly disagree     ☐ Disagree     ☐ Neither agree nor disagree     ☐ Agree     ☐ Strongly agree     ",null,null,null,null,null,null,{"$f":"H206","v":0}]
[null,null,null,null,null,null,null,{"$f":"H207","v":0}]
[{"$f":"'Step 3B CPP'!D21","v":0},null,null,null,null,null,null,{"$f":"CPP_nyf_base!G106","v":0}]
["☐ Strongly disagree     ☐ Disagree     ☐ Neither agree nor disagree     ☐ Agree     ☐ Strongly agree     ",null,null,null,null,null,null,{"$f":"H209","v":0}]
[null,null,null,null,null,null,null,{"$f":"H210","v":0}]
["Overall Effectiveness",null,null,null,null,null,null,{"$f":"IF(SUM(H213:H215)=0, 0, 1)","v":0}]
[{"$f":"'Step 3B CPP'!D22","v":0},null,null,null,null,null,null,{"$f":"CPP_nyf_base!G107","v":0}]
["☐ Very poor     ☐ Poor     ☐ Fair     ☐ Good     ☐ Very good     ",null,null,null,null,null,null,{"$f":"H213","v":0}]
[null,null,null,null,null,null,null,{"$f":"H214","v":0}]
["Feedback on Programme Content",null,null,null,null,null,null,{"$f":"IF(SUM(H217:H234)=0, 0, 1)","v":0}]
["For each of the following modules/ activities please indicate the extent to which you find them useful. Kindly tick your answer in the boxes on the right. For activities which you did not participate in, or which are not applicable, you may leave them blank.",null,null,null,null,null,null,{"$f":"CPP_nyf_base!G109","v":0}]
[null,"Not at all","To a little extent","To some extent","To a great extent","To a very great extent",null,{"$f":"H217","v":0}]
[{"$f":"'Step 3B CPP'!E27","v":0},"☐","☐","☐","☐","☐",null,{"$f":"IF(AND($H$218=1, 'Step 3B CPP'!E27<>\"\"), 1, 0)","v":0}]
[{"$f":"'Step 3B CPP'!E28","v":0},"☐","☐","☐","☐","☐",null,{"$f":"IF(AND($H$218=1, 'Step 3B CPP'!E28<>\"\"), 1, 0)","v":0}]
[{"$f":"'Step 3B CPP'!E29","v":0},"☐","☐","☐","☐","☐",null,{"$f":"IF(AND($H$218=1, 'Step 3B CPP'!E29<>\"\"), 1, 0)","v":0}]
[{"$f":"'Step 3B CPP'!E30","v":0},"☐","☐","☐","☐","☐",null,{"$f":"IF(AND($H$218=1, 'Step 3B CPP'!E30<>\"\"), 1, 0)","v":0}]
[{"$f":"'Step 3B CPP'!E31","v":0},"☐","☐","☐","☐","☐",null,{"$f":"IF(AND($H$218=1, 'Step 3B CPP'!E31<>\"\"), 1, 0)","v":0}]
[{"$f":"'Step 3B CPP'!E32","v":0},"☐","☐","☐","☐","☐",null,{"$f":"IF(AND($H$218=1, 'Step 3B CPP'!E32<>\"\"), 1, 0)","v":0}]
[{"$f":"'Step 3B CPP'!E33","v":0},"☐","☐","☐","☐","☐",null,{"$f":"IF(AND($H$218=1, 'Step 3B CPP'!E33<>\"\"), 1, 0)","v":0}]
[{"$f":"'Step 3B CPP'!E34","v":0},"☐","☐","☐","☐","☐",null,{"$f":"IF(AND($H$218=1, 'Step 3B CPP'!E34<>\"\"), 1, 0)","v":0}]
[{"$f":"'Step 3B CPP'!E35","v":0},"☐","☐","☐","☐","☐",null,{"$f":"IF(AND($H$218=1, 'Step 3B CPP'!E35<>\"\"), 1, 0)","v":0}]
[{"$f":"'Step 3B CPP'!E36","v":0},"☐","☐","☐","☐","☐",null,{"$f":"IF(AND($H$218=1, 'Step 3B CPP'!E36<>\"\"), 1, 0)","v":0}]
[null,null,null,null,null,null,null,{"$f":"H218","v":0}]
["What were your key takeaways?\nThis may include new skills and knowledge, or achievements of personal goals. ",null,null,null,null,null,null,{"$f":"CPP_nyf_base!G108","v":0}]
[null,null,null,null,null,null,null,{"$f":"H230","v":0}]
[null,null,null,null,null,null,null,{"$f":"H231","v":0}]
[null,null,null,null,null,null,null,{"$f":"H232","v":0}]
[null,null,null,null,null,null,null,{"$f":"H233","v":0}]
["Overall Programme Feedback",null,null,null,null,null,null,{"$f":"IF(SUM(H236:H260)=0, 0, 1)","v":0}]
[{"$f":"'Step 3B CPP'!D39","v":0},null,null,null,null,null,null,{"$f":"CPP_nyf_base!G110","v":0}]
["☐ Strongly disagree     ☐ Disagree     ☐ Neither agree nor disagree     ☐ Agree     ☐ Strongly agree     ",null,null,null,null,null,null,{"$f":"H236","v":0}]
[null,null,null,null,null,null,null,0]
[{"$f":"'Step 3B CPP'!D40","v":0},null,null,null,null,null,null,{"$f":"CPP_nyf_base!G111","v":0}]
["☐ Very poor     ☐ Poor     ☐ Fair     ☐ Good     ☐ Very good     ",null,null,null,null,null,null,0]
[null,null,null,null,null,null,null,0]
[{"$f":"'Step 3B CPP'!D41","v":0},null,null,null,null,null,null,{"$f":"CPP_nyf_base!G112","v":0}]
["☐ Strongly disagree     ☐ Disagree     ☐ Neither agree nor disagree     ☐ Agree     ☐ Strongly agree     ",null,null,null,null,null,null,0]
[null,null,null,null,null,null,null,0]
[{"$f":"'Step 3B CPP'!D42","v":0},null,null,null,null,null,null,{"$f":"CPP_nyf_base!G113","v":0}]
["☐ Yes     ☐ No ",null,null,null,null,null,null,0]
[null,null,null,null,null,null,null,0]
["This programme has allowed me to expand my networks.",null,null,null,null,null,null,{"$f":"CPP_nyf_base!G114","v":0}]
["☐ Strongly disagree     ☐ Disagree     ☐ Neither agree nor disagree     ☐ Agree     ☐ Strongly agree     ",null,null,null,null,null,null,0]
[null,null,null,null,null,null,null,0]
["What worked well or could be improved? ",null,null,null,null,null,null,{"$f":"CPP_nyf_base!G115","v":0}]
[null,null,null,null,null,null,null,0]
[null,null,null,null,null,null,null,0]
[null,null,null,null,null,null,null,0]
[null,null,null,null,null,null,null,0]
[{"$f":"'Step 3B CPP'!D45","v":0},null,null,null,null,null,null,{"$f":"CPP_nyf_base!G116","v":0}]
[null,null,null,null,null,null,null,0]
[null,null,null,null,null,null,null,0]
[null,null,null,null,null,null,null,0]
[null,null,null,null,null,null,null,0]
["Participant Information",null,null,null,null,null,null,1]
["For the last section, we would like to find out some information about yourself.",null,null,null,null,null,null,1]
["What is your gender?",null,null,null,null,null,null,1]
["☐ Male     ☐ Female ",null,null,null,null,null,null,1]
[null,null,null,null,null,null,null,1]
["What is your ethnicity?",null,null,null,null,null,null,1]
["☐ Chinese     ☐ Malay     ☐ Indian     ☐ Others    ",null,null,null,null,null,null,1]
[null,null,null,null,null,null,null,1]
["What is your age?",null,null,null,null,null,null,1]
["☐ 15 to 19 years old     ☐ 20 to 24 years old     ☐ 25 to 29 years old     ☐ 30 to 34 years old    ",null,null,null,null,null,null,1]
["☐ Others, please specify: ____________________",null,null,null,null,null,null,1]
[null,null,null,null,null,null,null,1]
["What is your main occupational status?",null,null,null,null,null,null,1]
["☐ Student (Secondary School)\n☐ Student (Junior College/Centralised Institute/IB & IP schools)\n☐ Student (ITE/Vocational institute)\n☐ Student (Polytechnic)\n☐ Student (University)\n☐6 Student (Private Educational Institutions)\n☐7 Working Adult\n☐8 Others (e.g. Madrasah/Homeschool/NS/Gap year)",null,null,null,null,null,null,1]
[null,null,null,null,null,null,null,1]
["Please provide the last 5 characters of your NRIC (last 4 digits + alphabet).",null,null,null,null,null,null,1]
["This unique identifier will help us to match pre and post-programme responses in order to understand how the programme has impacted you. Please be rest assured that the responses are anonymous and kept confidential.",null,null,null,null,null,null,1]
["Thank you for your participation!",null,null,null,null,null,null,1]
[null,null,null,null,null,null,null,1]

{"sheet":"Custom_survey_base","index":21,"n_rows":193,"n_cols":8,"rows_kept":193,"cut":false,"hidden":true,"merged":[[186,0,186,5],[187,0,187,5],[178,0,178,5],[179,0,179,5],[180,0,180,5],[181,0,181,5],[183,0,183,5],[184,0,184,5],[173,0,173,5],[153,0,153,5],[154,0,154,5],[156,0,156,5],[157,0,157,5],[159,0,159,5],[160,0,160,5],[162,0,162,5],[163,0,163,5],[165,0,165,5],[166,0,166,5],[168,0,168,5],[152,0,152,5],[119,0,119,5],[120,0,120,5],[123,0,123,5],[124,0,124,5],[126,0,126,5],[127,0,127,5],[130,0,130,5],[131,0,131,5],[133,0,133,5],[134,0,134,5],[147,0,147,5],[117,0,117,5],[100,0,100,5],[102,0,102,5],[104,0,104,5],[105,0,105,5],[107,0,107,5],[108,0,108,5],[110,0,110,5],[111,0,111,5],[113,0,113,5],[114,0,114,5],[116,0,116,5],[0,0,0,5],[1,0,1,5],[2,0,2,5],[3,0,3,5],[99,0,99,5],[83,0,83,5],[84,0,84,5],[86,0,86,5],[87,0,87,5],[89,0,89,5],[90,0,90,5],[93,0,93,5],[94,0,94,5],[96,0,96,5],[97,0,97,5]]}
[{"$f":"\"Programme Survey for \"&PROPER(START!B17)","v":"Programme Survey for "},null,null,null,null,null,null,1]
["Thank you for participating in our programme! We would appreciate your help to take 10 to 15 minutes to complete the survey below. Your feedback will help us to improve, so we ask that you answer as honestly as possible. ",null,null,null,null,null,null,1]
["Learning Outcomes",null,null,null,null,null,null,1]
["Please select the option that best describes your response to the following statements.",null,null,null,null,null,null,1]
[null,"Strongly disagree","Disagree","Neither agree nor disagree","Agree","Strongly agree",null,1]
["I am able to persevere in the face of challenges.","☐","☐","☐","☐","☐",null,{"$f":"Custom_nyf_base!G11","v":0}]
["I do not give up even after experiencing failure. ","☐","☐","☐","☐","☐",null,{"$f":"Custom_nyf_base!G12","v":0}]
["I feel that I have a number of good qualities.","☐","☐","☐","☐","☐",null,{"$f":"Custom_nyf_base!G13","v":0}]
["I am able to do things as well as most other people. ","☐","☐","☐","☐","☐",null,{"$f":"Custom_nyf_base!G14","v":0}]
["I believe I can achieve my goals.","☐","☐","☐","☐","☐",null,{"$f":"Custom_nyf_base!G15","v":0}]
["I believe I have the ability to succeed in the things I want to do.","☐","☐","☐","☐","☐",null,{"$f":"Custom_nyf_base!G16","v":0}]
["I am confident I can succeed when I try my best.","☐","☐","☐","☐","☐",null,{"$f":"Custom_nyf_base!G17","v":0}]
["I seize the opportunity whenever I see one. ","☐","☐","☐","☐","☐",null,{"$f":"Custom_nyf_base!G18","v":0}]
["I take initiative instead of waiting for things to happen.","☐","☐","☐","☐","☐",null,{"$f":"Custom_nyf_base!G19","v":0}]
["I believe it is important to challenge myself to grow. ","☐","☐","☐","☐","☐",null,{"$f":"Custom_nyf_base!G20","v":0}]
["Difficult times are an opportunity for me to learn and grow as a person.","☐","☐","☐","☐","☐",null,{"$f":"Custom_nyf_base!G21","v":0}]
["I am aware of the skills that will help me to succeed in my career in future.","☐","☐","☐","☐","☐",null,{"$f":"Custom_nyf_base!G22","v":0}]
["I am aware of the potential career pathways that I can take to achieve my goals.","☐","☐","☐","☐","☐",null,{"$f":"Custom_nyf_base!G23","v":0}]
["I believe I can achieve my career goals. ","☐","☐","☐","☐","☐",null,{"$f":"Custom_nyf_base!G24","v":0}]
["I am aware of differences between cultures.","☐","☐","☐","☐","☐",null,{"$f":"Custom_nyf_base!G25","v":0}]
["I am aware of issues affecting other countries","☐","☐","☐","☐","☐",null,{"$f":"Custom_nyf_base!G26","v":0}]
["I understand how changes around the world affect other countries.","☐","☐","☐","☐","☐",null,{"$f":"Custom_nyf_base!G27","v":0}]
["I understand the opportunities and challenges other countries have.","☐","☐","☐","☐","☐",null,{"$f":"Custom_nyf_base!G28","v":0}]
["I understand the difficulties in trying to solve global issues.","☐","☐","☐","☐","☐",null,{"$f":"Custom_nyf_base!G29","v":0}]
["I know of ways to come up with new ideas. ","☐","☐","☐","☐","☐",null,{"$f":"Custom_nyf_base!G30","v":0}]
["I am able to link different information together. ","☐","☐","☐","☐","☐",null,{"$f":"Custom_nyf_base!G31","v":0}]
["I think through issues from different angles.","☐","☐","☐","☐","☐",null,{"$f":"Custom_nyf_base!G32","v":0}]
["I analyse an issue thoroughly before coming to a conclusion.","☐","☐","☐","☐","☐",null,{"$f":"Custom_nyf_base!G33","v":0}]
["I know how to identify and solve problems.","☐","☐","☐","☐","☐",null,{"$f":"Custom_nyf_base!G34","v":0}]
["I am able to solve problems that I face.","☐","☐","☐","☐","☐",null,{"$f":"Custom_nyf_base!G35","v":0}]
["After I have tried to solve a problem, I examine why it did or did not work.","☐","☐","☐","☐","☐",null,{"$f":"Custom_nyf_base!G36","v":0}]
["When solving a problem, I compare the pros and cons of my solutions. ","☐","☐","☐","☐","☐",null,{"$f":"Custom_nyf_base!G37","v":0}]
["When faced with a problem, I try to find out the cause of the problem.","☐","☐","☐","☐","☐",null,{"$f":"Custom_nyf_base!G38","v":0}]
["I know how to work well in a team.","☐","☐","☐","☐","☐",null,{"$f":"Custom_nyf_base!G39","v":0}]
["I support others in the team.","☐","☐","☐","☐","☐",null,{"$f":"Custom_nyf_base!G40","v":0}]
["I communicate well with my team members.","☐","☐","☐","☐","☐",null,{"$f":"Custom_nyf_base!G41","v":0}]
["I work well in a team.","☐","☐","☐","☐","☐",null,{"$f":"Custom_nyf_base!G42","v":0}]
["I treat other members of my team as equal to myself.","☐","☐","☐","☐","☐",null,{"$f":"Custom_nyf_base!G43","v":0}]
["I am able to work with people who have different working styles from me.","☐","☐","☐","☐","☐",null,{"$f":"Custom_nyf_base!G44","v":0}]
["I know how to work well with my stakeholders.","☐","☐","☐","☐","☐",null,{"$f":"Custom_nyf_base!G45","v":0}]
["I seek to understand the needs of my stakeholders.","☐","☐","☐","☐","☐",null,{"$f":"Custom_nyf_base!G46","v":0}]
["I am able to establish common understanding and build trust with my stakeholders.","☐","☐","☐","☐","☐",null,{"$f":"Custom_nyf_base!G47","v":0}]
["I work well with my stakeholders.","☐","☐","☐","☐","☐",null,{"$f":"Custom_nyf_base!G48","v":0}]
["I understand the factors that are critical to the smooth running of an event or a project. ","☐","☐","☐","☐","☐",null,{"$f":"Custom_nyf_base!G49","v":0}]
["I know how to identify symptoms of mental and emotional distress. ","☐","☐","☐","☐","☐",null,{"$f":"Custom_nyf_base!G50","v":0}]
["I am able to support those struggling mentally and emotionally. ","☐","☐","☐","☐","☐",null,{"$f":"Custom_nyf_base!G51","v":0}]
["I know how I can manage negative thoughts and emotions. ","☐","☐","☐","☐","☐",null,{"$f":"Custom_nyf_base!G52","v":0}]
["I know where to seek help when I have distressing thoughts and emotions beyond my control. ","☐","☐","☐","☐","☐",null,{"$f":"Custom_nyf_base!G53","v":0}]
["If I have distressing thoughts and emotions beyond my control, I would seek help.","☐","☐","☐","☐","☐",null,{"$f":"Custom_nyf_base!G54","v":0}]
["I know the steps that I can take to meet my financial goals.","☐","☐","☐","☐","☐",null,{"$f":"Custom_nyf_base!G55","v":0}]
["I believe it is important to stay physically healthy. ","☐","☐","☐","☐","☐",null,{"$f":"Custom_nyf_base!G56","v":0}]
["I make a conscious effort to maintain a healthy lifestyle.","☐","☐","☐","☐","☐",null,{"$f":"Custom_nyf_base!G57","v":0}]
["I am proud to be a Singaporean. ","☐","☐","☐","☐","☐",null,{"$f":"Custom_nyf_base!G58","v":0}]
["I am aware of issues affecting Singapore.","☐","☐","☐","☐","☐",null,{"$f":"Custom_nyf_base!G59","v":0}]
["I understand how changes around the world affect Singapore and its future.","☐","☐","☐","☐","☐",null,{"$f":"Custom_nyf_base!G60","v":0}]
["I understand the opportunities and challenges that Singapore has.","☐","☐","☐","☐","☐",null,{"$f":"Custom_nyf_base!G61","v":0}]
["I understand the difficulties in trying to solve issues affecting Singapore's society.","☐","☐","☐","☐","☐",null,{"$f":"Custom_nyf_base!G62","v":0}]
["I am aware of policies and programmes that tackle issues affecting Singapore's society.","☐","☐","☐","☐","☐",null,{"$f":"Custom_nyf_base!G63","v":0}]
["I trust the government. ","☐","☐","☐","☐","☐",null,{"$f":"Custom_nyf_base!G64","v":0}]
["I feel that the government understands the concerns of Singaporeans like me.","☐","☐","☐","☐","☐",null,{"$f":"Custom_nyf_base!G65","v":0}]
["I feel that the government cares for the wellbeing of Singaporeans like me.","☐","☐","☐","☐","☐",null,{"$f":"Custom_nyf_base!G66","v":0}]
["I feel that the government values my views.","☐","☐","☐","☐","☐",null,{"$f":"Custom_nyf_base!G67","v":0}]
["I have people that I can talk with about my problems.","☐","☐","☐","☐","☐",null,{"$f":"Custom_nyf_base!G68","v":0}]
["I have people whom I can turn to for support. ","☐","☐","☐","☐","☐",null,{"$f":"Custom_nyf_base!G69","v":0}]
["I respect the opinions of others, even if I do not agree with it. ","☐","☐","☐","☐","☐",null,{"$f":"Custom_nyf_base!G70","v":0}]
["I respect the values and beliefs of people who are of a different background from me.","☐","☐","☐","☐","☐",null,{"$f":"Custom_nyf_base!G71","v":0}]
["I put myself in the shoes of others to understand how they feel.","☐","☐","☐","☐","☐",null,{"$f":"Custom_nyf_base!G72","v":0}]
["I believe that I can make a difference in the community.","☐","☐","☐","☐","☐",null,{"$f":"Custom_nyf_base!G73","v":0}]
["I believe I can help to shape society.","☐","☐","☐","☐","☐",null,{"$f":"Custom_nyf_base!G74","v":0}]
["I am aware of the needs in the community.","☐","☐","☐","☐","☐",null,{"$f":"Custom_nyf_base!G75","v":0}]
["I understand the ways that I can contribute to the community.","☐","☐","☐","☐","☐",null,{"$f":"Custom_nyf_base!G76","v":0}]
["I believe I have a role to play in improving the community.","☐","☐","☐","☐","☐",null,{"$f":"Custom_nyf_base!G77","v":0}]
["I feel a strong conviction to give back to the community.","☐","☐","☐","☐","☐",null,{"$f":"Custom_nyf_base!G78","v":0}]
["I actively participate in efforts that help to improve the community.","☐","☐","☐","☐","☐",null,{"$f":"Custom_nyf_base!G79","v":0}]
["I participate in discussions on national, community or social issues.","☐","☐","☐","☐","☐",null,{"$f":"Custom_nyf_base!G80","v":0}]
["I encourage my peers to participate in activities that help to improve the community.","☐","☐","☐","☐","☐",null,{"$f":"Custom_nyf_base!G81","v":0}]
["I am aware of the effects of my actions on the environment.","☐","☐","☐","☐","☐",null,{"$f":"Custom_nyf_base!G82","v":0}]
["I understand the ways that I can care for the environment.","☐","☐","☐","☐","☐",null,{"$f":"Custom_nyf_base!G83","v":0}]
["I feel responsible towards the environment.","☐","☐","☐","☐","☐",null,{"$f":"Custom_nyf_base!G84","v":0}]
["My efforts to care for the environment will make a difference.","☐","☐","☐","☐","☐",null,{"$f":"Custom_nyf_base!G85","v":0}]
["I actively participate in efforts to care for the environment.","☐","☐","☐","☐","☐",null,{"$f":"Custom_nyf_base!G86","v":0}]
["I encourage my peers to care for the environment.","☐","☐","☐","☐","☐",null,{"$f":"Custom_nyf_base!G87","v":0}]
["I believe that I can influence government decisions on issues. ","☐","☐","☐","☐","☐",null,{"$f":"Custom_nyf_base!G88","v":0}]
[null,null,null,null,null,null,null,1]
["Feedback on Programme Implementation",null,null,null,null,null,null,{"$f":"IF(SUM(H86:H102)=0, 0, 1)","v":0}]
["Duration and Pace of the Programme",null,null,null,null,null,null,{"$f":"IF(SUM(H87:H92)=0, 0, 1)","v":0}]
[{"$f":"'Step 3B Custom'!D7","v":0},null,null,null,null,null,null,{"$f":"Custom_nyf_base!G94","v":0}]
["☐ Too Slow     ☐ Slow     ☐ Just Right     ☐ Long     ☐ Too Long     ",null,null,null,null,null,null,{"$f":"H87","v":0}]
[null,null,null,null,null,null,null,{"$f":"H88","v":0}]
[{"$f":"'Step 3B Custom'!D8","v":0},null,null,null,null,null,null,{"$f":"Custom_nyf_base!G95","v":0}]
["☐ Too Slow     ☐ Slow     ☐ Just Right     ☐ Fast     ☐ Too Fast     ",null,null,null,null,null,null,{"$f":"H90","v":0}]
[null,null,null,null,null,null,null,{"$f":"H91","v":0}]
["Facilities and Logistics",null,null,null,null,null,null,{"$f":"IF(SUM(H94:H102)=0, 0, 1)","v":0}]
["The accommodation is of acceptable standard.",null,null,null,null,null,null,{"$f":"Custom_nyf_base!G96","v":0}]
["☐ Strongly disagree     ☐ Disagree     ☐ Neither agree nor disagree     ☐ Agree     ☐ Strongly agree     ",null,null,null,null,null,null,{"$f":"H94","v":0}]
[null,null,null,null,null,null,null,{"$f":"H95","v":0}]
["The meal(s) are of acceptable standard.",null,null,null,null,null,null,{"$f":"Custom_nyf_base!G97","v":0}]
["☐ Strongly disagree     ☐ Disagree     ☐ Neither agree nor disagree     ☐ Agree     ☐ Strongly agree     ",null,null,null,null,null,null,{"$f":"H97","v":0}]
[null,null,null,null,null,null,null,{"$f":"H98","v":0}]
["The facilities are of acceptable standard.",null,null,null,null,null,null,{"$f":"Custom_nyf_base!G98","v":0}]
["☐ Strongly disagree     ☐ Disagree     ☐ Neither agree nor disagree     ☐ Agree     ☐ Strongly agree     ",null,null,null,null,null,null,{"$f":"H100","v":0}]
[null,null,null,null,null,null,null,{"$f":"H101","v":0}]
["Feedback on Mentor/Facilitator/Trainer/Speaker",null,null,null,null,null,null,{"$f":"IF(SUM(H104:H133)=0, 0, 1)","v":0}]
["Teaching Effectiveness",null,null,null,null,null,null,{"$f":"IF(SUM(H105:H122)=0, 0, 1)","v":0}]
[{"$f":"'Step 3B Custom'!D14","v":0},null,null,null,null,null,null,{"$f":"Custom_nyf_base!G99","v":0}]
["☐ Strongly disagree     ☐ Disagree     ☐ Neither agree nor disagree     ☐ Agree     ☐ Strongly agree     ",null,null,null,null,null,null,{"$f":"H105","v":0}]
[null,null,null,null,null,null,null,{"$f":"H106","v":0}]
[{"$f":"'Step 3B Custom'!D15","v":0},null,null,null,null,null,null,{"$f":"Custom_nyf_base!G100","v":0}]
["☐ Strongly disagree     ☐ Disagree     ☐ Neither agree nor disagree     ☐ Agree     ☐ Strongly agree     ",null,null,null,null,null,null,{"$f":"H108","v":0}]
[null,null,null,null,null,null,null,{"$f":"H109","v":0}]
[{"$f":"'Step 3B Custom'!D16","v":0},null,null,null,null,null,null,{"$f":"Custom_nyf_base!G101","v":0}]
["☐ Strongly disagree     ☐ Disagree     ☐ Neither agree nor disagree     ☐ Agree     ☐ Strongly agree     ",null,null,null,null,null,null,{"$f":"H111","v":0}]
[null,null,null,null,null,null,null,{"$f":"H112","v":0}]
[{"$f":"'Step 3B Custom'!D17","v":0},null,null,null,null,null,null,{"$f":"Custom_nyf_base!G102","v":0}]
["☐ Strongly disagree     ☐ Disagree     ☐ Neither agree nor disagree     ☐ Agree     ☐ Strongly agree     ",null,null,null,null,null,null,{"$f":"H114","v":0}]
[null,null,null,null,null,null,null,{"$f":"H115","v":0}]
[{"$f":"'Step 3B Custom'!D18","v":0},null,null,null,null,null,null,{"$f":"Custom_nyf_base!G103","v":0}]
["☐ Strongly disagree     ☐ Disagree     ☐ Neither agree nor disagree     ☐ Agree     ☐ Strongly agree     ",null,null,null,null,null,null,{"$f":"H117","v":0}]
[null,null,null,null,null,null,null,{"$f":"H118","v":0}]
[{"$f":"'Step 3B Custom'!D19","v":0},null,null,null,null,null,null,{"$f":"Custom_nyf_base!G104","v":0}]
["☐ Strongly disagree     ☐ Disagree     ☐ Neither agree nor disagree     ☐ Agree     ☐ Strongly agree     ",null,null,null,null,null,null,{"$f":"H120","v":0}]
[null,null,null,null,null,null,null,{"$f":"H121","v":0}]
["Ability to Manage Group Dynamics",null,null,null,null,null,null,{"$f":"IF(SUM(H124:H129)=0, 0, 1)","v":0}]
[{"$f":"'Step 3B Custom'!D20","v":0},null,null,null,null,null,null,{"$f":"Custom_nyf_base!G105","v":0}]
["☐ Strongly disagree     ☐ Disagree     ☐ Neither agree nor disagree     ☐ Agree     ☐ Strongly agree     ",null,null,null,null,null,null,{"$f":"H124","v":0}]
[null,null,null,null,null,null,null,{"$f":"H125","v":0}]
[{"$f":"'Step 3B Custom'!D21","v":0},null,null,null,null,null,null,{"$f":"Custom_nyf_base!G106","v":0}]
["☐ Strongly disagree     ☐ Disagree     ☐ Neither agree nor disagree     ☐ Agree     ☐ Strongly agree     ",null,null,null,null,null,null,{"$f":"H127","v":0}]
[null,null,null,null,null,null,null,{"$f":"H128","v":0}]
["Overall Effectiveness",null,null,null,null,null,null,{"$f":"IF(SUM(H131:H133)=0, 0, 1)","v":0}]
[{"$f":"'Step 3B Custom'!D22","v":0},null,null,null,null,null,null,{"$f":"Custom_nyf_base!G107","v":0}]
["☐ Very poor     ☐ Poor     ☐ Fair     ☐ Good     ☐ Very good     ",null,null,null,null,null,null,{"$f":"H131","v":0}]
[null,null,null,null,null,null,null,{"$f":"H132","v":0}]
["Feedback on Programme Content",null,null,null,null,null,null,{"$f":"IF(SUM(H135:H152)=0, 0, 1)","v":0}]
["For each of the following modules/ activities please indicate the extent to which you find them useful. Kindly tick your answer in the boxes on the right. For activities which you did not participate in, or which are not applicable, you may leave them blank.",null,null,null,null,null,null,{"$f":"Custom_nyf_base!G109","v":0}]
[null,"Not at all","To a little extent","To some extent","To a great extent","To a very great extent",null,{"$f":"H135","v":0}]
[{"$f":"'Step 3B Custom'!E27","v":0},"☐","☐","☐","☐","☐",null,{"$f":"IF(AND($H$136=1, 'Step 3B Custom'!E27<>\"\"), 1, 0)","v":0}]
[{"$f":"'Step 3B Custom'!E28","v":0},"☐","☐","☐","☐","☐",null,{"$f":"IF(AND($H$136=1, 'Step 3B Custom'!E28<>\"\"), 1, 0)","v":0}]
[{"$f":"'Step 3B Custom'!E29","v":0},"☐","☐","☐","☐","☐",null,{"$f":"IF(AND($H$136=1, 'Step 3B Custom'!E29<>\"\"), 1, 0)","v":0}]
[{"$f":"'Step 3B Custom'!E30","v":0},"☐","☐","☐","☐","☐",null,{"$f":"IF(AND($H$136=1, 'Step 3B Custom'!E30<>\"\"), 1, 0)","v":0}]
[{"$f":"'Step 3B Custom'!E31","v":0},"☐","☐","☐","☐","☐",null,{"$f":"IF(AND($H$136=1, 'Step 3B Custom'!E31<>\"\"), 1, 0)","v":0}]
[{"$f":"'Step 3B Custom'!E32","v":0},"☐","☐","☐","☐","☐",null,{"$f":"IF(AND($H$136=1, 'Step 3B Custom'!E32<>\"\"), 1, 0)","v":0}]
[{"$f":"'Step 3B Custom'!E33","v":0},"☐","☐","☐","☐","☐",null,{"$f":"IF(AND($H$136=1, 'Step 3B Custom'!E33<>\"\"), 1, 0)","v":0}]
[{"$f":"'Step 3B Custom'!E34","v":0},"☐","☐","☐","☐","☐",null,{"$f":"IF(AND($H$136=1, 'Step 3B Custom'!E34<>\"\"), 1, 0)","v":0}]
[{"$f":"'Step 3B Custom'!E35","v":0},"☐","☐","☐","☐","☐",null,{"$f":"IF(AND($H$136=1, 'Step 3B Custom'!E35<>\"\"), 1, 0)","v":0}]
[{"$f":"'Step 3B Custom'!E36","v":0},"☐","☐","☐","☐","☐",null,{"$f":"IF(AND($H$136=1, 'Step 3B Custom'!E36<>\"\"), 1, 0)","v":0}]
[null,null,null,null,null,null,null,{"$f":"H136","v":0}]
["What were your key takeaways?\nThis may include new skills and knowledge, or achievements of personal goals. ",null,null,null,null,null,null,{"$f":"Custom_nyf_base!G108","v":0}]
[null,null,null,null,null,null,null,{"$f":"H148","v":0}]
[null,null,null,null,null,null,null,{"$f":"H149","v":0}]
[null,null,null,null,null,null,null,{"$f":"H150","v":0}]
[null,null,null,null,null,null,null,{"$f":"H151","v":0}]
["Overall Programme Feedback",null,null,null,null,null,null,{"$f":"IF(SUM(H154:H178)=0, 0, 1)","v":0}]
[{"$f":"'Step 3B Custom'!D39","v":0},null,null,null,null,null,null,{"$f":"Custom_nyf_base!G110","v":0}]
["☐ Strongly disagree     ☐ Disagree     ☐ Neither agree nor disagree     ☐ Agree     ☐ Strongly agree     ",null,null,null,null,null,null,{"$f":"H154","v":0}]
[null,null,null,null,null,null,null,0]
[{"$f":"'Step 3B Custom'!D40","v":0},null,null,null,null,null,null,{"$f":"Custom_nyf_base!G111","v":0}]
["☐ Very poor     ☐ Poor     ☐ Fair     ☐ Good     ☐ Very good     ",null,null,null,null,null,null,0]
[null,null,null,null,null,null,null,0]
[{"$f":"'Step 3B Custom'!D41","v":0},null,null,null,null,null,null,{"$f":"Custom_nyf_base!G112","v":0}]
["☐ Strongly disagree     ☐ Disagree     ☐ Neither agree nor disagree     ☐ Agree     ☐ Strongly agree     ",null,null,null,null,null,null,0]
[null,null,null,null,null,null,null,0]
[{"$f":"'Step 3B Custom'!D42","v":0},null,null,null,null,null,null,{"$f":"Custom_nyf_base!G113","v":0}]
["☐ Yes     ☐ No ",null,null,null,null,null,null,0]
[null,null,null,null,null,null,null,0]
["This programme has allowed me to expand my networks.",null,null,null,null,null,null,{"$f":"Custom_nyf_base!G114","v":0}]
["☐ Strongly disagree     ☐ Disagree     ☐ Neither agree nor disagree     ☐ Agree     ☐ Strongly agree     ",null,null,null,null,null,null,0]
[null,null,null,null,null,null,null,0]
["What worked well or could be improved? ",null,null,null,null,null,null,{"$f":"Custom_nyf_base!G115","v":0}]
[null,null,null,null,null,null,null,0]
[null,null,null,null,null,null,null,0]
[null,null,null,null,null,null,null,0]
[null,null,null,null,null,null,null,0]
[{"$f":"'Step 3B Custom'!D45","v":0},null,null,null,null,null,null,{"$f":"Custom_nyf_base!G116","v":0}]
[null,null,null,null,null,null,null,0]
[null,null,null,null,null,null,null,0]
[null,null,null,null,null,null,null,0]
[null,null,null,null,null,null,null,0]
["Participant Information",null,null,null,null,null,null,1]
["For the last section, we would like to find out some information about yourself.",null,null,null,null,null,null,1]
["What is your gender?",null,null,null,null,null,null,1]
["☐ Male     ☐ Female ",null,null,null,null,null,null,1]
[null,null,null,null,null,null,null,1]
["What is your ethnicity?",null,null,null,null,null,null,1]
["☐ Chinese     ☐ Malay     ☐ Indian     ☐ Others    ",null,null,null,null,null,null,1]
[null,null,null,null,null,null,null,1]
["What is your age?",null,null,null,null,null,null,1]
["☐ 15 to 19 years old     ☐ 20 to 24 years old     ☐ 25 to 29 years old     ☐ 30 to 34 years old    ",null,null,null,null,null,null,1]
["☐ Others, please specify: ____________________",null,null,null,null,null,null,1]
[null,null,null,null,null,null,null,1]
["What is your main occupational status?",null,null,null,null,null,null,1]
["☐ Student (Secondary School)\n☐ Student (Junior College/Centralised Institute/IB & IP schools)\n☐ Student (ITE/Vocational institute)\n☐ Student (Polytechnic)\n☐ Student (University)\n☐6 Student (Private Educational Institutions)\n☐7 Working Adult\n☐8 Others (e.g. Madrasah/Homeschool/NS/Gap year)",null,null,null,null,null,null,1]
[null,null,null,null,null,null,null,1]

{"sheet":"Step 4A PP Pre","index":22,"n_rows":1020,"n_cols":371,"rows_kept":139,"cut":true,"hidden":true,"merged":[],"bounds":{"rows_first":62,"rows_last":15,"rows_between":62,"halvings":5}}
[null,"Step 4A: Data Entry (Pre-survey)"]
[null,null,null,null,{"$f":"COUNTA(data_pp_pre!FV:FV)-1","v":0}]
[null,"Please key in the data from your survey on the right. You should input the numbers corresponding to the correct response as provided by the coding scheme.",null,null,null,null,null,null,null,null,null,null,null,null,null,null,null,null,null,null,null,null,null,null,null,null,null,null,null,null,null,null,null,null,null,null,null,null,null,null,null,null,null,null,null,null,null,null,null,null,null,null,null,null,null,null,null,null,null,null,null,null,null,null,null,null,null,null,null,null,null,null,null,null,null,null,null,null,null,null,null,null,null,null,null,null,null,null,null,null,null,null,null,null,null,null,null,null,null,null,null,null,null,null,null,null,null,null,null,null,null,null,null,null,null,null,null,null,null,null,null,null,null,null,null,null,null,null,null,null,null,null,null,null,null,null,null,null,null,null,null,null,null,null,null,null,null,null,null,null,null,null,null,null,null,null,null,null,null,null,null,null,null,null,null,"Coding Scheme","Coding Scheme",null,null,null,null,null,null,null,null,null,null,null,"Coding Scheme",null,"Coding Scheme",null,"Coding Scheme"]
[null,null,null,null,null,null,null,null,null,null,null,null,null,null,null,null,null,null,null,null,null,null,null,null,null,null,null,null,null,null,null,null,null,null,null,null,null,null,null,null,null,null,null,null,null,null,null,null,null,null,null,null,null,null,null,null,null,null,null,null,null,null,null,null,null,null,null,null,null,null,null,null,null,null,null,null,null,null,null,null,null,null,null,null,null,null,null,null,null,null,null,null,null,null,null,null,null,null,null,null,null,null,null,null,null,null,null,null,null,null,null,null,null,null,null,null,null,null,null,null,null,null,null,null,null,null,null,null,null,null,null,null,null,null,null,null,null,null,null,null,null,null,null,null,null,null,null,null,null,null,null,null,null,null,null,null,null,null,null,null,null,null,null,null,null,"1 - Too Slow","1 - Too Slow",null,null,null,null,null,null,null,null,null,null,null,"1 - Very Poor",null,"1 - Very Poor",null,"1 - Yes"]
[null,"Note that columns must be pasted individually.",null,null,null,null,null,null,null,null,null,null,null,null,null,null,null,null,null,null,null,null,null,null,null,null,null,null,null,null,null,null,null,null,null,null,null,null,null,null,null,null,null,null,null,null,null,null,null,null,null,null,null,null,null,null,null,null,null,null,null,null,null,null,null,null,null,null,null,null,null,null,null,null,null,null,null,null,null,null,null,null,null,null,null,null,null,null,null,null,null,null,null,null,null,null,null,null,null,null,null,null,null,null,null,null,null,null,null,null,null,null,null,null,null,null,null,null,null,null,null,null,null,null,null,null,null,null,null,null,null,null,null,null,null,null,null,null,null,null,null,null,null,null,null,null,null,null,null,null,null,null,null,null,null,null,null,null,null,null,null,null,null,null,null,"2 - Slow","2 - Slow",null,null,null,null,null,null,null,null,null,null,null,"2 - Poor",null,"2 - Poor",null,"2 - No"]
[null,"For questions on a 5-point likert scale of strongly disagree, disagree, neither agree nor disagree, agree, and strongly agree, please code 1,2,3,4,5 respectively. Use code 99 for blanks/NA. For other questions, the coding scheme is provided.",null,null,null,null,null,null,null,null,null,null,null,null,null,null,null,null,null,null,null,null,null,null,null,null,null,null,null,null,null,null,null,null,null,null,null,null,null,null,null,null,null,null,null,null,null,null,null,null,null,null,null,null,null,null,null,null,null,null,null,null,null,null,null,null,null,null,null,null,null,null,null,null,null,null,null,null,null,null,null,null,null,null,null,null,null,null,null,null,null,null,null,null,null,null,null,null,null,null,null,null,null,null,null,null,null,null,null,null,null,null,null,null,null,null,null,null,null,null,null,null,null,null,null,null,null,null,null,null,null,null,null,null,null,null,null,null,null,null,null,null,null,null,null,null,null,null,null,null,null,null,null,null,null,null,null,null,null,null,null,null,null,null,null,"3 - Just Right","3 - Just Right",null,null,null,null,null,null,null,null,null,null,null,"3 - Fair",null,"3 - Fair",null,"99 - 99 - NA/ Blank"]
[null,null,null,null,null,null,null,null,null,null,null,null,null,null,null,null,null,null,null,null,null,null,null,null,null,null,null,null,null,null,null,null,null,null,null,null,null,null,null,null,null,null,null,null,null,null,null,null,null,null,null,null,null,null,null,null,null,null,null,null,null,null,null,null,null,null,null,null,null,null,null,null,null,null,null,null,null,null,null,null,null,null,null,null,null,null,null,null,null,null,null,null,null,null,null,null,null,null,null,null,null,null,null,null,null,null,null,null,null,null,null,null,null,null,null,null,null,null,null,null,null,null,null,null,null,null,null,null,null,null,null,null,null,null,null,null,null,null,null,null,null,null,null,null,null,null,null,null,null,null,null,null,null,null,null,null,null,null,null,null,null,null,null,null,null,"4 - Long","4 - Fast",null,null,null,null,null,null,null,null,null,null,null,"4 - Good",null,"4 - Good"]
[null,null,null,null,null,null,null,null,null,null,null,null,null,null,null,null,null,null,null,null,null,null,null,null,null,null,null,null,null,null,null,null,null,null,null,null,null,null,null,null,null,null,null,null,null,null,null,null,null,null,null,null,null,null,null,null,null,null,null,null,null,null,null,null,null,null,null,null,null,null,null,null,null,null,null,null,null,null,null,null,null,null,null,null,null,null,null,null,null,null,null,null,null,null,null,null,null,null,null,null,null,null,null,null,null,null,null,null,null,null,null,null,null,null,null,null,null,null,null,null,null,null,null,null,null,null,null,null,null,null,null,null,null,null,null,null,null,null,null,null,null,null,null,null,null,null,null,null,null,null,null,null,null,null,null,null,null,null,null,null,null,null,null,null,null,"5 - Too Long","5 - Too Fast",null,null,null,null,null,null,null,null,null,null,null,"5 - Very Good",null,"5 - Very Good"]
[null,null,null,null,null,null,null,null,null,null,null,null,null,null,null,null,null,null,null,null,null,null,null,null,null,null,null,null,null,null,null,null,null,null,null,null,null,null,null,null,null,null,null,null,null,null,null,null,null,null,null,null,null,null,null,null,null,null,null,null,null,null,null,null,null,null,null,null,null,null,null,null,null,null,null,null,null,null,null,null,null,null,null,null,null,null,null,null,null,null,null,null,null,null,null,null,null,null,null,null,null,null,null,null,null,null,null,null,null,null,null,null,null,null,null,null,null,null,null,null,null,null,null,null,null,null,null,null,null,null,null,null,null,null,null,null,null,null,null,null,null,null,null,null,null,null,null,null,null,null,null,null,null,null,null,null,null,null,null,null,null,null,null,null,null,"99 - NA/ Blank","NA/ Blank",null,null,null,null,null,null,null,null,null,null,null,"99 - NA/ Blank",null,"99 - NA/ Blank"]
[]
[null,null,null,null,null,null,"overall use",0,0,{"$f":"IF('Step 3A'!D5=\"Combined Pre/Post Survey\", J14, J17)*IF(J19=\"Pre\", 1, 0)","v":0},{"$f":"IF('Step 3A'!$D$5=\"Combined Pre/Post Survey\", K14, K17)","v":0},{"$f":"IF('Step 3A'!$D$5=\"Combined Pre/Post Survey\", L14, L17)","v":0},{"$f":"IF('Step 3A'!$D$5=\"Combined Pre/Post Survey\", M14, M17)","v":0},{"$f":"IF('Step 3A'!$D$5=\"Combined Pre/Post Survey\", N14, N17)","v":0},{"$f":"IF('Step 3A'!$D$5=\"Combined Pre/Post Survey\", O14, O17)","v":0},{"$f":"IF('Step 3A'!$D$5=\"Combined Pre/Post Survey\", P14, P17)","v":0},{"$f":"IF('Step 3A'!$D$5=\"Combined Pre/Post Survey\", Q14, Q17)","v":0},{"$f":"IF('Step 3A'!$D$5=\"Combined Pre/Post Survey\", R14, R17)","v":0},{"$f":"IF('Step 3A'!$D$5=\"Combined Pre/Post Survey\", S14, S17)","v":0},{"$f":"IF('Step 3A'!$D$5=\"Combined Pre/Post Survey\", T14, T17)","v":0},{"$f":"IF('Step 3A'!$D$5=\"Combined Pre/Post Survey\", U14, U17)","v":0},{"$f":"IF('Step 3A'!$D$5=\"Combined Pre/Post Survey\", V14, V17)","v":0},{"$f":"IF('Step 3A'!$D$5=\"Combined Pre/Post Survey\", W14, W17)","v":0},{"$f":"IF('Step 3A'!$D$5=\"Combined Pre/Post Survey\", X14, X17)","v":0},{"$f":"IF('Step 3A'!$D$5=\"Combined Pre/Post Survey\", Y14, Y17)","v":0},{"$f":"IF('Step 3A'!$D$5=\"Combined Pre/Post Survey\", Z14, Z17)","v":0},{"$f":"IF('Step 3A'!$D$5=\"Combined Pre/Post Survey\", AA14, AA17)","v":0},{"$f":"IF('Step 3A'!$D$5=\"Combined Pre/Post Survey\", AB14, AB17)","v":0},{"$f":"IF('Step 3A'!$D$5=\"Combined Pre/Post Survey\", AC14, AC17)","v":0},{"$f":"IF('Step 3A'!$D$5=\"Combined Pre/Post Survey\", AD14, AD17)","v":0},{"$f":"IF('Step 3A'!$D$5=\"Combined Pre/Post Survey\", AE14, AE17)","v":0},{"$f":"IF('Step 3A'!$D$5=\"Combined Pre/Post Survey\", AF14, AF17)","v":0},{"$f":"IF('Step 3A'!$D$5=\"Combined Pre/Post Survey\", AG14, AG17)","v":0},{"$f":"IF('Step 3A'!$D$5=\"Combined Pre/Post Survey\", AH14, AH17)","v":0},{"$f":"IF('Step 3A'!$D$5=\"Combined Pre/Post Survey\", AI14, AI17)","v":0},{"$f":"IF('Step 3A'!$D$5=\"Combined Pre/Post Survey\", AJ14, AJ17)","v":0},{"$f":"IF('Step 3A'!$D$5=\"Combined Pre/Post Survey\", AK14, AK17)","v":0},{"$f":"IF('Step 3A'!$D$5=\"Combined Pre/Post Survey\", AL14, AL17)","v":0},{"$f":"IF('Step 3A'!$D$5=\"Combined Pre/Post Survey\", AM14, AM17)","v":0},{"$f":"IF('Step 3A'!$D$5=\"Combined Pre/Post Survey\", AN14, AN17)","v":0},{"$f":"IF('Step 3A'!$D$5=\"Combined Pre/Post Survey\", AO14, AO17)","v":0},{"$f":"IF('Step 3A'!$D$5=\"Combined Pre/Post Survey\", AP14, AP17)","v":0},{"$f":"IF('Step 3A'!$D$5=\"Combined Pre/Post Survey\", AQ14, AQ17)","v":0},{"$f":"IF('Step 3A'!$D$5=\"Combined Pre/Post Survey\", AR14, AR17)","v":0},{"$f":"IF('Step 3A'!$D$5=\"Combined Pre/Post Survey\", AS14, AS17)","v":0},{"$f":"IF('Step 3A'!$D$5=\"Combined Pre/Post Survey\", AT14, AT17)","v":0},{"$f":"IF('Step 3A'!$D$5=\"Combined Pre/Post Survey\", AU14, AU17)","v":0},{"$f":"IF('Step 3A'!$D$5=\"Combined Pre/Post Survey\", AV14, AV17)","v":0},{"$f":"IF('Step 3A'!$D$5=\"Combined Pre/Post Survey\", AW14, AW17)","v":0},{"$f":"IF('Step 3A'!$D$5=\"Combined Pre/Post Survey\", AX14, AX17)","v":0},{"$f":"IF('Step 3A'!$D$5=\"Combined Pre/Post Survey\", AY14, AY17)","v":0},{"$f":"IF('Step 3A'!$D$5=\"Combined Pre/Post Survey\", AZ14, AZ17)","v":0},{"$f":"IF('Step 3A'!$D$5=\"Combined Pre/Post Survey\", BA14, BA17)","v":0},{"$f":"IF('Step 3A'!$D$5=\"Combined Pre/Post Survey\", BB14, BB17)","v":0},{"$f":"IF('Step 3A'!$D$5=\"Combined Pre/Post Survey\", BC14, BC17)","v":0},{"$f":"IF('Step 3A'!$D$5=\"Combined Pre/Post Survey\", BD14, BD17)","v":0},{"$f":"IF('Step 3A'!$D$5=\"Combined Pre/Post Survey\", BE14, BE17)","v":0},{"$f":"IF('Step 3A'!$D$5=\"Combined Pre/Post Survey\", BF14, BF17)","v":0},{"$f":"IF('Step 3A'!$D$5=\"Combined Pre/Post Survey\", BG14, BG17)","v":0},{"$f":"IF('Step 3A'!$D$5=\"Combined Pre/Post Survey\", BH14, BH17)","v":0},{"$f":"IF('Step 3A'!$D$5=\"Combined Pre/Post Survey\", BI14, BI17)","v":0},{"$f":"IF('Step 3A'!$D$5=\"Combined Pre/Post Survey\", BJ14, BJ17)","v":0},{"$f":"IF('Step 3A'!$D$5=\"Combined Pre/Post Survey\", BK14, BK17)","v":0},{"$f":"IF('Step 3A'!$D$5=\"Combined Pre/Post Survey\", BL14, BL17)","v":0},{"$f":"IF('Step 3A'!$D$5=\"Combined Pre/Post Survey\", BM14, BM17)","v":0},{"$f":"IF('Step 3A'!$D$5=\"Combined Pre/Post Survey\", BN14, BN17)","v":0},{"$f":"IF('Step 3A'!$D$5=\"Combined Pre/Post Survey\", BO14, BO17)","v":0},{"$f":"IF('Step 3A'!$D$5=\"Combined Pre/Post Survey\", BP14, BP17)","v":0},{"$f":"IF('Step 3A'!$D$5=\"Combined Pre/Post Survey\", BQ14, BQ17)","v":0},{"$f":"IF('Step 3A'!$D$5=\"Combined Pre/Post Survey\", BR14, BR17)","v":0},{"$f":"IF('Step 3A'!$D$5=\"Combined Pre/Post Survey\", BS14, BS17)","v":0},{"$f":"IF('Step 3A'!$D$5=\"Combined Pre/Post Survey\", BT14, BT17)","v":0},{"$f":"IF('Step 3A'!$D$5=\"Combined Pre/Post Survey\", BU14, BU17)","v":0},{"$f":"IF('Step 3A'!$D$5=\"Combined Pre/Post Survey\", BV14, BV17)","v":0},{"$f":"IF('Step 3A'!$D$5=\"Combined Pre/Post Survey\", BW14, BW17)","v":0},{"$f":"IF('Step 3A'!$D$5=\"Combined Pre/Post Survey\", BX14, BX17)","v":0},{"$f":"IF('Step 3A'!$D$5=\"Combined Pre/Post Survey\", BY14, BY17)","v":0},{"$f":"IF('Step 3A'!$D$5=\"Combined Pre/Post Survey\", BZ14, BZ17)","v":0},{"$f":"IF('Step 3A'!$D$5=\"Combined Pre/Post Survey\", CA14, CA17)","v":0},{"$f":"IF('Step 3A'!$D$5=\"Combined Pre/Post Survey\", CB14, CB17)","v":0},{"$f":"IF('Step 3A'!$D$5=\"Combined Pre/Post Survey\", CC14, CC17)","v":0},{"$f":"IF('Step 3A'!$D$5=\"Combined Pre/Post Survey\", CD14, CD17)","v":0},{"$f":"IF('Step 3A'!$D$5=\"Combined Pre/Post Survey\", CE14, CE17)","v":0},{"$f":"IF('Step 3A'!$D$5=\"Combined Pre/Post Survey\", CF14, CF17)","v":0},{"$f":"IF('Step 3A'!$D$5=\"Combined Pre/Post Survey\", CG14, CG17)","v":0},{"$f":"IF('Step 3A'!$D$5=\"Combined Pre/Post Survey\", CH14, CH17)","v":0},{"$f":"IF('Step 3A'!$D$5=\"Combined Pre/Post Survey\", CI14, CI17)","v":0},{"$f":"IF('Step 3A'!$D$5=\"Combined Pre/Post Survey\", CJ14, CJ17)","v":0},{"$f":"IF('Step 3A'!$D$5=\"Combined Pre/Post Survey\", CK14, CK17)","v":0},{"$f":"IF('Step 3A'!$D$5=\"Combined Pre/Post Survey\", CL14, CL17)","v":0},{"$f":"IF('Step 3A'!$D$5=\"Combined Pre/Post Survey\", CM14, CM17)","v":0},{"$f":"IF('Step 3A'!$D$5=\"Combined Pre/Post Survey\", CN14, CN17)","v":0},{"$f":"IF('Step 3A'!$D$5=\"Combined Pre/Post Survey\", CO14, CO17)","v":0},{"$f":"IF('Step 3A'!$D$5=\"Combined Pre/Post Survey\", CP14, CP17)","v":0},{"$f":"IF('Step 3A'!$D$5=\"Combined Pre/Post Survey\", CQ14, CQ17)","v":0},{"$f":"IF('Step 3A'!$D$5=\"Combined Pre/Post Survey\", CR14, CR17)","v":0},{"$f":"IF('Step 3A'!$D$5=\"Combined Pre/Post Survey\", CS14, CS17)","v":0},{"$f":"IF('Step 3A'!$D$5=\"Combined Pre/Post Survey\", CT14, CT17)","v":0},{"$f":"IF('Step 3A'!$D$5=\"Combined Pre/Post Survey\", CU14, CU17)","v":0},{"$f":"IF('Step 3A'!$D$5=\"Combined Pre/Post Survey\", CV14, CV17)","v":0},{"$f":"IF('Step 3A'!$D$5=\"Combined Pre/Post Survey\", CW14, CW17)","v":0},{"$f":"IF('Step 3A'!$D$5=\"Combined Pre/Post Survey\", CX14, CX17)","v":0},{"$f":"IF('Step 3A'!$D$5=\"Combined Pre/Post Survey\", CY14, CY17)","v":0},{"$f":"IF('Step 3A'!$D$5=\"Combined Pre/Post Survey\", CZ14, CZ17)","v":0},{"$f":"IF('Step 3A'!$D$5=\"Combined Pre/Post Survey\", DA14, DA17)","v":0},{"$f":"IF('Step 3A'!$D$5=\"Combined Pre/Post Survey\", DB14, DB17)","v":0},{"$f":"IF('Step 3A'!$D$5=\"Combined Pre/Post Survey\", DC14, DC17)","v":0},{"$f":"IF('Step 3A'!$D$5=\"Combined Pre/Post Survey\", DD14, DD17)","v":0},{"$f":"IF('Step 3A'!$D$5=\"Combined Pre/Post Survey\", DE14, DE17)","v":0},{"$f":"IF('Step 3A'!$D$5=\"Combined Pre/Post Survey\", DF14, DF17)","v":0},{"$f":"IF('Step 3A'!$D$5=\"Combined Pre/Post Survey\", DG14, DG17)","v":0},{"$f":"IF('Step 3A'!$D$5=\"Combined Pre/Post Survey\", DH14, DH17)","v":0},{"$f":"IF('Step 3A'!$D$5=\"Combined Pre/Post Survey\", DI14, DI17)","v":0},{"$f":"IF('Step 3A'!$D$5=\"Combined Pre/Post Survey\", DJ14, DJ17)","v":0},{"$f":"IF('Step 3A'!$D$5=\"Combined Pre/Post Survey\", DK14, DK17)","v":0},{"$f":"IF('Step 3A'!$D$5=\"Combined Pre/Post Survey\", DL14, DL17)","v":0},{"$f":"IF('Step 3A'!$D$5=\"Combined Pre/Post Survey\", DM14, DM17)","v":0},{"$f":"IF('Step 3A'!$D$5=\"Combined Pre/Post Survey\", DN14, DN17)","v":0},{"$f":"IF('Step 3A'!$D$5=\"Combined Pre/Post Survey\", DO14, DO17)","v":0},{"$f":"IF('Step 3A'!$D$5=\"Combined Pre/Post Survey\", DP14, DP17)","v":0},{"$f":"IF('Step 3A'!$D$5=\"Combined Pre/Post Survey\", DQ14, DQ17)","v":0},{"$f":"IF('Step 3A'!$D$5=\"Combined Pre/Post Survey\", DR14, DR17)","v":0},{"$f":"IF('Step 3A'!$D$5=\"Combined Pre/Post Survey\", DS14, DS17)","v":0},{"$f":"IF('Step 3A'!$D$5=\"Combined Pre/Post Survey\", DT14, DT17)","v":0},{"$f":"IF('Step 3A'!$D$5=\"Combined Pre/Post Survey\", DU14, DU17)","v":0},{"$f":"IF('Step 3A'!$D$5=\"Combined Pre/Post Survey\", DV14, DV17)","v":0},{"$f":"IF('Step 3A'!$D$5=\"Combined Pre/Post Survey\", DW14, DW17)","v":0},{"$f":"IF('Step 3A'!$D$5=\"Combined Pre/Post Survey\", DX14, DX17)","v":0},{"$f":"IF('Step 3A'!$D$5=\"Combined Pre/Post Survey\", DY14, DY17)","v":0},{"$f":"IF('Step 3A'!$D$5=\"Combined Pre/Post Survey\", DZ14, DZ17)","v":0},{"$f":"IF('Step 3A'!$D$5=\"Combined Pre/Post Survey\", EA14, EA17)","v":0},{"$f":"IF('Step 3A'!$D$5=\"Combined Pre/Post Survey\", EB14, EB17)","v":0},{"$f":"IF('Step 3A'!$D$5=\"Combined Pre/Post Survey\", EC14, EC17)","v":0},{"$f":"IF('Step 3A'!$D$5=\"Combined Pre/Post Survey\", ED14, ED17)","v":0},{"$f":"IF('Step 3A'!$D$5=\"Combined Pre/Post Survey\", EE14, EE17)","v":0},{"$f":"IF('Step 3A'!$D$5=\"Combined Pre/Post Survey\", EF14, EF17)","v":0},{"$f":"IF('Step 3A'!$D$5=\"Combined Pre/Post Survey\", EG14, EG17)","v":0},{"$f":"IF('Step 3A'!$D$5=\"Combined Pre/Post Survey\", EH14, EH17)","v":0},{"$f":"IF('Step 3A'!$D$5=\"Combined Pre/Post Survey\", EI14, EI17)","v":0},{"$f":"IF('Step 3A'!$D$5=\"Combined Pre/Post Survey\", EJ14, EJ17)","v":0},{"$f":"IF('Step 3A'!$D$5=\"Combined Pre/Post Survey\", EK14, EK17)","v":0},{"$f":"IF('Step 3A'!$D$5=\"Combined Pre/Post Survey\", EL14, EL17)","v":0},{"$f":"IF('Step 3A'!$D$5=\"Combined Pre/Post Survey\", EM14, EM17)","v":0},{"$f":"IF('Step 3A'!$D$5=\"Combined Pre/Post Survey\", EN14, EN17)","v":0},{"$f":"IF('Step 3A'!$D$5=\"Combined Pre/Post Survey\", EO14, EO17)","v":0},{"$f":"IF('Step 3A'!$D$5=\"Combined Pre/Post Survey\", EP14, EP17)","v":0},{"$f":"IF('Step 3A'!$D$5=\"Combined Pre/Post Survey\", EQ14, EQ17)","v":0},{"$f":"IF('Step 3A'!$D$5=\"Combined Pre/Post Survey\", ER14, ER17)","v":0},{"$f":"IF('Step 3A'!$D$5=\"Combined Pre/Post Survey\", ES14, ES17)","v":0},{"$f":"IF('Step 3A'!$D$5=\"Combined Pre/Post Survey\", ET14, ET17)","v":0},{"$f":"IF('Step 3A'!$D$5=\"Combined Pre/Post Survey\", EU14, EU17)","v":0},{"$f":"IF('Step 3A'!$D$5=\"Combined Pre/Post Survey\", EV14, EV17)","v":0},{"$f":"IF('Step 3A'!$D$5=\"Combined Pre/Post Survey\", EW14, EW17)","v":0},{"$f":"IF('Step 3A'!$D$5=\"Combined Pre/Post Survey\", EX14, EX17)","v":0},{"$f":"IF('Step 3A'!$D$5=\"Combined Pre/Post Survey\", EY14, EY17)","v":0},{"$f":"IF('Step 3A'!$D$5=\"Combined Pre/Post Survey\", EZ14, EZ17)","v":0},{"$f":"IF('Step 3A'!$D$5=\"Combined Pre/Post Survey\", FA14, FA17)","v":0},{"$f":"IF('Step 3A'!$D$5=\"Combined Pre/Post Survey\", FB14, FB17)","v":0},{"$f":"IF('Step 3A'!$D$5=\"Combined Pre/Post Survey\", FC14, FC17)","v":0},{"$f":"IF('Step 3A'!$D$5=\"Combined Pre/Post Survey\", FD14, FD17)","v":0},{"$f":"IF('Step 3A'!$D$5=\"Combined Pre/Post Survey\", FE14, FE17)","v":0},{"$f":"IF('Step 3A'!$D$5=\"Combined Pre/Post Survey\", FF14, FF17)","v":0},{"$f":"IF('Step 3A'!$D$5=\"Combined Pre/Post Survey\", FG14, FG17)","v":0},{"$f":"IF('Step 3A'!$D$5=\"Combined Pre/Post Survey\", FH14, FH17)","v":0},{"$f":"IF('Step 3A'!$D$5=\"Combined Pre/Post Survey\", FI14, FI17)","v":0},{"$f":"IF('Step 3A'!$D$5=\"Combined Pre/Post Survey\", FJ14, FJ17)","v":0},{"$f":"IF('Step 3A'!$D$5=\"Combined Pre/Post Survey\", FK14, FK17)","v":0},{"$f":"IF('Step 3A'!$D$5=\"Combined Pre/Post Survey\", FL14, FL17)","v":0},{"$f":"IF('Step 3A'!$D$5=\"Combined Pre/Post Survey\", FM14, FM17)","v":0},{"$f":"IF('Step 3A'!$D$5=\"Combined Pre/Post Survey\", FN14, FN17)","v":0},{"$f":"IF('Step 3A'!$D$5=\"Combined Pre/Post Survey\", FO14, FO17)","v":0},{"$f":"IF('Step 3A'!$D$5=\"Combined Pre/Post Survey\", FP14, FP17)","v":0},{"$f":"IF('Step 3A'!$D$5=\"Combined Pre/Post Survey\", FQ14, FQ17)","v":0},{"$f":"IF('Step 3A'!$D$5=\"Combined Pre/Post Survey\", FR14, FR17)","v":0},{"$f":"IF('Step 3A'!$D$5=\"Combined Pre/Post Survey\", FS14, FS17)","v":0},{"$f":"IF('Step 3A'!$D$5=\"Combined Pre/Post Survey\", FT14, FT17)","v":0},{"$f":"IF('Step 3A'!$D$5=\"Combined Pre/Post Survey\", FU14, FU17)","v":0},{"$f":"IF('Step 3A'!$D$5=\"Combined Pre/Post Survey\", FV14, FV17)","v":0},{"$f":"IF('Step 3A'!$D$5=\"Combined Pre/Post Survey\", FW14, FW17)","v":0},{"$f":"IF('Step 3A'!$D$5=\"Combined Pre/Post Survey\", FX14, FX17)","v":0},{"$f":"IF('Step 3A'!$D$5=\"Combined Pre/Post Survey\", FY14, FY17)","v":0},{"$f":"IF('Step 3A'!$D$5=\"Combined Pre/Post Survey\", FZ14, FZ17)","v":0},{"$f":"IF('Step 3A'!$D$5=\"Combined Pre/Post Survey\", GA14, GA17)","v":0},{"$f":"IF('Step 3A'!$D$5=\"Combined Pre/Post Survey\", GB14, GB17)","v":0},{"$f":"IF('Step 3A'!$D$5=\"Combined Pre/Post Survey\", GC14, GC17)","v":1},{"$f":"IF('Step 3A'!$D$5=\"Combined Pre/Post Survey\", GD14, GD17)","v":0},0,0,0,0,0,0,0,0,0,0,0,0,0,0,0,0,0,0,0,0,0,0,0,0,0,0,0,0,0,0,0,0,0,0,0,0,0,0,0,0,0,0,0,0,0,0,0,0,0,0,0,0,0,0,0,0,0,0,0,0,0,0,0,0,0,0,0,0,0,0,0,0,0,0,0,0,0,0,0,0,0,0,0,0,0,0,0,0,0,0,0,0,0,0,0,0,0,0,0,0,0,0,0,0,0,0,0,0,0,0,0,0,0,0,0,0,0,0,0,0,0,0,0,0,0,0,0,0,0,0,0,0,0,0,0,0,0,0,0,0,0,0,0,0,0,0,0,0,0,0,0,0,0,0,0,0,0,0,0,0,0,0,0,0,0,0,0,0,0,0,0,0,0,0,0,0,0,0,0,0,0,0,0,0,0]
[null,null,null,null,null,null,"Offset",null,null,1,2,3,4,5,6,7,8,9,10,11,12,13,14,15,16,17,18,19,20,21,22,23,24,25,26,27,28,29,30,31,32,33,34,35,36,37,38,39,40,41,42,43,44,45,46,47,48,49,50,51,52,53,54,55,56,57,58,59,60,61,62,63,64,65,66,67,68,69,70,71,72,73,74,75,76,77,78,1,2,3,4,5,6,7,8,9,10,11,12,13,14,15,16,17,18,19,20,21,22,23,24,25,26,27,28,29,30,31,32,33,34,35,36,37,38,39,40,41,42,43,44,45,46,47,48,49,50,51,52,53,54,55,56,57,58,59,60,61,62,63,64,65,66,67,68,69,70,71,72,73,74,75,76,77,78,1,2,3,4,5,6,7,8,9,10,11,12,13,14,17,18,19,20,21,0,0]
[null,null,null,null,null,null,"CPP",null,null,1,1,1,1,1,1,1,1,1,1,1,1,1,1,1,1,1,1,1,1,1,1,1,1,1,1,1,1,1,1,1,1,1,1,1,1,1,1,1,1,1,1,1,1,1,1,1,1,1,1,1,1,1,1,1,1,1,1,1,1,1,1,1,1,1,1,1,1,1,1,1,1,1,1,1,1,1,1,1,1,1,1,1,1,1,1,1,1,1,1,1,1,1,1,1,1,1,1,1,1,1,1,1,1,1,1,1,1,1,1,1,1,1,1,1,1,1,1,1,1,1,1,1,1,1,1,1,1,1,1,1,1,1,1,1,1,1,1,1,1,1,1,1,1,1,1,1,1,1,1,1,1,1,1,1,1,1,1,1,1,1,1,1,1,1,1,1,1,1,1,1,1,1,1,1,0,0]
[null,null,null,null,null,null,"Use",null,null,{"$f":"OFFSET(CPP_nyf_base!$G$10, 'Step 4A PP Pre'!J12, 0)","v":0},{"$f":"OFFSET(CPP_nyf_base!$G$10, 'Step 4A PP Pre'!K12, 0)","v":0},{"$f":"OFFSET(CPP_nyf_base!$G$10, 'Step 4A PP Pre'!L12, 0)","v":0},{"$f":"OFFSET(CPP_nyf_base!$G$10, 'Step 4A PP Pre'!M12, 0)","v":0},{"$f":"OFFSET(CPP_nyf_base!$G$10, 'Step 4A PP Pre'!N12, 0)","v":0},{"$f":"OFFSET(CPP_nyf_base!$G$10, 'Step 4A PP Pre'!O12, 0)","v":0},{"$f":"OFFSET(CPP_nyf_base!$G$10, 'Step 4A PP Pre'!P12, 0)","v":0},{"$f":"OFFSET(CPP_nyf_base!$G$10, 'Step 4A PP Pre'!Q12, 0)","v":0},{"$f":"OFFSET(CPP_nyf_base!$G$10, 'Step 4A PP Pre'!R12, 0)","v":0},{"$f":"OFFSET(CPP_nyf_base!$G$10, 'Step 4A PP Pre'!S12, 0)","v":0},{"$f":"OFFSET(CPP_nyf_base!$G$10, 'Step 4A PP Pre'!T12, 0)","v":0},{"$f":"OFFSET(CPP_nyf_base!$G$10, 'Step 4A PP Pre'!U12, 0)","v":0},{"$f":"OFFSET(CPP_nyf_base!$G$10, 'Step 4A PP Pre'!V12, 0)","v":0},{"$f":"OFFSET(CPP_nyf_base!$G$10, 'Step 4A PP Pre'!W12, 0)","v":0},{"$f":"OFFSET(CPP_nyf_base!$G$10, 'Step 4A PP Pre'!X12, 0)","v":0},{"$f":"OFFSET(CPP_nyf_base!$G$10, 'Step 4A PP Pre'!Y12, 0)","v":0},{"$f":"OFFSET(CPP_nyf_base!$G$10, 'Step 4A PP Pre'!Z12, 0)","v":0},{"$f":"OFFSET(CPP_nyf_base!$G$10, 'Step 4A PP Pre'!AA12, 0)","v":0},{"$f":"OFFSET(CPP_nyf_base!$G$10, 'Step 4A PP Pre'!AB12, 0)","v":0},{"$f":"OFFSET(CPP_nyf_base!$G$10, 'Step 4A PP Pre'!AC12, 0)","v":0},{"$f":"OFFSET(CPP_nyf_base!$G$10, 'Step 4A PP Pre'!AD12, 0)","v":0},{"$f":"OFFSET(CPP_nyf_base!$G$10, 'Step 4A PP Pre'!AE12, 0)","v":0},{"$f":"OFFSET(CPP_nyf_base!$G$10, 'Step 4A PP Pre'!AF12, 0)","v":0},{"$f":"OFFSET(CPP_nyf_base!$G$10, 'Step 4A PP Pre'!AG12, 0)","v":0},{"$f":"OFFSET(CPP_nyf_base!$G$10, 'Step 4A PP Pre'!AH12, 0)","v":0},{"$f":"OFFSET(CPP_nyf_base!$G$10, 'Step 4A PP Pre'!AI12, 0)","v":0},{"$f":"OFFSET(CPP_nyf_base!$G$10, 'Step 4A PP Pre'!AJ12, 0)","v":0},{"$f":"OFFSET(CPP_nyf_base!$G$10, 'Step 4A PP Pre'!AK12, 0)","v":0},{"$f":"OFFSET(CPP_nyf_base!$G$10, 'Step 4A PP Pre'!AL12, 0)","v":0},{"$f":"OFFSET(CPP_nyf_base!$G$10, 'Step 4A PP Pre'!AM12, 0)","v":0},{"$f":"OFFSET(CPP_nyf_base!$G$10, 'Step 4A PP Pre'!AN12, 0)","v":0},{"$f":"OFFSET(CPP_nyf_base!$G$10, 'Step 4A PP Pre'!AO12, 0)","v":0},{"$f":"OFFSET(CPP_nyf_base!$G$10, 'Step 4A PP Pre'!AP12, 0)","v":0},{"$f":"OFFSET(CPP_nyf_base!$G$10, 'Step 4A PP Pre'!AQ12, 0)","v":0},{"$f":"OFFSET(CPP_nyf_base!$G$10, 'Step 4A PP Pre'!AR12, 0)","v":0},{"$f":"OFFSET(CPP_nyf_base!$G$10, 'Step 4A PP Pre'!AS12, 0)","v":0},{"$f":"OFFSET(CPP_nyf_base!$G$10, 'Step 4A PP Pre'!AT12, 0)","v":0},{"$f":"OFFSET(CPP_nyf_base!$G$10, 'Step 4A PP Pre'!AU12, 0)","v":0},{"$f":"OFFSET(CPP_nyf_base!$G$10, 'Step 4A PP Pre'!AV12, 0)","v":0},{"$f":"OFFSET(CPP_nyf_base!$G$10, 'Step 4A PP Pre'!AW12, 0)","v":0},{"$f":"OFFSET(CPP_nyf_base!$G$10, 'Step 4A PP Pre'!AX12, 0)","v":0},{"$f":"OFFSET(CPP_nyf_base!$G$10, 'Step 4A PP Pre'!AY12, 0)","v":0},{"$f":"OFFSET(CPP_nyf_base!$G$10, 'Step 4A PP Pre'!AZ12, 0)","v":0},{"$f":"OFFSET(CPP_nyf_base!$G$10, 'Step 4A PP Pre'!BA12, 0)","v":0},{"$f":"OFFSET(CPP_nyf_base!$G$10, 'Step 4A PP Pre'!BB12, 0)","v":0},{"$f":"OFFSET(CPP_nyf_base!$G$10, 'Step 4A PP Pre'!BC12, 0)","v":0},{"$f":"OFFSET(CPP_nyf_base!$G$10, 'Step 4A PP Pre'!BD12, 0)","v":0},{"$f":"OFFSET(CPP_nyf_base!$G$10, 'Step 4A PP Pre'!BE12, 0)","v":0},{"$f":"OFFSET(CPP_nyf_base!$G$10, 'Step 4A PP Pre'!BF12, 0)","v":0},{"$f":"OFFSET(CPP_nyf_base!$G$10, 'Step 4A PP Pre'!BG12, 0)","v":0},{"$f":"OFFSET(CPP_nyf_base!$G$10, 'Step 4A PP Pre'!BH12, 0)","v":0},{"$f":"OFFSET(CPP_nyf_base!$G$10, 'Step 4A PP Pre'!BI12, 0)","v":0},{"$f":"OFFSET(CPP_nyf_base!$G$10, 'Step 4A PP Pre'!BJ12, 0)","v":0},{"$f":"OFFSET(CPP_nyf_base!$G$10, 'Step 4A PP Pre'!BK12, 0)","v":0},{"$f":"OFFSET(CPP_nyf_base!$G$10, 'Step 4A PP Pre'!BL12, 0)","v":0},{"$f":"OFFSET(CPP_nyf_base!$G$10, 'Step 4A PP Pre'!BM12, 0)","v":0},{"$f":"OFFSET(CPP_nyf_base!$G$10, 'Step 4A PP Pre'!BN12, 0)","v":0},{"$f":"OFFSET(CPP_nyf_base!$G$10, 'Step 4A PP Pre'!BO12, 0)","v":0},{"$f":"OFFSET(CPP_nyf_base!$G$10, 'Step 4A PP Pre'!BP12, 0)","v":0},{"$f":"OFFSET(CPP_nyf_base!$G$10, 'Step 4A PP Pre'!BQ12, 0)","v":0},{"$f":"OFFSET(CPP_nyf_base!$G$10, 'Step 4A PP Pre'!BR12, 0)","v":0},{"$f":"OFFSET(CPP_nyf_base!$G$10, 'Step 4A PP Pre'!BS12, 0)","v":0},{"$f":"OFFSET(CPP_nyf_base!$G$10, 'Step 4A PP Pre'!BT12, 0)","v":0},{"$f":"OFFSET(CPP_nyf_base!$G$10, 'Step 4A PP Pre'!BU12, 0)","v":0},{"$f":"OFFSET(CPP_nyf_base!$G$10, 'Step 4A PP Pre'!BV12, 0)","v":0},{"$f":"OFFSET(CPP_nyf_base!$G$10, 'Step 4A PP Pre'!BW12, 0)","v":0},{"$f":"OFFSET(CPP_nyf_base!$G$10, 'Step 4A PP Pre'!BX12, 0)","v":0},{"$f":"OFFSET(CPP_nyf_base!$G$10, 'Step 4A PP Pre'!BY12, 0)","v":0},{"$f":"OFFSET(CPP_nyf_base!$G$10, 'Step 4A PP Pre'!BZ12, 0)","v":0},{"$f":"OFFSET(CPP_nyf_base!$G$10, 'Step 4A PP Pre'!CA12, 0)","v":0},{"$f":"OFFSET(CPP_nyf_base!$G$10, 'Step 4A PP Pre'!CB12, 0)","v":0},{"$f":"OFFSET(CPP_nyf_base!$G$10, 'Step 4A PP Pre'!CC12, 0)","v":0},{"$f":"OFFSET(CPP_nyf_base!$G$10, 'Step 4A PP Pre'!CD12, 0)","v":0},{"$f":"OFFSET(CPP_nyf_base!$G$10, 'Step 4A PP Pre'!CE12, 0)","v":0},{"$f":"OFFSET(CPP_nyf_base!$G$10, 'Step 4A PP Pre'!CF12, 0)","v":0},{"$f":"OFFSET(CPP_nyf_base!$G$10, 'Step 4A PP Pre'!CG12, 0)","v":0},{"$f":"OFFSET(CPP_nyf_base!$G$10, 'Step 4A PP Pre'!CH12, 0)","v":0},{"$f":"OFFSET(CPP_nyf_base!$G$10, 'Step 4A PP Pre'!CI12, 0)","v":0},{"$f":"OFFSET(CPP_nyf_base!$G$10, 'Step 4A PP Pre'!CJ12, 0)","v":0},{"$f":"OFFSET(CPP_nyf_base!$G$10, 'Step 4A PP Pre'!CK12, 0)","v":0},{"$f":"OFFSET(CPP_nyf_base!$G$10, 'Step 4A PP Pre'!CL12, 0)","v":0},{"$f":"OFFSET(CPP_nyf_base!$G$10, 'Step 4A PP Pre'!CM12, 0)","v":0},{"$f":"OFFSET(CPP_nyf_base!$G$10, 'Step 4A PP Pre'!CN12, 0)","v":0},{"$f":"OFFSET(CPP_nyf_base!$G$10, 'Step 4A PP Pre'!CO12, 0)","v":0},{"$f":"OFFSET(CPP_nyf_base!$G$10, 'Step 4A PP Pre'!CP12, 0)","v":0},{"$f":"OFFSET(CPP_nyf_base!$G$10, 'Step 4A PP Pre'!CQ12, 0)","v":0},{"$f":"OFFSET(CPP_nyf_base!$G$10, 'Step 4A PP Pre'!CR12, 0)","v":0},{"$f":"OFFSET(CPP_nyf_base!$G$10, 'Step 4A PP Pre'!CS12, 0)","v":0},{"$f":"OFFSET(CPP_nyf_base!$G$10, 'Step 4A PP Pre'!CT12, 0)","v":0},{"$f":"OFFSET(CPP_nyf_base!$G$10, 'Step 4A PP Pre'!CU12, 0)","v":0},{"$f":"OFFSET(CPP_nyf_base!$G$10, 'Step 4A PP Pre'!CV12, 0)","v":0},{"$f":"OFFSET(CPP_nyf_base!$G$10, 'Step 4A PP Pre'!CW12, 0)","v":0},{"$f":"OFFSET(CPP_nyf_base!$G$10, 'Step 4A PP Pre'!CX12, 0)","v":0},{"$f":"OFFSET(CPP_nyf_base!$G$10, 'Step 4A PP Pre'!CY12, 0)","v":0},{"$f":"OFFSET(CPP_nyf_base!$G$10, 'Step 4A PP Pre'!CZ12, 0)","v":0},{"$f":"OFFSET(CPP_nyf_base!$G$10, 'Step 4A PP Pre'!DA12, 0)","v":0},{"$f":"OFFSET(CPP_nyf_base!$G$10, 'Step 4A PP Pre'!DB12, 0)","v":0},{"$f":"OFFSET(CPP_nyf_base!$G$10, 'Step 4A PP Pre'!DC12, 0)","v":0},{"$f":"OFFSET(CPP_nyf_base!$G$10, 'Step 4A PP Pre'!DD12, 0)","v":0},{"$f":"OFFSET(CPP_nyf_base!$G$10, 'Step 4A PP Pre'!DE12, 0)","v":0},{"$f":"OFFSET(CPP_nyf_base!$G$10, 'Step 4A PP Pre'!DF12, 0)","v":0},{"$f":"OFFSET(CPP_nyf_base!$G$10, 'Step 4A PP Pre'!DG12, 0)","v":0},{"$f":"OFFSET(CPP_nyf_base!$G$10, 'Step 4A PP Pre'!DH12, 0)","v":0},{"$f":"OFFSET(CPP_nyf_base!$G$10, 'Step 4A PP Pre'!DI12, 0)","v":0},{"$f":"OFFSET(CPP_nyf_base!$G$10, 'Step 4A PP Pre'!DJ12, 0)","v":0},{"$f":"OFFSET(CPP_nyf_base!$G$10, 'Step 4A PP Pre'!DK12, 0)","v":0},{"$f":"OFFSET(CPP_nyf_base!$G$10, 'Step 4A PP Pre'!DL12, 0)","v":0},{"$f":"OFFSET(CPP_nyf_base!$G$10, 'Step 4A PP Pre'!DM12, 0)","v":0},{"$f":"OFFSET(CPP_nyf_base!$G$10, 'Step 4A PP Pre'!DN12, 0)","v":0},{"$f":"OFFSET(CPP_nyf_base!$G$10, 'Step 4A PP Pre'!DO12, 0)","v":0},{"$f":"OFFSET(CPP_nyf_base!$G$10, 'Step 4A PP Pre'!DP12, 0)","v":0},{"$f":"OFFSET(CPP_nyf_base!$G$10, 'Step 4A PP Pre'!DQ12, 0)","v":0},{"$f":"OFFSET(CPP_nyf_base!$G$10, 'Step 4A PP Pre'!DR12, 0)","v":0},{"$f":"OFFSET(CPP_nyf_base!$G$10, 'Step 4A PP Pre'!DS12, 0)","v":0},{"$f":"OFFSET(CPP_nyf_base!$G$10, 'Step 4A PP Pre'!DT12, 0)","v":0},{"$f":"OFFSET(CPP_nyf_base!$G$10, 'Step 4A PP Pre'!DU12, 0)","v":0},{"$f":"OFFSET(CPP_nyf_base!$G$10, 'Step 4A PP Pre'!DV12, 0)","v":0},{"$f":"OFFSET(CPP_nyf_base!$G$10, 'Step 4A PP Pre'!DW12, 0)","v":0},{"$f":"OFFSET(CPP_nyf_base!$G$10, 'Step 4A PP Pre'!DX12, 0)","v":0},{"$f":"OFFSET(CPP_nyf_base!$G$10, 'Step 4A PP Pre'!DY12, 0)","v":0},{"$f":"OFFSET(CPP_nyf_base!$G$10, 'Step 4A PP Pre'!DZ12, 0)","v":0},{"$f":"OFFSET(CPP_nyf_base!$G$10, 'Step 4A PP Pre'!EA12, 0)","v":0},{"$f":"OFFSET(CPP_nyf_base!$G$10, 'Step 4A PP Pre'!EB12, 0)","v":0},{"$f":"OFFSET(CPP_nyf_base!$G$10, 'Step 4A PP Pre'!EC12, 0)","v":0},{"$f":"OFFSET(CPP_nyf_base!$G$10, 'Step 4A PP Pre'!ED12, 0)","v":0},{"$f":"OFFSET(CPP_nyf_base!$G$10, 'Step 4A PP Pre'!EE12, 0)","v":0},{"$f":"OFFSET(CPP_nyf_base!$G$10, 'Step 4A PP Pre'!EF12, 0)","v":0},{"$f":"OFFSET(CPP_nyf_base!$G$10, 'Step 4A PP Pre'!EG12, 0)","v":0},{"$f":"OFFSET(CPP_nyf_base!$G$10, 'Step 4A PP Pre'!EH12, 0)","v":0},{"$f":"OFFSET(CPP_nyf_base!$G$10, 'Step 4A PP Pre'!EI12, 0)","v":0},{"$f":"OFFSET(CPP_nyf_base!$G$10, 'Step 4A PP Pre'!EJ12, 0)","v":0},{"$f":"OFFSET(CPP_nyf_base!$G$10, 'Step 4A PP Pre'!EK12, 0)","v":0},{"$f":"OFFSET(CPP_nyf_base!$G$10, 'Step 4A PP Pre'!EL12, 0)","v":0},{"$f":"OFFSET(CPP_nyf_base!$G$10, 'Step 4A PP Pre'!EM12, 0)","v":0},{"$f":"OFFSET(CPP_nyf_base!$G$10, 'Step 4A PP Pre'!EN12, 0)","v":0},{"$f":"OFFSET(CPP_nyf_base!$G$10, 'Step 4A PP Pre'!EO12, 0)","v":0},{"$f":"OFFSET(CPP_nyf_base!$G$10, 'Step 4A PP Pre'!EP12, 0)","v":0},{"$f":"OFFSET(CPP_nyf_base!$G$10, 'Step 4A PP Pre'!EQ12, 0)","v":0},{"$f":"OFFSET(CPP_nyf_base!$G$10, 'Step 4A PP Pre'!ER12, 0)","v":0},{"$f":"OFFSET(CPP_nyf_base!$G$10, 'Step 4A PP Pre'!ES12, 0)","v":0},{"$f":"OFFSET(CPP_nyf_base!$G$10, 'Step 4A PP Pre'!ET12, 0)","v":0},{"$f":"OFFSET(CPP_nyf_base!$G$10, 'Step 4A PP Pre'!EU12, 0)","v":0},{"$f":"OFFSET(CPP_nyf_base!$G$10, 'Step 4A PP Pre'!EV12, 0)","v":0},{"$f":"OFFSET(CPP_nyf_base!$G$10, 'Step 4A PP Pre'!EW12, 0)","v":0},{"$f":"OFFSET(CPP_nyf_base!$G$10, 'Step 4A PP Pre'!EX12, 0)","v":0},{"$f":"OFFSET(CPP_nyf_base!$G$10, 'Step 4A PP Pre'!EY12, 0)","v":0},{"$f":"OFFSET(CPP_nyf_base!$G$10, 'Step 4A PP Pre'!EZ12, 0)","v":0},{"$f":"OFFSET(CPP_nyf_base!$G$10, 'Step 4A PP Pre'!FA12, 0)","v":0},{"$f":"OFFSET(CPP_nyf_base!$G$10, 'Step 4A PP Pre'!FB12, 0)","v":0},{"$f":"OFFSET(CPP_nyf_base!$G$10, 'Step 4A PP Pre'!FC12, 0)","v":0},{"$f":"OFFSET(CPP_nyf_base!$G$10, 'Step 4A PP Pre'!FD12, 0)","v":0},{"$f":"OFFSET(CPP_nyf_base!$G$10, 'Step 4A PP Pre'!FE12, 0)","v":0},{"$f":"OFFSET(CPP_nyf_base!$G$10, 'Step 4A PP Pre'!FF12, 0)","v":0},{"$f":"OFFSET(CPP_nyf_base!$G$10, 'Step 4A PP Pre'!FG12, 0)","v":0},{"$f":"OFFSET(CPP_nyf_base!$G$10, 'Step 4A PP Pre'!FH12, 0)","v":0},{"$f":"OFFSET(CPP_nyf_base!$G$10, 'Step 4A PP Pre'!FI12, 0)","v":0},{"$f":"OFFSET(CPP_nyf_base!$G$93, 'Step 4A PP Pre'!FJ12, 0)","v":0},{"$f":"OFFSET(CPP_nyf_base!$G$93, 'Step 4A PP Pre'!FK12, 0)","v":0},{"$f":"OFFSET(CPP_nyf_base!$G$93, 'Step 4A PP Pre'!FL12, 0)","v":0},{"$f":"OFFSET(CPP_nyf_base!$G$93, 'Step 4A PP Pre'!FM12, 0)","v":0},{"$f":"OFFSET(CPP_nyf_base!$G$93, 'Step 4A PP Pre'!FN12, 0)","v":0},{"$f":"OFFSET(CPP_nyf_base!$G$93, 'Step 4A PP Pre'!FO12, 0)","v":0},{"$f":"OFFSET(CPP_nyf_base!$G$93, 'Step 4A PP Pre'!FP12, 0)","v":0},{"$f":"OFFSET(CPP_nyf_base!$G$93, 'Step 4A PP Pre'!FQ12, 0)","v":0},{"$f":"OFFSET(CPP_nyf_base!$G$93, 'Step 4A PP Pre'!FR12, 0)","v":0},{"$f":"OFFSET(CPP_nyf_base!$G$93, 'Step 4A PP Pre'!FS12, 0)","v":0},{"$f":"OFFSET(CPP_nyf_base!$G$93, 'Step 4A PP Pre'!FT12, 0)","v":0},{"$f":"OFFSET(CPP_nyf_base!$G$93, 'Step 4A PP Pre'!FU12, 0)","v":0},{"$f":"OFFSET(CPP_nyf_base!$G$93, 'Step 4A PP Pre'!FV12, 0)","v":0},{"$f":"OFFSET(CPP_nyf_base!$G$93, 'Step 4A PP Pre'!FW12, 0)","v":0},{"$f":"OFFSET(CPP_nyf_base!$G$93, 'Step 4A PP Pre'!FX12, 0)","v":0},{"$f":"OFFSET(CPP_nyf_base!$G$93, 'Step 4A PP Pre'!FY12, 0)","v":0},{"$f":"OFFSET(CPP_nyf_base!$G$93, 'Step 4A PP Pre'!FZ12, 0)","v":0},{"$f":"OFFSET(CPP_nyf_base!$G$93, 'Step 4A PP Pre'!GA12, 0)","v":0},{"$f":"OFFSET(CPP_nyf_base!$G$93, 'Step 4A PP Pre'!GB12, 0)","v":0},0,0]
[null,null,null,null,null,null,"PP",null,null,1,1,1,1,1,1,1,1,1,1,1,1,1,1,1,1,1,1,1,1,1,1,1,1,1,1,1,1,1,1,1,1,1,1,1,1,1,1,1,1,1,1,1,1,1,1,1,1,1,1,1,1,1,1,1,1,1,1,1,1,1,1,1,1,1,1,1,1,1,1,1,1,1,1,1,1,1,1,1,1,1,1,1,1,1,1,1,1,1,1,1,1,1,1,1,1,1,1,1,1,1,1,1,1,1,1,1,1,1,1,1,1,1,1,1,1,1,1,1,1,1,1,1,1,1,1,1,1,1,1,1,1,1,1,1,1,1,1,1,1,1,1,1,1,1,1,1,1,1,1,1,1,1,1,1,1,1,1,1,1,1,1,1,1,1,1,1,1,1,1,1,1,1,1,1,1,1]
[null,null,null,null,null,null,"Offset",null,null,1,2,3,4,5,6,7,8,9,10,11,12,13,14,15,16,17,18,19,20,21,22,23,24,25,26,27,28,29,30,31,32,33,34,35,36,37,38,39,40,41,42,43,44,45,46,47,48,49,50,51,52,53,54,55,56,57,58,59,60,61,62,63,64,65,66,67,68,69,70,71,72,73,74,75,76,77,78,{"$f":"J16","v":1},{"$f":"K16","v":2},3,4,5,6,7,8,9,10,11,12,13,{"$f":"W16","v":14},{"$f":"X16","v":15},{"$f":"Y16","v":16},{"$f":"Z16","v":17},{"$f":"AA16","v":18},{"$f":"AB16","v":19},{"$f":"AC16","v":20},{"$f":"AD16","v":21},{"$f":"AE16","v":22},{"$f":"AF16","v":23},{"$f":"AG16","v":24},{"$f":"AH16","v":25},{"$f":"AI16","v":26},{"$f":"AJ16","v":27},{"$f":"AK16","v":28},{"$f":"AL16","v":29},{"$f":"AM16","v":30},{"$f":"AN16","v":31},{"$f":"AO16","v":32},{"$f":"AP16","v":33},{"$f":"AQ16","v":34},{"$f":"AR16","v":35},{"$f":"AS16","v":36},{"$f":"AT16","v":37},{"$f":"AU16","v":38},{"$f":"AV16","v":39},{"$f":"AW16","v":40},{"$f":"AX16","v":41},{"$f":"AY16","v":42},{"$f":"AZ16","v":43},{"$f":"BA16","v":44},{"$f":"BB16","v":45},{"$f":"BC16","v":46},{"$f":"BD16","v":47},{"$f":"BE16","v":48},{"$f":"BF16","v":49},{"$f":"BG16","v":50},{"$f":"BH16","v":51},{"$f":"BI16","v":52},{"$f":"BJ16","v":53},{"$f":"BK16","v":54},{"$f":"BL16","v":55},{"$f":"BM16","v":56},{"$f":"BN16","v":57},{"$f":"BO16","v":58},{"$f":"BP16","v":59},{"$f":"BQ16","v":60},{"$f":"BR16","v":61},{"$f":"BS16","v":62},{"$f":"BT16","v":63},{"$f":"BU16","v":64},{"$f":"BV16","v":65},{"$f":"BW16","v":66},{"$f":"BX16","v":67},{"$f":"BY16","v":68},{"$f":"BZ16","v":69},{"$f":"CA16","v":70},{"$f":"CB16","v":71},{"$f":"CC16","v":72},{"$f":"CD16","v":73},{"$f":"CE16","v":74},{"$f":"CF16","v":75},{"$f":"CG16","v":76},{"$f":"CH16","v":77},{"$f":"CI16","v":78},1,2,3,4,5,6,7,8,9,10,11,12,13,14,17,18,19,20,21,0,0]
[null,null,null,null,null,null,"Use",null,null,{"$f":"OFFSET(PP_nyf_base!$G$10, 'Step 4A PP Pre'!J16, 0)","v":0},{"$f":"OFFSET(PP_nyf_base!$G$10, 'Step 4A PP Pre'!K16, 0)","v":0},{"$f":"OFFSET(PP_nyf_base!$G$10, 'Step 4A PP Pre'!L16, 0)","v":0},{"$f":"OFFSET(PP_nyf_base!$G$10, 'Step 4A PP Pre'!M16, 0)","v":0},{"$f":"OFFSET(PP_nyf_base!$G$10, 'Step 4A PP Pre'!N16, 0)","v":0},{"$f":"OFFSET(PP_nyf_base!$G$10, 'Step 4A PP Pre'!O16, 0)","v":0},{"$f":"OFFSET(PP_nyf_base!$G$10, 'Step 4A PP Pre'!P16, 0)","v":0},{"$f":"OFFSET(PP_nyf_base!$G$10, 'Step 4A PP Pre'!Q16, 0)","v":0},{"$f":"OFFSET(PP_nyf_base!$G$10, 'Step 4A PP Pre'!R16, 0)","v":0},{"$f":"OFFSET(PP_nyf_base!$G$10, 'Step 4A PP Pre'!S16, 0)","v":0},{"$f":"OFFSET(PP_nyf_base!$G$10, 'Step 4A PP Pre'!T16, 0)","v":0},{"$f":"OFFSET(PP_nyf_base!$G$10, 'Step 4A PP Pre'!U16, 0)","v":0},{"$f":"OFFSET(PP_nyf_base!$G$10, 'Step 4A PP Pre'!V16, 0)","v":0},{"$f":"OFFSET(PP_nyf_base!$G$10, 'Step 4A PP Pre'!W16, 0)","v":0},{"$f":"OFFSET(PP_nyf_base!$G$10, 'Step 4A PP Pre'!X16, 0)","v":0},{"$f":"OFFSET(PP_nyf_base!$G$10, 'Step 4A PP Pre'!Y16, 0)","v":0},{"$f":"OFFSET(PP_nyf_base!$G$10, 'Step 4A PP Pre'!Z16, 0)","v":0},{"$f":"OFFSET(PP_nyf_base!$G$10, 'Step 4A PP Pre'!AA16, 0)","v":0},{"$f":"OFFSET(PP_nyf_base!$G$10, 'Step 4A PP Pre'!AB16, 0)","v":0},{"$f":"OFFSET(PP_nyf_base!$G$10, 'Step 4A PP Pre'!AC16, 0)","v":0},{"$f":"OFFSET(PP_nyf_base!$G$10, 'Step 4A PP Pre'!AD16, 0)","v":0},{"$f":"OFFSET(PP_nyf_base!$G$10, 'Step 4A PP Pre'!AE16, 0)","v":0},{"$f":"OFFSET(PP_nyf_base!$G$10, 'Step 4A PP Pre'!AF16, 0)","v":0},{"$f":"OFFSET(PP_nyf_base!$G$10, 'Step 4A PP Pre'!AG16, 0)","v":0},{"$f":"OFFSET(PP_nyf_base!$G$10, 'Step 4A PP Pre'!AH16, 0)","v":0},{"$f":"OFFSET(PP_nyf_base!$G$10, 'Step 4A PP Pre'!AI16, 0)","v":0},{"$f":"OFFSET(PP_nyf_base!$G$10, 'Step 4A PP Pre'!AJ16, 0)","v":0},{"$f":"OFFSET(PP_nyf_base!$G$10, 'Step 4A PP Pre'!AK16, 0)","v":0},{"$f":"OFFSET(PP_nyf_base!$G$10, 'Step 4A PP Pre'!AL16, 0)","v":0},{"$f":"OFFSET(PP_nyf_base!$G$10, 'Step 4A PP Pre'!AM16, 0)","v":0},{"$f":"OFFSET(PP_nyf_base!$G$10, 'Step 4A PP Pre'!AN16, 0)","v":0},{"$f":"OFFSET(PP_nyf_base!$G$10, 'Step 4A PP Pre'!AO16, 0)","v":0},{"$f":"OFFSET(PP_nyf_base!$G$10, 'Step 4A PP Pre'!AP16, 0)","v":0},{"$f":"OFFSET(PP_nyf_base!$G$10, 'Step 4A PP Pre'!AQ16, 0)","v":0},{"$f":"OFFSET(PP_nyf_base!$G$10, 'Step 4A PP Pre'!AR16, 0)","v":0},{"$f":"OFFSET(PP_nyf_base!$G$10, 'Step 4A PP Pre'!AS16, 0)","v":0},{"$f":"OFFSET(PP_nyf_base!$G$10, 'Step 4A PP Pre'!AT16, 0)","v":0},{"$f":"OFFSET(PP_nyf_base!$G$10, 'Step 4A PP Pre'!AU16, 0)","v":0},{"$f":"OFFSET(PP_nyf_base!$G$10, 'Step 4A PP Pre'!AV16, 0)","v":0},{"$f":"OFFSET(PP_nyf_base!$G$10, 'Step 4A PP Pre'!AW16, 0)","v":0},{"$f":"OFFSET(PP_nyf_base!$G$10, 'Step 4A PP Pre'!AX16, 0)","v":0},{"$f":"OFFSET(PP_nyf_base!$G$10, 'Step 4A PP Pre'!AY16, 0)","v":0},{"$f":"OFFSET(PP_nyf_base!$G$10, 'Step 4A PP Pre'!AZ16, 0)","v":0},{"$f":"OFFSET(PP_nyf_base!$G$10, 'Step 4A PP Pre'!BA16, 0)","v":0},{"$f":"OFFSET(PP_nyf_base!$G$10, 'Step 4A PP Pre'!BB16, 0)","v":0},{"$f":"OFFSET(PP_nyf_base!$G$10, 'Step 4A PP Pre'!BC16, 0)","v":0},{"$f":"OFFSET(PP_nyf_base!$G$10, 'Step 4A PP Pre'!BD16, 0)","v":0},{"$f":"OFFSET(PP_nyf_base!$G$10, 'Step 4A PP Pre'!BE16, 0)","v":0},{"$f":"OFFSET(PP_nyf_base!$G$10, 'Step 4A PP Pre'!BF16, 0)","v":0},{"$f":"OFFSET(PP_nyf_base!$G$10, 'Step 4A PP Pre'!BG16, 0)","v":0},{"$f":"OFFSET(PP_nyf_base!$G$10, 'Step 4A PP Pre'!BH16, 0)","v":0},{"$f":"OFFSET(PP_nyf_base!$G$10, 'Step 4A PP Pre'!BI16, 0)","v":0},{"$f":"OFFSET(PP_nyf_base!$G$10, 'Step 4A PP Pre'!BJ16, 0)","v":0},{"$f":"OFFSET(PP_nyf_base!$G$10, 'Step 4A PP Pre'!BK16, 0)","v":0},{"$f":"OFFSET(PP_nyf_base!$G$10, 'Step 4A PP Pre'!BL16, 0)","v":0},{"$f":"OFFSET(PP_nyf_base!$G$10, 'Step 4A PP Pre'!BM16, 0)","v":0},{"$f":"OFFSET(PP_nyf_base!$G$10, 'Step 4A PP Pre'!BN16, 0)","v":0},{"$f":"OFFSET(PP_nyf_base!$G$10, 'Step 4A PP Pre'!BO16, 0)","v":0},{"$f":"OFFSET(PP_nyf_base!$G$10, 'Step 4A PP Pre'!BP16, 0)","v":0},{"$f":"OFFSET(PP_nyf_base!$G$10, 'Step 4A PP Pre'!BQ16, 0)","v":0},{"$f":"OFFSET(PP_nyf_base!$G$10, 'Step 4A PP Pre'!BR16, 0)","v":0},{"$f":"OFFSET(PP_nyf_base!$G$10, 'Step 4A PP Pre'!BS16, 0)","v":0},{"$f":"OFFSET(PP_nyf_base!$G$10, 'Step 4A PP Pre'!BT16, 0)","v":0},{"$f":"OFFSET(PP_nyf_base!$G$10, 'Step 4A PP Pre'!BU16, 0)","v":0},{"$f":"OFFSET(PP_nyf_base!$G$10, 'Step 4A PP Pre'!BV16, 0)","v":0},{"$f":"OFFSET(PP_nyf_base!$G$10, 'Step 4A PP Pre'!BW16, 0)","v":0},{"$f":"OFFSET(PP_nyf_base!$G$10, 'Step 4A PP Pre'!BX16, 0)","v":0},{"$f":"OFFSET(PP_nyf_base!$G$10, 'Step 4A PP Pre'!BY16, 0)","v":0},{"$f":"OFFSET(PP_nyf_base!$G$10, 'Step 4A PP Pre'!BZ16, 0)","v":0},{"$f":"OFFSET(PP_nyf_base!$G$10, 'Step 4A PP Pre'!CA16, 0)","v":0},{"$f":"OFFSET(PP_nyf_base!$G$10, 'Step 4A PP Pre'!CB16, 0)","v":0},{"$f":"OFFSET(PP_nyf_base!$G$10, 'Step 4A PP Pre'!CC16, 0)","v":0},{"$f":"OFFSET(PP_nyf_base!$G$10, 'Step 4A PP Pre'!CD16, 0)","v":0},{"$f":"OFFSET(PP_nyf_base!$G$10, 'Step 4A PP Pre'!CE16, 0)","v":0},{"$f":"OFFSET(PP_nyf_base!$G$10, 'Step 4A PP Pre'!CF16, 0)","v":0},{"$f":"OFFSET(PP_nyf_base!$G$10, 'Step 4A PP Pre'!CG16, 0)","v":0},{"$f":"OFFSET(PP_nyf_base!$G$10, 'Step 4A PP Pre'!CH16, 0)","v":0},{"$f":"OFFSET(PP_nyf_base!$G$10, 'Step 4A PP Pre'!CI16, 0)","v":0},{"$f":"J17","v":0},0,0,0,0,0,0,0,0,0,0,0,0,0,0,0,0,0,0,0,0,0,0,0,0,0,0,0,0,0,0,0,0,0,0,0,0,0,0,0,0,0,0,0,0,0,0,0,0,0,0,0,0,0,0,0,0,0,0,0,0,0,0,0,0,0,0,0,0,0,0,0,0,0,0,0,0,0,{"$f":"OFFSET(PP_nyf_base!$G$94, 'Step 4A PP Pre'!FJ16, 0)","v":0},{"$f":"OFFSET(PP_nyf_base!$G$94, 'Step 4A PP Pre'!FK16, 0)","v":0},{"$f":"OFFSET(PP_nyf_base!$G$94, 'Step 4A PP Pre'!FL16, 0)","v":0},{"$f":"OFFSET(PP_nyf_base!$G$94, 'Step 4A PP Pre'!FM16, 0)","v":0},{"$f":"OFFSET(PP_nyf_base!$G$94, 'Step 4A PP Pre'!FN16, 0)","v":0},{"$f":"OFFSET(PP_nyf_base!$G$94, 'Step 4A PP Pre'!FO16, 0)","v":0},{"$f":"OFFSET(PP_nyf_base!$G$94, 'Step 4A PP Pre'!FP16, 0)","v":0},{"$f":"OFFSET(PP_nyf_base!$G$94, 'Step 4A PP Pre'!FQ16, 0)","v":0},{"$f":"OFFSET(PP_nyf_base!$G$94, 'Step 4A PP Pre'!FR16, 0)","v":0},{"$f":"OFFSET(PP_nyf_base!$G$94, 'Step 4A PP Pre'!FS16, 0)","v":0},{"$f":"OFFSET(PP_nyf_base!$G$94, 'Step 4A PP Pre'!FT16, 0)","v":0},{"$f":"OFFSET(PP_nyf_base!$G$94, 'Step 4A PP Pre'!FU16, 0)","v":0},{"$f":"OFFSET(PP_nyf_base!$G$94, 'Step 4A PP Pre'!FV16, 0)","v":0},{"$f":"OFFSET(PP_nyf_base!$G$94, 'Step 4A PP Pre'!FW16, 0)","v":0},{"$f":"OFFSET(PP_nyf_base!$G$94, 'Step 4A PP Pre'!FX16, 0)","v":0},{"$f":"OFFSET(PP_nyf_base!$G$94, 'Step 4A PP Pre'!FY16, 0)","v":0},{"$f":"OFFSET(PP_nyf_base!$G$94, 'Step 4A PP Pre'!FZ16, 0)","v":0},{"$f":"OFFSET(PP_nyf_base!$G$94, 'Step 4A PP Pre'!GA16, 0)","v":0},{"$f":"OFFSET(PP_nyf_base!$G$94, 'Step 4A PP Pre'!GB16, 0)","v":0},1,0]
[null,null,null,null,null,null,"Code",null,null,"Tena1","Tena2","Conf1","Conf2","Conf3","Conf4","Conf5","Proa1","Proa2","Grow1","Grow2","Care1","Care2","Care3","Cult1","Glob1","Glob2","Glob3","Glob4","Inno1","Crit1","Crit2","Crit3","Prob1","Prob2","Prob3","Prob4","Prob5","Team1","Team2","Team3","Team4","Team5","Team6","Stak1","Stak2","Stak3","Stak4","Proj1","Emot1","Emot2","Emot3","Emot4","Emot5","Fina1","Phys1","Phys2","Nati1","Nati_pers1","Nati_pers2","Nati_pers3","Nati_pers4","Publ1","Trus1","Trus2","Trus3","Trus4","Soci1","Soci2","Open1","Open2","Empa1","Abil_comm1","Abil_comm2","Civi_comm1","Civi_comm2","Civi_comm3","Civi_comm4","Civi_comm5","Civi_comm6","Civi_comm7","Civi_env1","Civi_env2","Civi_env3","Civi_env4","Civi_env5","Civi_env6","Abil_govt1","Tena1","Tena2","Conf1","Conf2","Conf3","Conf4","Conf5","Proa1","Proa2","Grow1","Grow2","Care1","Care2","Care3","Cult1","Glob1","Glob2","Glob3","Glob4","Inno1","Crit1","Crit2","Crit3","Prob1","Prob2","Prob3","Prob4","Prob5","Team1","Team2","Team3","Team4","Team5","Team6","Stak1","Stak2","Stak3","Stak4","Proj1","Emot1","Emot2","Emot3","Emot4","Emot5","Fina1","Phys1","Phys2","Nati1","Nati_pers1","Nati_pers2","Nati_pers3","Nati_pers4","Publ1","Trus1","Trus2","Trus3","Trus4","Soci1","Soci2","Open1","Open2","Empa1","Abil_comm1","Abil_comm2","Civi_comm1","Civi_comm2","Civi_comm3","Civi_comm4","Civi_comm5","Civi_comm6","Civi_comm7","Civi_env1","Civi_env2","Civi_env3","Civi_env4","Civi_env5","Civi_env6","Abil_govt1","Prog_imp1","Prog_imp2","Prog_imp3","Prog_imp4","Prog_imp5","Feed1","Feed2","Feed3","Feed4","Feed5","Feed6","Feed7","Feed8","Feed9","Over1","Over2","Over3","Over4","Over5","Nric_Pre","Nric_Post",null,null,null,null,null,null,null,null,null,null,null,null,null,null,null,null,null,null,null,null,null,null,null,null,null,null,null,null,null,null,null,null,null,null,null,null,null,null,null,null,null,null,null,null,null,null,null,null,null,null,null,null,null,null,null,null,null,null,null,null,null,null,null,null,null,null,null,null,null,null,null,null,null,null,null,null,null,null,null,null,null,null,null,null,null,null,null,null,null,null,null,null,null,null,null,null,null,null,null,null,null,null,null,null,null,null,null,null,null,null,null,null,null,null,null,null,null,null,null,null,null,null,null,null,null,null,null,null,null,null,null,null,null,null,null,null,null,null,null,null,null,null,null,null,null,null,null,null,null,null,null,null,null,null,null,null,null,null,null,null,null,null,null,null,null,null,null,null,null,null,null,null,null,null,null,null,null,null,null,null,null,null,"sub_count",{"$f":"SUM(NE21:NE1020)","v":0}]
[null,null,null,null,null,null,"Stage",null,null,"Pre","Pre","Pre","Pre","Pre","Pre","Pre","Pre","Pre","Pre","Pre","Pre","Pre","Pre","Pre","Pre","Pre","Pre","Pre","Pre","Pre","Pre","Pre","Pre","Pre","Pre","Pre","Pre","Pre","Pre","Pre","Pre","Pre","Pre","Pre","Pre","Pre","Pre","Pre","Pre","Pre","Pre","Pre","Pre","Pre","Pre","Pre","Pre","Pre","Pre","Pre","Pre","Pre","Pre","Pre","Pre","Pre","Pre","Pre","Pre","Pre","Pre","Pre","Pre","Pre","Pre","Pre","Pre","Pre","Pre","Pre","Pre","Pre","Pre","Pre","Pre","Pre","Pre","Post","Post","Post","Post","Post","Post","Post","Post","Post","Post","Post","Post","Post","Post","Post","Post","Post","Post","Post","Post","Post","Post","Post","Post","Post","Post","Post","Post","Post","Post","Post","Post","Post","Post","Post","Post","Post","Post","Post","Post","Post","Post","Post","Post","Post","Post","Post","Post","Post","Post","Post","Post","Post","Post","Post","Post","Post","Post","Post","Post","Post","Post","Post","Post","Post","Post","Post","Post","Post","Post","Post","Post","Post","Post","Post","Post","Post","Post","Post","Post","Post","Post","Post","Post","Post","Post","Post","Post","Post","Post","Post","Post","Post","Post","Post","Post","Post","Pre","Post"]
[null,null,null,null,null,null,"Input","Prog_name","Org_name","I am able to persevere in the face of challenges.","I do not give up even after experiencing failure. ","I feel that I have a number of good qualities.","I am able to do things as well as most other people. ","I believe I can achieve my goals.","I believe I have the ability to succeed in the things I want to do.","I am confident I can succeed when I try my best.","I seize the opportunity whenever I see one. ","I take initiative instead of waiting for things to happen.","I believe it is important to challenge myself to grow. ","Difficult times are an opportunity for me to learn and grow as a person.","I am aware of the skills that will help me to succeed in my career in future.","I am aware of the potential career pathways that I can take to achieve my goals.","I believe I can achieve my career goals. ","I am aware of differences between cultures.","I am aware of issues affecting other countries","I understand how changes around the world affect other countries.","I understand the opportunities and challenges other countries have.","I understand the difficulties in trying to solve global issues.","I know of ways to come up with new ideas. ","I am able to link different information together. ","I think through issues from different angles.","I analyse an issue thoroughly before coming to a conclusion.","I know how to identify and solve problems.","I am able to solve problems that I face.","After I have tried to solve a problem, I examine why it did or did not work.","When solving a problem, I compare the pros and cons of my solutions. ","When faced with a problem, I try to find out the cause of the problem.","I know how to work well in a team.","I support others in the team.","I communicate well with my team members.","I work well in a team.","I treat other members of my team as equal to myself.","I am able to work with people who have different working styles from me.","I know how to work well with my stakeholders.","I seek to understand the needs of my stakeholders.","I am able to establish common understanding and build trust with my stakeholders.","I work well with my stakeholders.","I understand the factors that are critical to the smooth running of an event or a project. ","I know how to identify symptoms of mental and emotional distress. ","I am able to support those struggling mentally and emotionally. ","I know how I can manage negative thoughts and emotions. ","I know where to seek help when I have distressing thoughts and emotions beyond my control. ","If I have distressing thoughts and emotions beyond my control, I would seek help.","I know the steps that I can take to meet my financial goals.","I believe it is important to stay physically healthy. ","I make a conscious effort to maintain a healthy lifestyle.","I am proud to be a Singaporean. ","I am aware of issues affecting Singapore.","I understand how changes around the world affect Singapore and its future.","I understand the opportunities and challenges that Singapore has.","I understand the difficulties in trying to solve issues affecting Singapore's society.","I am aware of policies and programmes that tackle issues affecting Singapore's society.","I trust the government. ","I feel that the government understands the concerns of Singaporeans like me.","I feel that the government cares for the wellbeing of Singaporeans like me.","I feel that the government values my views.","I have people that I can talk with about my problems.","I have people whom I can turn to for support. ","I respect the opinions of others, even if I do not agree with it. ","I respect the values and beliefs of people who are of a different background from me.","I put myself in the shoes of others to understand how they feel.","I believe that I can make a difference in the community.","I believe I can help to shape society.","I am aware of the needs in the community.","I understand the ways that I can contribute to the community.","I believe I have a role to play in improving the community.","I feel a strong conviction to give back to the community.","I actively participate in efforts that help to improve the community.","I participate in discussions on national, community or social issues.","I encourage my peers to participate in activities that help to improve the community.","I am aware of the effects of my actions on the environment.","I understand the ways that I can care for the environment.","I feel responsible towards the environment.","My efforts to care for the environment will make a difference.","I actively participate in efforts to care for the environment.","I encourage my peers to care for the environment.","I believe that I can influence government decisions on issues. ","I am able to persevere in the face of challenges.","I do not give up even after experiencing failure. ","I feel that I have a number of good qualities.","I am able to do things as well as most other people. ","I believe I can achieve my goals.","I believe I have the ability to succeed in the things I want to do.","I am confident I can succeed when I try my best.","I seize the opportunity whenever I see one. ","I take initiative instead of waiting for things to happen.","I believe it is important to challenge myself to grow. ","Difficult times are an opportunity for me to learn and grow as a person.","I am aware of the skills that will help me to succeed in my career in future.","I am aware of the potential career pathways that I can take to achieve my goals.","I believe I can achieve my career goals. ","I am aware of differences between cultures.","I am aware of issues affecting other countries","I understand how changes around the world affect other countries.","I understand the opportunities and challenges other countries have.","I understand the difficulties in trying to solve global issues.","I know of ways to come up with new ideas. ","I am able to link different information together. ","I think through issues from different angles.","I analyse an issue thoroughly before coming to a conclusion.","I know how to identify and solve problems.","I am able to solve problems that I face.","After I have tried to solve a problem, I examine why it did or did not work.","When solving a problem, I compare the pros and cons of my solutions. ","When faced with a problem, I try to find out the cause of the problem.","I know how to work well in a team.","I support others in the team.","I communicate well with my team members.","I work well in a team.","I treat other members of my team as equal to myself.","I am able to work with people who have different working styles from me.","I know how to work well with my stakeholders.","I seek to understand the needs of my stakeholders.","I am able to establish common understanding and build trust with my stakeholders.","I work well with my stakeholders.","I understand the factors that are critical to the smooth running of an event or a project. ","I know how to identify symptoms of mental and emotional distress. ","I am able to support those struggling mentally and emotionally. ","I know how I can manage negative thoughts and emotions. ","I know where to seek help when I have distressing thoughts and emotions beyond my control. ","If I have distressing thoughts and emotions beyond my control, I would seek help.","I know the steps that I can take to meet my financial goals.","I believe it is important to stay physically healthy. ","I make a conscious effort to maintain a healthy lifestyle.","I am proud to be a Singaporean. ","I am aware of issues affecting Singapore.","I understand how changes around the world affect Singapore and its future.","I understand the opportunities and challenges that Singapore has.","I understand the difficulties in trying to solve issues affecting Singapore's society.","I am aware of policies and programmes that tackle issues affecting Singapore's society.","I trust the government. ","I feel that the government understands the concerns of Singaporeans like me.","I feel that the government cares for the wellbeing of Singaporeans like me.","I feel that the government values my views.","I have people that I can talk with about my problems.","I have people whom I can turn to for support. ","I respect the opinions of others, even if I do not agree with it. ","I respect the values and beliefs of people who are of a different background from me.","I put myself in the shoes of others to understand how they feel.","I believe that I can make a difference in the community.","I believe I can help to shape society.","I am aware of the needs in the community.","I understand the ways that I can contribute to the community.","I believe I have a role to play in improving the community.","I feel a strong conviction to give back to the community.","I actively participate in efforts that help to improve the community.","I participate in discussions on national, community or social issues.","I encourage my peers to participate in activities that help to improve the community.","I am aware of the effects of my actions on the environment.","I understand the ways that I can care for the environment.","I feel responsible towards the environment.","My efforts to care for the environment will make a difference.","I actively participate in efforts to care for the environment.","I encourage my peers to care for the environment.","I believe that I can influence government decisions on issues. ","What do you think of the duration of programme_name?","I feel that the pace of programme_name was…","The accommodation is of acceptable standard.","The meal(s) are of acceptable standard.","The facilities are of acceptable standard.","The mentor provided sufficient guidance. ","The mentor provided useful insights.","The mentor was able to facilitate learning through reflections and asking critical questions. ","The mentor provided useful feedback for my personal growth.","The mentor has the necessary knowledge and skills for the role.","The mentor was able to point me to useful resources.","The mentor is able to communicate well with the group.","The mentor was able to manage the group effectively","How would you rate the mentor as a whole?","Overall, I am satisfied with programme_name.","How would you rate programme_name as a whole? ","I would recommend programme_name to others. ","I would like to take part in other activities organised by organisation_name.","This programme has allowed me to expand my networks.","Please provide the last 5 characters of your NRIC","Please provide the last 5 characters of your NRIC",null,"VALIDATION","I am able to persevere in the face of challenges.","I do not give up even after experiencing failure. ","I feel that I have a number of good qualities.","I am able to do things as well as most other people. ","I believe I can achieve my goals.","I believe I have the ability to succeed in the things I want to do.","I am confident I can succeed when I try my best.","I seize the opportunity whenever I see one. ","I take initiative instead of waiting for things to happen.","I believe it is important to challenge myself to grow. ","Difficult times are an opportunity for me to learn and grow as a person.","I am aware of the skills that will help me to succeed in my career in future.","I am aware of the potential career pathways that I can take to achieve my goals.","I believe I can achieve my career goals. ","I am aware of differences between cultures.","I am aware of issues affecting other countries","I understand how changes around the world affect other countries.","I understand the opportunities and challenges other countries have.","I understand the difficulties in trying to solve global issues.","I know of ways to come up with new ideas. ","I am able to link different information together. ","I think through issues from different angles.","I analyse an issue thoroughly before coming to a conclusion.","I know how to identify and solve problems.","I am able to solve problems that I face.","After I have tried to solve a problem, I examine why it did or did not work.","When solving a problem, I compare the pros and cons of my solutions. ","When faced with a problem, I try to find out the cause of the problem.","I know how to work well in a team.","I support others in the team.","I communicate well with my team members.","I work well in a team.","I treat other members of my team as equal to myself.","I am able to work with people who have different working styles from me.","I know how to work well with my stakeholders.","I seek to understand the needs of my stakeholders.","I am able to establish common understanding and build trust with my stakeholders.","I work well with my stakeholders.","I understand the factors that are critical to the smooth running of an event or a project. ","I know how to identify symptoms of mental and emotional distress. ","I am able to support those struggling mentally and emotionally. ","I know how I can manage negative thoughts and emotions. ","I know where to seek help when I have distressing thoughts and emotions beyond my control. ","If I have distressing thoughts and emotions beyond my control, I would seek help.","I know the steps that I can take to meet my financial goals.","I believe it is important to stay physically healthy. ","I make a conscious effort to maintain a healthy lifestyle.","I am proud to be a Singaporean. ","I am aware of issues affecting Singapore.","I understand how changes around the world affect Singapore and its future.","I understand the opportunities and challenges that Singapore has.","I understand the difficulties in trying to solve issues affecting Singapore's society.","I am aware of policies and programmes that tackle issues affecting Singapore's society.","I trust the government. ","I feel that the government understands the concerns of Singaporeans like me.","I feel that the government cares for the wellbeing of Singaporeans like me.","I feel that the government values my views.","I have people that I can talk with about my problems.","I have people whom I can turn to for support. ","I respect the opinions of others, even if I do not agree with it. ","I respect the values and beliefs of people who are of a different background from me.","I put myself in the shoes of others to understand how they feel.","I believe that I can make a difference in the community.","I believe I can help to shape society.","I am aware of the needs in the community.","I understand the ways that I can contribute to the community.","I believe I have a role to play in improving the community.","I feel a strong conviction to give back to the community.","I actively participate in efforts that help to improve the community.","I participate in discussions on national, community or social issues.","I encourage my peers to participate in activities that help to improve the community.","I am aware of the effects of my actions on the environment.","I understand the ways that I can care for the environment.","I feel responsible towards the environment.","My efforts to care for the environment will make a difference.","I actively participate in efforts to care for the environment.","I encourage my peers to care for the environment.","I believe that I can influence government decisions on issues. ","I am able to persevere in the face of challenges.","I do not give up even after experiencing failure. ","I feel that I have a number of good qualities.","I am able to do things as well as most other people. ","I believe I can achieve my goals.","I believe I have the ability to succeed in the things I want to do.","I am confident I can succeed when I try my best.","I seize the opportunity whenever I see one. ","I take initiative instead of waiting for things to happen.","I believe it is important to challenge myself to grow. ","Difficult times are an opportunity for me to learn and grow as a person.","I am aware of the skills that will help me to succeed in my career in future.","I am aware of the potential career pathways that I can take to achieve my goals.","I believe I can achieve my career goals. ","I am aware of differences between cultures.","I am aware of issues affecting other countries","I understand how changes around the world affect other countries.","I understand the opportunities and challenges other countries have.","I understand the difficulties in trying to solve global issues.","I know of ways to come up with new ideas. ","I am able to link different information together. ","I think through issues from different angles.","I analyse an issue thoroughly before coming to a conclusion.","I know how to identify and solve problems.","I am able to solve problems that I face.","After I have tried to solve a problem, I examine why it did or did not work.","When solving a problem, I compare the pros and cons of my solutions. ","When faced with a problem, I try to find out the cause of the problem.","I know how to work well in a team.","I support others in the team.","I communicate well with my team members.","I work well in a team.","I treat other members of my team as equal to myself.","I am able to work with people who have different working styles from me.","I know how to work well with my stakeholders.","I seek to understand the needs of my stakeholders.","I am able to establish common understanding and build trust with my stakeholders.","I work well with my stakeholders.","I understand the factors that are critical to the smooth running of an event or a project. ","I know how to identify symptoms of mental and emotional distress. ","I am able to support those struggling mentally and emotionally. ","I know how I can manage negative thoughts and emotions. ","I know where to seek help when I have distressing thoughts and emotions beyond my control. ","If I have distressing thoughts and emotions beyond my control, I would seek help.","I know the steps that I can take to meet my financial goals.","I believe it is important to stay physically healthy. ","I make a conscious effort to maintain a healthy lifestyle.","I am proud to be a Singaporean. ","I am aware of issues affecting Singapore.","I understand how changes around the world affect Singapore and its future.","I understand the opportunities and challenges that Singapore has.","I understand the difficulties in trying to solve issues affecting Singapore's society.","I am aware of policies and programmes that tackle issues affecting Singapore's society.","I trust the government. ","I feel that the government understands the concerns of Singaporeans like me.","I feel that the government cares for the wellbeing of Singaporeans like me.","I feel that the government values my views.","I have people that I can talk with about my problems.","I have people whom I can turn to for support. ","I respect the opinions of others, even if I do not agree with it. ","I respect the values and beliefs of people who are of a different background from me.","I put myself in the shoes of others to understand how they feel.","I believe that I can make a difference in the community.","I believe I can help to shape society.","I am aware of the needs in the community.","I understand the ways that I can contribute to the community.","I believe I have a role to play in improving the community.","I feel a strong conviction to give back to the community.","I actively participate in efforts that help to improve the community.","I participate in discussions on national, community or social issues.","I encourage my peers to participate in activities that help to improve the community.","I am aware of the effects of my actions on the environment.","I understand the ways that I can care for the environment.","I feel responsible towards the environment.","My efforts to care for the environment will make a difference.","I actively participate in efforts to care for the environment.","I encourage my peers to care for the environment.","I believe that I can influence government decisions on issues. ","What do you think of the duration of programme_name?","I feel that the pace of programme_name was…","The accommodation is of acceptable standard.","The meal(s) are of acceptable standard.","The facilities are of acceptable standard.","The mentor provided sufficient guidance. ","The mentor provided useful insights.","The mentor was able to facilitate learning through reflections and asking critical questions. ","The mentor provided useful feedback for my personal growth.","The mentor has the necessary knowledge and skills for the role.","The mentor was able to point me to useful resources.","The mentor is able to communicate well with the group.","The mentor was able to manage the group effectively","How would you rate the mentor as a whole?","Overall, I am satisfied with programme_name.","How would you rate programme_name as a whole? ","I would recommend programme_name to others. ","I would like to take part in other activities organised by organisation_name.","This programme has allowed me to expand my networks.","Please provide the last 5 characters of your NRIC","Please provide the last 5 characters of your NRIC","Total Questions","Valid Responses","Difference","Submitted?","Error?",{"$f":"IF(COUNTIFS(NE21:NE1020, 1, ND21:ND1020, 0) = COUNTIF(NE21:NE1020, 1), 0, 1)","v":0}]
[null,null,null,null,null,null,1,{"$f":"IF(NE21=1, START!$B$17, \"\")","v":""},{"$f":"IF(NE21=1, START!$B$20, \"\")","v":""},null,null,null,null,null,null,null,null,null,null,null,null,null,null,null,null,null,null,null,null,null,null,null,null,null,null,null,null,null,null,null,null,null,null,null,null,null,null,null,null,null,null,null,null,null,null,null,null,null,null,null,null,null,null,null,null,null,null,null,null,null,null,null,null,null,null,null,null,null,null,null,null,null,null,null,null,null,null,null,null,null,null,null,null,null,null,null,null,null,null,null,null,null,null,null,null,null,null,null,null,null,null,null,null,null,null,null,null,null,null,null,null,null,null,null,null,null,null,null,null,null,null,null,null,null,null,null,null,null,null,null,null,null,null,null,null,null,null,null,null,null,null,null,null,null,null,null,null,null,null,null,null,null,null,null,null,null,null,null,null,null,null,null,null,null,null,null,null,null,null,null,null,null,null,null,null,null,null,1,{"$f":"IF(J21=\"\",\"\",IF(OR(J21=1,J21=2,J21=3,J21=4,J21=5,J21=99),1,0))","v":""},{"$f":"IF(K21=\"\",\"\",IF(OR(K21=1,K21=2,K21=3,K21=4,K21=5,K21=99),1,0))","v":""},"","","","","","","","","","","","","","","","","","","","","","","","","","","","","","","","","","","","","","","","","","","","","","","","","","","","","","","","","","","","","","","",{"$f":"IF(BW21=\"\",\"\",IF(OR(BW21=1,BW21=2,BW21=3,BW21=4,BW21=5,BW21=99),1,0))","v":""},"","","","","","","","","","","","","","","","","","","","","","","","","","","","","","","","","","","","","","","","","","","","","","","","","","","","","","","","","","","","","","","",{"$f":"IF(EI21=\"\",\"\",IF(OR(EI21=1,EI21=2,EI21=3,EI21=4,EI21=5,EI21=99),1,0))","v":""},"","","","","","","","","","","","","","","","","","","","","","","","","","","","","","","","","","","","","","","","","","","",{"$f":"IF(GA21=\"\",\"\",IF(OR(GA21=1,GA21=2,GA21=99),1,0))","v":""},{"$f":"IF(GB21=\"\",\"\",IF(OR(GB21=1,GB21=2,GB21=3,GB21=4,GB21=5,GB21=99),1,0))","v":""},{"$f":"IF(GC21=\"\",\"\",IF(AND(LEN(GC21)=5),1,0))","v":""},{"$f":"IF(GD21=\"\",\"\",IF(AND(LEN(GD21)=5),1,0))","v":""},{"$f":"SUM($J$11:$GD$11)","v":1},{"$f":"SUM(GG21:NA21)","v":0},{"$f":"NC21-NB21","v":-1},{"$f":"IF(COUNT(GG21:NA21)>0, 1, 0)","v":0},{"$f":"IF(AND(NE21=1,ND21=0),0,IF(NE21=0,0,1))","v":0}]
[null,null,null,null,null,null,2,{"$f":"IF(NE22=1, START!$B$17, \"\")","v":""},{"$f":"IF(NE22=1, START!$B$20, \"\")","v":""},null,null,null,null,null,null,null,null,null,null,null,null,null,null,null,null,null,null,null,null,null,null,null,null,null,null,null,null,null,null,null,null,null,null,null,null,null,null,null,null,null,null,null,null,null,null,null,null,null,null,null,null,null,null,null,null,null,null,null,null,null,null,null,null,null,null,null,null,null,null,null,null,null,null,null,null,null,null,null,null,null,null,null,null,null,null,null,null,null,null,null,null,null,null,null,null,null,null,null,null,null,null,null,null,null,null,null,null,null,null,null,null,null,null,null,null,null,null,null,null,null,null,null,null,null,null,null,null,null,null,null,null,null,null,null,null,null,null,null,null,null,null,null,null,null,null,null,null,null,null,null,null,null,null,null,null,null,null,null,null,null,null,null,null,null,null,null,null,null,null,null,null,null,null,null,null,null,null,2,{"$f":"IF(J22=\"\",\"\",IF(OR(J22=1,J22=2,J22=3,J22=4,J22=5,J22=99),1,0))","v":""},{"$f":"IF(K22=\"\",\"\",IF(OR(K22=1,K22=2,K22=3,K22=4,K22=5,K22=99),1,0))","v":""},{"$f":"IF(L22=\"\",\"\",IF(OR(L22=1,L22=2,L22=3,L22=4,L22=5,L22=99),1,0))","v":""},{"$f":"IF(M22=\"\",\"\",IF(OR(M22=1,M22=2,M22=3,M22=4,M22=5,M22=99),1,0))","v":""},{"$f":"IF(N22=\"\",\"\",IF(OR(N22=1,N22=2,N22=3,N22=4,N22=5,N22=99),1,0))","v":""},{"$f":"IF(O22=\"\",\"\",IF(OR(O22=1,O22=2,O22=3,O22=4,O22=5,O22=99),1,0))","v":""},{"$f":"IF(P22=\"\",\"\",IF(OR(P22=1,P22=2,P22=3,P22=4,P22=5,P22=99),1,0))","v":""},{"$f":"IF(Q22=\"\",\"\",IF(OR(Q22=1,Q22=2,Q22=3,Q22=4,Q22=5,Q22=99),1,0))","v":""},{"$f":"IF(R22=\"\",\"\",IF(OR(R22=1,R22=2,R22=3,R22=4,R22=5,R22=99),1,0))","v":""},{"$f":"IF(S22=\"\",\"\",IF(OR(S22=1,S22=2,S22=3,S22=4,S22=5,S22=99),1,0))","v":""},{"$f":"IF(T22=\"\",\"\",IF(OR(T22=1,T22=2,T22=3,T22=4,T22=5,T22=99),1,0))","v":""},{"$f":"IF(U22=\"\",\"\",IF(OR(U22=1,U22=2,U22=3,U22=4,U22=5,U22=99),1,0))","v":""},{"$f":"IF(V22=\"\",\"\",IF(OR(V22=1,V22=2,V22=3,V22=4,V22=5,V22=99),1,0))","v":""},{"$f":"IF(W22=\"\",\"\",IF(OR(W22=1,W22=2,W22=3,W22=4,W22=5,W22=99),1,0))","v":""},{"$f":"IF(X22=\"\",\"\",IF(OR(X22=1,X22=2,X22=3,X22=4,X22=5,X22=99),1,0))","v":""},{"$f":"IF(Y22=\"\",\"\",IF(OR(Y22=1,Y22=2,Y22=3,Y22=4,Y22=5,Y22=99),1,0))","v":""},{"$f":"IF(Z22=\"\",\"\",IF(OR(Z22=1,Z22=2,Z22=3,Z22=4,Z22=5,Z22=99),1,0))","v":""},{"$f":"IF(AA22=\"\",\"\",IF(OR(AA22=1,AA22=2,AA22=3,AA22=4,AA22=5,AA22=99),1,0))","v":""},{"$f":"IF(AB22=\"\",\"\",IF(OR(AB22=1,AB22=2,AB22=3,AB22=4,AB22=5,AB22=99),1,0))","v":""},{"$f":"IF(AC22=\"\",\"\",IF(OR(AC22=1,AC22=2,AC22=3,AC22=4,AC22=5,AC22=99),1,0))","v":""},{"$f":"IF(AD22=\"\",\"\",IF(OR(AD22=1,AD22=2,AD22=3,AD22=4,AD22=5,AD22=99),1,0))","v":""},{"$f":"IF(AE22=\"\",\"\",IF(OR(AE22=1,AE22=2,AE22=3,AE22=4,AE22=5,AE22=99),1,0))","v":""},{"$f":"IF(AF22=\"\",\"\",IF(OR(AF22=1,AF22=2,AF22=3,AF22=4,AF22=5,AF22=99),1,0))","v":""},{"$f":"IF(AG22=\"\",\"\",IF(OR(AG22=1,AG22=2,AG22=3,AG22=4,AG22=5,AG22=99),1,0))","v":""},{"$f":"IF(AH22=\"\",\"\",IF(OR(AH22=1,AH22=2,AH22=3,AH22=4,AH22=5,AH22=99),1,0))","v":""},{"$f":"IF(AI22=\"\",\"\",IF(OR(AI22=1,AI22=2,AI22=3,AI22=4,AI22=5,AI22=99),1,0))","v":""},{"$f":"IF(AJ22=\"\",\"\",IF(OR(AJ22=1,AJ22=2,AJ22=3,AJ22=4,AJ22=5,AJ22=99),1,0))","v":""},{"$f":"IF(AK22=\"\",\"\",IF(OR(AK22=1,AK22=2,AK22=3,AK22=4,AK22=5,AK22=99),1,0))","v":""},{"$f":"IF(AL22=\"\",\"\",IF(OR(AL22=1,AL22=2,AL22=3,AL22=4,AL22=5,AL22=99),1,0))","v":""},{"$f":"IF(AM22=\"\",\"\",IF(OR(AM22=1,AM22=2,AM22=3,AM22=4,AM22=5,AM22=99),1,0))","v":""},{"$f":"IF(AN22=\"\",\"\",IF(OR(AN22=1,AN22=2,AN22=3,AN22=4,AN22=5,AN22=99),1,0))","v":""},{"$f":"IF(AO22=\"\",\"\",IF(OR(AO22=1,AO22=2,AO22=3,AO22=4,AO22=5,AO22=99),1,0))","v":""},{"$f":"IF(AP22=\"\",\"\",IF(OR(AP22=1,AP22=2,AP22=3,AP22=4,AP22=5,AP22=99),1,0))","v":""},{"$f":"IF(AQ22=\"\",\"\",IF(OR(AQ22=1,AQ22=2,AQ22=3,AQ22=4,AQ22=5,AQ22=99),1,0))","v":""},{"$f":"IF(AR22=\"\",\"\",IF(OR(AR22=1,AR22=2,AR22=3,AR22=4,AR22=5,AR22=99),1,0))","v":""},{"$f":"IF(AS22=\"\",\"\",IF(OR(AS22=1,AS22=2,AS22=3,AS22=4,AS22=5,AS22=99),1,0))","v":""},{"$f":"IF(AT22=\"\",\"\",IF(OR(AT22=1,AT22=2,AT22=3,AT22=4,AT22=5,AT22=99),1,0))","v":""},{"$f":"IF(AU22=\"\",\"\",IF(OR(AU22=1,AU22=2,AU22=3,AU22=4,AU22=5,AU22=99),1,0))","v":""},{"$f":"IF(AV22=\"\",\"\",IF(OR(AV22=1,AV22=2,AV22=3,AV22=4,AV22=5,AV22=99),1,0))","v":""},{"$f":"IF(AW22=\"\",\"\",IF(OR(AW22=1,AW22=2,AW22=3,AW22=4,AW22=5,AW22=99),1,0))","v":""},{"$f":"IF(AX22=\"\",\"\",IF(OR(AX22=1,AX22=2,AX22=3,AX22=4,AX22=5,AX22=99),1,0))","v":""},{"$f":"IF(AY22=\"\",\"\",IF(OR(AY22=1,AY22=2,AY22=3,AY22=4,AY22=5,AY22=99),1,0))","v":""},{"$f":"IF(AZ22=\"\",\"\",IF(OR(AZ22=1,AZ22=2,AZ22=3,AZ22=4,AZ22=5,AZ22=99),1,0))","v":""},{"$f":"IF(BA22=\"\",\"\",IF(OR(BA22=1,BA22=2,BA22=3,BA22=4,BA22=5,BA22=99),1,0))","v":""},{"$f":"IF(BB22=\"\",\"\",IF(OR(BB22=1,BB22=2,BB22=3,BB22=4,BB22=5,BB22=99),1,0))","v":""},{"$f":"IF(BC22=\"\",\"\",IF(OR(BC22=1,BC22=2,BC22=3,BC22=4,BC22=5,BC22=99),1,0))","v":""},{"$f":"IF(BD22=\"\",\"\",IF(OR(BD22=1,BD22=2,BD22=3,BD22=4,BD22=5,BD22=99),1,0))","v":""},{"$f":"IF(BE22=\"\",\"\",IF(OR(BE22=1,BE22=2,BE22=3,BE22=4,BE22=5,BE22=99),1,0))","v":""},{"$f":"IF(BF22=\"\",\"\",IF(OR(BF22=1,BF22=2,BF22=3,BF22=4,BF22=5,BF22=99),1,0))","v":""},{"$f":"IF(BG22=\"\",\"\",IF(OR(BG22=1,BG22=2,BG22=3,BG22=4,BG22=5,BG22=99),1,0))","v":""},{"$f":"IF(BH22=\"\",\"\",IF(OR(BH22=1,BH22=2,BH22=3,BH22=4,BH22=5,BH22=99),1,0))","v":""},{"$f":"IF(BI22=\"\",\"\",IF(OR(BI22=1,BI22=2,BI22=3,BI22=4,BI22=5,BI22=99),1,0))","v":""},{"$f":"IF(BJ22=\"\",\"\",IF(OR(BJ22=1,BJ22=2,BJ22=3,BJ22=4,BJ22=5,BJ22=99),1,0))","v":""},{"$f":"IF(BK22=\"\",\"\",IF(OR(BK22=1,BK22=2,BK22=3,BK22=4,BK22=5,BK22=99),1,0))","v":""},{"$f":"IF(BL22=\"\",\"\",IF(OR(BL22=1,BL22=2,BL22=3,BL22=4,BL22=5,BL22=99),1,0))","v":""},{"$f":"IF(BM22=\"\",\"\",IF(OR(BM22=1,BM22=2,BM22=3,BM22=4,BM22=5,BM22=99),1,0))","v":""},{"$f":"IF(BN22=\"\",\"\",IF(OR(BN22=1,BN22=2,BN22=3,BN22=4,BN22=5,BN22=99),1,0))","v":""},{"$f":"IF(BO22=\"\",\"\",IF(OR(BO22=1,BO22=2,BO22=3,BO22=4,BO22=5,BO22=99),1,0))","v":""},{"$f":"IF(BP22=\"\",\"\",IF(OR(BP22=1,BP22=2,BP22=3,BP22=4,BP22=5,BP22=99),1,0))","v":""},{"$f":"IF(BQ22=\"\",\"\",IF(OR(BQ22=1,BQ22=2,BQ22=3,BQ22=4,BQ22=5,BQ22=99),1,0))","v":""},{"$f":"IF(BR22=\"\",\"\",IF(OR(BR22=1,BR22=2,BR22=3,BR22=4,BR22=5,BR22=99),1,0))","v":""},{"$f":"IF(BS22=\"\",\"\",IF(OR(BS22=1,BS22=2,BS22=3,BS22=4,BS22=5,BS22=99),1,0))","v":""},{"$f":"IF(BT22=\"\",\"\",IF(OR(BT22=1,BT22=2,BT22=3,BT22=4,BT22=5,BT22=99),1,0))","v":""},{"$f":"IF(BU22=\"\",\"\",IF(OR(BU22=1,BU22=2,BU22=3,BU22=4,BU22=5,BU22=99),1,0))","v":""},{"$f":"IF(BV22=\"\",\"\",IF(OR(BV22=1,BV22=2,BV22=3,BV22=4,BV22=5,BV22=99),1,0))","v":""},{"$f":"IF(BW22=\"\",\"\",IF(OR(BW22=1,BW22=2,BW22=3,BW22=4,BW22=5,BW22=99),1,0))","v":""},{"$f":"IF(BX22=\"\",\"\",IF(OR(BX22=1,BX22=2,BX22=3,BX22=4,BX22=5,BX22=99),1,0))","v":""},{"$f":"IF(BY22=\"\",\"\",IF(OR(BY22=1,BY22=2,BY22=3,BY22=4,BY22=5,BY22=99),1,0))","v":""},{"$f":"IF(BZ22=\"\",\"\",IF(OR(BZ22=1,BZ22=2,BZ22=3,BZ22=4,BZ22=5,BZ22=99),1,0))","v":""},{"$f":"IF(CA22=\"\",\"\",IF(OR(CA22=1,CA22=2,CA22=3,CA22=4,CA22=5,CA22=99),1,0))","v":""},{"$f":"IF(CB22=\"\",\"\",IF(OR(CB22=1,CB22=2,CB22=3,CB22=4,CB22=5,CB22=99),1,0))","v":""},{"$f":"IF(CC22=\"\",\"\",IF(OR(CC22=1,CC22=2,CC22=3,CC22=4,CC22=5,CC22=99),1,0))","v":""},{"$f":"IF(CD22=\"\",\"\",IF(OR(CD22=1,CD22=2,CD22=3,CD22=4,CD22=5,CD22=99),1,0))","v":""},{"$f":"IF(CE22=\"\",\"\",IF(OR(CE22=1,CE22=2,CE22=3,CE22=4,CE22=5,CE22=99),1,0))","v":""},{"$f":"IF(CF22=\"\",\"\",IF(OR(CF22=1,CF22=2,CF22=3,CF22=4,CF22=5,CF22=99),1,0))","v":""},{"$f":"IF(CG22=\"\",\"\",IF(OR(CG22=1,CG22=2,CG22=3,CG22=4,CG22=5,CG22=99),1,0))","v":""},{"$f":"IF(CH22=\"\",\"\",IF(OR(CH22=1,CH22=2,CH22=3,CH22=4,CH22=5,CH22=99),1,0))","v":""},{"$f":"IF(CI22=\"\",\"\",IF(OR(CI22=1,CI22=2,CI22=3,CI22=4,CI22=5,CI22=99),1,0))","v":""},{"$f":"IF(CJ22=\"\",\"\",IF(OR(CJ22=1,CJ22=2,CJ22=3,CJ22=4,CJ22=5,CJ22=99),1,0))","v":""},{"$f":"IF(CK22=\"\",\"\",IF(OR(CK22=1,CK22=2,CK22=3,CK22=4,CK22=5,CK22=99),1,0))","v":""},{"$f":"IF(CL22=\"\",\"\",IF(OR(CL22=1,CL22=2,CL22=3,CL22=4,CL22=5,CL22=99),1,0))","v":""},{"$f":"IF(CM22=\"\",\"\",IF(OR(CM22=1,CM22=2,CM22=3,CM22=4,CM22=5,CM22=99),1,0))","v":""},{"$f":"IF(CN22=\"\",\"\",IF(OR(CN22=1,CN22=2,CN22=3,CN22=4,CN22=5,CN22=99),1,0))","v":""},{"$f":"IF(CO22=\"\",\"\",IF(OR(CO22=1,CO22=2,CO22=3,CO22=4,CO22=5,CO22=99),1,0))","v":""},{"$f":"IF(CP22=\"\",\"\",IF(OR(CP22=1,CP22=2,CP22=3,CP22=4,CP22=5,CP22=99),1,0))","v":""},{"$f":"IF(CQ22=\"\",\"\",IF(OR(CQ22=1,CQ22=2,CQ22=3,CQ22=4,CQ22=5,CQ22=99),1,0))","v":""},{"$f":"IF(CR22=\"\",\"\",IF(OR(CR22=1,CR22=2,CR22=3,CR22=4,CR22=5,CR22=99),1,0))","v":""},{"$f":"IF(CS22=\"\",\"\",IF(OR(CS22=1,CS22=2,CS22=3,CS22=4,CS22=5,CS22=99),1,0))","v":""},{"$f":"IF(CT22=\"\",\"\",IF(OR(CT22=1,CT22=2,CT22=3,CT22=4,CT22=5,CT22=99),1,0))","v":""},{"$f":"IF(CU22=\"\",\"\",IF(OR(CU22=1,CU22=2,CU22=3,CU22=4,CU22=5,CU22=99),1,0))","v":""},{"$f":"IF(CV22=\"\",\"\",IF(OR(CV22=1,CV22=2,CV22=3,CV22=4,CV22=5,CV22=99),1,0))","v":""},{"$f":"IF(CW22=\"\",\"\",IF(OR(CW22=1,CW22=2,CW22=3,CW22=4,CW22=5,CW22=99),1,0))","v":""},{"$f":"IF(CX22=\"\",\"\",IF(OR(CX22=1,CX22=2,CX22=3,CX22=4,CX22=5,CX22=99),1,0))","v":""},{"$f":"IF(CY22=\"\",\"\",IF(OR(CY22=1,CY22=2,CY22=3,CY22=4,CY22=5,CY22=99),1,0))","v":""},{"$f":"IF(CZ22=\"\",\"\",IF(OR(CZ22=1,CZ22=2,CZ22=3,CZ22=4,CZ22=5,CZ22=99),1,0))","v":""},{"$f":"IF(DA22=\"\",\"\",IF(OR(DA22=1,DA22=2,DA22=3,DA22=4,DA22=5,DA22=99),1,0))","v":""},{"$f":"IF(DB22=\"\",\"\",IF(OR(DB22=1,DB22=2,DB22=3,DB22=4,DB22=5,DB22=99),1,0))","v":""},{"$f":"IF(DC22=\"\",\"\",IF(OR(DC22=1,DC22=2,DC22=3,DC22=4,DC22=5,DC22=99),1,0))","v":""},{"$f":"IF(DD22=\"\",\"\",IF(OR(DD22=1,DD22=2,DD22=3,DD22=4,DD22=5,DD22=99),1,0))","v":""},{"$f":"IF(DE22=\"\",\"\",IF(OR(DE22=1,DE22=2,DE22=3,DE22=4,DE22=5,DE22=99),1,0))","v":""},{"$f":"IF(DF22=\"\",\"\",IF(OR(DF22=1,DF22=2,DF22=3,DF22=4,DF22=5,DF22=99),1,0))","v":""},{"$f":"IF(DG22=\"\",\"\",IF(OR(DG22=1,DG22=2,DG22=3,DG22=4,DG22=5,DG22=99),1,0))","v":""},{"$f":"IF(DH22=\"\",\"\",IF(OR(DH22=1,DH22=2,DH22=3,DH22=4,DH22=5,DH22=99),1,0))","v":""},{"$f":"IF(DI22=\"\",\"\",IF(OR(DI22=1,DI22=2,DI22=3,DI22=4,DI22=5,DI22=99),1,0))","v":""},{"$f":"IF(DJ22=\"\",\"\",IF(OR(DJ22=1,DJ22=2,DJ22=3,DJ22=4,DJ22=5,DJ22=99),1,0))","v":""},{"$f":"IF(DK22=\"\",\"\",IF(OR(DK22=1,DK22=2,DK22=3,DK22=4,DK22=5,DK22=99),1,0))","v":""},{"$f":"IF(DL22=\"\",\"\",IF(OR(DL22=1,DL22=2,DL22=3,DL22=4,DL22=5,DL22=99),1,0))","v":""},{"$f":"IF(DM22=\"\",\"\",IF(OR(DM22=1,DM22=2,DM22=3,DM22=4,DM22=5,DM22=99),1,0))","v":""},{"$f":"IF(DN22=\"\",\"\",IF(OR(DN22=1,DN22=2,DN22=3,DN22=4,DN22=5,DN22=99),1,0))","v":""},{"$f":"IF(DO22=\"\",\"\",IF(OR(DO22=1,DO22=2,DO22=3,DO22=4,DO22=5,DO22=99),1,0))","v":""},{"$f":"IF(DP22=\"\",\"\",IF(OR(DP22=1,DP22=2,DP22=3,DP22=4,DP22=5,DP22=99),1,0))","v":""},{"$f":"IF(DQ22=\"\",\"\",IF(OR(DQ22=1,DQ22=2,DQ22=3,DQ22=4,DQ22=5,DQ22=99),1,0))","v":""},{"$f":"IF(DR22=\"\",\"\",IF(OR(DR22=1,DR22=2,DR22=3,DR22=4,DR22=5,DR22=99),1,0))","v":""},{"$f":"IF(DS22=\"\",\"\",IF(OR(DS22=1,DS22=2,DS22=3,DS22=4,DS22=5,DS22=99),1,0))","v":""},{"$f":"IF(DT22=\"\",\"\",IF(OR(DT22=1,DT22=2,DT22=3,DT22=4,DT22=5,DT22=99),1,0))","v":""},{"$f":"IF(DU22=\"\",\"\",IF(OR(DU22=1,DU22=2,DU22=3,DU22=4,DU22=5,DU22=99),1,0))","v":""},{"$f":"IF(DV22=\"\",\"\",IF(OR(DV22=1,DV22=2,DV22=3,DV22=4,DV22=5,DV22=99),1,0))","v":""},{"$f":"IF(DW22=\"\",\"\",IF(OR(DW22=1,DW22=2,DW22=3,DW22=4,DW22=5,DW22=99),1,0))","v":""},{"$f":"IF(DX22=\"\",\"\",IF(OR(DX22=1,DX22=2,DX22=3,DX22=4,DX22=5,DX22=99),1,0))","v":""},{"$f":"IF(DY22=\"\",\"\",IF(OR(DY22=1,DY22=2,DY22=3,DY22=4,DY22=5,DY22=99),1,0))","v":""},{"$f":"IF(DZ22=\"\",\"\",IF(OR(DZ22=1,DZ22=2,DZ22=3,DZ22=4,DZ22=5,DZ22=99),1,0))","v":""},{"$f":"IF(EA22=\"\",\"\",IF(OR(EA22=1,EA22=2,EA22=3,EA22=4,EA22=5,EA22=99),1,0))","v":""},{"$f":"IF(EB22=\"\",\"\",IF(OR(EB22=1,EB22=2,EB22=3,EB22=4,EB22=5,EB22=99),1,0))","v":""},{"$f":"IF(EC22=\"\",\"\",IF(OR(EC22=1,EC22=2,EC22=3,EC22=4,EC22=5,EC22=99),1,0))","v":""},{"$f":"IF(ED22=\"\",\"\",IF(OR(ED22=1,ED22=2,ED22=3,ED22=4,ED22=5,ED22=99),1,0))","v":""},{"$f":"IF(EE22=\"\",\"\",IF(OR(EE22=1,EE22=2,EE22=3,EE22=4,EE22=5,EE22=99),1,0))","v":""},{"$f":"IF(EF22=\"\",\"\",IF(OR(EF22=1,EF22=2,EF22=3,EF22=4,EF22=5,EF22=99),1,0))","v":""},{"$f":"IF(EG22=\"\",\"\",IF(OR(EG22=1,EG22=2,EG22=3,EG22=4,EG22=5,EG22=99),1,0))","v":""},{"$f":"IF(EH22=\"\",\"\",IF(OR(EH22=1,EH22=2,EH22=3,EH22=4,EH22=5,EH22=99),1,0))","v":""},{"$f":"IF(EI22=\"\",\"\",IF(OR(EI22=1,EI22=2,EI22=3,EI22=4,EI22=5,EI22=99),1,0))","v":""},{"$f":"IF(EJ22=\"\",\"\",IF(OR(EJ22=1,EJ22=2,EJ22=3,EJ22=4,EJ22=5,EJ22=99),1,0))","v":""},{"$f":"IF(EK22=\"\",\"\",IF(OR(EK22=1,EK22=2,EK22=3,EK22=4,EK22=5,EK22=99),1,0))","v":""},{"$f":"IF(EL22=\"\",\"\",IF(OR(EL22=1,EL22=2,EL22=3,EL22=4,EL22=5,EL22=99),1,0))","v":""},{"$f":"IF(EM22=\"\",\"\",IF(OR(EM22=1,EM22=2,EM22=3,EM22=4,EM22=5,EM22=99),1,0))","v":""},{"$f":"IF(EN22=\"\",\"\",IF(OR(EN22=1,EN22=2,EN22=3,EN22=4,EN22=5,EN22=99),1,0))","v":""},{"$f":"IF(EO22=\"\",\"\",IF(OR(EO22=1,EO22=2,EO22=3,EO22=4,EO22=5,EO22=99),1,0))","v":""},{"$f":"IF(EP22=\"\",\"\",IF(OR(EP22=1,EP22=2,EP22=3,EP22=4,EP22=5,EP22=99),1,0))","v":""},{"$f":"IF(EQ22=\"\",\"\",IF(OR(EQ22=1,EQ22=2,EQ22=3,EQ22=4,EQ22=5,EQ22=99),1,0))","v":""},{"$f":"IF(ER22=\"\",\"\",IF(OR(ER22=1,ER22=2,ER22=3,ER22=4,ER22=5,ER22=99),1,0))","v":""},{"$f":"IF(ES22=\"\",\"\",IF(OR(ES22=1,ES22=2,ES22=3,ES22=4,ES22=5,ES22=99),1,0))","v":""},{"$f":"IF(ET22=\"\",\"\",IF(OR(ET22=1,ET22=2,ET22=3,ET22=4,ET22=5,ET22=99),1,0))","v":""},{"$f":"IF(EU22=\"\",\"\",IF(OR(EU22=1,EU22=2,EU22=3,EU22=4,EU22=5,EU22=99),1,0))","v":""},{"$f":"IF(EV22=\"\",\"\",IF(OR(EV22=1,EV22=2,EV22=3,EV22=4,EV22=5,EV22=99),1,0))","v":""},{"$f":"IF(EW22=\"\",\"\",IF(OR(EW22=1,EW22=2,EW22=3,EW22=4,EW22=5,EW22=99),1,0))","v":""},{"$f":"IF(EX22=\"\",\"\",IF(OR(EX22=1,EX22=2,EX22=3,EX22=4,EX22=5,EX22=99),1,0))","v":""},{"$f":"IF(EY22=\"\",\"\",IF(OR(EY22=1,EY22=2,EY22=3,EY22=4,EY22=5,EY22=99),1,0))","v":""},{"$f":"IF(EZ22=\"\",\"\",IF(OR(EZ22=1,EZ22=2,EZ22=3,EZ22=4,EZ22=5,EZ22=99),1,0))","v":""},{"$f":"IF(FA22=\"\",\"\",IF(OR(FA22=1,FA22=2,FA22=3,FA22=4,FA22=5,FA22=99),1,0))","v":""},{"$f":"IF(FB22=\"\",\"\",IF(OR(FB22=1,FB22=2,FB22=3,FB22=4,FB22=5,FB22=99),1,0))","v":""},{"$f":"IF(FC22=\"\",\"\",IF(OR(FC22=1,FC22=2,FC22=3,FC22=4,FC22=5,FC22=99),1,0))","v":""},{"$f":"IF(FD22=\"\",\"\",IF(OR(FD22=1,FD22=2,FD22=3,FD22=4,FD22=5,FD22=99),1,0))","v":""},{"$f":"IF(FE22=\"\",\"\",IF(OR(FE22=1,FE22=2,FE22=3,FE22=4,FE22=5,FE22=99),1,0))","v":""},{"$f":"IF(FF22=\"\",\"\",IF(OR(FF22=1,FF22=2,FF22=3,FF22=4,FF22=5,FF22=99),1,0))","v":""},{"$f":"IF(FG22=\"\",\"\",IF(OR(FG22=1,FG22=2,FG22=3,FG22=4,FG22=5,FG22=99),1,0))","v":""},{"$f":"IF(FH22=\"\",\"\",IF(OR(FH22=1,FH22=2,FH22=3,FH22=4,FH22=5,FH22=99),1,0))","v":""},{"$f":"IF(FI22=\"\",\"\",IF(OR(FI22=1,FI22=2,FI22=3,FI22=4,FI22=5,FI22=99),1,0))","v":""},{"$f":"IF(FJ22=\"\",\"\",IF(OR(FJ22=1,FJ22=2,FJ22=3,FJ22=4,FJ22=5,FJ22=99),1,0))","v":""},{"$f":"IF(FK22=\"\",\"\",IF(OR(FK22=1,FK22=2,FK22=3,FK22=4,FK22=5,FK22=99),1,0))","v":""},{"$f":"IF(FL22=\"\",\"\",IF(OR(FL22=1,FL22=2,FL22=3,FL22=4,FL22=5,FL22=99),1,0))","v":""},{"$f":"IF(FM22=\"\",\"\",IF(OR(FM22=1,FM22=2,FM22=3,FM22=4,FM22=5,FM22=99),1,0))","v":""},{"$f":"IF(FN22=\"\",\"\",IF(OR(FN22=1,FN22=2,FN22=3,FN22=4,FN22=5,FN22=99),1,0))","v":""},{"$f":"IF(FO22=\"\",\"\",IF(OR(FO22=1,FO22=2,FO22=3,FO22=4,FO22=5,FO22=99),1,0))","v":""},{"$f":"IF(FP22=\"\",\"\",IF(OR(FP22=1,FP22=2,FP22=3,FP22=4,FP22=5,FP22=99),1,0))","v":""},{"$f":"IF(FQ22=\"\",\"\",IF(OR(FQ22=1,FQ22=2,FQ22=3,FQ22=4,FQ22=5,FQ22=99),1,0))","v":""},{"$f":"IF(FR22=\"\",\"\",IF(OR(FR22=1,FR22=2,FR22=3,FR22=4,FR22=5,FR22=99),1,0))","v":""},{"$f":"IF(FS22=\"\",\"\",IF(OR(FS22=1,FS22=2,FS22=3,FS22=4,FS22=5,FS22=99),1,0))","v":""},{"$f":"IF(FT22=\"\",\"\",IF(OR(FT22=1,FT22=2,FT22=3,FT22=4,FT22=5,FT22=99),1,0))","v":""},{"$f":"IF(FU22=\"\",\"\",IF(OR(FU22=1,FU22=2,FU22=3,FU22=4,FU22=5,FU22=99),1,0))","v":""},{"$f":"IF(FV22=\"\",\"\",IF(OR(FV22=1,FV22=2,FV22=3,FV22=4,FV22=5,FV22=99),1,0))","v":""},{"$f":"IF(FW22=\"\",\"\",IF(OR(FW22=1,FW22=2,FW22=3,FW22=4,FW22=5,FW22=99),1,0))","v":""},{"$f":"IF(FX22=\"\",\"\",IF(OR(FX22=1,FX22=2,FX22=3,FX22=4,FX22=5,FX22=99),1,0))","v":""},{"$f":"IF(FY22=\"\",\"\",IF(OR(FY22=1,FY22=2,FY22=3,FY22=4,FY22=5,FY22=99),1,0))","v":""},{"$f":"IF(FZ22=\"\",\"\",IF(OR(FZ22=1,FZ22=2,FZ22=3,FZ22=4,FZ22=5,FZ22=99),1,0))","v":""},{"$f":"IF(GA22=\"\",\"\",IF(OR(GA22=1,GA22=2,GA22=99),1,0))","v":""},{"$f":"IF(GB22=\"\",\"\",IF(OR(GB22=1,GB22=2,GB22=3,GB22=4,GB22=5,GB22=99),1,0))","v":""},{"$f":"IF(GC22=\"\",\"\",IF(AND(LEN(GC22)=5),1,0))","v":""},{"$f":"IF(GD22=\"\",\"\",IF(AND(LEN(GD22)=5),1,0))","v":""},{"$f":"SUM($J$11:$GD$11)","v":1},{"$f":"SUM(GG22:NA22)","v":0},{"$f":"NC22-NB22","v":-1},{"$f":"IF(COUNT(GG22:NA22)>0, 1, 0)","v":0},{"$f":"IF(AND(NE22=1,ND22=0),0,IF(NE22=0,0,1))","v":0}]
[null,null,null,null,null,null,3,{"$f":"IF(NE23=1, START!$B$17, \"\")","v":""},{"$f":"IF(NE23=1, START!$B$20, \"\")","v":""},null,null,null,null,null,null,null,null,null,null,null,null,null,null,null,null,null,null,null,null,null,null,null,null,null,null,null,null,null,null,null,null,null,null,null,null,null,null,null,null,null,null,null,null,null,null,null,null,null,null,null,null,null,null,null,null,null,null,null,null,null,null,null,null,null,null,null,null,null,null,null,null,null,null,null,null,null,null,null,null,null,null,null,null,null,null,null,null,null,null,null,null,null,null,null,null,null,null,null,null,null,null,null,null,null,null,null,null,null,null,null,null,null,null,null,null,null,null,null,null,null,null,null,null,null,null,null,null,null,null,null,null,null,null,null,null,null,null,null,null,null,null,null,null,null,null,null,null,null,null,null,null,null,null,null,null,null,null,null,null,null,null,null,null,null,null,null,null,null,null,null,null,null,null,null,null,null,null,3,"","","","","","","","","","","","","","","","","","","","","","","","","","","","","","","","","","","","","","","","","","","","","","","","","","","","","","","","","","","","","","","","","","","","","","","","","","","","","","","","","","","","","","","","","","","","","","","","","","","","","","","","","","","","","","","","","","","","","","","","","","","","","","","","","","","","","","","","","","","","","","","","","","","","","","","","","","","","","","","","","","","","","","","","","","","","","","","","","",1,0,-1,0,0]
[null,null,null,null,null,null,4,{"$f":"IF(NE24=1, START!$B$17, \"\")","v":""},{"$f":"IF(NE24=1, START!$B$20, \"\")","v":""},null,null,null,null,null,null,null,null,null,null,null,null,null,null,null,null,null,null,null,null,null,null,null,null,null,null,null,null,null,null,null,null,null,null,null,null,null,null,null,null,null,null,null,null,null,null,null,null,null,null,null,null,null,null,null,null,null,null,null,null,null,null,null,null,null,null,null,null,null,null,null,null,null,null,null,null,null,null,null,null,null,null,null,null,null,null,null,null,null,null,null,null,null,null,null,null,null,null,null,null,null,null,null,null,null,null,null,null,null,null,null,null,null,null,null,null,null,null,null,null,null,null,null,null,null,null,null,null,null,null,null,null,null,null,null,null,null,null,null,null,null,null,null,null,null,null,null,null,null,null,null,null,null,null,null,null,null,null,null,null,null,null,null,null,null,null,null,null,null,null,null,null,null,null,null,null,null,null,4,"","","","","","","","","","","","","","","","","","","","","","","","","","","","","","","","","","","","","","","","","","","","","","","","","","","","","","","","","","","","","","","","","","","","","","","","","","","","","","","","","","","","","","","","","","","","","","","","","","","","","","","","","","","","","","","","","","","","","","","","","","","","","","","","","","","","","","","","","","","","","","","","","","","","","","","","","","","","","","","","","","","","","","","","","","","","","","","","","",1,0,-1,0,0]
[null,null,null,null,null,null,5,{"$f":"IF(NE25=1, START!$B$17, \"\")","v":""},{"$f":"IF(NE25=1, START!$B$20, \"\")","v":""},null,null,null,null,null,null,null,null,null,null,null,null,null,null,null,null,null,null,null,null,null,null,null,null,null,null,null,null,null,null,null,null,null,null,null,null,null,null,null,null,null,null,null,null,null,null,null,null,null,null,null,null,null,null,null,null,null,null,null,null,null,null,null,null,null,null,null,null,null,null,null,null,null,null,null,null,null,null,null,null,null,null,null,null,null,null,null,null,null,null,null,null,null,null,null,null,null,null,null,null,null,null,null,null,null,null,null,null,null,null,null,null,null,null,null,null,null,null,null,null,null,null,null,null,null,null,null,null,null,null,null,null,null,null,null,null,null,null,null,null,null,null,null,null,null,null,null,null,null,null,null,null,null,null,null,null,null,null,null,null,null,null,null,null,null,null,null,null,null,null,null,null,null,null,null,null,null,null,5,"","","","","","","","","","","","","","","","","","","","","","","","","","","","","","","","","","","","","","","","","","","","","","","","","","","","","","","","","","","","","","","","","","","","","","","","","","","","","","","","","","","","","","","","","","","","","","","","","","","","","","","","","","","","","","","","","","","","","","","","","","","","","","","","","","","","","","","","","","","","","","","","","","","","","","","","","","","","","","","","","","","","","","","","","","","","","","","","","",1,0,-1,0,0]
[null,null,null,null,null,null,6,{"$f":"IF(NE26=1, START!$B$17, \"\")","v":""},{"$f":"IF(NE26=1, START!$B$20, \"\")","v":""},null,null,null,null,null,null,null,null,null,null,null,null,null,null,null,null,null,null,null,null,null,null,null,null,null,null,null,null,null,null,null,null,null,null,null,null,null,null,null,null,null,null,null,null,null,null,null,null,null,null,null,null,null,null,null,null,null,null,null,null,null,null,null,null,null,null,null,null,null,null,null,null,null,null,null,null,null,null,null,null,null,null,null,null,null,null,null,null,null,null,null,null,null,null,null,null,null,null,null,null,null,null,null,null,null,null,null,null,null,null,null,null,null,null,null,null,null,null,null,null,null,null,null,null,null,null,null,null,null,null,null,null,null,null,null,null,null,null,null,null,null,null,null,null,null,null,null,null,null,null,null,null,null,null,null,null,null,null,null,null,null,null,null,null,null,null,null,null,null,null,null,null,null,null,null,null,null,null,6,"","","","","","","","","","","","","","","","","","","","","","","","","","","","","","","","","","","","","","","","","","","","","","","","","","","","","","","","","","","","","","","","","","","","","","","","","","","","","","","","","","","","","","","","","","","","","","","","","","","","","","","","","","","","","","","","","","","","","","","","","","","","","","","","","","","","","","","","","","","","","","","","","","","","","","","","","","","","","","","","","","","","","","","","","","","","","","","","","",1,0,-1,0,0]
[null,null,null,null,null,null,7,{"$f":"IF(NE27=1, START!$B$17, \"\")","v":""},{"$f":"IF(NE27=1, START!$B$20, \"\")","v":""},null,null,null,null,null,null,null,null,null,null,null,null,null,null,null,null,null,null,null,null,null,null,null,null,null,null,null,null,null,null,null,null,null,null,null,null,null,null,null,null,null,null,null,null,null,null,null,null,null,null,null,null,null,null,null,null,null,null,null,null,null,null,null,null,null,null,null,null,null,null,null,null,null,null,null,null,null,null,null,null,null,null,null,null,null,null,null,null,null,null,null,null,null,null,null,null,null,null,null,null,null,null,null,null,null,null,null,null,null,null,null,null,null,null,null,null,null,null,null,null,null,null,null,null,null,null,null,null,null,null,null,null,null,null,null,null,null,null,null,null,null,null,null,null,null,null,null,null,null,null,null,null,null,null,null,null,null,null,null,null,null,null,null,null,null,null,null,null,null,null,null,null,null,null,null,null,null,null,7,"","","","","","","","","","","","","","","","","","","","","","","","","","","","","","","","","","","","","","","","","","","","","","","","","","","","","","","","","","","","","","","","","","","","","","","","","","","","","","","","","","","","","","","","","","","","","","","","","","","","","","","","","","","","","","","","","","","","","","","","","","","","","","","","","","","","","","","","","","","","","","","","","","","","","","","","","","","","","","","","","","","","","","","","","","","","","","","","","",1,0,-1,0,0]
[null,null,null,null,null,null,8,{"$f":"IF(NE28=1, START!$B$17, \"\")","v":""},{"$f":"IF(NE28=1, START!$B$20, \"\")","v":""},null,null,null,null,null,null,null,null,null,null,null,null,null,null,null,null,null,null,null,null,null,null,null,null,null,null,null,null,null,null,null,null,null,null,null,null,null,null,null,null,null,null,null,null,null,null,null,null,null,null,null,null,null,null,null,null,null,null,null,null,null,null,null,null,null,null,null,null,null,null,null,null,null,null,null,null,null,null,null,null,null,null,null,null,null,null,null,null,null,null,null,null,null,null,null,null,null,null,null,null,null,null,null,null,null,null,null,null,null,null,null,null,null,null,null,null,null,null,null,null,null,null,null,null,null,null,null,null,null,null,null,null,null,null,null,null,null,null,null,null,null,null,null,null,null,null,null,null,null,null,null,null,null,null,null,null,null,null,null,null,null,null,null,null,null,null,null,null,null,null,null,null,null,null,null,null,null,null,8,"","","","","","","","","","","","","","","","","","","","","","","","","","","","","","","","","","","","","","","","","","","","","","","","","","","","","","","","","","","","","","","","","","","","","","","","","","","","","","","","","","","","","","","","","","","","","","","","","","","","","","","","","","","","","","","","","","","","","","","","","","","","","","","","","","","","","","","","","","","","","","","","","","","","","","","","","","","","","","","","","","","","","","","","","","","","","","","","","",1,0,-1,0,0]
[null,null,null,null,null,null,9,{"$f":"IF(NE29=1, START!$B$17, \"\")","v":""},{"$f":"IF(NE29=1, START!$B$20, \"\")","v":""},null,null,null,null,null,null,null,null,null,null,null,null,null,null,null,null,null,null,null,null,null,null,null,null,null,null,null,null,null,null,null,null,null,null,null,null,null,null,null,null,null,null,null,null,null,null,null,null,null,null,null,null,null,null,null,null,null,null,null,null,null,null,null,null,null,null,null,null,null,null,null,null,null,null,null,null,null,null,null,null,null,null,null,null,null,null,null,null,null,null,null,null,null,null,null,null,null,null,null,null,null,null,null,null,null,null,null,null,null,null,null,null,null,null,null,null,null,null,null,null,null,null,null,null,null,null,null,null,null,null,null,null,null,null,null,null,null,null,null,null,null,null,null,null,null,null,null,null,null,null,null,null,null,null,null,null,null,null,null,null,null,null,null,null,null,null,null,null,null,null,null,null,null,null,null,null,null,null,9,"","","","","","","","","","","","","","","","","","","","","","","","","","","","","","","","","","","","","","","","","","","","","","","","","","","","","","","","","","","","","","","","","","","","","","","","","","","","","","","","","","","","","","","","","","","","","","","","","","","","","","","","","","","","","","","","","","","","","","","","","","","","","","","","","","","","","","","","","","","","","","","","","","","","","","","","","","","","","","","","","","","","","","","","","","","","","","","","","",1,0,-1,0,0]
[null,null,null,null,null,null,10,{"$f":"IF(NE30=1, START!$B$17, \"\")","v":""},{"$f":"IF(NE30=1, START!$B$20, \"\")","v":""},null,null,null,null,null,null,null,null,null,null,null,null,null,null,null,null,null,null,null,null,null,null,null,null,null,null,null,null,null,null,null,null,null,null,null,null,null,null,null,null,null,null,null,null,null,null,null,null,null,null,null,null,null,null,null,null,null,null,null,null,null,null,null,null,null,null,null,null,null,null,null,null,null,null,null,null,null,null,null,null,null,null,null,null,null,null,null,null,null,null,null,null,null,null,null,null,null,null,null,null,null,null,null,null,null,null,null,null,null,null,null,null,null,null,null,null,null,null,null,null,null,null,null,null,null,null,null,null,null,null,null,null,null,null,null,null,null,null,null,null,null,null,null,null,null,null,null,null,null,null,null,null,null,null,null,null,null,null,null,null,null,null,null,null,null,null,null,null,null,null,null,null,null,null,null,null,null,null,10,"","","","","","","","","","","","","","","","","","","","","","","","","","","","","","","","","","","","","","","","","","","","","","","","","","","","","","","","","","","","","","","","","","","","","","","","","","","","","","","","","","","","","","","","","","","","","","","","","","","","","","","","","","","","","","","","","","","","","","","","","","","","","","","","","","","","","","","","","","","","","","","","","","","","","","","","","","","","","","","","","","","","","","","","","","","","","","","","","",1,0,-1,0,0]
[null,null,null,null,null,null,11,{"$f":"IF(NE31=1, START!$B$17, \"\")","v":""},{"$f":"IF(NE31=1, START!$B$20, \"\")","v":""},null,null,null,null,null,null,null,null,null,null,null,null,null,null,null,null,null,null,null,null,null,null,null,null,null,null,null,null,null,null,null,null,null,null,null,null,null,null,null,null,null,null,null,null,null,null,null,null,null,null,null,null,null,null,null,null,null,null,null,null,null,null,null,null,null,null,null,null,null,null,null,null,null,null,null,null,null,null,null,null,null,null,null,null,null,null,null,null,null,null,null,null,null,null,null,null,null,null,null,null,null,null,null,null,null,null,null,null,null,null,null,null,null,null,null,null,null,null,null,null,null,null,null,null,null,null,null,null,null,null,null,null,null,null,null,null,null,null,null,null,null,null,null,null,null,null,null,null,null,null,null,null,null,null,null,null,null,null,null,null,null,null,null,null,null,null,null,null,null,null,null,null,null,null,null,null,null,null,11,"","","","","","","","","","","","","","","","","","","","","","","","","","","","","","","","","","","","","","","","","","","","","","","","","","","","","","","","","","","","","","","","","","","","","","","","","","","","","","","","","","","","","","","","","","","","","","","","","","","","","","","","","","","","","","","","","","","","","","","","","","","","","","","","","","","","","","","","","","","","","","","","","","","","","","","","","","","","","","","","","","","","","","","","","","","","","","","","","",1,0,-1,0,0]
[null,null,null,null,null,null,12,{"$f":"IF(NE32=1, START!$B$17, \"\")","v":""},{"$f":"IF(NE32=1, START!$B$20, \"\")","v":""},null,null,null,null,null,null,null,null,null,null,null,null,null,null,null,null,null,null,null,null,null,null,null,null,null,null,null,null,null,null,null,null,null,null,null,null,null,null,null,null,null,null,null,null,null,null,null,null,null,null,null,null,null,null,null,null,null,null,null,null,null,null,null,null,null,null,null,null,null,null,null,null,null,null,null,null,null,null,null,null,null,null,null,null,null,null,null,null,null,null,null,null,null,null,null,null,null,null,null,null,null,null,null,null,null,null,null,null,null,null,null,null,null,null,null,null,null,null,null,null,null,null,null,null,null,null,null,null,null,null,null,null,null,null,null,null,null,null,null,null,null,null,null,null,null,null,null,null,null,null,null,null,null,null,null,null,null,null,null,null,null,null,null,null,null,null,null,null,null,null,null,null,null,null,null,null,null,null,12,"","","","","","","","","","","","","","","","","","","","","","","","","","","","","","","","","","","","","","","","","","","","","","","","","","","","","","","","","","","","","","","","","","","","","","","","","","","","","","","","","","","","","","","","","","","","","","","","","","","","","","","","","","","","","","","","","","","","","","","","","","","","","","","","","","","","","","","","","","","","","","","","","","","","","","","","","","","","","","","","","","","","","","","","","","","","","","","","","",1,0,-1,0,0]
[null,null,null,null,null,null,13,{"$f":"IF(NE33=1, START!$B$17, \"\")","v":""},{"$f":"IF(NE33=1, START!$B$20, \"\")","v":""},null,null,null,null,null,null,null,null,null,null,null,null,null,null,null,null,null,null,null,null,null,null,null,null,null,null,null,null,null,null,null,null,null,null,null,null,null,null,null,null,null,null,null,null,null,null,null,null,null,null,null,null,null,null,null,null,null,null,null,null,null,null,null,null,null,null,null,null,null,null,null,null,null,null,null,null,null,null,null,null,null,null,null,null,null,null,null,null,null,null,null,null,null,null,null,null,null,null,null,null,null,null,null,null,null,null,null,null,null,null,null,null,null,null,null,null,null,null,null,null,null,null,null,null,null,null,null,null,null,null,null,null,null,null,null,null,null,null,null,null,null,null,null,null,null,null,null,null,null,null,null,null,null,null,null,null,null,null,null,null,null,null,null,null,null,null,null,null,null,null,null,null,null,null,null,null,null,null,13,"","","","","","","","","","","","","","","","","","","","","","","","","","","","","","","","","","","","","","","","","","","","","","","","","","","","","","","","","","","","","","","","","","","","","","","","","","","","","","","","","","","","","","","","","","","","","","","","","","","","","","","","","","","","","","","","","","","","","","","","","","","","","","","","","","","","","","","","","","","","","","","","","","","","","","","","","","","","","","","","","","","","","","","","","","","","","","","","","",1,0,-1,0,0]
[null,null,null,null,null,null,14,{"$f":"IF(NE34=1, START!$B$17, \"\")","v":""},{"$f":"IF(NE34=1, START!$B$20, \"\")","v":""},null,null,null,null,null,null,null,null,null,null,null,null,null,null,null,null,null,null,null,null,null,null,null,null,null,null,null,null,null,null,null,null,null,null,null,null,null,null,null,null,null,null,null,null,null,null,null,null,null,null,null,null,null,null,null,null,null,null,null,null,null,null,null,null,null,null,null,null,null,null,null,null,null,null,null,null,null,null,null,null,null,null,null,null,null,null,null,null,null,null,null,null,null,null,null,null,null,null,null,null,null,null,null,null,null,null,null,null,null,null,null,null,null,null,null,null,null,null,null,null,null,null,null,null,null,null,null,null,null,null,null,null,null,null,null,null,null,null,null,null,null,null,null,null,null,null,null,null,null,null,null,null,null,null,null,null,null,null,null,null,null,null,null,null,null,null,null,null,null,null,null,null,null,null,null,null,null,null,14,"","","","","","","","","","","","","","","","","","","","","","","","","","","","","","","","","","","","","","","","","","","","","","","","","","","","","","","","","","","","","","","","","","","","","","","","","","","","","","","","","","","","","","","","","","","","","","","","","","","","","","","","","","","","","","","","","","","","","","","","","","","","","","","","","","","","","","","","","","","","","","","","","","","","","","","","","","","","","","","","","","","","","","","","","","","","","","","","","",1,0,-1,0,0]
[null,null,null,null,null,null,15,{"$f":"IF(NE35=1, START!$B$17, \"\")","v":""},{"$f":"IF(NE35=1, START!$B$20, \"\")","v":""},null,null,null,null,null,null,null,null,null,null,null,null,null,null,null,null,null,null,null,null,null,null,null,null,null,null,null,null,null,null,null,null,null,null,null,null,null,null,null,null,null,null,null,null,null,null,null,null,null,null,null,null,null,null,null,null,null,null,null,null,null,null,null,null,null,null,null,null,null,null,null,null,null,null,null,null,null,null,null,null,null,null,null,null,null,null,null,null,null,null,null,null,null,null,null,null,null,null,null,null,null,null,null,null,null,null,null,null,null,null,null,null,null,null,null,null,null,null,null,null,null,null,null,null,null,null,null,null,null,null,null,null,null,null,null,null,null,null,null,null,null,null,null,null,null,null,null,null,null,null,null,null,null,null,null,null,null,null,null,null,null,null,null,null,null,null,null,null,null,null,null,null,null,null,null,null,null,null,15,"","","","","","","","","","","","","","","","","","","","","","","","","","","","","","","","","","","","","","","","","","","","","","","","","","","","","","","","","","","","","","","","","","","","","","","","","","","","","","","","","","","","","","","","","","","","","","","","","","","","","","","","","","","","","","","","","","","","","","","","","","","","","","","","","","","","","","","","","","","","","","","","","","","","","","","","","","","","","","","","","","","","","","","","","","","","","","","","","",1,0,-1,0,0]
[null,null,null,null,null,null,16,{"$f":"IF(NE36=1, START!$B$17, \"\")","v":""},{"$f":"IF(NE36=1, START!$B$20, \"\")","v":""},null,null,null,null,null,null,null,null,null,null,null,null,null,null,null,null,null,null,null,null,null,null,null,null,null,null,null,null,null,null,null,null,null,null,null,null,null,null,null,null,null,null,null,null,null,null,null,null,null,null,null,null,null,null,null,null,null,null,null,null,null,null,null,null,null,null,null,null,null,null,null,null,null,null,null,null,null,null,null,null,null,null,null,null,null,null,null,null,null,null,null,null,null,null,null,null,null,null,null,null,null,null,null,null,null,null,null,null,null,null,null,null,null,null,null,null,null,null,null,null,null,null,null,null,null,null,null,null,null,null,null,null,null,null,null,null,null,null,null,null,null,null,null,null,null,null,null,null,null,null,null,null,null,null,null,null,null,null,null,null,null,null,null,null,null,null,null,null,null,null,null,null,null,null,null,null,null,null,16,"","","","","","","","","","","","","","","","","","","","","","","","","","","","","","","","","","","","","","","","","","","","","","","","","","","","","","","","","","","","","","","","","","","","","","","","","","","","","","","","","","","","","","","","","","","","","","","","","","","","","","","","","","","","","","","","","","","","","","","","","","","","","","","","","","","","","","","","","","","","","","","","","","","","","","","","","","","","","","","","","","","","","","","","","","","","","","","","","",1,0,-1,0,0]
[null,null,null,null,null,null,17,{"$f":"IF(NE37=1, START!$B$17, \"\")","v":""},{"$f":"IF(NE37=1, START!$B$20, \"\")","v":""},null,null,null,null,null,null,null,null,null,null,null,null,null,null,null,null,null,null,null,null,null,null,null,null,null,null,null,null,null,null,null,null,null,null,null,null,null,null,null,null,null,null,null,null,null,null,null,null,null,null,null,null,null,null,null,null,null,null,null,null,null,null,null,null,null,null,null,null,null,null,null,null,null,null,null,null,null,null,null,null,null,null,null,null,null,null,null,null,null,null,null,null,null,null,null,null,null,null,null,null,null,null,null,null,null,null,null,null,null,null,null,null,null,null,null,null,null,null,null,null,null,null,null,null,null,null,null,null,null,null,null,null,null,null,null,null,null,null,null,null,null,null,null,null,null,null,null,null,null,null,null,null,null,null,null,null,null,null,null,null,null,null,null,null,null,null,null,null,null,null,null,null,null,null,null,null,null,null,17,"","","","","","","","","","","","","","","","","","","","","","","","","","","","","","","","","","","","","","","","","","","","","","","","","","","","","","","","","","","","","","","","","","","","","","","","","","","","","","","","","","","","","","","","","","","","","","","","","","","","","","","","","","","","","","","","","","","","","","","","","","","","","","","","","","","","","","","","","","","","","","","","","","","","","","","","","","","","","","","","","","","","","","","","","","","","","","","","","",1,0,-1,0,0]
[null,null,null,null,null,null,18,{"$f":"IF(NE38=1, START!$B$17, \"\")","v":""},{"$f":"IF(NE38=1, START!$B$20, \"\")","v":""},null,null,null,null,null,null,null,null,null,null,null,null,null,null,null,null,null,null,null,null,null,null,null,null,null,null,null,null,null,null,null,null,null,null,null,null,null,null,null,null,null,null,null,null,null,null,null,null,null,null,null,null,null,null,null,null,null,null,null,null,null,null,null,null,null,null,null,null,null,null,null,null,null,null,null,null,null,null,null,null,null,null,null,null,null,null,null,null,null,null,null,null,null,null,null,null,null,null,null,null,null,null,null,null,null,null,null,null,null,null,null,null,null,null,null,null,null,null,null,null,null,null,null,null,null,null,null,null,null,null,null,null,null,null,null,null,null,null,null,null,null,null,null,null,null,null,null,null,null,null,null,null,null,null,null,null,null,null,null,null,null,null,null,null,null,null,null,null,null,null,null,null,null,null,null,null,null,null,18,"","","","","","","","","","","","","","","","","","","","","","","","","","","","","","","","","","","","","","","","","","","","","","","","","","","","","","","","","","","","","","","","","","","","","","","","","","","","","","","","","","","","","","","","","","","","","","","","","","","","","","","","","","","","","","","","","","","","","","","","","","","","","","","","","","","","","","","","","","","","","","","","","","","","","","","","","","","","","","","","","","","","","","","","","","","","","","","","","",1,0,-1,0,0]
[null,null,null,null,null,null,19,{"$f":"IF(NE39=1, START!$B$17, \"\")","v":""},{"$f":"IF(NE39=1, START!$B$20, \"\")","v":""},null,null,null,null,null,null,null,null,null,null,null,null,null,null,null,null,null,null,null,null,null,null,null,null,null,null,null,null,null,null,null,null,null,null,null,null,null,null,null,null,null,null,null,null,null,null,null,null,null,null,null,null,null,null,null,null,null,null,null,null,null,null,null,null,null,null,null,null,null,null,null,null,null,null,null,null,null,null,null,null,null,null,null,null,null,null,null,null,null,null,null,null,null,null,null,null,null,null,null,null,null,null,null,null,null,null,null,null,null,null,null,null,null,null,null,null,null,null,null,null,null,null,null,null,null,null,null,null,null,null,null,null,null,null,null,null,null,null,null,null,null,null,null,null,null,null,null,null,null,null,null,null,null,null,null,null,null,null,null,null,null,null,null,null,null,null,null,null,null,null,null,null,null,null,null,null,null,null,19,"","","","","","","","","","","","","","","","","","","","","","","","","","","","","","","","","","","","","","","","","","","","","","","","","","","","","","","","","","","","","","","","","","","","","","","","","","","","","","","","","","","","","","","","","","","","","","","","","","","","","","","","","","","","","","","","","","","","","","","","","","","","","","","","","","","","","","","","","","","","","","","","","","","","","","","","","","","","","","","","","","","","","","","","","","","","","","","","","",1,0,-1,0,0]
[null,null,null,null,null,null,20,{"$f":"IF(NE40=1, START!$B$17, \"\")","v":""},{"$f":"IF(NE40=1, START!$B$20, \"\")","v":""},null,null,null,null,null,null,null,null,null,null,null,null,null,null,null,null,null,null,null,null,null,null,null,null,null,null,null,null,null,null,null,null,null,null,null,null,null,null,null,null,null,null,null,null,null,null,null,null,null,null,null,null,null,null,null,null,null,null,null,null,null,null,null,null,null,null,null,null,null,null,null,null,null,null,null,null,null,null,null,null,null,null,null,null,null,null,null,null,null,null,null,null,null,null,null,null,null,null,null,null,null,null,null,null,null,null,null,null,null,null,null,null,null,null,null,null,null,null,null,null,null,null,null,null,null,null,null,null,null,null,null,null,null,null,null,null,null,null,null,null,null,null,null,null,null,null,null,null,null,null,null,null,null,null,null,null,null,null,null,null,null,null,null,null,null,null,null,null,null,null,null,null,null,null,null,null,null,null,20,"","","","","","","","","","","","","","","","","","","","","","","","","","","","","","","","","","","","","","","","","","","","","","","","","","","","","","","","","","","","","","","","","","","","","","","","","","","","","","","","","","","","","","","","","","","","","","","","","","","","","","","","","","","","","","","","","","","","","","","","","","","","","","","","","","","","","","","","","","","","","","","","","","","","","","","","","","","","","","","","","","","","","","","","","","","","","","","","","",1,0,-1,0,0]
[null,null,null,null,null,null,21,{"$f":"IF(NE41=1, START!$B$17, \"\")","v":""},{"$f":"IF(NE41=1, START!$B$20, \"\")","v":""},null,null,null,null,null,null,null,null,null,null,null,null,null,null,null,null,null,null,null,null,null,null,null,null,null,null,null,null,null,null,null,null,null,null,null,null,null,null,null,null,null,null,null,null,null,null,null,null,null,null,null,null,null,null,null,null,null,null,null,null,null,null,null,null,null,null,null,null,null,null,null,null,null,null,null,null,null,null,null,null,null,null,null,null,null,null,null,null,null,null,null,null,null,null,null,null,null,null,null,null,null,null,null,null,null,null,null,null,null,null,null,null,null,null,null,null,null,null,null,null,null,null,null,null,null,null,null,null,null,null,null,null,null,null,null,null,null,null,null,null,null,null,null,null,null,null,null,null,null,null,null,null,null,null,null,null,null,null,null,null,null,null,null,null,null,null,null,null,null,null,null,null,null,null,null,null,null,null,21,"","","","","","","","","","","","","","","","","","","","","","","","","","","","","","","","","","","","","","","","","","","","","","","","","","","","","","","","","","","","","","","","","","","","","","","","","","","","","","","","","","","","","","","","","","","","","","","","","","","","","","","","","","","","","","","","","","","","","","","","","","","","","","","","","","","","","","","","","","","","","","","","","","","","","","","","","","","","","","","","","","","","","","","","","","","","","","","","","",1,0,-1,0,0]
[null,null,null,null,null,null,22,{"$f":"IF(NE42=1, START!$B$17, \"\")","v":""},{"$f":"IF(NE42=1, START!$B$20, \"\")","v":""},null,null,null,null,null,null,null,null,null,null,null,null,null,null,null,null,null,null,null,null,null,null,null,null,null,null,null,null,null,null,null,null,null,null,null,null,null,null,null,null,null,null,null,null,null,null,null,null,null,null,null,null,null,null,null,null,null,null,null,null,null,null,null,null,null,null,null,null,null,null,null,null,null,null,null,null,null,null,null,null,null,null,null,null,null,null,null,null,null,null,null,null,null,null,null,null,null,null,null,null,null,null,null,null,null,null,null,null,null,null,null,null,null,null,null,null,null,null,null,null,null,null,null,null,null,null,null,null,null,null,null,null,null,null,null,null,null,null,null,null,null,null,null,null,null,null,null,null,null,null,null,null,null,null,null,null,null,null,null,null,null,null,null,null,null,null,null,null,null,null,null,null,null,null,null,null,null,null,22,"","","","","","","","","","","","","","","","","","","","","","","","","","","","","","","","","","","","","","","","","","","","","","","","","","","","","","","","","","","","","","","","","","","","","","","","","","","","","","","","","","","","","","","","","","","","","","","","","","","","","","","","","","","","","","","","","","","","","","","","","","","","","","","","","","","","","","","","","","","","","","","","","","","","","","","","","","","","","","","","","","","","","","","","","","","","","","","","","",1,0,-1,0,0]
[null,null,null,null,null,null,23,{"$f":"IF(NE43=1, START!$B$17, \"\")","v":""},{"$f":"IF(NE43=1, START!$B$20, \"\")","v":""},null,null,null,null,null,null,null,null,null,null,null,null,null,null,null,null,null,null,null,null,null,null,null,null,null,null,null,null,null,null,null,null,null,null,null,null,null,null,null,null,null,null,null,null,null,null,null,null,null,null,null,null,null,null,null,null,null,null,null,null,null,null,null,null,null,null,null,null,null,null,null,null,null,null,null,null,null,null,null,null,null,null,null,null,null,null,null,null,null,null,null,null,null,null,null,null,null,null,null,null,null,null,null,null,null,null,null,null,null,null,null,null,null,null,null,null,null,null,null,null,null,null,null,null,null,null,null,null,null,null,null,null,null,null,null,null,null,null,null,null,null,null,null,null,null,null,null,null,null,null,null,null,null,null,null,null,null,null,null,null,null,null,null,null,null,null,null,null,null,null,null,null,null,null,null,null,null,null,23,"","","","","","","","","","","","","","","","","","","","","","","","","","","","","","","","","","","","","","","","","","","","","","","","","","","","","","","","","","","","","","","","","","","","","","","","","","","","","","","","","","","","","","","","","","","","","","","","","","","","","","","","","","","","","","","","","","","","","","","","","","","","","","","","","","","","","","","","","","","","","","","","","","","","","","","","","","","","","","","","","","","","","","","","","","","","","","","","","",1,0,-1,0,0]
[null,null,null,null,null,null,24,{"$f":"IF(NE44=1, START!$B$17, \"\")","v":""},{"$f":"IF(NE44=1, START!$B$20, \"\")","v":""},null,null,null,null,null,null,null,null,null,null,null,null,null,null,null,null,null,null,null,null,null,null,null,null,null,null,null,null,null,null,null,null,null,null,null,null,null,null,null,null,null,null,null,null,null,null,null,null,null,null,null,null,null,null,null,null,null,null,null,null,null,null,null,null,null,null,null,null,null,null,null,null,null,null,null,null,null,null,null,null,null,null,null,null,null,null,null,null,null,null,null,null,null,null,null,null,null,null,null,null,null,null,null,null,null,null,null,null,null,null,null,null,null,null,null,null,null,null,null,null,null,null,null,null,null,null,null,null,null,null,null,null,null,null,null,null,null,null,null,null,null,null,null,null,null,null,null,null,null,null,null,null,null,null,null,null,null,null,null,null,null,null,null,null,null,null,null,null,null,null,null,null,null,null,null,null,null,null,24,"","","","","","","","","","","","","","","","","","","","","","","","","","","","","","","","","","","","","","","","","","","","","","","","","","","","","","","","","","","","","","","","","","","","","","","","","","","","","","","","","","","","","","","","","","","","","","","","","","","","","","","","","","","","","","","","","","","","","","","","","","","","","","","","","","","","","","","","","","","","","","","","","","","","","","","","","","","","","","","","","","","","","","","","","","","","","","","","","",1,0,-1,0,0]
[null,null,null,null,null,null,25,{"$f":"IF(NE45=1, START!$B$17, \"\")","v":""},{"$f":"IF(NE45=1, START!$B$20, \"\")","v":""},null,null,null,null,null,null,null,null,null,null,null,null,null,null,null,null,null,null,null,null,null,null,null,null,null,null,null,null,null,null,null,null,null,null,null,null,null,null,null,null,null,null,null,null,null,null,null,null,null,null,null,null,null,null,null,null,null,null,null,null,null,null,null,null,null,null,null,null,null,null,null,null,null,null,null,null,null,null,null,null,null,null,null,null,null,null,null,null,null,null,null,null,null,null,null,null,null,null,null,null,null,null,null,null,null,null,null,null,null,null,null,null,null,null,null,null,null,null,null,null,null,null,null,null,null,null,null,null,null,null,null,null,null,null,null,null,null,null,null,null,null,null,null,null,null,null,null,null,null,null,null,null,null,null,null,null,null,null,null,null,null,null,null,null,null,null,null,null,null,null,null,null,null,null,null,null,null,null,25,"","","","","","","","","","","","","","","","","","","","","","","","","","","","","","","","","","","","","","","","","","","","","","","","","","","","","","","","","","","","","","","","","","","","","","","","","","","","","","","","","","","","","","","","","","","","","","","","","","","","","","","","","","","","","","","","","","","","","","","","","","","","","","","","","","","","","","","","","","","","","","","","","","","","","","","","","","","","","","","","","","","","","","","","","","","","","","","","","",1,0,-1,0,0]
[null,null,null,null,null,null,26,{"$f":"IF(NE46=1, START!$B$17, \"\")","v":""},{"$f":"IF(NE46=1, START!$B$20, \"\")","v":""},null,null,null,null,null,null,null,null,null,null,null,null,null,null,null,null,null,null,null,null,null,null,null,null,null,null,null,null,null,null,null,null,null,null,null,null,null,null,null,null,null,null,null,null,null,null,null,null,null,null,null,null,null,null,null,null,null,null,null,null,null,null,null,null,null,null,null,null,null,null,null,null,null,null,null,null,null,null,null,null,null,null,null,null,null,null,null,null,null,null,null,null,null,null,null,null,null,null,null,null,null,null,null,null,null,null,null,null,null,null,null,null,null,null,null,null,null,null,null,null,null,null,null,null,null,null,null,null,null,null,null,null,null,null,null,null,null,null,null,null,null,null,null,null,null,null,null,null,null,null,null,null,null,null,null,null,null,null,null,null,null,null,null,null,null,null,null,null,null,null,null,null,null,null,null,null,null,null,26,"","","","","","","","","","","","","","","","","","","","","","","","","","","","","","","","","","","","","","","","","","","","","","","","","","","","","","","","","","","","","","","","","","","","","","","","","","","","","","","","","","","","","","","","","","","","","","","","","","","","","","","","","","","","","","","","","","","","","","","","","","","","","","","","","","","","","","","","","","","","","","","","","","","","","","","","","","","","","","","","","","","","","","","","","","","","","","","","","",1,0,-1,0,0]
[null,null,null,null,null,null,27,{"$f":"IF(NE47=1, START!$B$17, \"\")","v":""},{"$f":"IF(NE47=1, START!$B$20, \"\")","v":""},null,null,null,null,null,null,null,null,null,null,null,null,null,null,null,null,null,null,null,null,null,null,null,null,null,null,null,null,null,null,null,null,null,null,null,null,null,null,null,null,null,null,null,null,null,null,null,null,null,null,null,null,null,null,null,null,null,null,null,null,null,null,null,null,null,null,null,null,null,null,null,null,null,null,null,null,null,null,null,null,null,null,null,null,null,null,null,null,null,null,null,null,null,null,null,null,null,null,null,null,null,null,null,null,null,null,null,null,null,null,null,null,null,null,null,null,null,null,null,null,null,null,null,null,null,null,null,null,null,null,null,null,null,null,null,null,null,null,null,null,null,null,null,null,null,null,null,null,null,null,null,null,null,null,null,null,null,null,null,null,null,null,null,null,null,null,null,null,null,null,null,null,null,null,null,null,null,null,27,"","","","","","","","","","","","","","","","","","","","","","","","","","","","","","","","","","","","","","","","","","","","","","","","","","","","","","","","","","","","","","","","","","","","","","","","","","","","","","","","","","","","","","","","","","","","","","","","","","","","","","","","","","","","","","","","","","","","","","","","","","","","","","","","","","","","","","","","","","","","","","","","","","","","","","","","","","","","","","","","","","","","","","","","","","","","","","","","","",1,0,-1,0,0]
[null,null,null,null,null,null,28,{"$f":"IF(NE48=1, START!$B$17, \"\")","v":""},{"$f":"IF(NE48=1, START!$B$20, \"\")","v":""},null,null,null,null,null,null,null,null,null,null,null,null,null,null,null,null,null,null,null,null,null,null,null,null,null,null,null,null,null,null,null,null,null,null,null,null,null,null,null,null,null,null,null,null,null,null,null,null,null,null,null,null,null,null,null,null,null,null,null,null,null,null,null,null,null,null,null,null,null,null,null,null,null,null,null,null,null,null,null,null,null,null,null,null,null,null,null,null,null,null,null,null,null,null,null,null,null,null,null,null,null,null,null,null,null,null,null,null,null,null,null,null,null,null,null,null,null,null,null,null,null,null,null,null,null,null,null,null,null,null,null,null,null,null,null,null,null,null,null,null,null,null,null,null,null,null,null,null,null,null,null,null,null,null,null,null,null,null,null,null,null,null,null,null,null,null,null,null,null,null,null,null,null,null,null,null,null,null,28,"","","","","","","","","","","","","","","","","","","","","","","","","","","","","","","","","","","","","","","","","","","","","","","","","","","","","","","","","","","","","","","","","","","","","","","","","","","","","","","","","","","","","","","","","","","","","","","","","","","","","","","","","","","","","","","","","","","","","","","","","","","","","","","","","","","","","","","","","","","","","","","","","","","","","","","","","","","","","","","","","","","","","","","","","","","","","","","","","",1,0,-1,0,0]
[null,null,null,null,null,null,29,{"$f":"IF(NE49=1, START!$B$17, \"\")","v":""},{"$f":"IF(NE49=1, START!$B$20, \"\")","v":""},null,null,null,null,null,null,null,null,null,null,null,null,null,null,null,null,null,null,null,null,null,null,null,null,null,null,null,null,null,null,null,null,null,null,null,null,null,null,null,null,null,null,null,null,null,null,null,null,null,null,null,null,null,null,null,null,null,null,null,null,null,null,null,null,null,null,null,null,null,null,null,null,null,null,null,null,null,null,null,null,null,null,null,null,null,null,null,null,null,null,null,null,null,null,null,null,null,null,null,null,null,null,null,null,null,null,null,null,null,null,null,null,null,null,null,null,null,null,null,null,null,null,null,null,null,null,null,null,null,null,null,null,null,null,null,null,null,null,null,null,null,null,null,null,null,null,null,null,null,null,null,null,null,null,null,null,null,null,null,null,null,null,null,null,null,null,null,null,null,null,null,null,null,null,null,null,null,null,29,"","","","","","","","","","","","","","","","","","","","","","","","","","","","","","","","","","","","","","","","","","","","","","","","","","","","","","","","","","","","","","","","","","","","","","","","","","","","","","","","","","","","","","","","","","","","","","","","","","","","","","","","","","","","","","","","","","","","","","","","","","","","","","","","","","","","","","","","","","","","","","","","","","","","","","","","","","","","","","","","","","","","","","","","","","","","","","","","","",1,0,-1,0,0]
[null,null,null,null,null,null,30,{"$f":"IF(NE50=1, START!$B$17, \"\")","v":""},{"$f":"IF(NE50=1, START!$B$20, \"\")","v":""},null,null,null,null,null,null,null,null,null,null,null,null,null,null,null,null,null,null,null,null,null,null,null,null,null,null,null,null,null,null,null,null,null,null,null,null,null,null,null,null,null,null,null,null,null,null,null,null,null,null,null,null,null,null,null,null,null,null,null,null,null,null,null,null,null,null,null,null,null,null,null,null,null,null,null,null,null,null,null,null,null,null,null,null,null,null,null,null,null,null,null,null,null,null,null,null,null,null,null,null,null,null,null,null,null,null,null,null,null,null,null,null,null,null,null,null,null,null,null,null,null,null,null,null,null,null,null,null,null,null,null,null,null,null,null,null,null,null,null,null,null,null,null,null,null,null,null,null,null,null,null,null,null,null,null,null,null,null,null,null,null,null,null,null,null,null,null,null,null,null,null,null,null,null,null,null,null,null,30,"","","","","","","","","","","","","","","","","","","","","","","","","","","","","","","","","","","","","","","","","","","","","","","","","","","","","","","","","","","","","","","","","","","","","","","","","","","","","","","","","","","","","","","","","","","","","","","","","","","","","","","","","","","","","","","","","","","","","","","","","","","","","","","","","","","","","","","","","","","","","","","","","","","","","","","","","","","","","","","","","","","","","","","","","","","","","","","","","",1,0,-1,0,0]
[null,null,null,null,null,null,31,{"$f":"IF(NE51=1, START!$B$17, \"\")","v":""},{"$f":"IF(NE51=1, START!$B$20, \"\")","v":""},null,null,null,null,null,null,null,null,null,null,null,null,null,null,null,null,null,null,null,null,null,null,null,null,null,null,null,null,null,null,null,null,null,null,null,null,null,null,null,null,null,null,null,null,null,null,null,null,null,null,null,null,null,null,null,null,null,null,null,null,null,null,null,null,null,null,null,null,null,null,null,null,null,null,null,null,null,null,null,null,null,null,null,null,null,null,null,null,null,null,null,null,null,null,null,null,null,null,null,null,null,null,null,null,null,null,null,null,null,null,null,null,null,null,null,null,null,null,null,null,null,null,null,null,null,null,null,null,null,null,null,null,null,null,null,null,null,null,null,null,null,null,null,null,null,null,null,null,null,null,null,null,null,null,null,null,null,null,null,null,null,null,null,null,null,null,null,null,null,null,null,null,null,null,null,null,null,null,31,"","","","","","","","","","","","","","","","","","","","","","","","","","","","","","","","","","","","","","","","","","","","","","","","","","","","","","","","","","","","","","","","","","","","","","","","","","","","","","","","","","","","","","","","","","","","","","","","","","","","","","","","","","","","","","","","","","","","","","","","","","","","","","","","","","","","","","","","","","","","","","","","","","","","","","","","","","","","","","","","","","","","","","","","","","","","","","","","","",1,0,-1,0,0]
[null,null,null,null,null,null,32,{"$f":"IF(NE52=1, START!$B$17, \"\")","v":""},{"$f":"IF(NE52=1, START!$B$20, \"\")","v":""},null,null,null,null,null,null,null,null,null,null,null,null,null,null,null,null,null,null,null,null,null,null,null,null,null,null,null,null,null,null,null,null,null,null,null,null,null,null,null,null,null,null,null,null,null,null,null,null,null,null,null,null,null,null,null,null,null,null,null,null,null,null,null,null,null,null,null,null,null,null,null,null,null,null,null,null,null,null,null,null,null,null,null,null,null,null,null,null,null,null,null,null,null,null,null,null,null,null,null,null,null,null,null,null,null,null,null,null,null,null,null,null,null,null,null,null,null,null,null,null,null,null,null,null,null,null,null,null,null,null,null,null,null,null,null,null,null,null,null,null,null,null,null,null,null,null,null,null,null,null,null,null,null,null,null,null,null,null,null,null,null,null,null,null,null,null,null,null,null,null,null,null,null,null,null,null,null,null,32,"","","","","","","","","","","","","","","","","","","","","","","","","","","","","","","","","","","","","","","","","","","","","","","","","","","","","","","","","","","","","","","","","","","","","","","","","","","","","","","","","","","","","","","","","","","","","","","","","","","","","","","","","","","","","","","","","","","","","","","","","","","","","","","","","","","","","","","","","","","","","","","","","","","","","","","","","","","","","","","","","","","","","","","","","","","","","","","","","",1,0,-1,0,0]
[null,null,null,null,null,null,33,{"$f":"IF(NE53=1, START!$B$17, \"\")","v":""},{"$f":"IF(NE53=1, START!$B$20, \"\")","v":""},null,null,null,null,null,null,null,null,null,null,null,null,null,null,null,null,null,null,null,null,null,null,null,null,null,null,null,null,null,null,null,null,null,null,null,null,null,null,null,null,null,null,null,null,null,null,null,null,null,null,null,null,null,null,null,null,null,null,null,null,null,null,null,null,null,null,null,null,null,null,null,null,null,null,null,null,null,null,null,null,null,null,null,null,null,null,null,null,null,null,null,null,null,null,null,null,null,null,null,null,null,null,null,null,null,null,null,null,null,null,null,null,null,null,null,null,null,null,null,null,null,null,null,null,null,null,null,null,null,null,null,null,null,null,null,null,null,null,null,null,null,null,null,null,null,null,null,null,null,null,null,null,null,null,null,null,null,null,null,null,null,null,null,null,null,null,null,null,null,null,null,null,null,null,null,null,null,null,33,"","","","","","","","","","","","","","","","","","","","","","","","","","","","","","","","","","","","","","","","","","","","","","","","","","","","","","","","","","","","","","","","","","","","","","","","","","","","","","","","","","","","","","","","","","","","","","","","","","","","","","","","","","","","","","","","","","","","","","","","","","","","","","","","","","","","","","","","","","","","","","","","","","","","","","","","","","","","","","","","","","","","","","","","","","","","","","","","","",1,0,-1,0,0]
[null,null,null,null,null,null,34,{"$f":"IF(NE54=1, START!$B$17, \"\")","v":""},{"$f":"IF(NE54=1, START!$B$20, \"\")","v":""},null,null,null,null,null,null,null,null,null,null,null,null,null,null,null,null,null,null,null,null,null,null,null,null,null,null,null,null,null,null,null,null,null,null,null,null,null,null,null,null,null,null,null,null,null,null,null,null,null,null,null,null,null,null,null,null,null,null,null,null,null,null,null,null,null,null,null,null,null,null,null,null,null,null,null,null,null,null,null,null,null,null,null,null,null,null,null,null,null,null,null,null,null,null,null,null,null,null,null,null,null,null,null,null,null,null,null,null,null,null,null,null,null,null,null,null,null,null,null,null,null,null,null,null,null,null,null,null,null,null,null,null,null,null,null,null,null,null,null,null,null,null,null,null,null,null,null,null,null,null,null,null,null,null,null,null,null,null,null,null,null,null,null,null,null,null,null,null,null,null,null,null,null,null,null,null,null,null,34,"","","","","","","","","","","","","","","","","","","","","","","","","","","","","","","","","","","","","","","","","","","","","","","","","","","","","","","","","","","","","","","","","","","","","","","","","","","","","","","","","","","","","","","","","","","","","","","","","","","","","","","","","","","","","","","","","","","","","","","","","","","","","","","","","","","","","","","","","","","","","","","","","","","","","","","","","","","","","","","","","","","","","","","","","","","","","","","","","",1,0,-1,0,0]
[null,null,null,null,null,null,35,{"$f":"IF(NE55=1, START!$B$17, \"\")","v":""},{"$f":"IF(NE55=1, START!$B$20, \"\")","v":""},null,null,null,null,null,null,null,null,null,null,null,null,null,null,null,null,null,null,null,null,null,null,null,null,null,null,null,null,null,null,null,null,null,null,null,null,null,null,null,null,null,null,null,null,null,null,null,null,null,null,null,null,null,null,null,null,null,null,null,null,null,null,null,null,null,null,null,null,null,null,null,null,null,null,null,null,null,null,null,null,null,null,null,null,null,null,null,null,null,null,null,null,null,null,null,null,null,null,null,null,null,null,null,null,null,null,null,null,null,null,null,null,null,null,null,null,null,null,null,null,null,null,null,null,null,null,null,null,null,null,null,null,null,null,null,null,null,null,null,null,null,null,null,null,null,null,null,null,null,null,null,null,null,null,null,null,null,null,null,null,null,null,null,null,null,null,null,null,null,null,null,null,null,null,null,null,null,null,35,"","","","","","","","","","","","","","","","","","","","","","","","","","","","","","","","","","","","","","","","","","","","","","","","","","","","","","","","","","","","","","","","","","","","","","","","","","","","","","","","","","","","","","","","","","","","","","","","","","","","","","","","","","","","","","","","","","","","","","","","","","","","","","","","","","","","","","","","","","","","","","","","","","","","","","","","","","","","","","","","","","","","","","","","","","","","","","","","","",1,0,-1,0,0]
[null,null,null,null,null,null,36,{"$f":"IF(NE56=1, START!$B$17, \"\")","v":""},{"$f":"IF(NE56=1, START!$B$20, \"\")","v":""},null,null,null,null,null,null,null,null,null,null,null,null,null,null,null,null,null,null,null,null,null,null,null,null,null,null,null,null,null,null,null,null,null,null,null,null,null,null,null,null,null,null,null,null,null,null,null,null,null,null,null,null,null,null,null,null,null,null,null,null,null,null,null,null,null,null,null,null,null,null,null,null,null,null,null,null,null,null,null,null,null,null,null,null,null,null,null,null,null,null,null,null,null,null,null,null,null,null,null,null,null,null,null,null,null,null,null,null,null,null,null,null,null,null,null,null,null,null,null,null,null,null,null,null,null,null,null,null,null,null,null,null,null,null,null,null,null,null,null,null,null,null,null,null,null,null,null,null,null,null,null,null,null,null,null,null,null,null,null,null,null,null,null,null,null,null,null,null,null,null,null,null,null,null,null,null,null,null,36,"","","","","","","","","","","","","","","","","","","","","","","","","","","","","","","","","","","","","","","","","","","","","","","","","","","","","","","","","","","","","","","","","","","","","","","","","","","","","","","","","","","","","","","","","","","","","","","","","","","","","","","","","","","","","","","","","","","","","","","","","","","","","","","","","","","","","","","","","","","","","","","","","","","","","","","","","","","","","","","","","","","","","","","","","","","","","","","","","",1,0,-1,0,0]
[null,null,null,null,null,null,37,{"$f":"IF(NE57=1, START!$B$17, \"\")","v":""},{"$f":"IF(NE57=1, START!$B$20, \"\")","v":""},null,null,null,null,null,null,null,null,null,null,null,null,null,null,null,null,null,null,null,null,null,null,null,null,null,null,null,null,null,null,null,null,null,null,null,null,null,null,null,null,null,null,null,null,null,null,null,null,null,null,null,null,null,null,null,null,null,null,null,null,null,null,null,null,null,null,null,null,null,null,null,null,null,null,null,null,null,null,null,null,null,null,null,null,null,null,null,null,null,null,null,null,null,null,null,null,null,null,null,null,null,null,null,null,null,null,null,null,null,null,null,null,null,null,null,null,null,null,null,null,null,null,null,null,null,null,null,null,null,null,null,null,null,null,null,null,null,null,null,null,null,null,null,null,null,null,null,null,null,null,null,null,null,null,null,null,null,null,null,null,null,null,null,null,null,null,null,null,null,null,null,null,null,null,null,null,null,null,37,"","","","","","","","","","","","","","","","","","","","","","","","","","","","","","","","","","","","","","","","","","","","","","","","","","","","","","","","","","","","","","","","","","","","","","","","","","","","","","","","","","","","","","","","","","","","","","","","","","","","","","","","","","","","","","","","","","","","","","","","","","","","","","","","","","","","","","","","","","","","","","","","","","","","","","","","","","","","","","","","","","","","","","","","","","","","","","","","","",1,0,-1,0,0]
[null,null,null,null,null,null,38,{"$f":"IF(NE58=1, START!$B$17, \"\")","v":""},{"$f":"IF(NE58=1, START!$B$20, \"\")","v":""},null,null,null,null,null,null,null,null,null,null,null,null,null,null,null,null,null,null,null,null,null,null,null,null,null,null,null,null,null,null,null,null,null,null,null,null,null,null,null,null,null,null,null,null,null,null,null,null,null,null,null,null,null,null,null,null,null,null,null,null,null,null,null,null,null,null,null,null,null,null,null,null,null,null,null,null,null,null,null,null,null,null,null,null,null,null,null,null,null,null,null,null,null,null,null,null,null,null,null,null,null,null,null,null,null,null,null,null,null,null,null,null,null,null,null,null,null,null,null,null,null,null,null,null,null,null,null,null,null,null,null,null,null,null,null,null,null,null,null,null,null,null,null,null,null,null,null,null,null,null,null,null,null,null,null,null,null,null,null,null,null,null,null,null,null,null,null,null,null,null,null,null,null,null,null,null,null,null,38,"","","","","","","","","","","","","","","","","","","","","","","","","","","","","","","","","","","","","","","","","","","","","","","","","","","","","","","","","","","","","","","","","","","","","","","","","","","","","","","","","","","","","","","","","","","","","","","","","","","","","","","","","","","","","","","","","","","","","","","","","","","","","","","","","","","","","","","","","","","","","","","","","","","","","","","","","","","","","","","","","","","","","","","","","","","","","","","","","",1,0,-1,0,0]
[null,null,null,null,null,null,39,{"$f":"IF(NE59=1, START!$B$17, \"\")","v":""},{"$f":"IF(NE59=1, START!$B$20, \"\")","v":""},null,null,null,null,null,null,null,null,null,null,null,null,null,null,null,null,null,null,null,null,null,null,null,null,null,null,null,null,null,null,null,null,null,null,null,null,null,null,null,null,null,null,null,null,null,null,null,null,null,null,null,null,null,null,null,null,null,null,null,null,null,null,null,null,null,null,null,null,null,null,null,null,null,null,null,null,null,null,null,null,null,null,null,null,null,null,null,null,null,null,null,null,null,null,null,null,null,null,null,null,null,null,null,null,null,null,null,null,null,null,null,null,null,null,null,null,null,null,null,null,null,null,null,null,null,null,null,null,null,null,null,null,null,null,null,null,null,null,null,null,null,null,null,null,null,null,null,null,null,null,null,null,null,null,null,null,null,null,null,null,null,null,null,null,null,null,null,null,null,null,null,null,null,null,null,null,null,null,39,"","","","","","","","","","","","","","","","","","","","","","","","","","","","","","","","","","","","","","","","","","","","","","","","","","","","","","","","","","","","","","","","","","","","","","","","","","","","","","","","","","","","","","","","","","","","","","","","","","","","","","","","","","","","","","","","","","","","","","","","","","","","","","","","","","","","","","","","","","","","","","","","","","","","","","","","","","","","","","","","","","","","","","","","","","","","","","","","","",1,0,-1,0,0]
[null,null,null,null,null,null,40,{"$f":"IF(NE60=1, START!$B$17, \"\")","v":""},{"$f":"IF(NE60=1, START!$B$20, \"\")","v":""},null,null,null,null,null,null,null,null,null,null,null,null,null,null,null,null,null,null,null,null,null,null,null,null,null,null,null,null,null,null,null,null,null,null,null,null,null,null,null,null,null,null,null,null,null,null,null,null,null,null,null,null,null,null,null,null,null,null,null,null,null,null,null,null,null,null,null,null,null,null,null,null,null,null,null,null,null,null,null,null,null,null,null,null,null,null,null,null,null,null,null,null,null,null,null,null,null,null,null,null,null,null,null,null,null,null,null,null,null,null,null,null,null,null,null,null,null,null,null,null,null,null,null,null,null,null,null,null,null,null,null,null,null,null,null,null,null,null,null,null,null,null,null,null,null,null,null,null,null,null,null,null,null,null,null,null,null,null,null,null,null,null,null,null,null,null,null,null,null,null,null,null,null,null,null,null,null,null,40,"","","","","","","","","","","","","","","","","","","","","","","","","","","","","","","","","","","","","","","","","","","","","","","","","","","","","","","","","","","","","","","","","","","","","","","","","","","","","","","","","","","","","","","","","","","","","","","","","","","","","","","","","","","","","","","","","","","","","","","","","","","","","","","","","","","","","","","","","","","","","","","","","","","","","","","","","","","","","","","","","","","","","","","","","","","","","","","","","",1,0,-1,0,0]
[null,null,null,null,null,null,41,{"$f":"IF(NE61=1, START!$B$17, \"\")","v":""},{"$f":"IF(NE61=1, START!$B$20, \"\")","v":""},null,null,null,null,null,null,null,null,null,null,null,null,null,null,null,null,null,null,null,null,null,null,null,null,null,null,null,null,null,null,null,null,null,null,null,null,null,null,null,null,null,null,null,null,null,null,null,null,null,null,null,null,null,null,null,null,null,null,null,null,null,null,null,null,null,null,null,null,null,null,null,null,null,null,null,null,null,null,null,null,null,null,null,null,null,null,null,null,null,null,null,null,null,null,null,null,null,null,null,null,null,null,null,null,null,null,null,null,null,null,null,null,null,null,null,null,null,null,null,null,null,null,null,null,null,null,null,null,null,null,null,null,null,null,null,null,null,null,null,null,null,null,null,null,null,null,null,null,null,null,null,null,null,null,null,null,null,null,null,null,null,null,null,null,null,null,null,null,null,null,null,null,null,null,null,null,null,null,41,"","","","","","","","","","","","","","","","","","","","","","","","","","","","","","","","","","","","","","","","","","","","","","","","","","","","","","","","","","","","","","","","","","","","","","","","","","","","","","","","","","","","","","","","","","","","","","","","","","","","","","","","","","","","","","","","","","","","","","","","","","","","","","","","","","","","","","","","","","","","","","","","","","","","","","","","","","","","","","","","","","","","","","","","","","","","","","","","","",1,0,-1,0,0]
[null,null,null,null,null,null,42,{"$f":"IF(NE62=1, START!$B$17, \"\")","v":""},{"$f":"IF(NE62=1, START!$B$20, \"\")","v":""},null,null,null,null,null,null,null,null,null,null,null,null,null,null,null,null,null,null,null,null,null,null,null,null,null,null,null,null,null,null,null,null,null,null,null,null,null,null,null,null,null,null,null,null,null,null,null,null,null,null,null,null,null,null,null,null,null,null,null,null,null,null,null,null,null,null,null,null,null,null,null,null,null,null,null,null,null,null,null,null,null,null,null,null,null,null,null,null,null,null,null,null,null,null,null,null,null,null,null,null,null,null,null,null,null,null,null,null,null,null,null,null,null,null,null,null,null,null,null,null,null,null,null,null,null,null,null,null,null,null,null,null,null,null,null,null,null,null,null,null,null,null,null,null,null,null,null,null,null,null,null,null,null,null,null,null,null,null,null,null,null,null,null,null,null,null,null,null,null,null,null,null,null,null,null,null,null,null,42,"","","","","","","","","","","","","","","","","","","","","","","","","","","","","","","","","","","","","","","","","","","","","","","","","","","","","","","","","","","","","","","","","","","","","","","","","","","","","","","","","","","","","","","","","","","","","","","","","","","","","","","","","","","","","","","","","","","","","","","","","","","","","","","","","","","","","","","","","","","","","","","","","","","","","","","","","","","","","","","","","","","","","","","","","","","","","","","","","",1,0,-1,0,0]
[null,null,null,null,null,null,43,{"$f":"IF(NE63=1, START!$B$17, \"\")","v":""},{"$f":"IF(NE63=1, START!$B$20, \"\")","v":""},null,null,null,null,null,null,null,null,null,null,null,null,null,null,null,null,null,null,null,null,null,null,null,null,null,null,null,null,null,null,null,null,null,null,null,null,null,null,null,null,null,null,null,null,null,null,null,null,null,null,null,null,null,null,null,null,null,null,null,null,null,null,null,null,null,null,null,null,null,null,null,null,null,null,null,null,null,null,null,null,null,null,null,null,null,null,null,null,null,null,null,null,null,null,null,null,null,null,null,null,null,null,null,null,null,null,null,null,null,null,null,null,null,null,null,null,null,null,null,null,null,null,null,null,null,null,null,null,null,null,null,null,null,null,null,null,null,null,null,null,null,null,null,null,null,null,null,null,null,null,null,null,null,null,null,null,null,null,null,null,null,null,null,null,null,null,null,null,null,null,null,null,null,null,null,null,null,null,43,"","","","","","","","","","","","","","","","","","","","","","","","","","","","","","","","","","","","","","","","","","","","","","","","","","","","","","","","","","","","","","","","","","","","","","","","","","","","","","","","","","","","","","","","","","","","","","","","","","","","","","","","","","","","","","","","","","","","","","","","","","","","","","","","","","","","","","","","","","","","","","","","","","","","","","","","","","","","","","","","","","","","","","","","","","","","","","","","","",1,0,-1,0,0]
[null,null,null,null,null,null,59,{"$f":"IF(NE79=1, START!$B$17, \"\")","v":""},{"$f":"IF(NE79=1, START!$B$20, \"\")","v":""},null,null,null,null,null,null,null,null,null,null,null,null,null,null,null,null,null,null,null,null,null,null,null,null,null,null,null,null,null,null,null,null,null,null,null,null,null,null,null,null,null,null,null,null,null,null,null,null,null,null,null,null,null,null,null,null,null,null,null,null,null,null,null,null,null,null,null,null,null,null,null,null,null,null,null,null,null,null,null,null,null,null,null,null,null,null,null,null,null,null,null,null,null,null,null,null,null,null,null,null,null,null,null,null,null,null,null,null,null,null,null,null,null,null,null,null,null,null,null,null,null,null,null,null,null,null,null,null,null,null,null,null,null,null,null,null,null,null,null,null,null,null,null,null,null,null,null,null,null,null,null,null,null,null,null,null,null,null,null,null,null,null,null,null,null,null,null,null,null,null,null,null,null,null,null,null,null,null,59,"","","","","","","","","","","","","","","","","","","","","","","","","","","","","","","","","","","","","","","","","","","","","","","","","","","","","","","","","","","","","","","","","","","","","","","","","","","","","","","","","","","","","","","","","","","","","","","","","","","","","","","","","","","","","","","","","","","","","","","","","","","","","","","","","","","","","","","","","","","","","","","","","","","","","","","","","","","","","","","","","","","","","","","","","","","","","","","","","",1,0,-1,0,0]
[null,null,null,null,null,null,74,{"$f":"IF(NE94=1, START!$B$17, \"\")","v":""},{"$f":"IF(NE94=1, START!$B$20, \"\")","v":""},null,null,null,null,null,null,null,null,null,null,null,null,null,null,null,null,null,null,null,null,null,null,null,null,null,null,null,null,null,null,null,null,null,null,null,null,null,null,null,null,null,null,null,null,null,null,null,null,null,null,null,null,null,null,null,null,null,null,null,null,null,null,null,null,null,null,null,null,null,null,null,null,null,null,null,null,null,null,null,null,null,null,null,null,null,null,null,null,null,null,null,null,null,null,null,null,null,null,null,null,null,null,null,null,null,null,null,null,null,null,null,null,null,null,null,null,null,null,null,null,null,null,null,null,null,null,null,null,null,null,null,null,null,null,null,null,null,null,null,null,null,null,null,null,null,null,null,null,null,null,null,null,null,null,null,null,null,null,null,null,null,null,null,null,null,null,null,null,null,null,null,null,null,null,null,null,null,null,74,"","","","","","","","","","","","","","","","","","","","","","","","","","","","","","","","","","","","","","","","","","","","","","","","","","","","","","","","","","","","","","","","","","","","","","","","","","","","","","","","","","","","","","","","","","","","","","","","","","","","","","","","","","","","","","","","","","","","","","","","","","","","","","","","","","","","","","","","","","","","","","","","","","","","","","","","","","","","","","","","","","","","","","","","","","","","","","","","","",1,0,-1,0,0]
[null,null,null,null,null,null,90,{"$f":"IF(NE110=1, START!$B$17, \"\")","v":""},{"$f":"IF(NE110=1, START!$B$20, \"\")","v":""},null,null,null,null,null,null,null,null,null,null,null,null,null,null,null,null,null,null,null,null,null,null,null,null,null,null,null,null,null,null,null,null,null,null,null,null,null,null,null,null,null,null,null,null,null,null,null,null,null,null,null,null,null,null,null,null,null,null,null,null,null,null,null,null,null,null,null,null,null,null,null,null,null,null,null,null,null,null,null,null,null,null,null,null,null,null,null,null,null,null,null,null,null,null,null,null,null,null,null,null,null,null,null,null,null,null,null,null,null,null,null,null,null,null,null,null,null,null,null,null,null,null,null,null,null,null,null,null,null,null,null,null,null,null,null,null,null,null,null,null,null,null,null,null,null,null,null,null,null,null,null,null,null,null,null,null,null,null,null,null,null,null,null,null,null,null,null,null,null,null,null,null,null,null,null,null,null,null,90,"","","","","","","","","","","","","","","","","","","","","","","","","","","","","","","","","","","","","","","","","","","","","","","","","","","","","","","","","","","","","","","","","","","","","","","","","","","","","","","","","","","","","","","","","","","","","","","","","","","","","","","","","","","","","","","","","","","","","","","","","","","","","","","","","","","","","","","","","","","","","","","","","","","","","","","","","","","","","","","","","","","","","","","","","","","","","","","","","",1,0,-1,0,0]
[null,null,null,null,null,null,116,{"$f":"IF(NE136=1, START!$B$17, \"\")","v":""},{"$f":"IF(NE136=1, START!$B$20, \"\")","v":""},null,null,null,null,null,null,null,null,null,null,null,null,null,null,null,null,null,null,null,null,null,null,null,null,null,null,null,null,null,null,null,null,null,null,null,null,null,null,null,null,null,null,null,null,null,null,null,null,null,null,null,null,null,null,null,null,null,null,null,null,null,null,null,null,null,null,null,null,null,null,null,null,null,null,null,null,null,null,null,null,null,null,null,null,null,null,null,null,null,null,null,null,null,null,null,null,null,null,null,null,null,null,null,null,null,null,null,null,null,null,null,null,null,null,null,null,null,null,null,null,null,null,null,null,null,null,null,null,null,null,null,null,null,null,null,null,null,null,null,null,null,null,null,null,null,null,null,null,null,null,null,null,null,null,null,null,null,null,null,null,null,null,null,null,null,null,null,null,null,null,null,null,null,null,null,null,null,null,116,"","","","","","","","","","","","","","","","","","","","","","","","","","","","","","","","","","","","","","","","","","","","","","","","","","","","","","","","","","","","","","","","","","","","","","","","","","","","","","","","","","","","","","","","","","","","","","","","","","","","","","","","","","","","","","","","","","","","","","","","","","","","","","","","","","","","","","","","","","","","","","","","","","","","","","","","","","","","","","","","","","","","","","","","","","","","","","","","","",1,0,-1,0,0]
[null,null,null,null,null,null,121,{"$f":"IF(NE141=1, START!$B$17, \"\")","v":""},{"$f":"IF(NE141=1, START!$B$20, \"\")","v":""},null,null,null,null,null,null,null,null,null,null,null,null,null,null,null,null,null,null,null,null,null,null,null,null,null,null,null,null,null,null,null,null,null,null,null,null,null,null,null,null,null,null,null,null,null,null,null,null,null,null,null,null,null,null,null,null,null,null,null,null,null,null,null,null,null,null,null,null,null,null,null,null,null,null,null,null,null,null,null,null,null,null,null,null,null,null,null,null,null,null,null,null,null,null,null,null,null,null,null,null,null,null,null,null,null,null,null,null,null,null,null,null,null,null,null,null,null,null,null,null,null,null,null,null,null,null,null,null,null,null,null,null,null,null,null,null,null,null,null,null,null,null,null,null,null,null,null,null,null,null,null,null,null,null,null,null,null,null,null,null,null,null,null,null,null,null,null,null,null,null,null,null,null,null,null,null,null,null,121,"","","","","","","","","","","","","","","","","","","","","","","","","","","","","","","","","","","","","","","","","","","","","","","","","","","","","","","","","","","","","","","","","","","","","","","","","","","","","","","","","","","","","","","","","","","","","","","","","","","","","","","","","","","","","","","","","","","","","","","","","","","","","","","","","","","","","","","","","","","","","","","","","","","","","","","","","","","","","","","","","","","","","","","","","","","","","","","","","",1,0,-1,0,0]
[null,null,null,null,null,null,137,{"$f":"IF(NE157=1, START!$B$17, \"\")","v":""},{"$f":"IF(NE157=1, START!$B$20, \"\")","v":""},null,null,null,null,null,null,null,null,null,null,null,null,null,null,null,null,null,null,null,null,null,null,null,null,null,null,null,null,null,null,null,null,null,null,null,null,null,null,null,null,null,null,null,null,null,null,null,null,null,null,null,null,null,null,null,null,null,null,null,null,null,null,null,null,null,null,null,null,null,null,null,null,null,null,null,null,null,null,null,null,null,null,null,null,null,null,null,null,null,null,null,null,null,null,null,null,null,null,null,null,null,null,null,null,null,null,null,null,null,null,null,null,null,null,null,null,null,null,null,null,null,null,null,null,null,null,null,null,null,null,null,null,null,null,null,null,null,null,null,null,null,null,null,null,null,null,null,null,null,null,null,null,null,null,null,null,null,null,null,null,null,null,null,null,null,null,null,null,null,null,null,null,null,null,null,null,null,null,137,"","","","","","","","","","","","","","","","","","","","","","","","","","","","","","","","","","","","","","","","","","","","","","","","","","","","","","","","","","","","","","","","","","","","","","","","","","","","","","","","","","","","","","","","","","","","","","","","","","","","","","","","","","","","","","","","","","","","","","","","","","","","","","","","","","","","","","","","","","","","","","","","","","","","","","","","","","","","","","","","","","","","","","","","","","","","","","","","","",1,0,-1,0,0]
[null,null,null,null,null,null,152,{"$f":"IF(NE172=1, START!$B$17, \"\")","v":""},{"$f":"IF(NE172=1, START!$B$20, \"\")","v":""},null,null,null,null,null,null,null,null,null,null,null,null,null,null,null,null,null,null,null,null,null,null,null,null,null,null,null,null,null,null,null,null,null,null,null,null,null,null,null,null,null,null,null,null,null,null,null,null,null,null,null,null,null,null,null,null,null,null,null,null,null,null,null,null,null,null,null,null,null,null,null,null,null,null,null,null,null,null,null,null,null,null,null,null,null,null,null,null,null,null,null,null,null,null,null,null,null,null,null,null,null,null,null,null,null,null,null,null,null,null,null,null,null,null,null,null,null,null,null,null,null,null,null,null,null,null,null,null,null,null,null,null,null,null,null,null,null,null,null,null,null,null,null,null,null,null,null,null,null,null,null,null,null,null,null,null,null,null,null,null,null,null,null,null,null,null,null,null,null,null,null,null,null,null,null,null,null,null,152,"","","","","","","","","","","","","","","","","","","","","","","","","","","","","","","","","","","","","","","","","","","","","","","","","","","","","","","","","","","","","","","","","","","","","","","","","","","","","","","","","","","","","","","","","","","","","","","","","","","","","","","","","","","","","","","","","","","","","","","","","","","","","","","","","","","","","","","","","","","","","","","","","","","","","","","","","","","","","","","","","","","","","","","","","","","","","","","","","",1,0,-1,0,0]
[null,null,null,null,null,null,168,{"$f":"IF(NE188=1, START!$B$17, \"\")","v":""},{"$f":"IF(NE188=1, START!$B$20, \"\")","v":""},null,null,null,null,null,null,null,null,null,null,null,null,null,null,null,null,null,null,null,null,null,null,null,null,null,null,null,null,null,null,null,null,null,null,null,null,null,null,null,null,null,null,null,null,null,null,null,null,null,null,null,null,null,null,null,null,null,null,null,null,null,null,null,null,null,null,null,null,null,null,null,null,null,null,null,null,null,null,null,null,null,null,null,null,null,null,null,null,null,null,null,null,null,null,null,null,null,null,null,null,null,null,null,null,null,null,null,null,null,null,null,null,null,null,null,null,null,null,null,null,null,null,null,null,null,null,null,null,null,null,null,null,null,null,null,null,null,null,null,null,null,null,null,null,null,null,null,null,null,null,null,null,null,null,null,null,null,null,null,null,null,null,null,null,null,null,null,null,null,null,null,null,null,null,null,null,null,null,168,"","","","","","","","","","","","","","","","","","","","","","","","","","","","","","","","","","","","","","","","","","","","","","","","","","","","","","","","","","","","","","","","","","","","","","","","","","","","","","","","","","","","","","","","","","","","","","","","","","","","","","","","","","","","","","","","","","","","","","","","","","","","","","","","","","","","","","","","","","","","","","","","","","","","","","","","","","","","","","","","","","","","","","","","","","","","","","","","","",1,0,-1,0,0]
[null,null,null,null,null,null,181,{"$f":"IF(NE201=1, START!$B$17, \"\")","v":""},{"$f":"IF(NE201=1, START!$B$20, \"\")","v":""},null,null,null,null,null,null,null,null,null,null,null,null,null,null,null,null,null,null,null,null,null,null,null,null,null,null,null,null,null,null,null,null,null,null,null,null,null,null,null,null,null,null,null,null,null,null,null,null,null,null,null,null,null,null,null,null,null,null,null,null,null,null,null,null,null,null,null,null,null,null,null,null,null,null,null,null,null,null,null,null,null,null,null,null,null,null,null,null,null,null,null,null,null,null,null,null,null,null,null,null,null,null,null,null,null,null,null,null,null,null,null,null,null,null,null,null,null,null,null,null,null,null,null,null,null,null,null,null,null,null,null,null,null,null,null,null,null,null,null,null,null,null,null,null,null,null,null,null,null,null,null,null,null,null,null,null,null,null,null,null,null,null,null,null,null,null,null,null,null,null,null,null,null,null,null,null,null,null,181,"","","","","","","","","","","","","","","","","","","","","","","","","","","","","","","","","","","","","","","","","","","","","","","","","","","","","","","","","","","","","","","","","","","","","","","","","","","","","","","","","","","","","","","","","","","","","","","","","","","","","","","","","","","","","","","","","","","","","","","","","","","","","","","","","","","","","","","","","","","","","","","","","","","","","","","","","","","","","","","","","","","","","","","","","","","","","","","","","",1,0,-1,0,0]
[null,null,null,null,null,null,199,{"$f":"IF(NE219=1, START!$B$17, \"\")","v":""},{"$f":"IF(NE219=1, START!$B$20, \"\")","v":""},null,null,null,null,null,null,null,null,null,null,null,null,null,null,null,null,null,null,null,null,null,null,null,null,null,null,null,null,null,null,null,null,null,null,null,null,null,null,null,null,null,null,null,null,null,null,null,null,null,null,null,null,null,null,null,null,null,null,null,null,null,null,null,null,null,null,null,null,null,null,null,null,null,null,null,null,null,null,null,null,null,null,null,null,null,null,null,null,null,null,null,null,null,null,null,null,null,null,null,null,null,null,null,null,null,null,null,null,null,null,null,null,null,null,null,null,null,null,null,null,null,null,null,null,null,null,null,null,null,null,null,null,null,null,null,null,null,null,null,null,null,null,null,null,null,null,null,null,null,null,null,null,null,null,null,null,null,null,null,null,null,null,null,null,null,null,null,null,null,null,null,null,null,null,null,null,null,null,199,"","","","","","","","","","","","","","","","","","","","","","","","","","","","","","","","","","","","","","","","","","","","","","","","","","","","","","","","","","","","","","","","","","","","","","","","","","","","","","","","","","","","","","","","","","","","","","","","","","","","","","","","","","","","","","","","","","","","","","","","","","","","","","","","","","","","","","","","","","","","","","","","","","","","","","","","","","","","","","","","","","","","","","","","","","","","","","","","","",1,0,-1,0,0]
[null,null,null,null,null,null,215,{"$f":"IF(NE235=1, START!$B$17, \"\")","v":""},{"$f":"IF(NE235=1, START!$B$20, \"\")","v":""},null,null,null,null,null,null,null,null,null,null,null,null,null,null,null,null,null,null,null,null,null,null,null,null,null,null,null,null,null,null,null,null,null,null,null,null,null,null,null,null,null,null,null,null,null,null,null,null,null,null,null,null,null,null,null,null,null,null,null,null,null,null,null,null,null,null,null,null,null,null,null,null,null,null,null,null,null,null,null,null,null,null,null,null,null,null,null,null,null,null,null,null,null,null,null,null,null,null,null,null,null,null,null,null,null,null,null,null,null,null,null,null,null,null,null,null,null,null,null,null,null,null,null,null,null,null,null,null,null,null,null,null,null,null,null,null,null,null,null,null,null,null,null,null,null,null,null,null,null,null,null,null,null,null,null,null,null,null,null,null,null,null,null,null,null,null,null,null,null,null,null,null,null,null,null,null,null,null,215,"","","","","","","","","","","","","","","","","","","","","","","","","","","","","","","","","","","","","","","","","","","","","","","","","","","","","","","","","","","","","","","","","","","","","","","","","","","","","","","","","","","","","","","","","","","","","","","","","","","","","","","","","","","","","","","","","","","","","","","","","","","","","","","","","","","","","","","","","","","","","","","","","","","","","","","","","","","","","","","","","","","","","","","","","","","","","","","","","",1,0,-1,0,0]
[null,null,null,null,null,null,230,{"$f":"IF(NE250=1, START!$B$17, \"\")","v":""},{"$f":"IF(NE250=1, START!$B$20, \"\")","v":""},null,null,null,null,null,null,null,null,null,null,null,null,null,null,null,null,null,null,null,null,null,null,null,null,null,null,null,null,null,null,null,null,null,null,null,null,null,null,null,null,null,null,null,null,null,null,null,null,null,null,null,null,null,null,null,null,null,null,null,null,null,null,null,null,null,null,null,null,null,null,null,null,null,null,null,null,null,null,null,null,null,null,null,null,null,null,null,null,null,null,null,null,null,null,null,null,null,null,null,null,null,null,null,null,null,null,null,null,null,null,null,null,null,null,null,null,null,null,null,null,null,null,null,null,null,null,null,null,null,null,null,null,null,null,null,null,null,null,null,null,null,null,null,null,null,null,null,null,null,null,null,null,null,null,null,null,null,null,null,null,null,null,null,null,null,null,null,null,null,null,null,null,null,null,null,null,null,null,230,"","","","","","","","","","","","","","","","","","","","","","","","","","","","","","","","","","","","","","","","","","","","","","","","","","","","","","","","","","","","","","","","","","","","","","","","","","","","","","","","","","","","","","","","","","","","","","","","","","","","","","","","","","","","","","","","","","","","","","","","","","","","","","","","","","","","","","","","","","","","","","","","","","","","","","","","","","","","","","","","","","","","","","","","","","","","","","","","","",1,0,-1,0,0]
[null,null,null,null,null,null,245,{"$f":"IF(NE265=1, START!$B$17, \"\")","v":""},{"$f":"IF(NE265=1, START!$B$20, \"\")","v":""},null,null,null,null,null,null,null,null,null,null,null,null,null,null,null,null,null,null,null,null,null,null,null,null,null,null,null,null,null,null,null,null,null,null,null,null,null,null,null,null,null,null,null,null,null,null,null,null,null,null,null,null,null,null,null,null,null,null,null,null,null,null,null,null,null,null,null,null,null,null,null,null,null,null,null,null,null,null,null,null,null,null,null,null,null,null,null,null,null,null,null,null,null,null,null,null,null,null,null,null,null,null,null,null,null,null,null,null,null,null,null,null,null,null,null,null,null,null,null,null,null,null,null,null,null,null,null,null,null,null,null,null,null,null,null,null,null,null,null,null,null,null,null,null,null,null,null,null,null,null,null,null,null,null,null,null,null,null,null,null,null,null,null,null,null,null,null,null,null,null,null,null,null,null,null,null,null,null,245,"","","","","","","","","","","","","","","","","","","","","","","","","","","","","","","","","","","","","","","","","","","","","","","","","","","","","","","","","","","","","","","","","","","","","","","","","","","","","","","","","","","","","","","","","","","","","","","","","","","","","","","","","","","","","","","","","","","","","","","","","","","","","","","","","","","","","","","","","","","","","","","","","","","","","","","","","","","","","","","","","","","","","","","","","","","","","","","","","",1,0,-1,0,0]
[null,null,null,null,null,null,262,{"$f":"IF(NE282=1, START!$B$17, \"\")","v":""},{"$f":"IF(NE282=1, START!$B$20, \"\")","v":""},null,null,null,null,null,null,null,null,null,null,null,null,null,null,null,null,null,null,null,null,null,null,null,null,null,null,null,null,null,null,null,null,null,null,null,null,null,null,null,null,null,null,null,null,null,null,null,null,null,null,null,null,null,null,null,null,null,null,null,null,null,null,null,null,null,null,null,null,null,null,null,null,null,null,null,null,null,null,null,null,null,null,null,null,null,null,null,null,null,null,null,null,null,null,null,null,null,null,null,null,null,null,null,null,null,null,null,null,null,null,null,null,null,null,null,null,null,null,null,null,null,null,null,null,null,null,null,null,null,null,null,null,null,null,null,null,null,null,null,null,null,null,null,null,null,null,null,null,null,null,null,null,null,null,null,null,null,null,null,null,null,null,null,null,null,null,null,null,null,null,null,null,null,null,null,null,null,null,262,"","","","","","","","","","","","","","","","","","","","","","","","","","","","","","","","","","","","","","","","","","","","","","","","","","","","","","","","","","","","","","","","","","","","","","","","","","","","","","","","","","","","","","","","","","","","","","","","","","","","","","","","","","","","","","","","","","","","","","","","","","","","","","","","","","","","","","","","","","","","","","","","","","","","","","","","","","","","","","","","","","","","","","","","","","","","","","","","","",1,0,-1,0,0]
[null,null,null,null,null,null,277,{"$f":"IF(NE297=1, START!$B$17, \"\")","v":""},{"$f":"IF(NE297=1, START!$B$20, \"\")","v":""},null,null,null,null,null,null,null,null,null,null,null,null,null,null,null,null,null,null,null,null,null,null,null,null,null,null,null,null,null,null,null,null,null,null,null,null,null,null,null,null,null,null,null,null,null,null,null,null,null,null,null,null,null,null,null,null,null,null,null,null,null,null,null,null,null,null,null,null,null,null,null,null,null,null,null,null,null,null,null,null,null,null,null,null,null,null,null,null,null,null,null,null,null,null,null,null,null,null,null,null,null,null,null,null,null,null,null,null,null,null,null,null,null,null,null,null,null,null,null,null,null,null,null,null,null,null,null,null,null,null,null,null,null,null,null,null,null,null,null,null,null,null,null,null,null,null,null,null,null,null,null,null,null,null,null,null,null,null,null,null,null,null,null,null,null,null,null,null,null,null,null,null,null,null,null,null,null,null,277,"","","","","","","","","","","","","","","","","","","","","","","","","","","","","","","","","","","","","","","","","","","","","","","","","","","","","","","","","","","","","","","","","","","","","","","","","","","","","","","","","","","","","","","","","","","","","","","","","","","","","","","","","","","","","","","","","","","","","","","","","","","","","","","","","","","","","","","","","","","","","","","","","","","","","","","","","","","","","","","","","","","","","","","","","","","","","","","","","",1,0,-1,0,0]
[null,null,null,null,null,null,293,{"$f":"IF(NE313=1, START!$B$17, \"\")","v":""},{"$f":"IF(NE313=1, START!$B$20, \"\")","v":""},null,null,null,null,null,null,null,null,null,null,null,null,null,null,null,null,null,null,null,null,null,null,null,null,null,null,null,null,null,null,null,null,null,null,null,null,null,null,null,null,null,null,null,null,null,null,null,null,null,null,null,null,null,null,null,null,null,null,null,null,null,null,null,null,null,null,null,null,null,null,null,null,null,null,null,null,null,null,null,null,null,null,null,null,null,null,null,null,null,null,null,null,null,null,null,null,null,null,null,null,null,null,null,null,null,null,null,null,null,null,null,null,null,null,null,null,null,null,null,null,null,null,null,null,null,null,null,null,null,null,null,null,null,null,null,null,null,null,null,null,null,null,null,null,null,null,null,null,null,null,null,null,null,null,null,null,null,null,null,null,null,null,null,null,null,null,null,null,null,null,null,null,null,null,null,null,null,null,293,"","","","","","","","","","","","","","","","","","","","","","","","","","","","","","","","","","","","","","","","","","","","","","","","","","","","","","","","","","","","","","","","","","","","","","","","","","","","","","","","","","","","","","","","","","","","","","","","","","","","","","","","","","","","","","","","","","","","","","","","","","","","","","","","","","","","","","","","","","","","","","","","","","","","","","","","","","","","","","","","","","","","","","","","","","","","","","","","","",1,0,-1,0,0]
[null,null,null,null,null,null,308,{"$f":"IF(NE328=1, START!$B$17, \"\")","v":""},{"$f":"IF(NE328=1, START!$B$20, \"\")","v":""},null,null,null,null,null,null,null,null,null,null,null,null,null,null,null,null,null,null,null,null,null,null,null,null,null,null,null,null,null,null,null,null,null,null,null,null,null,null,null,null,null,null,null,null,null,null,null,null,null,null,null,null,null,null,null,null,null,null,null,null,null,null,null,null,null,null,null,null,null,null,null,null,null,null,null,null,null,null,null,null,null,null,null,null,null,null,null,null,null,null,null,null,null,null,null,null,null,null,null,null,null,null,null,null,null,null,null,null,null,null,null,null,null,null,null,null,null,null,null,null,null,null,null,null,null,null,null,null,null,null,null,null,null,null,null,null,null,null,null,null,null,null,null,null,null,null,null,null,null,null,null,null,null,null,null,null,null,null,null,null,null,null,null,null,null,null,null,null,null,null,null,null,null,null,null,null,null,null,308,"","","","","","","","","","","","","","","","","","","","","","","","","","","","","","","","","","","","","","","","","","","","","","","","","","","","","","","","","","","","","","","","","","","","","","","","","","","","","","","","","","","","","","","","","","","","","","","","","","","","","","","","","","","","","","","","","","","","","","","","","","","","","","","","","","","","","","","","","","","","","","","","","","","","","","","","","","","","","","","","","","","","","","","","","","","","","","","","","",1,0,-1,0,0]
[null,null,null,null,null,null,323,{"$f":"IF(NE343=1, START!$B$17, \"\")","v":""},{"$f":"IF(NE343=1, START!$B$20, \"\")","v":""},null,null,null,null,null,null,null,null,null,null,null,null,null,null,null,null,null,null,null,null,null,null,null,null,null,null,null,null,null,null,null,null,null,null,null,null,null,null,null,null,null,null,null,null,null,null,null,null,null,null,null,null,null,null,null,null,null,null,null,null,null,null,null,null,null,null,null,null,null,null,null,null,null,null,null,null,null,null,null,null,null,null,null,null,null,null,null,null,null,null,null,null,null,null,null,null,null,null,null,null,null,null,null,null,null,null,null,null,null,null,null,null,null,null,null,null,null,null,null,null,null,null,null,null,null,null,null,null,null,null,null,null,null,null,null,null,null,null,null,null,null,null,null,null,null,null,null,null,null,null,null,null,null,null,null,null,null,null,null,null,null,null,null,null,null,null,null,null,null,null,null,null,null,null,null,null,null,null,323,"","","","","","","","","","","","","","","","","","","","","","","","","","","","","","","","","","","","","","","","","","","","","","","","","","","","","","","","","","","","","","","","","","","","","","","","","","","","","","","","","","","","","","","","","","","","","","","","","","","","","","","","","","","","","","","","","","","","","","","","","","","","","","","","","","","","","","","","","","","","","","","","","","","","","","","","","","","","","","","","","","","","","","","","","","","","","","","","","",1,0,-1,0,0]
[null,null,null,null,null,null,343,{"$f":"IF(NE363=1, START!$B$17, \"\")","v":""},{"$f":"IF(NE363=1, START!$B$20, \"\")","v":""},null,null,null,null,null,null,null,null,null,null,null,null,null,null,null,null,null,null,null,null,null,null,null,null,null,null,null,null,null,null,null,null,null,null,null,null,null,null,null,null,null,null,null,null,null,null,null,null,null,null,null,null,null,null,null,null,null,null,null,null,null,null,null,null,null,null,null,null,null,null,null,null,null,null,null,null,null,null,null,null,null,null,null,null,null,null,null,null,null,null,null,null,null,null,null,null,null,null,null,null,null,null,null,null,null,null,null,null,null,null,null,null,null,null,null,null,null,null,null,null,null,null,null,null,null,null,null,null,null,null,null,null,null,null,null,null,null,null,null,null,null,null,null,null,null,null,null,null,null,null,null,null,null,null,null,null,null,null,null,null,null,null,null,null,null,null,null,null,null,null,null,null,null,null,null,null,null,null,343,"","","","","","","","","","","","","","","","","","","","","","","","","","","","","","","","","","","","","","","","","","","","","","","","","","","","","","","","","","","","","","","","","","","","","","","","","","","","","","","","","","","","","","","","","","","","","","","","","","","","","","","","","","","","","","","","","","","","","","","","","","","","","","","","","","","","","","","","","","","","","","","","","","","","","","","","","","","","","","","","","","","","","","","","","","","","","","","","","",1,0,-1,0,0]
[null,null,null,null,null,null,355,{"$f":"IF(NE375=1, START!$B$17, \"\")","v":""},{"$f":"IF(NE375=1, START!$B$20, \"\")","v":""},null,null,null,null,null,null,null,null,null,null,null,null,null,null,null,null,null,null,null,null,null,null,null,null,null,null,null,null,null,null,null,null,null,null,null,null,null,null,null,null,null,null,null,null,null,null,null,null,null,null,null,null,null,null,null,null,null,null,null,null,null,null,null,null,null,null,null,null,null,null,null,null,null,null,null,null,null,null,null,null,null,null,null,null,null,null,null,null,null,null,null,null,null,null,null,null,null,null,null,null,null,null,null,null,null,null,null,null,null,null,null,null,null,null,null,null,null,null,null,null,null,null,null,null,null,null,null,null,null,null,null,null,null,null,null,null,null,null,null,null,null,null,null,null,null,null,null,null,null,null,null,null,null,null,null,null,null,null,null,null,null,null,null,null,null,null,null,null,null,null,null,null,null,null,null,null,null,null,355,"","","","","","","","","","","","","","","","","","","","","","","","","","","","","","","","","","","","","","","","","","","","","","","","","","","","","","","","","","","","","","","","","","","","","","","","","","","","","","","","","","","","","","","","","","","","","","","","","","","","","","","","","","","","","","","","","","","","","","","","","","","","","","","","","","","","","","","","","","","","","","","","","","","","","","","","","","","","","","","","","","","","","","","","","","","","","","","","","",1,0,-1,0,0]
[null,null,null,null,null,null,371,{"$f":"IF(NE391=1, START!$B$17, \"\")","v":""},{"$f":"IF(NE391=1, START!$B$20, \"\")","v":""},null,null,null,null,null,null,null,null,null,null,null,null,null,null,null,null,null,null,null,null,null,null,null,null,null,null,null,null,null,null,null,null,null,null,null,null,null,null,null,null,null,null,null,null,null,null,null,null,null,null,null,null,null,null,null,null,null,null,null,null,null,null,null,null,null,null,null,null,null,null,null,null,null,null,null,null,null,null,null,null,null,null,null,null,null,null,null,null,null,null,null,null,null,null,null,null,null,null,null,null,null,null,null,null,null,null,null,null,null,null,null,null,null,null,null,null,null,null,null,null,null,null,null,null,null,null,null,null,null,null,null,null,null,null,null,null,null,null,null,null,null,null,null,null,null,null,null,null,null,null,null,null,null,null,null,null,null,null,null,null,null,null,null,null,null,null,null,null,null,null,null,null,null,null,null,null,null,null,371,"","","","","","","","","","","","","","","","","","","","","","","","","","","","","","","","","","","","","","","","","","","","","","","","","","","","","","","","","","","","","","","","","","","","","","","","","","","","","","","","","","","","","","","","","","","","","","","","","","","","","","","","","","","","","","","","","","","","","","","","","","","","","","","","","","","","","","","","","","","","","","","","","","","","","","","","","","","","","","","","","","","","","","","","","","","","","","","","","",1,0,-1,0,0]
[null,null,null,null,null,null,386,{"$f":"IF(NE406=1, START!$B$17, \"\")","v":""},{"$f":"IF(NE406=1, START!$B$20, \"\")","v":""},null,null,null,null,null,null,null,null,null,null,null,null,null,null,null,null,null,null,null,null,null,null,null,null,null,null,null,null,null,null,null,null,null,null,null,null,null,null,null,null,null,null,null,null,null,null,null,null,null,null,null,null,null,null,null,null,null,null,null,null,null,null,null,null,null,null,null,null,null,null,null,null,null,null,null,null,null,null,null,null,null,null,null,null,null,null,null,null,null,null,null,null,null,null,null,null,null,null,null,null,null,null,null,null,null,null,null,null,null,null,null,null,null,null,null,null,null,null,null,null,null,null,null,null,null,null,null,null,null,null,null,null,null,null,null,null,null,null,null,null,null,null,null,null,null,null,null,null,null,null,null,null,null,null,null,null,null,null,null,null,null,null,null,null,null,null,null,null,null,null,null,null,null,null,null,null,null,null,386,{"$f":"IF(J406=\"\",\"\",IF(OR(J406=1,J406=2,J406=3,J406=4,J406=5,J406=99),1,0))","v":""},{"$f":"IF(K406=\"\",\"\",IF(OR(K406=1,K406=2,K406=3,K406=4,K406=5,K406=99),1,0))","v":""},{"$f":"IF(L406=\"\",\"\",IF(OR(L406=1,L406=2,L406=3,L406=4,L406=5,L406=99),1,0))","v":""},{"$f":"IF(M406=\"\",\"\",IF(OR(M406=1,M406=2,M406=3,M406=4,M406=5,M406=99),1,0))","v":""},{"$f":"IF(N406=\"\",\"\",IF(OR(N406=1,N406=2,N406=3,N406=4,N406=5,N406=99),1,0))","v":""},{"$f":"IF(O406=\"\",\"\",IF(OR(O406=1,O406=2,O406=3,O406=4,O406=5,O406=99),1,0))","v":""},{"$f":"IF(P406=\"\",\"\",IF(OR(P406=1,P406=2,P406=3,P406=4,P406=5,P406=99),1,0))","v":""},{"$f":"IF(Q406=\"\",\"\",IF(OR(Q406=1,Q406=2,Q406=3,Q406=4,Q406=5,Q406=99),1,0))","v":""},{"$f":"IF(R406=\"\",\"\",IF(OR(R406=1,R406=2,R406=3,R406=4,R406=5,R406=99),1,0))","v":""},{"$f":"IF(S406=\"\",\"\",IF(OR(S406=1,S406=2,S406=3,S406=4,S406=5,S406=99),1,0))","v":""},{"$f":"IF(T406=\"\",\"\",IF(OR(T406=1,T406=2,T406=3,T406=4,T406=5,T406=99),1,0))","v":""},{"$f":"IF(U406=\"\",\"\",IF(OR(U406=1,U406=2,U406=3,U406=4,U406=5,U406=99),1,0))","v":""},{"$f":"IF(V406=\"\",\"\",IF(OR(V406=1,V406=2,V406=3,V406=4,V406=5,V406=99),1,0))","v":""},{"$f":"IF(W406=\"\",\"\",IF(OR(W406=1,W406=2,W406=3,W406=4,W406=5,W406=99),1,0))","v":""},{"$f":"IF(X406=\"\",\"\",IF(OR(X406=1,X406=2,X406=3,X406=4,X406=5,X406=99),1,0))","v":""},{"$f":"IF(Y406=\"\",\"\",IF(OR(Y406=1,Y406=2,Y406=3,Y406=4,Y406=5,Y406=99),1,0))","v":""},{"$f":"IF(Z406=\"\",\"\",IF(OR(Z406=1,Z406=2,Z406=3,Z406=4,Z406=5,Z406=99),1,0))","v":""},{"$f":"IF(AA406=\"\",\"\",IF(OR(AA406=1,AA406=2,AA406=3,AA406=4,AA406=5,AA406=99),1,0))","v":""},{"$f":"IF(AB406=\"\",\"\",IF(OR(AB406=1,AB406=2,AB406=3,AB406=4,AB406=5,AB406=99),1,0))","v":""},{"$f":"IF(AC406=\"\",\"\",IF(OR(AC406=1,AC406=2,AC406=3,AC406=4,AC406=5,AC406=99),1,0))","v":""},{"$f":"IF(AD406=\"\",\"\",IF(OR(AD406=1,AD406=2,AD406=3,AD406=4,AD406=5,AD406=99),1,0))","v":""},{"$f":"IF(AE406=\"\",\"\",IF(OR(AE406=1,AE406=2,AE406=3,AE406=4,AE406=5,AE406=99),1,0))","v":""},{"$f":"IF(AF406=\"\",\"\",IF(OR(AF406=1,AF406=2,AF406=3,AF406=4,AF406=5,AF406=99),1,0))","v":""},{"$f":"IF(AG406=\"\",\"\",IF(OR(AG406=1,AG406=2,AG406=3,AG406=4,AG406=5,AG406=99),1,0))","v":""},{"$f":"IF(AH406=\"\",\"\",IF(OR(AH406=1,AH406=2,AH406=3,AH406=4,AH406=5,AH406=99),1,0))","v":""},{"$f":"IF(AI406=\"\",\"\",IF(OR(AI406=1,AI406=2,AI406=3,AI406=4,AI406=5,AI406=99),1,0))","v":""},{"$f":"IF(AJ406=\"\",\"\",IF(OR(AJ406=1,AJ406=2,AJ406=3,AJ406=4,AJ406=5,AJ406=99),1,0))","v":""},{"$f":"IF(AK406=\"\",\"\",IF(OR(AK406=1,AK406=2,AK406=3,AK406=4,AK406=5,AK406=99),1,0))","v":""},{"$f":"IF(AL406=\"\",\"\",IF(OR(AL406=1,AL406=2,AL406=3,AL406=4,AL406=5,AL406=99),1,0))","v":""},{"$f":"IF(AM406=\"\",\"\",IF(OR(AM406=1,AM406=2,AM406=3,AM406=4,AM406=5,AM406=99),1,0))","v":""},{"$f":"IF(AN406=\"\",\"\",IF(OR(AN406=1,AN406=2,AN406=3,AN406=4,AN406=5,AN406=99),1,0))","v":""},{"$f":"IF(AO406=\"\",\"\",IF(OR(AO406=1,AO406=2,AO406=3,AO406=4,AO406=5,AO406=99),1,0))","v":""},{"$f":"IF(AP406=\"\",\"\",IF(OR(AP406=1,AP406=2,AP406=3,AP406=4,AP406=5,AP406=99),1,0))","v":""},{"$f":"IF(AQ406=\"\",\"\",IF(OR(AQ406=1,AQ406=2,AQ406=3,AQ406=4,AQ406=5,AQ406=99),1,0))","v":""},{"$f":"IF(AR406=\"\",\"\",IF(OR(AR406=1,AR406=2,AR406=3,AR406=4,AR406=5,AR406=99),1,0))","v":""},{"$f":"IF(AS406=\"\",\"\",IF(OR(AS406=1,AS406=2,AS406=3,AS406=4,AS406=5,AS406=99),1,0))","v":""},{"$f":"IF(AT406=\"\",\"\",IF(OR(AT406=1,AT406=2,AT406=3,AT406=4,AT406=5,AT406=99),1,0))","v":""},{"$f":"IF(AU406=\"\",\"\",IF(OR(AU406=1,AU406=2,AU406=3,AU406=4,AU406=5,AU406=99),1,0))","v":""},{"$f":"IF(AV406=\"\",\"\",IF(OR(AV406=1,AV406=2,AV406=3,AV406=4,AV406=5,AV406=99),1,0))","v":""},{"$f":"IF(AW406=\"\",\"\",IF(OR(AW406=1,AW406=2,AW406=3,AW406=4,AW406=5,AW406=99),1,0))","v":""},{"$f":"IF(AX406=\"\",\"\",IF(OR(AX406=1,AX406=2,AX406=3,AX406=4,AX406=5,AX406=99),1,0))","v":""},{"$f":"IF(AY406=\"\",\"\",IF(OR(AY406=1,AY406=2,AY406=3,AY406=4,AY406=5,AY406=99),1,0))","v":""},{"$f":"IF(AZ406=\"\",\"\",IF(OR(AZ406=1,AZ406=2,AZ406=3,AZ406=4,AZ406=5,AZ406=99),1,0))","v":""},{"$f":"IF(BA406=\"\",\"\",IF(OR(BA406=1,BA406=2,BA406=3,BA406=4,BA406=5,BA406=99),1,0))","v":""},{"$f":"IF(BB406=\"\",\"\",IF(OR(BB406=1,BB406=2,BB406=3,BB406=4,BB406=5,BB406=99),1,0))","v":""},{"$f":"IF(BC406=\"\",\"\",IF(OR(BC406=1,BC406=2,BC406=3,BC406=4,BC406=5,BC406=99),1,0))","v":""},{"$f":"IF(BD406=\"\",\"\",IF(OR(BD406=1,BD406=2,BD406=3,BD406=4,BD406=5,BD406=99),1,0))","v":""},{"$f":"IF(BE406=\"\",\"\",IF(OR(BE406=1,BE406=2,BE406=3,BE406=4,BE406=5,BE406=99),1,0))","v":""},{"$f":"IF(BF406=\"\",\"\",IF(OR(BF406=1,BF406=2,BF406=3,BF406=4,BF406=5,BF406=99),1,0))","v":""},{"$f":"IF(BG406=\"\",\"\",IF(OR(BG406=1,BG406=2,BG406=3,BG406=4,BG406=5,BG406=99),1,0))","v":""},{"$f":"IF(BH406=\"\",\"\",IF(OR(BH406=1,BH406=2,BH406=3,BH406=4,BH406=5,BH406=99),1,0))","v":""},{"$f":"IF(BI406=\"\",\"\",IF(OR(BI406=1,BI406=2,BI406=3,BI406=4,BI406=5,BI406=99),1,0))","v":""},{"$f":"IF(BJ406=\"\",\"\",IF(OR(BJ406=1,BJ406=2,BJ406=3,BJ406=4,BJ406=5,BJ406=99),1,0))","v":""},{"$f":"IF(BK406=\"\",\"\",IF(OR(BK406=1,BK406=2,BK406=3,BK406=4,BK406=5,BK406=99),1,0))","v":""},{"$f":"IF(BL406=\"\",\"\",IF(OR(BL406=1,BL406=2,BL406=3,BL406=4,BL406=5,BL406=99),1,0))","v":""},{"$f":"IF(BM406=\"\",\"\",IF(OR(BM406=1,BM406=2,BM406=3,BM406=4,BM406=5,BM406=99),1,0))","v":""},{"$f":"IF(BN406=\"\",\"\",IF(OR(BN406=1,BN406=2,BN406=3,BN406=4,BN406=5,BN406=99),1,0))","v":""},{"$f":"IF(BO406=\"\",\"\",IF(OR(BO406=1,BO406=2,BO406=3,BO406=4,BO406=5,BO406=99),1,0))","v":""},{"$f":"IF(BP406=\"\",\"\",IF(OR(BP406=1,BP406=2,BP406=3,BP406=4,BP406=5,BP406=99),1,0))","v":""},{"$f":"IF(BQ406=\"\",\"\",IF(OR(BQ406=1,BQ406=2,BQ406=3,BQ406=4,BQ406=5,BQ406=99),1,0))","v":""},{"$f":"IF(BR406=\"\",\"\",IF(OR(BR406=1,BR406=2,BR406=3,BR406=4,BR406=5,BR406=99),1,0))","v":""},{"$f":"IF(BS406=\"\",\"\",IF(OR(BS406=1,BS406=2,BS406=3,BS406=4,BS406=5,BS406=99),1,0))","v":""},{"$f":"IF(BT406=\"\",\"\",IF(OR(BT406=1,BT406=2,BT406=3,BT406=4,BT406=5,BT406=99),1,0))","v":""},{"$f":"IF(BU406=\"\",\"\",IF(OR(BU406=1,BU406=2,BU406=3,BU406=4,BU406=5,BU406=99),1,0))","v":""},{"$f":"IF(BV406=\"\",\"\",IF(OR(BV406=1,BV406=2,BV406=3,BV406=4,BV406=5,BV406=99),1,0))","v":""},{"$f":"IF(BW406=\"\",\"\",IF(OR(BW406=1,BW406=2,BW406=3,BW406=4,BW406=5,BW406=99),1,0))","v":""},{"$f":"IF(BX406=\"\",\"\",IF(OR(BX406=1,BX406=2,BX406=3,BX406=4,BX406=5,BX406=99),1,0))","v":""},{"$f":"IF(BY406=\"\",\"\",IF(OR(BY406=1,BY406=2,BY406=3,BY406=4,BY406=5,BY406=99),1,0))","v":""},{"$f":"IF(BZ406=\"\",\"\",IF(OR(BZ406=1,BZ406=2,BZ406=3,BZ406=4,BZ406=5,BZ406=99),1,0))","v":""},{"$f":"IF(CA406=\"\",\"\",IF(OR(CA406=1,CA406=2,CA406=3,CA406=4,CA406=5,CA406=99),1,0))","v":""},{"$f":"IF(CB406=\"\",\"\",IF(OR(CB406=1,CB406=2,CB406=3,CB406=4,CB406=5,CB406=99),1,0))","v":""},{"$f":"IF(CC406=\"\",\"\",IF(OR(CC406=1,CC406=2,CC406=3,CC406=4,CC406=5,CC406=99),1,0))","v":""},{"$f":"IF(CD406=\"\",\"\",IF(OR(CD406=1,CD406=2,CD406=3,CD406=4,CD406=5,CD406=99),1,0))","v":""},{"$f":"IF(CE406=\"\",\"\",IF(OR(CE406=1,CE406=2,CE406=3,CE406=4,CE406=5,CE406=99),1,0))","v":""},{"$f":"IF(CF406=\"\",\"\",IF(OR(CF406=1,CF406=2,CF406=3,CF406=4,CF406=5,CF406=99),1,0))","v":""},{"$f":"IF(CG406=\"\",\"\",IF(OR(CG406=1,CG406=2,CG406=3,CG406=4,CG406=5,CG406=99),1,0))","v":""},{"$f":"IF(CH406=\"\",\"\",IF(OR(CH406=1,CH406=2,CH406=3,CH406=4,CH406=5,CH406=99),1,0))","v":""},{"$f":"IF(CI406=\"\",\"\",IF(OR(CI406=1,CI406=2,CI406=3,CI406=4,CI406=5,CI406=99),1,0))","v":""},{"$f":"IF(CJ406=\"\",\"\",IF(OR(CJ406=1,CJ406=2,CJ406=3,CJ406=4,CJ406=5,CJ406=99),1,0))","v":""},{"$f":"IF(CK406=\"\",\"\",IF(OR(CK406=1,CK406=2,CK406=3,CK406=4,CK406=5,CK406=99),1,0))","v":""},{"$f":"IF(CL406=\"\",\"\",IF(OR(CL406=1,CL406=2,CL406=3,CL406=4,CL406=5,CL406=99),1,0))","v":""},{"$f":"IF(CM406=\"\",\"\",IF(OR(CM406=1,CM406=2,CM406=3,CM406=4,CM406=5,CM406=99),1,0))","v":""},{"$f":"IF(CN406=\"\",\"\",IF(OR(CN406=1,CN406=2,CN406=3,CN406=4,CN406=5,CN406=99),1,0))","v":""},{"$f":"IF(CO406=\"\",\"\",IF(OR(CO406=1,CO406=2,CO406=3,CO406=4,CO406=5,CO406=99),1,0))","v":""},{"$f":"IF(CP406=\"\",\"\",IF(OR(CP406=1,CP406=2,CP406=3,CP406=4,CP406=5,CP406=99),1,0))","v":""},{"$f":"IF(CQ406=\"\",\"\",IF(OR(CQ406=1,CQ406=2,CQ406=3,CQ406=4,CQ406=5,CQ406=99),1,0))","v":""},{"$f":"IF(CR406=\"\",\"\",IF(OR(CR406=1,CR406=2,CR406=3,CR406=4,CR406=5,CR406=99),1,0))","v":""},{"$f":"IF(CS406=\"\",\"\",IF(OR(CS406=1,CS406=2,CS406=3,CS406=4,CS406=5,CS406=99),1,0))","v":""},{"$f":"IF(CT406=\"\",\"\",IF(OR(CT406=1,CT406=2,CT406=3,CT406=4,CT406=5,CT406=99),1,0))","v":""},{"$f":"IF(CU406=\"\",\"\",IF(OR(CU406=1,CU406=2,CU406=3,CU406=4,CU406=5,CU406=99),1,0))","v":""},{"$f":"IF(CV406=\"\",\"\",IF(OR(CV406=1,CV406=2,CV406=3,CV406=4,CV406=5,CV406=99),1,0))","v":""},{"$f":"IF(CW406=\"\",\"\",IF(OR(CW406=1,CW406=2,CW406=3,CW406=4,CW406=5,CW406=99),1,0))","v":""},{"$f":"IF(CX406=\"\",\"\",IF(OR(CX406=1,CX406=2,CX406=3,CX406=4,CX406=5,CX406=99),1,0))","v":""},{"$f":"IF(CY406=\"\",\"\",IF(OR(CY406=1,CY406=2,CY406=3,CY406=4,CY406=5,CY406=99),1,0))","v":""},{"$f":"IF(CZ406=\"\",\"\",IF(OR(CZ406=1,CZ406=2,CZ406=3,CZ406=4,CZ406=5,CZ406=99),1,0))","v":""},{"$f":"IF(DA406=\"\",\"\",IF(OR(DA406=1,DA406=2,DA406=3,DA406=4,DA406=5,DA406=99),1,0))","v":""},{"$f":"IF(DB406=\"\",\"\",IF(OR(DB406=1,DB406=2,DB406=3,DB406=4,DB406=5,DB406=99),1,0))","v":""},{"$f":"IF(DC406=\"\",\"\",IF(OR(DC406=1,DC406=2,DC406=3,DC406=4,DC406=5,DC406=99),1,0))","v":""},{"$f":"IF(DD406=\"\",\"\",IF(OR(DD406=1,DD406=2,DD406=3,DD406=4,DD406=5,DD406=99),1,0))","v":""},{"$f":"IF(DE406=\"\",\"\",IF(OR(DE406=1,DE406=2,DE406=3,DE406=4,DE406=5,DE406=99),1,0))","v":""},{"$f":"IF(DF406=\"\",\"\",IF(OR(DF406=1,DF406=2,DF406=3,DF406=4,DF406=5,DF406=99),1,0))","v":""},{"$f":"IF(DG406=\"\",\"\",IF(OR(DG406=1,DG406=2,DG406=3,DG406=4,DG406=5,DG406=99),1,0))","v":""},{"$f":"IF(DH406=\"\",\"\",IF(OR(DH406=1,DH406=2,DH406=3,DH406=4,DH406=5,DH406=99),1,0))","v":""},{"$f":"IF(DI406=\"\",\"\",IF(OR(DI406=1,DI406=2,DI406=3,DI406=4,DI406=5,DI406=99),1,0))","v":""},{"$f":"IF(DJ406=\"\",\"\",IF(OR(DJ406=1,DJ406=2,DJ406=3,DJ406=4,DJ406=5,DJ406=99),1,0))","v":""},{"$f":"IF(DK406=\"\",\"\",IF(OR(DK406=1,DK406=2,DK406=3,DK406=4,DK406=5,DK406=99),1,0))","v":""},{"$f":"IF(DL406=\"\",\"\",IF(OR(DL406=1,DL406=2,DL406=3,DL406=4,DL406=5,DL406=99),1,0))","v":""},{"$f":"IF(DM406=\"\",\"\",IF(OR(DM406=1,DM406=2,DM406=3,DM406=4,DM406=5,DM406=99),1,0))","v":""},{"$f":"IF(DN406=\"\",\"\",IF(OR(DN406=1,DN406=2,DN406=3,DN406=4,DN406=5,DN406=99),1,0))","v":""},{"$f":"IF(DO406=\"\",\"\",IF(OR(DO406=1,DO406=2,DO406=3,DO406=4,DO406=5,DO406=99),1,0))","v":""},{"$f":"IF(DP406=\"\",\"\",IF(OR(DP406=1,DP406=2,DP406=3,DP406=4,DP406=5,DP406=99),1,0))","v":""},{"$f":"IF(DQ406=\"\",\"\",IF(OR(DQ406=1,DQ406=2,DQ406=3,DQ406=4,DQ406=5,DQ406=99),1,0))","v":""},{"$f":"IF(DR406=\"\",\"\",IF(OR(DR406=1,DR406=2,DR406=3,DR406=4,DR406=5,DR406=99),1,0))","v":""},{"$f":"IF(DS406=\"\",\"\",IF(OR(DS406=1,DS406=2,DS406=3,DS406=4,DS406=5,DS406=99),1,0))","v":""},{"$f":"IF(DT406=\"\",\"\",IF(OR(DT406=1,DT406=2,DT406=3,DT406=4,DT406=5,DT406=99),1,0))","v":""},{"$f":"IF(DU406=\"\",\"\",IF(OR(DU406=1,DU406=2,DU406=3,DU406=4,DU406=5,DU406=99),1,0))","v":""},{"$f":"IF(DV406=\"\",\"\",IF(OR(DV406=1,DV406=2,DV406=3,DV406=4,DV406=5,DV406=99),1,0))","v":""},{"$f":"IF(DW406=\"\",\"\",IF(OR(DW406=1,DW406=2,DW406=3,DW406=4,DW406=5,DW406=99),1,0))","v":""},{"$f":"IF(DX406=\"\",\"\",IF(OR(DX406=1,DX406=2,DX406=3,DX406=4,DX406=5,DX406=99),1,0))","v":""},{"$f":"IF(DY406=\"\",\"\",IF(OR(DY406=1,DY406=2,DY406=3,DY406=4,DY406=5,DY406=99),1,0))","v":""},{"$f":"IF(DZ406=\"\",\"\",IF(OR(DZ406=1,DZ406=2,DZ406=3,DZ406=4,DZ406=5,DZ406=99),1,0))","v":""},{"$f":"IF(EA406=\"\",\"\",IF(OR(EA406=1,EA406=2,EA406=3,EA406=4,EA406=5,EA406=99),1,0))","v":""},{"$f":"IF(EB406=\"\",\"\",IF(OR(EB406=1,EB406=2,EB406=3,EB406=4,EB406=5,EB406=99),1,0))","v":""},{"$f":"IF(EC406=\"\",\"\",IF(OR(EC406=1,EC406=2,EC406=3,EC406=4,EC406=5,EC406=99),1,0))","v":""},{"$f":"IF(ED406=\"\",\"\",IF(OR(ED406=1,ED406=2,ED406=3,ED406=4,ED406=5,ED406=99),1,0))","v":""},{"$f":"IF(EE406=\"\",\"\",IF(OR(EE406=1,EE406=2,EE406=3,EE406=4,EE406=5,EE406=99),1,0))","v":""},{"$f":"IF(EF406=\"\",\"\",IF(OR(EF406=1,EF406=2,EF406=3,EF406=4,EF406=5,EF406=99),1,0))","v":""},{"$f":"IF(EG406=\"\",\"\",IF(OR(EG406=1,EG406=2,EG406=3,EG406=4,EG406=5,EG406=99),1,0))","v":""},{"$f":"IF(EH406=\"\",\"\",IF(OR(EH406=1,EH406=2,EH406=3,EH406=4,EH406=5,EH406=99),1,0))","v":""},{"$f":"IF(EI406=\"\",\"\",IF(OR(EI406=1,EI406=2,EI406=3,EI406=4,EI406=5,EI406=99),1,0))","v":""},{"$f":"IF(EJ406=\"\",\"\",IF(OR(EJ406=1,EJ406=2,EJ406=3,EJ406=4,EJ406=5,EJ406=99),1,0))","v":""},{"$f":"IF(EK406=\"\",\"\",IF(OR(EK406=1,EK406=2,EK406=3,EK406=4,EK406=5,EK406=99),1,0))","v":""},{"$f":"IF(EL406=\"\",\"\",IF(OR(EL406=1,EL406=2,EL406=3,EL406=4,EL406=5,EL406=99),1,0))","v":""},{"$f":"IF(EM406=\"\",\"\",IF(OR(EM406=1,EM406=2,EM406=3,EM406=4,EM406=5,EM406=99),1,0))","v":""},{"$f":"IF(EN406=\"\",\"\",IF(OR(EN406=1,EN406=2,EN406=3,EN406=4,EN406=5,EN406=99),1,0))","v":""},{"$f":"IF(EO406=\"\",\"\",IF(OR(EO406=1,EO406=2,EO406=3,EO406=4,EO406=5,EO406=99),1,0))","v":""},{"$f":"IF(EP406=\"\",\"\",IF(OR(EP406=1,EP406=2,EP406=3,EP406=4,EP406=5,EP406=99),1,0))","v":""},{"$f":"IF(EQ406=\"\",\"\",IF(OR(EQ406=1,EQ406=2,EQ406=3,EQ406=4,EQ406=5,EQ406=99),1,0))","v":""},{"$f":"IF(ER406=\"\",\"\",IF(OR(ER406=1,ER406=2,ER406=3,ER406=4,ER406=5,ER406=99),1,0))","v":""},{"$f":"IF(ES406=\"\",\"\",IF(OR(ES406=1,ES406=2,ES406=3,ES406=4,ES406=5,ES406=99),1,0))","v":""},{"$f":"IF(ET406=\"\",\"\",IF(OR(ET406=1,ET406=2,ET406=3,ET406=4,ET406=5,ET406=99),1,0))","v":""},{"$f":"IF(EU406=\"\",\"\",IF(OR(EU406=1,EU406=2,EU406=3,EU406=4,EU406=5,EU406=99),1,0))","v":""},{"$f":"IF(EV406=\"\",\"\",IF(OR(EV406=1,EV406=2,EV406=3,EV406=4,EV406=5,EV406=99),1,0))","v":""},{"$f":"IF(EW406=\"\",\"\",IF(OR(EW406=1,EW406=2,EW406=3,EW406=4,EW406=5,EW406=99),1,0))","v":""},{"$f":"IF(EX406=\"\",\"\",IF(OR(EX406=1,EX406=2,EX406=3,EX406=4,EX406=5,EX406=99),1,0))","v":""},{"$f":"IF(EY406=\"\",\"\",IF(OR(EY406=1,EY406=2,EY406=3,EY406=4,EY406=5,EY406=99),1,0))","v":""},{"$f":"IF(EZ406=\"\",\"\",IF(OR(EZ406=1,EZ406=2,EZ406=3,EZ406=4,EZ406=5,EZ406=99),1,0))","v":""},{"$f":"IF(FA406=\"\",\"\",IF(OR(FA406=1,FA406=2,FA406=3,FA406=4,FA406=5,FA406=99),1,0))","v":""},{"$f":"IF(FB406=\"\",\"\",IF(OR(FB406=1,FB406=2,FB406=3,FB406=4,FB406=5,FB406=99),1,0))","v":""},{"$f":"IF(FC406=\"\",\"\",IF(OR(FC406=1,FC406=2,FC406=3,FC406=4,FC406=5,FC406=99),1,0))","v":""},{"$f":"IF(FD406=\"\",\"\",IF(OR(FD406=1,FD406=2,FD406=3,FD406=4,FD406=5,FD406=99),1,0))","v":""},{"$f":"IF(FE406=\"\",\"\",IF(OR(FE406=1,FE406=2,FE406=3,FE406=4,FE406=5,FE406=99),1,0))","v":""},{"$f":"IF(FF406=\"\",\"\",IF(OR(FF406=1,FF406=2,FF406=3,FF406=4,FF406=5,FF406=99),1,0))","v":""},{"$f":"IF(FG406=\"\",\"\",IF(OR(FG406=1,FG406=2,FG406=3,FG406=4,FG406=5,FG406=99),1,0))","v":""},{"$f":"IF(FH406=\"\",\"\",IF(OR(FH406=1,FH406=2,FH406=3,FH406=4,FH406=5,FH406=99),1,0))","v":""},{"$f":"IF(FI406=\"\",\"\",IF(OR(FI406=1,FI406=2,FI406=3,FI406=4,FI406=5,FI406=99),1,0))","v":""},{"$f":"IF(FJ406=\"\",\"\",IF(OR(FJ406=1,FJ406=2,FJ406=3,FJ406=4,FJ406=5,FJ406=99),1,0))","v":""},{"$f":"IF(FK406=\"\",\"\",IF(OR(FK406=1,FK406=2,FK406=3,FK406=4,FK406=5,FK406=99),1,0))","v":""},{"$f":"IF(FL406=\"\",\"\",IF(OR(FL406=1,FL406=2,FL406=3,FL406=4,FL406=5,FL406=99),1,0))","v":""},{"$f":"IF(FM406=\"\",\"\",IF(OR(FM406=1,FM406=2,FM406=3,FM406=4,FM406=5,FM406=99),1,0))","v":""},{"$f":"IF(FN406=\"\",\"\",IF(OR(FN406=1,FN406=2,FN406=3,FN406=4,FN406=5,FN406=99),1,0))","v":""},{"$f":"IF(FO406=\"\",\"\",IF(OR(FO406=1,FO406=2,FO406=3,FO406=4,FO406=5,FO406=99),1,0))","v":""},{"$f":"IF(FP406=\"\",\"\",IF(OR(FP406=1,FP406=2,FP406=3,FP406=4,FP406=5,FP406=99),1,0))","v":""},{"$f":"IF(FQ406=\"\",\"\",IF(OR(FQ406=1,FQ406=2,FQ406=3,FQ406=4,FQ406=5,FQ406=99),1,0))","v":""},{"$f":"IF(FR406=\"\",\"\",IF(OR(FR406=1,FR406=2,FR406=3,FR406=4,FR406=5,FR406=99),1,0))","v":""},{"$f":"IF(FS406=\"\",\"\",IF(OR(FS406=1,FS406=2,FS406=3,FS406=4,FS406=5,FS406=99),1,0))","v":""},{"$f":"IF(FT406=\"\",\"\",IF(OR(FT406=1,FT406=2,FT406=3,FT406=4,FT406=5,FT406=99),1,0))","v":""},{"$f":"IF(FU406=\"\",\"\",IF(OR(FU406=1,FU406=2,FU406=3,FU406=4,FU406=5,FU406=99),1,0))","v":""},{"$f":"IF(FV406=\"\",\"\",IF(OR(FV406=1,FV406=2,FV406=3,FV406=4,FV406=5,FV406=99),1,0))","v":""},{"$f":"IF(FW406=\"\",\"\",IF(OR(FW406=1,FW406=2,FW406=3,FW406=4,FW406=5,FW406=99),1,0))","v":""},{"$f":"IF(FX406=\"\",\"\",IF(OR(FX406=1,FX406=2,FX406=3,FX406=4,FX406=5,FX406=99),1,0))","v":""},{"$f":"IF(FY406=\"\",\"\",IF(OR(FY406=1,FY406=2,FY406=3,FY406=4,FY406=5,FY406=99),1,0))","v":""},{"$f":"IF(FZ406=\"\",\"\",IF(OR(FZ406=1,FZ406=2,FZ406=3,FZ406=4,FZ406=5,FZ406=99),1,0))","v":""},{"$f":"IF(GA406=\"\",\"\",IF(OR(GA406=1,GA406=2,GA406=99),1,0))","v":""},{"$f":"IF(GB406=\"\",\"\",IF(OR(GB406=1,GB406=2,GB406=3,GB406=4,GB406=5,GB406=99),1,0))","v":""},{"$f":"IF(GC406=\"\",\"\",IF(AND(LEN(GC406)=5),1,0))","v":""},{"$f":"IF(GD406=\"\",\"\",IF(AND(LEN(GD406)=5),1,0))","v":""},{"$f":"SUM($J$11:$GD$11)","v":1},{"$f":"SUM(GG406:NA406)","v":0},{"$f":"NC406-NB406","v":-1},{"$f":"IF(COUNT(GG406:NA406)>0, 1, 0)","v":0},{"$f":"IF(AND(NE406=1,ND406=0),0,IF(NE406=0,0,1))","v":0}]
[null,null,null,null,null,null,392,{"$f":"IF(NE412=1, START!$B$17, \"\")","v":""},{"$f":"IF(NE412=1, START!$B$20, \"\")","v":""},null,null,null,null,null,null,null,null,null,null,null,null,null,null,null,null,null,null,null,null,null,null,null,null,null,null,null,null,null,null,null,null,null,null,null,null,null,null,null,null,null,null,null,null,null,null,null,null,null,null,null,null,null,null,null,null,null,null,null,null,null,null,null,null,null,null,null,null,null,null,null,null,null,null,null,null,null,null,null,null,null,null,null,null,null,null,null,null,null,null,null,null,null,null,null,null,null,null,null,null,null,null,null,null,null,null,null,null,null,null,null,null,null,null,null,null,null,null,null,null,null,null,null,null,null,null,null,null,null,null,null,null,null,null,null,null,null,null,null,null,null,null,null,null,null,null,null,null,null,null,null,null,null,null,null,null,null,null,null,null,null,null,null,null,null,null,null,null,null,null,null,null,null,null,null,null,null,null,392,"","","","","","","","","","","","","","","","","","","","","","","","","","","","","","","","","","","","","","","","","","","","","","","","","","","","","","","","","","","","","","","","","","","","","","","","","","","","","","","","","","","","","","","","","","","","","","","","","","","","","","","","","","","","","","","","","","","","","","","","","","","","","","","","","","","","","","","","","","","","","","","","","","","","","","","","","","","","","","","","","","","","","","","","","","","","","","","","","",1,0,-1,0,0]
[null,null,null,null,null,null,418,{"$f":"IF(NE438=1, START!$B$17, \"\")","v":""},{"$f":"IF(NE438=1, START!$B$20, \"\")","v":""},null,null,null,null,null,null,null,null,null,null,null,null,null,null,null,null,null,null,null,null,null,null,null,null,null,null,null,null,null,null,null,null,null,null,null,null,null,null,null,null,null,null,null,null,null,null,null,null,null,null,null,null,null,null,null,null,null,null,null,null,null,null,null,null,null,null,null,null,null,null,null,null,null,null,null,null,null,null,null,null,null,null,null,null,null,null,null,null,null,null,null,null,null,null,null,null,null,null,null,null,null,null,null,null,null,null,null,null,null,null,null,null,null,null,null,null,null,null,null,null,null,null,null,null,null,null,null,null,null,null,null,null,null,null,null,null,null,null,null,null,null,null,null,null,null,null,null,null,null,null,null,null,null,null,null,null,null,null,null,null,null,null,null,null,null,null,null,null,null,null,null,null,null,null,null,null,null,null,418,"","","","","","","","","","","","","","","","","","","","","","","","","","","","","","","","","","","","","","","","","","","","","","","","","","","","","","","","","","","","","","","","","","","","","","","","","","","","","","","","","","","","","","","","","","","","","","","","","","","","","","","","","","","","","","","","","","","","","","","","","","","","","","","","","","","","","","","","","","","","","","","","","","","","","","","","","","","","","","","","","","","","","","","","","","","","","","","","","",1,0,-1,0,0]
[null,null,null,null,null,null,433,{"$f":"IF(NE453=1, START!$B$17, \"\")","v":""},{"$f":"IF(NE453=1, START!$B$20, \"\")","v":""},null,null,null,null,null,null,null,null,null,null,null,null,null,null,null,null,null,null,null,null,null,null,null,null,null,null,null,null,null,null,null,null,null,null,null,null,null,null,null,null,null,null,null,null,null,null,null,null,null,null,null,null,null,null,null,null,null,null,null,null,null,null,null,null,null,null,null,null,null,null,null,null,null,null,null,null,null,null,null,null,null,null,null,null,null,null,null,null,null,null,null,null,null,null,null,null,null,null,null,null,null,null,null,null,null,null,null,null,null,null,null,null,null,null,null,null,null,null,null,null,null,null,null,null,null,null,null,null,null,null,null,null,null,null,null,null,null,null,null,null,null,null,null,null,null,null,null,null,null,null,null,null,null,null,null,null,null,null,null,null,null,null,null,null,null,null,null,null,null,null,null,null,null,null,null,null,null,null,433,"","","","","","","","","","","","","","","","","","","","","","","","","","","","","","","","","","","","","","","","","","","","","","","","","","","","","","","","","","","","","","","","","","","","","","","","","","","","","","","","","","","","","","","","","","","","","","","","","","","","","","","","","","","","","","","","","","","","","","","","","","","","","","","","","","","","","","","","","","","","","","","","","","","","","","","","","","","","","","","","","","","","","","","","","","","","","","","","","",1,0,-1,0,0]
[null,null,null,null,null,null,448,{"$f":"IF(NE468=1, START!$B$17, \"\")","v":""},{"$f":"IF(NE468=1, START!$B$20, \"\")","v":""},null,null,null,null,null,null,null,null,null,null,null,null,null,null,null,null,null,null,null,null,null,null,null,null,null,null,null,null,null,null,null,null,null,null,null,null,null,null,null,null,null,null,null,null,null,null,null,null,null,null,null,null,null,null,null,null,null,null,null,null,null,null,null,null,null,null,null,null,null,null,null,null,null,null,null,null,null,null,null,null,null,null,null,null,null,null,null,null,null,null,null,null,null,null,null,null,null,null,null,null,null,null,null,null,null,null,null,null,null,null,null,null,null,null,null,null,null,null,null,null,null,null,null,null,null,null,null,null,null,null,null,null,null,null,null,null,null,null,null,null,null,null,null,null,null,null,null,null,null,null,null,null,null,null,null,null,null,null,null,null,null,null,null,null,null,null,null,null,null,null,null,null,null,null,null,null,null,null,448,"","","","","","","","","","","","","","","","","","","","","","","","","","","","","","","","","","","","","","","","","","","","","","","","","","","","","","","","","","","","","","","","","","","","","","","","","","","","","","","","","","","","","","","","","","","","","","","","","","","","","","","","","","","","","","","","","","","","","","","","","","","","","","","","","","","","","","","","","","","","","","","","","","","","","","","","","","","","","","","","","","","","","","","","","","","","","","","","","",1,0,-1,0,0]
[null,null,null,null,null,null,464,{"$f":"IF(NE484=1, START!$B$17, \"\")","v":""},{"$f":"IF(NE484=1, START!$B$20, \"\")","v":""},null,null,null,null,null,null,null,null,null,null,null,null,null,null,null,null,null,null,null,null,null,null,null,null,null,null,null,null,null,null,null,null,null,null,null,null,null,null,null,null,null,null,null,null,null,null,null,null,null,null,null,null,null,null,null,null,null,null,null,null,null,null,null,null,null,null,null,null,null,null,null,null,null,null,null,null,null,null,null,null,null,null,null,null,null,null,null,null,null,null,null,null,null,null,null,null,null,null,null,null,null,null,null,null,null,null,null,null,null,null,null,null,null,null,null,null,null,null,null,null,null,null,null,null,null,null,null,null,null,null,null,null,null,null,null,null,null,null,null,null,null,null,null,null,null,null,null,null,null,null,null,null,null,null,null,null,null,null,null,null,null,null,null,null,null,null,null,null,null,null,null,null,null,null,null,null,null,null,464,"","","","","","","","","","","","","","","","","","","","","","","","","","","","","","","","","","","","","","","","","","","","","","","","","","","","","","","","","","","","","","","","","","","","","","","","","","","","","","","","","","","","","","","","","","","","","","","","","","","","","","","","","","","","","","","","","","","","","","","","","","","","","","","","","","","","","","","","","","","","","","","","","","","","","","","","","","","","","","","","","","","","","","","","","","","","","","","","","",1,0,-1,0,0]
[null,null,null,null,null,null,473,{"$f":"IF(NE493=1, START!$B$17, \"\")","v":""},{"$f":"IF(NE493=1, START!$B$20, \"\")","v":""},null,null,null,null,null,null,null,null,null,null,null,null,null,null,null,null,null,null,null,null,null,null,null,null,null,null,null,null,null,null,null,null,null,null,null,null,null,null,null,null,null,null,null,null,null,null,null,null,null,null,null,null,null,null,null,null,null,null,null,null,null,null,null,null,null,null,null,null,null,null,null,null,null,null,null,null,null,null,null,null,null,null,null,null,null,null,null,null,null,null,null,null,null,null,null,null,null,null,null,null,null,null,null,null,null,null,null,null,null,null,null,null,null,null,null,null,null,null,null,null,null,null,null,null,null,null,null,null,null,null,null,null,null,null,null,null,null,null,null,null,null,null,null,null,null,null,null,null,null,null,null,null,null,null,null,null,null,null,null,null,null,null,null,null,null,null,null,null,null,null,null,null,null,null,null,null,null,null,473,"","","","","","","","","","","","","","","","","","","","","","","","","","","","","","","","","","","","","","","","","","","","","","","","","","","","","","","","","","","","","","","","","","","","","","","","","","","","","","","","","","","","","","","","","","","","","","","","","","","","","","","","","","","","","","","","","","","","","","","","","","","","","","","","","","","","","","","","","","","","","","","","","","","","","","","","","","","","","","","","","","","","","","","","","","","","","","","","","",1,0,-1,0,0]
[null,null,null,null,null,null,496,{"$f":"IF(NE516=1, START!$B$17, \"\")","v":""},{"$f":"IF(NE516=1, START!$B$20, \"\")","v":""},null,null,null,null,null,null,null,null,null,null,null,null,null,null,null,null,null,null,null,null,null,null,null,null,null,null,null,null,null,null,null,null,null,null,null,null,null,null,null,null,null,null,null,null,null,null,null,null,null,null,null,null,null,null,null,null,null,null,null,null,null,null,null,null,null,null,null,null,null,null,null,null,null,null,null,null,null,null,null,null,null,null,null,null,null,null,null,null,null,null,null,null,null,null,null,null,null,null,null,null,null,null,null,null,null,null,null,null,null,null,null,null,null,null,null,null,null,null,null,null,null,null,null,null,null,null,null,null,null,null,null,null,null,null,null,null,null,null,null,null,null,null,null,null,null,null,null,null,null,null,null,null,null,null,null,null,null,null,null,null,null,null,null,null,null,null,null,null,null,null,null,null,null,null,null,null,null,null,496,"","","","","","","","","","","","","","","","","","","","","","","","","","","","","","","","","","","","","","","","","","","","","","","","","","","","","","","","","","","","","","","","","","","","","","","","","","","","","","","","","","","","","","","","","","","","","","","","","","","","","","","","","","","","","","","","","","","","","","","","","","","","","","","","","","","","","","","","","","","","","","","","","","","","","","","","","","","","","","","","","","","","","","","","","","","","","","","","","",1,0,-1,0,0]
[null,null,null,null,null,null,511,{"$f":"IF(NE531=1, START!$B$17, \"\")","v":""},{"$f":"IF(NE531=1, START!$B$20, \"\")","v":""},null,null,null,null,null,null,null,null,null,null,null,null,null,null,null,null,null,null,null,null,null,null,null,null,null,null,null,null,null,null,null,null,null,null,null,null,null,null,null,null,null,null,null,null,null,null,null,null,null,null,null,null,null,null,null,null,null,null,null,null,null,null,null,null,null,null,null,null,null,null,null,null,null,null,null,null,null,null,null,null,null,null,null,null,null,null,null,null,null,null,null,null,null,null,null,null,null,null,null,null,null,null,null,null,null,null,null,null,null,null,null,null,null,null,null,null,null,null,null,null,null,null,null,null,null,null,null,null,null,null,null,null,null,null,null,null,null,null,null,null,null,null,null,null,null,null,null,null,null,null,null,null,null,null,null,null,null,null,null,null,null,null,null,null,null,null,null,null,null,null,null,null,null,null,null,null,null,null,511,"","","","","","","","","","","","","","","","","","","","","","","","","","","","","","","","","","","","","","","","","","","","","","","","","","","","","","","","","","","","","","","","","","","","","","","","","","","","","","","","","","","","","","","","","","","","","","","","","","","","","","","","","","","","","","","","","","","","","","","","","","","","","","","","","","","","","","","","","","","","","","","","","","","","","","","","","","","","","","","","","","","","","","","","","","","","","","","","","",1,0,-1,0,0]
[null,null,null,null,null,null,526,{"$f":"IF(NE546=1, START!$B$17, \"\")","v":""},{"$f":"IF(NE546=1, START!$B$20, \"\")","v":""},null,null,null,null,null,null,null,null,null,null,null,null,null,null,null,null,null,null,null,null,null,null,null,null,null,null,null,null,null,null,null,null,null,null,null,null,null,null,null,null,null,null,null,null,null,null,null,null,null,null,null,null,null,null,null,null,null,null,null,null,null,null,null,null,null,null,null,null,null,null,null,null,null,null,null,null,null,null,null,null,null,null,null,null,null,null,null,null,null,null,null,null,null,null,null,null,null,null,null,null,null,null,null,null,null,null,null,null,null,null,null,null,null,null,null,null,null,null,null,null,null,null,null,null,null,null,null,null,null,null,null,null,null,null,null,null,null,null,null,null,null,null,null,null,null,null,null,null,null,null,null,null,null,null,null,null,null,null,null,null,null,null,null,null,null,null,null,null,null,null,null,null,null,null,null,null,null,null,526,"","","","","","","","","","","","","","","","","","","","","","","","","","","","","","","","","","","","","","","","","","","","","","","","","","","","","","","","","","","","","","","","","","","","","","","","","","","","","","","","","","","","","","","","","","","","","","","","","","","","","","","","","","","","","","","","","","","","","","","","","","","","","","","","","","","","","","","","","","","","","","","","","","","","","","","","","","","","","","","","","","","","","","","","","","","","","","","","","",1,0,-1,0,0]
[null,null,null,null,null,null,542,{"$f":"IF(NE562=1, START!$B$17, \"\")","v":""},{"$f":"IF(NE562=1, START!$B$20, \"\")","v":""},null,null,null,null,null,null,null,null,null,null,null,null,null,null,null,null,null,null,null,null,null,null,null,null,null,null,null,null,null,null,null,null,null,null,null,null,null,null,null,null,null,null,null,null,null,null,null,null,null,null,null,null,null,null,null,null,null,null,null,null,null,null,null,null,null,null,null,null,null,null,null,null,null,null,null,null,null,null,null,null,null,null,null,null,null,null,null,null,null,null,null,null,null,null,null,null,null,null,null,null,null,null,null,null,null,null,null,null,null,null,null,null,null,null,null,null,null,null,null,null,null,null,null,null,null,null,null,null,null,null,null,null,null,null,null,null,null,null,null,null,null,null,null,null,null,null,null,null,null,null,null,null,null,null,null,null,null,null,null,null,null,null,null,null,null,null,null,null,null,null,null,null,null,null,null,null,null,null,542,"","","","","","","","","","","","","","","","","","","","","","","","","","","","","","","","","","","","","","","","","","","","","","","","","","","","","","","","","","","","","","","","","","","","","","","","","","","","","","","","","","","","","","","","","","","","","","","","","","","","","","","","","","","","","","","","","","","","","","","","","","","","","","","","","","","","","","","","","","","","","","","","","","","","","","","","","","","","","","","","","","","","","","","","","","","","","","","","","",1,0,-1,0,0]
[null,null,null,null,null,null,554,{"$f":"IF(NE574=1, START!$B$17, \"\")","v":""},{"$f":"IF(NE574=1, START!$B$20, \"\")","v":""},null,null,null,null,null,null,null,null,null,null,null,null,null,null,null,null,null,null,null,null,null,null,null,null,null,null,null,null,null,null,null,null,null,null,null,null,null,null,null,null,null,null,null,null,null,null,null,null,null,null,null,null,null,null,null,null,null,null,null,null,null,null,null,null,null,null,null,null,null,null,null,null,null,null,null,null,null,null,null,null,null,null,null,null,null,null,null,null,null,null,null,null,null,null,null,null,null,null,null,null,null,null,null,null,null,null,null,null,null,null,null,null,null,null,null,null,null,null,null,null,null,null,null,null,null,null,null,null,null,null,null,null,null,null,null,null,null,null,null,null,null,null,null,null,null,null,null,null,null,null,null,null,null,null,null,null,null,null,null,null,null,null,null,null,null,null,null,null,null,null,null,null,null,null,null,null,null,null,554,"","","","","","","","","","","","","","","","","","","","","","","","","","","","","","","","","","","","","","","","","","","","","","","","","","","","","","","","","","","","","","","","","","","","","","","","","","","","","","","","","","","","","","","","","","","","","","","","","","","","","","","","","","","","","","","","","","","","","","","","","","","","","","","","","","","","","","","","","","","","","","","","","","","","","","","","","","","","","","","","","","","","","","","","","","","","","","","","","",1,0,-1,0,0]
[null,null,null,null,null,null,573,{"$f":"IF(NE593=1, START!$B$17, \"\")","v":""},{"$f":"IF(NE593=1, START!$B$20, \"\")","v":""},null,null,null,null,null,null,null,null,null,null,null,null,null,null,null,null,null,null,null,null,null,null,null,null,null,null,null,null,null,null,null,null,null,null,null,null,null,null,null,null,null,null,null,null,null,null,null,null,null,null,null,null,null,null,null,null,null,null,null,null,null,null,null,null,null,null,null,null,null,null,null,null,null,null,null,null,null,null,null,null,null,null,null,null,null,null,null,null,null,null,null,null,null,null,null,null,null,null,null,null,null,null,null,null,null,null,null,null,null,null,null,null,null,null,null,null,null,null,null,null,null,null,null,null,null,null,null,null,null,null,null,null,null,null,null,null,null,null,null,null,null,null,null,null,null,null,null,null,null,null,null,null,null,null,null,null,null,null,null,null,null,null,null,null,null,null,null,null,null,null,null,null,null,null,null,null,null,null,573,"","","","","","","","","","","","","","","","","","","","","","","","","","","","","","","","","","","","","","","","","","","","","","","","","","","","","","","","","","","","","","","","","","","","","","","","","","","","","","","","","","","","","","","","","","","","","","","","","","","","","","","","","","","","","","","","","","","","","","","","","","","","","","","","","","","","","","","","","","","","","","","","","","","","","","","","","","","","","","","","","","","","","","","","","","","","","","","","","",1,0,-1,0,0]
[null,null,null,null,null,null,589,{"$f":"IF(NE609=1, START!$B$17, \"\")","v":""},{"$f":"IF(NE609=1, START!$B$20, \"\")","v":""},null,null,null,null,null,null,null,null,null,null,null,null,null,null,null,null,null,null,null,null,null,null,null,null,null,null,null,null,null,null,null,null,null,null,null,null,null,null,null,null,null,null,null,null,null,null,null,null,null,null,null,null,null,null,null,null,null,null,null,null,null,null,null,null,null,null,null,null,null,null,null,null,null,null,null,null,null,null,null,null,null,null,null,null,null,null,null,null,null,null,null,null,null,null,null,null,null,null,null,null,null,null,null,null,null,null,null,null,null,null,null,null,null,null,null,null,null,null,null,null,null,null,null,null,null,null,null,null,null,null,null,null,null,null,null,null,null,null,null,null,null,null,null,null,null,null,null,null,null,null,null,null,null,null,null,null,null,null,null,null,null,null,null,null,null,null,null,null,null,null,null,null,null,null,null,null,null,null,589,"","","","","","","","","","","","","","","","","","","","","","","","","","","","","","","","","","","","","","","","","","","","","","","","","","","","","","","","","","","","","","","","","","","","","","","","","","","","","","","","","","","","","","","","","","","","","","","","","","","","","","","","","","","","","","","","","","","","","","","","","","","","","","","","","","","","","","","","","","","","","","","","","","","","","","","","","","","","","","","","","","","","","","","","","","","","","","","","","",1,0,-1,0,0]
[null,null,null,null,null,null,604,{"$f":"IF(NE624=1, START!$B$17, \"\")","v":""},{"$f":"IF(NE624=1, START!$B$20, \"\")","v":""},null,null,null,null,null,null,null,null,null,null,null,null,null,null,null,null,null,null,null,null,null,null,null,null,null,null,null,null,null,null,null,null,null,null,null,null,null,null,null,null,null,null,null,null,null,null,null,null,null,null,null,null,null,null,null,null,null,null,null,null,null,null,null,null,null,null,null,null,null,null,null,null,null,null,null,null,null,null,null,null,null,null,null,null,null,null,null,null,null,null,null,null,null,null,null,null,null,null,null,null,null,null,null,null,null,null,null,null,null,null,null,null,null,null,null,null,null,null,null,null,null,null,null,null,null,null,null,null,null,null,null,null,null,null,null,null,null,null,null,null,null,null,null,null,null,null,null,null,null,null,null,null,null,null,null,null,null,null,null,null,null,null,null,null,null,null,null,null,null,null,null,null,null,null,null,null,null,null,604,"","","","","","","","","","","","","","","","","","","","","","","","","","","","","","","","","","","","","","","","","","","","","","","","","","","","","","","","","","","","","","","","","","","","","","","","","","","","","","","","","","","","","","","","","","","","","","","","","","","","","","","","","","","","","","","","","","","","","","","","","","","","","","","","","","","","","","","","","","","","","","","","","","","","","","","","","","","","","","","","","","","","","","","","","","","","","","","","","",1,0,-1,0,0]
[null,null,null,null,null,null,605,{"$f":"IF(NE625=1, START!$B$17, \"\")","v":""},{"$f":"IF(NE625=1, START!$B$20, \"\")","v":""},null,null,null,null,null,null,null,null,null,null,null,null,null,null,null,null,null,null,null,null,null,null,null,null,null,null,null,null,null,null,null,null,null,null,null,null,null,null,null,null,null,null,null,null,null,null,null,null,null,null,null,null,null,null,null,null,null,null,null,null,null,null,null,null,null,null,null,null,null,null,null,null,null,null,null,null,null,null,null,null,null,null,null,null,null,null,null,null,null,null,null,null,null,null,null,null,null,null,null,null,null,null,null,null,null,null,null,null,null,null,null,null,null,null,null,null,null,null,null,null,null,null,null,null,null,null,null,null,null,null,null,null,null,null,null,null,null,null,null,null,null,null,null,null,null,null,null,null,null,null,null,null,null,null,null,null,null,null,null,null,null,null,null,null,null,null,null,null,null,null,null,null,null,null,null,null,null,null,605,"","","","","","","","","","","","","","","","","","","","","","","","","","","","","","","","","","","","","","","","","","","","","","","","","","","","","","","","","","","","","","","","","","","","","","","","","","","","","","","","","","","","","","","","","","","","","","","","","","","","","","","","","","","","","","","","","","","","","","","","","","","","","","","","","","","","","","","","","","","","","","","","","","","","","","","","","","","","","","","","","","","","","","","","","","","","","","","","","",1,0,-1,0,0]
[null,null,null,null,null,null,635,{"$f":"IF(NE655=1, START!$B$17, \"\")","v":""},{"$f":"IF(NE655=1, START!$B$20, \"\")","v":""},null,null,null,null,null,null,null,null,null,null,null,null,null,null,null,null,null,null,null,null,null,null,null,null,null,null,null,null,null,null,null,null,null,null,null,null,null,null,null,null,null,null,null,null,null,null,null,null,null,null,null,null,null,null,null,null,null,null,null,null,null,null,null,null,null,null,null,null,null,null,null,null,null,null,null,null,null,null,null,null,null,null,null,null,null,null,null,null,null,null,null,null,null,null,null,null,null,null,null,null,null,null,null,null,null,null,null,null,null,null,null,null,null,null,null,null,null,null,null,null,null,null,null,null,null,null,null,null,null,null,null,null,null,null,null,null,null,null,null,null,null,null,null,null,null,null,null,null,null,null,null,null,null,null,null,null,null,null,null,null,null,null,null,null,null,null,null,null,null,null,null,null,null,null,null,null,null,null,635,"","","","","","","","","","","","","","","","","","","","","","","","","","","","","","","","","","","","","","","","","","","","","","","","","","","","","","","","","","","","","","","","","","","","","","","","","","","","","","","","","","","","","","","","","","","","","","","","","","","","","","","","","","","","","","","","","","","","","","","","","","","","","","","","","","","","","","","","","","","","","","","","","","","","","","","","","","","","","","","","","","","","","","","","","","","","","","","","","",1,0,-1,0,0]
[null,null,null,null,null,null,636,{"$f":"IF(NE656=1, START!$B$17, \"\")","v":""},{"$f":"IF(NE656=1, START!$B$20, \"\")","v":""},null,null,null,null,null,null,null,null,null,null,null,null,null,null,null,null,null,null,null,null,null,null,null,null,null,null,null,null,null,null,null,null,null,null,null,null,null,null,null,null,null,null,null,null,null,null,null,null,null,null,null,null,null,null,null,null,null,null,null,null,null,null,null,null,null,null,null,null,null,null,null,null,null,null,null,null,null,null,null,null,null,null,null,null,null,null,null,null,null,null,null,null,null,null,null,null,null,null,null,null,null,null,null,null,null,null,null,null,null,null,null,null,null,null,null,null,null,null,null,null,null,null,null,null,null,null,null,null,null,null,null,null,null,null,null,null,null,null,null,null,null,null,null,null,null,null,null,null,null,null,null,null,null,null,null,null,null,null,null,null,null,null,null,null,null,null,null,null,null,null,null,null,null,null,null,null,null,null,636,"","","","","","","","","","","","","","","","","","","","","","","","","","","","","","","","","","","","","","","","","","","","","","","","","","","","","","","","","","","","","","","","","","","","","","","","","","","","","","","","","","","","","","","","","","","","","","","","","","","","","","","","","","","","","","","","","","","","","","","","","","","","","","","","","","","","","","","","","","","","","","","","","","","","","","","","","","","","","","","","","","","","","","","","","","","","","","","","","",1,0,-1,0,0]
[null,null,null,null,null,null,652,{"$f":"IF(NE672=1, START!$B$17, \"\")","v":""},{"$f":"IF(NE672=1, START!$B$20, \"\")","v":""},null,null,null,null,null,null,null,null,null,null,null,null,null,null,null,null,null,null,null,null,null,null,null,null,null,null,null,null,null,null,null,null,null,null,null,null,null,null,null,null,null,null,null,null,null,null,null,null,null,null,null,null,null,null,null,null,null,null,null,null,null,null,null,null,null,null,null,null,null,null,null,null,null,null,null,null,null,null,null,null,null,null,null,null,null,null,null,null,null,null,null,null,null,null,null,null,null,null,null,null,null,null,null,null,null,null,null,null,null,null,null,null,null,null,null,null,null,null,null,null,null,null,null,null,null,null,null,null,null,null,null,null,null,null,null,null,null,null,null,null,null,null,null,null,null,null,null,null,null,null,null,null,null,null,null,null,null,null,null,null,null,null,null,null,null,null,null,null,null,null,null,null,null,null,null,null,null,null,652,"","","","","","","","","","","","","","","","","","","","","","","","","","","","","","","","","","","","","","","","","","","","","","","","","","","","","","","","","","","","","","","","","","","","","","","","","","","","","","","","","","","","","","","","","","","","","","","","","","","","","","","","","","","","","","","","","","","","","","","","","","","","","","","","","","","","","","","","","","","","","","","","","","","","","","","","","","","","","","","","","","","","","","","","","","","","","","","","","",1,0,-1,0,0]
[null,null,null,null,null,null,667,{"$f":"IF(NE687=1, START!$B$17, \"\")","v":""},{"$f":"IF(NE687=1, START!$B$20, \"\")","v":""},null,null,null,null,null,null,null,null,null,null,null,null,null,null,null,null,null,null,null,null,null,null,null,null,null,null,null,null,null,null,null,null,null,null,null,null,null,null,null,null,null,null,null,null,null,null,null,null,null,null,null,null,null,null,null,null,null,null,null,null,null,null,null,null,null,null,null,null,null,null,null,null,null,null,null,null,null,null,null,null,null,null,null,null,null,null,null,null,null,null,null,null,null,null,null,null,null,null,null,null,null,null,null,null,null,null,null,null,null,null,null,null,null,null,null,null,null,null,null,null,null,null,null,null,null,null,null,null,null,null,null,null,null,null,null,null,null,null,null,null,null,null,null,null,null,null,null,null,null,null,null,null,null,null,null,null,null,null,null,null,null,null,null,null,null,null,null,null,null,null,null,null,null,null,null,null,null,null,667,"","","","","","","","","","","","","","","","","","","","","","","","","","","","","","","","","","","","","","","","","","","","","","","","","","","","","","","","","","","","","","","","","","","","","","","","","","","","","","","","","","","","","","","","","","","","","","","","","","","","","","","","","","","","","","","","","","","","","","","","","","","","","","","","","","","","","","","","","","","","","","","","","","","","","","","","","","","","","","","","","","","","","","","","","","","","","","","","","",1,0,-1,0,0]
[null,null,null,null,null,null,684,{"$f":"IF(NE704=1, START!$B$17, \"\")","v":""},{"$f":"IF(NE704=1, START!$B$20, \"\")","v":""},null,null,null,null,null,null,null,null,null,null,null,null,null,null,null,null,null,null,null,null,null,null,null,null,null,null,null,null,null,null,null,null,null,null,null,null,null,null,null,null,null,null,null,null,null,null,null,null,null,null,null,null,null,null,null,null,null,null,null,null,null,null,null,null,null,null,null,null,null,null,null,null,null,null,null,null,null,null,null,null,null,null,null,null,null,null,null,null,null,null,null,null,null,null,null,null,null,null,null,null,null,null,null,null,null,null,null,null,null,null,null,null,null,null,null,null,null,null,null,null,null,null,null,null,null,null,null,null,null,null,null,null,null,null,null,null,null,null,null,null,null,null,null,null,null,null,null,null,null,null,null,null,null,null,null,null,null,null,null,null,null,null,null,null,null,null,null,null,null,null,null,null,null,null,null,null,null,null,684,"","","","","","","","","","","","","","","","","","","","","","","","","","","","","","","","","","","","","","","","","","","","","","","","","","","","","","","","","","","","","","","","","","","","","","","","","","","","","","","","","","","","","","","","","","","","","","","","","","","","","","","","","","","","","","","","","","","","","","","","","","","","","","","","","","","","","","","","","","","","","","","","","","","","","","","","","","","","","","","","","","","","","","","","","","","","","","","","","",1,0,-1,0,0]
[null,null,null,null,null,null,699,{"$f":"IF(NE719=1, START!$B$17, \"\")","v":""},{"$f":"IF(NE719=1, START!$B$20, \"\")","v":""},null,null,null,null,null,null,null,null,null,null,null,null,null,null,null,null,null,null,null,null,null,null,null,null,null,null,null,null,null,null,null,null,null,null,null,null,null,null,null,null,null,null,null,null,null,null,null,null,null,null,null,null,null,null,null,null,null,null,null,null,null,null,null,null,null,null,null,null,null,null,null,null,null,null,null,null,null,null,null,null,null,null,null,null,null,null,null,null,null,null,null,null,null,null,null,null,null,null,null,null,null,null,null,null,null,null,null,null,null,null,null,null,null,null,null,null,null,null,null,null,null,null,null,null,null,null,null,null,null,null,null,null,null,null,null,null,null,null,null,null,null,null,null,null,null,null,null,null,null,null,null,null,null,null,null,null,null,null,null,null,null,null,null,null,null,null,null,null,null,null,null,null,null,null,null,null,null,null,699,"","","","","","","","","","","","","","","","","","","","","","","","","","","","","","","","","","","","","","","","","","","","","","","","","","","","","","","","","","","","","","","","","","","","","","","","","","","","","","","","","","","","","","","","","","","","","","","","","","","","","","","","","","","","","","","","","","","","","","","","","","","","","","","","","","","","","","","","","","","","","","","","","","","","","","","","","","","","","","","","","","","","","","","","","","","","","","","","","",1,0,-1,0,0]
[null,null,null,null,null,null,714,{"$f":"IF(NE734=1, START!$B$17, \"\")","v":""},{"$f":"IF(NE734=1, START!$B$20, \"\")","v":""},null,null,null,null,null,null,null,null,null,null,null,null,null,null,null,null,null,null,null,null,null,null,null,null,null,null,null,null,null,null,null,null,null,null,null,null,null,null,null,null,null,null,null,null,null,null,null,null,null,null,null,null,null,null,null,null,null,null,null,null,null,null,null,null,null,null,null,null,null,null,null,null,null,null,null,null,null,null,null,null,null,null,null,null,null,null,null,null,null,null,null,null,null,null,null,null,null,null,null,null,null,null,null,null,null,null,null,null,null,null,null,null,null,null,null,null,null,null,null,null,null,null,null,null,null,null,null,null,null,null,null,null,null,null,null,null,null,null,null,null,null,null,null,null,null,null,null,null,null,null,null,null,null,null,null,null,null,null,null,null,null,null,null,null,null,null,null,null,null,null,null,null,null,null,null,null,null,null,714,"","","","","","","","","","","","","","","","","","","","","","","","","","","","","","","","","","","","","","","","","","","","","","","","","","","","","","","","","","","","","","","","","","","","","","","","","","","","","","","","","","","","","","","","","","","","","","","","","","","","","","","","","","","","","","","","","","","","","","","","","","","","","","","","","","","","","","","","","","","","","","","","","","","","","","","","","","","","","","","","","","","","","","","","","","","","","","","","","",1,0,-1,0,0]
[null,null,null,null,null,null,730,{"$f":"IF(NE750=1, START!$B$17, \"\")","v":""},{"$f":"IF(NE750=1, START!$B$20, \"\")","v":""},null,null,null,null,null,null,null,null,null,null,null,null,null,null,null,null,null,null,null,null,null,null,null,null,null,null,null,null,null,null,null,null,null,null,null,null,null,null,null,null,null,null,null,null,null,null,null,null,null,null,null,null,null,null,null,null,null,null,null,null,null,null,null,null,null,null,null,null,null,null,null,null,null,null,null,null,null,null,null,null,null,null,null,null,null,null,null,null,null,null,null,null,null,null,null,null,null,null,null,null,null,null,null,null,null,null,null,null,null,null,null,null,null,null,null,null,null,null,null,null,null,null,null,null,null,null,null,null,null,null,null,null,null,null,null,null,null,null,null,null,null,null,null,null,null,null,null,null,null,null,null,null,null,null,null,null,null,null,null,null,null,null,null,null,null,null,null,null,null,null,null,null,null,null,null,null,null,null,730,"","","","","","","","","","","","","","","","","","","","","","","","","","","","","","","","","","","","","","","","","","","","","","","","","","","","","","","","","","","","","","","","","","","","","","","","","","","","","","","","","","","","","","","","","","","","","","","","","","","","","","","","","","","","","","","","","","","","","","","","","","","","","","","","","","","","","","","","","","","","","","","","","","","","","","","","","","","","","","","","","","","","","","","","","","","","","","","","","",1,0,-1,0,0]
[null,null,null,null,null,null,745,{"$f":"IF(NE765=1, START!$B$17, \"\")","v":""},{"$f":"IF(NE765=1, START!$B$20, \"\")","v":""},null,null,null,null,null,null,null,null,null,null,null,null,null,null,null,null,null,null,null,null,null,null,null,null,null,null,null,null,null,null,null,null,null,null,null,null,null,null,null,null,null,null,null,null,null,null,null,null,null,null,null,null,null,null,null,null,null,null,null,null,null,null,null,null,null,null,null,null,null,null,null,null,null,null,null,null,null,null,null,null,null,null,null,null,null,null,null,null,null,null,null,null,null,null,null,null,null,null,null,null,null,null,null,null,null,null,null,null,null,null,null,null,null,null,null,null,null,null,null,null,null,null,null,null,null,null,null,null,null,null,null,null,null,null,null,null,null,null,null,null,null,null,null,null,null,null,null,null,null,null,null,null,null,null,null,null,null,null,null,null,null,null,null,null,null,null,null,null,null,null,null,null,null,null,null,null,null,null,745,"","","","","","","","","","","","","","","","","","","","","","","","","","","","","","","","","","","","","","","","","","","","","","","","","","","","","","","","","","","","","","","","","","","","","","","","","","","","","","","","","","","","","","","","","","","","","","","","","","","","","","","","","","","","","","","","","","","","","","","","","","","","","","","","","","","","","","","","","","","","","","","","","","","","","","","","","","","","","","","","","","","","","","","","","","","","","","","","","",1,0,-1,0,0]
[null,null,null,null,null,null,765,{"$f":"IF(NE785=1, START!$B$17, \"\")","v":""},{"$f":"IF(NE785=1, START!$B$20, \"\")","v":""},null,null,null,null,null,null,null,null,null,null,null,null,null,null,null,null,null,null,null,null,null,null,null,null,null,null,null,null,null,null,null,null,null,null,null,null,null,null,null,null,null,null,null,null,null,null,null,null,null,null,null,null,null,null,null,null,null,null,null,null,null,null,null,null,null,null,null,null,null,null,null,null,null,null,null,null,null,null,null,null,null,null,null,null,null,null,null,null,null,null,null,null,null,null,null,null,null,null,null,null,null,null,null,null,null,null,null,null,null,null,null,null,null,null,null,null,null,null,null,null,null,null,null,null,null,null,null,null,null,null,null,null,null,null,null,null,null,null,null,null,null,null,null,null,null,null,null,null,null,null,null,null,null,null,null,null,null,null,null,null,null,null,null,null,null,null,null,null,null,null,null,null,null,null,null,null,null,null,765,"","","","","","","","","","","","","","","","","","","","","","","","","","","","","","","","","","","","","","","","","","","","","","","","","","","","","","","","","","","","","","","","","","","","","","","","","","","","","","","","","","","","","","","","","","","","","","","","","","","","","","","","","","","","","","","","","","","","","","","","","","","","","","","","","","","","","","","","","","","","","","","","","","","","","","","","","","","","","","","","","","","","","","","","","","","","","","","","","",1,0,-1,0,0]
[null,null,null,null,null,null,777,{"$f":"IF(NE797=1, START!$B$17, \"\")","v":""},{"$f":"IF(NE797=1, START!$B$20, \"\")","v":""},null,null,null,null,null,null,null,null,null,null,null,null,null,null,null,null,null,null,null,null,null,null,null,null,null,null,null,null,null,null,null,null,null,null,null,null,null,null,null,null,null,null,null,null,null,null,null,null,null,null,null,null,null,null,null,null,null,null,null,null,null,null,null,null,null,null,null,null,null,null,null,null,null,null,null,null,null,null,null,null,null,null,null,null,null,null,null,null,null,null,null,null,null,null,null,null,null,null,null,null,null,null,null,null,null,null,null,null,null,null,null,null,null,null,null,null,null,null,null,null,null,null,null,null,null,null,null,null,null,null,null,null,null,null,null,null,null,null,null,null,null,null,null,null,null,null,null,null,null,null,null,null,null,null,null,null,null,null,null,null,null,null,null,null,null,null,null,null,null,null,null,null,null,null,null,null,null,null,777,"","","","","","","","","","","","","","","","","","","","","","","","","","","","","","","","","","","","","","","","","","","","","","","","","","","","","","","","","","","","","","","","","","","","","","","","","","","","","","","","","","","","","","","","","","","","","","","","","","","","","","","","","","","","","","","","","","","","","","","","","","","","","","","","","","","","","","","","","","","","","","","","","","","","","","","","","","","","","","","","","","","","","","","","","","","","","","","","","",1,0,-1,0,0]
[null,null,null,null,null,null,792,{"$f":"IF(NE812=1, START!$B$17, \"\")","v":""},{"$f":"IF(NE812=1, START!$B$20, \"\")","v":""},null,null,null,null,null,null,null,null,null,null,null,null,null,null,null,null,null,null,null,null,null,null,null,null,null,null,null,null,null,null,null,null,null,null,null,null,null,null,null,null,null,null,null,null,null,null,null,null,null,null,null,null,null,null,null,null,null,null,null,null,null,null,null,null,null,null,null,null,null,null,null,null,null,null,null,null,null,null,null,null,null,null,null,null,null,null,null,null,null,null,null,null,null,null,null,null,null,null,null,null,null,null,null,null,null,null,null,null,null,null,null,null,null,null,null,null,null,null,null,null,null,null,null,null,null,null,null,null,null,null,null,null,null,null,null,null,null,null,null,null,null,null,null,null,null,null,null,null,null,null,null,null,null,null,null,null,null,null,null,null,null,null,null,null,null,null,null,null,null,null,null,null,null,null,null,null,null,null,792,"","","","","","","","","","","","","","","","","","","","","","","","","","","","","","","","","","","","","","","","","","","","","","","","","","","","","","","","","","","","","","","","","","","","","","","","","","","","","","","","","","","","","","","","","","","","","","","","","","","","","","","","","","","","","","","","","","","","","","","","","","","","","","","","","","","","","","","","","","","","","","","","","","","","","","","","","","","","","","","","","","","","","","","","","","","","","","","","","",1,0,-1,0,0]
[null,null,null,null,null,null,808,{"$f":"IF(NE828=1, START!$B$17, \"\")","v":""},{"$f":"IF(NE828=1, START!$B$20, \"\")","v":""},null,null,null,null,null,null,null,null,null,null,null,null,null,null,null,null,null,null,null,null,null,null,null,null,null,null,null,null,null,null,null,null,null,null,null,null,null,null,null,null,null,null,null,null,null,null,null,null,null,null,null,null,null,null,null,null,null,null,null,null,null,null,null,null,null,null,null,null,null,null,null,null,null,null,null,null,null,null,null,null,null,null,null,null,null,null,null,null,null,null,null,null,null,null,null,null,null,null,null,null,null,null,null,null,null,null,null,null,null,null,null,null,null,null,null,null,null,null,null,null,null,null,null,null,null,null,null,null,null,null,null,null,null,null,null,null,null,null,null,null,null,null,null,null,null,null,null,null,null,null,null,null,null,null,null,null,null,null,null,null,null,null,null,null,null,null,null,null,null,null,null,null,null,null,null,null,null,null,808,"","","","","","","","","","","","","","","","","","","","","","","","","","","","","","","","","","","","","","","","","","","","","","","","","","","","","","","","","","","","","","","","","","","","","","","","","","","","","","","","","","","","","","","","","","","","","","","","","","","","","","","","","","","","","","","","","","","","","","","","","","","","","","","","","","","","","","","","","","","","","","","","","","","","","","","","","","","","","","","","","","","","","","","","","","","","","","","","","",1,0,-1,0,0]
[null,null,null,null,null,null,823,{"$f":"IF(NE843=1, START!$B$17, \"\")","v":""},{"$f":"IF(NE843=1, START!$B$20, \"\")","v":""},null,null,null,null,null,null,null,null,null,null,null,null,null,null,null,null,null,null,null,null,null,null,null,null,null,null,null,null,null,null,null,null,null,null,null,null,null,null,null,null,null,null,null,null,null,null,null,null,null,null,null,null,null,null,null,null,null,null,null,null,null,null,null,null,null,null,null,null,null,null,null,null,null,null,null,null,null,null,null,null,null,null,null,null,null,null,null,null,null,null,null,null,null,null,null,null,null,null,null,null,null,null,null,null,null,null,null,null,null,null,null,null,null,null,null,null,null,null,null,null,null,null,null,null,null,null,null,null,null,null,null,null,null,null,null,null,null,null,null,null,null,null,null,null,null,null,null,null,null,null,null,null,null,null,null,null,null,null,null,null,null,null,null,null,null,null,null,null,null,null,null,null,null,null,null,null,null,null,823,"","","","","","","","","","","","","","","","","","","","","","","","","","","","","","","","","","","","","","","","","","","","","","","","","","","","","","","","","","","","","","","","","","","","","","","","","","","","","","","","","","","","","","","","","","","","","","","","","","","","","","","","","","","","","","","","","","","","","","","","","","","","","","","","","","","","","","","","","","","","","","","","","","","","","","","","","","","","","","","","","","","","","","","","","","","","","","","","","",1,0,-1,0,0]
[null,null,null,null,null,null,846,{"$f":"IF(NE866=1, START!$B$17, \"\")","v":""},{"$f":"IF(NE866=1, START!$B$20, \"\")","v":""},null,null,null,null,null,null,null,null,null,null,null,null,null,null,null,null,null,null,null,null,null,null,null,null,null,null,null,null,null,null,null,null,null,null,null,null,null,null,null,null,null,null,null,null,null,null,null,null,null,null,null,null,null,null,null,null,null,null,null,null,null,null,null,null,null,null,null,null,null,null,null,null,null,null,null,null,null,null,null,null,null,null,null,null,null,null,null,null,null,null,null,null,null,null,null,null,null,null,null,null,null,null,null,null,null,null,null,null,null,null,null,null,null,null,null,null,null,null,null,null,null,null,null,null,null,null,null,null,null,null,null,null,null,null,null,null,null,null,null,null,null,null,null,null,null,null,null,null,null,null,null,null,null,null,null,null,null,null,null,null,null,null,null,null,null,null,null,null,null,null,null,null,null,null,null,null,null,null,846,"","","","","","","","","","","","","","","","","","","","","","","","","","","","","","","","","","","","","","","","","","","","","","","","","","","","","","","","","","","","","","","","","","","","","","","","","","","","","","","","","","","","","","","","","","","","","","","","","","","","","","","","","","","","","","","","","","","","","","","","","","","","","","","","","","","","","","","","","","","","","","","","","","","","","","","","","","","","","","","","","","","","","","","","","","","","","","","","","",1,0,-1,0,0]
[null,null,null,null,null,null,855,{"$f":"IF(NE875=1, START!$B$17, \"\")","v":""},{"$f":"IF(NE875=1, START!$B$20, \"\")","v":""},null,null,null,null,null,null,null,null,null,null,null,null,null,null,null,null,null,null,null,null,null,null,null,null,null,null,null,null,null,null,null,null,null,null,null,null,null,null,null,null,null,null,null,null,null,null,null,null,null,null,null,null,null,null,null,null,null,null,null,null,null,null,null,null,null,null,null,null,null,null,null,null,null,null,null,null,null,null,null,null,null,null,null,null,null,null,null,null,null,null,null,null,null,null,null,null,null,null,null,null,null,null,null,null,null,null,null,null,null,null,null,null,null,null,null,null,null,null,null,null,null,null,null,null,null,null,null,null,null,null,null,null,null,null,null,null,null,null,null,null,null,null,null,null,null,null,null,null,null,null,null,null,null,null,null,null,null,null,null,null,null,null,null,null,null,null,null,null,null,null,null,null,null,null,null,null,null,null,855,"","","","","","","","","","","","","","","","","","","","","","","","","","","","","","","","","","","","","","","","","","","","","","","","","","","","","","","","","","","","","","","","","","","","","","","","","","","","","","","","","","","","","","","","","","","","","","","","","","","","","","","","","","","","","","","","","","","","","","","","","","","","","","","","","","","","","","","","","","","","","","","","","","","","","","","","","","","","","","","","","","","","","","","","","","","","","","","","","",1,0,-1,0,0]
[null,null,null,null,null,null,870,{"$f":"IF(NE890=1, START!$B$17, \"\")","v":""},{"$f":"IF(NE890=1, START!$B$20, \"\")","v":""},null,null,null,null,null,null,null,null,null,null,null,null,null,null,null,null,null,null,null,null,null,null,null,null,null,null,null,null,null,null,null,null,null,null,null,null,null,null,null,null,null,null,null,null,null,null,null,null,null,null,null,null,null,null,null,null,null,null,null,null,null,null,null,null,null,null,null,null,null,null,null,null,null,null,null,null,null,null,null,null,null,null,null,null,null,null,null,null,null,null,null,null,null,null,null,null,null,null,null,null,null,null,null,null,null,null,null,null,null,null,null,null,null,null,null,null,null,null,null,null,null,null,null,null,null,null,null,null,null,null,null,null,null,null,null,null,null,null,null,null,null,null,null,null,null,null,null,null,null,null,null,null,null,null,null,null,null,null,null,null,null,null,null,null,null,null,null,null,null,null,null,null,null,null,null,null,null,null,870,"","","","","","","","","","","","","","","","","","","","","","","","","","","","","","","","","","","","","","","","","","","","","","","","","","","","","","","","","","","","","","","","","","","","","","","","","","","","","","","","","","","","","","","","","","","","","","","","","","","","","","","","","","","","","","","","","","","","","","","","","","","","","","","","","","","","","","","","","","","","","","","","","","","","","","","","","","","","","","","","","","","","","","","","","","","","","","","","","",1,0,-1,0,0]
[null,null,null,null,null,null,886,{"$f":"IF(NE906=1, START!$B$17, \"\")","v":""},{"$f":"IF(NE906=1, START!$B$20, \"\")","v":""},null,null,null,null,null,null,null,null,null,null,null,null,null,null,null,null,null,null,null,null,null,null,null,null,null,null,null,null,null,null,null,null,null,null,null,null,null,null,null,null,null,null,null,null,null,null,null,null,null,null,null,null,null,null,null,null,null,null,null,null,null,null,null,null,null,null,null,null,null,null,null,null,null,null,null,null,null,null,null,null,null,null,null,null,null,null,null,null,null,null,null,null,null,null,null,null,null,null,null,null,null,null,null,null,null,null,null,null,null,null,null,null,null,null,null,null,null,null,null,null,null,null,null,null,null,null,null,null,null,null,null,null,null,null,null,null,null,null,null,null,null,null,null,null,null,null,null,null,null,null,null,null,null,null,null,null,null,null,null,null,null,null,null,null,null,null,null,null,null,null,null,null,null,null,null,null,null,null,886,"","","","","","","","","","","","","","","","","","","","","","","","","","","","","","","","","","","","","","","","","","","","","","","","","","","","","","","","","","","","","","","","","","","","","","","","","","","","","","","","","","","","","","","","","","","","","","","","","","","","","","","","","","","","","","","","","","","","","","","","","","","","","","","","","","","","","","","","","","","","","","","","","","","","","","","","","","","","","","","","","","","","","","","","","","","","","","","","","",1,0,-1,0,0]
[null,null,null,null,null,null,901,{"$f":"IF(NE921=1, START!$B$17, \"\")","v":""},{"$f":"IF(NE921=1, START!$B$20, \"\")","v":""},null,null,null,null,null,null,null,null,null,null,null,null,null,null,null,null,null,null,null,null,null,null,null,null,null,null,null,null,null,null,null,null,null,null,null,null,null,null,null,null,null,null,null,null,null,null,null,null,null,null,null,null,null,null,null,null,null,null,null,null,null,null,null,null,null,null,null,null,null,null,null,null,null,null,null,null,null,null,null,null,null,null,null,null,null,null,null,null,null,null,null,null,null,null,null,null,null,null,null,null,null,null,null,null,null,null,null,null,null,null,null,null,null,null,null,null,null,null,null,null,null,null,null,null,null,null,null,null,null,null,null,null,null,null,null,null,null,null,null,null,null,null,null,null,null,null,null,null,null,null,null,null,null,null,null,null,null,null,null,null,null,null,null,null,null,null,null,null,null,null,null,null,null,null,null,null,null,null,901,"","","","","","","","","","","","","","","","","","","","","","","","","","","","","","","","","","","","","","","","","","","","","","","","","","","","","","","","","","","","","","","","","","","","","","","","","","","","","","","","","","","","","","","","","","","","","","","","","","","","","","","","","","","","","","","","","","","","","","","","","","","","","","","","","","","","","","","","","","","","","","","","","","","","","","","","","","","","","","","","","","","","","","","","","","","","","","","","","",1,0,-1,0,0]
[null,null,null,null,null,null,911,{"$f":"IF(NE931=1, START!$B$17, \"\")","v":""},{"$f":"IF(NE931=1, START!$B$20, \"\")","v":""},null,null,null,null,null,null,null,null,null,null,null,null,null,null,null,null,null,null,null,null,null,null,null,null,null,null,null,null,null,null,null,null,null,null,null,null,null,null,null,null,null,null,null,null,null,null,null,null,null,null,null,null,null,null,null,null,null,null,null,null,null,null,null,null,null,null,null,null,null,null,null,null,null,null,null,null,null,null,null,null,null,null,null,null,null,null,null,null,null,null,null,null,null,null,null,null,null,null,null,null,null,null,null,null,null,null,null,null,null,null,null,null,null,null,null,null,null,null,null,null,null,null,null,null,null,null,null,null,null,null,null,null,null,null,null,null,null,null,null,null,null,null,null,null,null,null,null,null,null,null,null,null,null,null,null,null,null,null,null,null,null,null,null,null,null,null,null,null,null,null,null,null,null,null,null,null,null,null,911,"","","","","","","","","","","","","","","","","","","","","","","","","","","","","","","","","","","","","","","","","","","","","","","","","","","","","","","","","","","","","","","","","","","","","","","","","","","","","","","","","","","","","","","","","","","","","","","","","","","","","","","","","","","","","","","","","","","","","","","","","","","","","","","","","","","","","","","","","","","","","","","","","","","","","","","","","","","","","","","","","","","","","","","","","","","","","","","","","",1,0,-1,0,0]
[null,null,null,null,null,null,933,{"$f":"IF(NE953=1, START!$B$17, \"\")","v":""},{"$f":"IF(NE953=1, START!$B$20, \"\")","v":""},null,null,null,null,null,null,null,null,null,null,null,null,null,null,null,null,null,null,null,null,null,null,null,null,null,null,null,null,null,null,null,null,null,null,null,null,null,null,null,null,null,null,null,null,null,null,null,null,null,null,null,null,null,null,null,null,null,null,null,null,null,null,null,null,null,null,null,null,null,null,null,null,null,null,null,null,null,null,null,null,null,null,null,null,null,null,null,null,null,null,null,null,null,null,null,null,null,null,null,null,null,null,null,null,null,null,null,null,null,null,null,null,null,null,null,null,null,null,null,null,null,null,null,null,null,null,null,null,null,null,null,null,null,null,null,null,null,null,null,null,null,null,null,null,null,null,null,null,null,null,null,null,null,null,null,null,null,null,null,null,null,null,null,null,null,null,null,null,null,null,null,null,null,null,null,null,null,null,933,"","","","","","","","","","","","","","","","","","","","","","","","","","","","","","","","","","","","","","","","","","","","","","","","","","","","","","","","","","","","","","","","","","","","","","","","","","","","","","","","","","","","","","","","","","","","","","","","","","","","","","","","","","","","","","","","","","","","","","","","","","","","","","","","","","","","","","","","","","","","","","","","","","","","","","","","","","","","","","","","","","","","","","","","","","","","","","","","","",1,0,-1,0,0]
[null,null,null,null,null,null,948,{"$f":"IF(NE968=1, START!$B$17, \"\")","v":""},{"$f":"IF(NE968=1, START!$B$20, \"\")","v":""},null,null,null,null,null,null,null,null,null,null,null,null,null,null,null,null,null,null,null,null,null,null,null,null,null,null,null,null,null,null,null,null,null,null,null,null,null,null,null,null,null,null,null,null,null,null,null,null,null,null,null,null,null,null,null,null,null,null,null,null,null,null,null,null,null,null,null,null,null,null,null,null,null,null,null,null,null,null,null,null,null,null,null,null,null,null,null,null,null,null,null,null,null,null,null,null,null,null,null,null,null,null,null,null,null,null,null,null,null,null,null,null,null,null,null,null,null,null,null,null,null,null,null,null,null,null,null,null,null,null,null,null,null,null,null,null,null,null,null,null,null,null,null,null,null,null,null,null,null,null,null,null,null,null,null,null,null,null,null,null,null,null,null,null,null,null,null,null,null,null,null,null,null,null,null,null,null,null,948,"","","","","","","","","","","","","","","","","","","","","","","","","","","","","","","","","","","","","","","","","","","","","","","","","","","","","","","","","","","","","","","","","","","","","","","","","","","","","","","","","","","","","","","","","","","","","","","","","","","","","","","","","","","","","","","","","","","","","","","","","","","","","","","","","","","","","","","","","","","","","","","","","","","","","","","","","","","","","","","","","","","","","","","","","","","","","","","","","",1,0,-1,0,0]
[null,null,null,null,null,null,963,{"$f":"IF(NE983=1, START!$B$17, \"\")","v":""},{"$f":"IF(NE983=1, START!$B$20, \"\")","v":""},null,null,null,null,null,null,null,null,null,null,null,null,null,null,null,null,null,null,null,null,null,null,null,null,null,null,null,null,null,null,null,null,null,null,null,null,null,null,null,null,null,null,null,null,null,null,null,null,null,null,null,null,null,null,null,null,null,null,null,null,null,null,null,null,null,null,null,null,null,null,null,null,null,null,null,null,null,null,null,null,null,null,null,null,null,null,null,null,null,null,null,null,null,null,null,null,null,null,null,null,null,null,null,null,null,null,null,null,null,null,null,null,null,null,null,null,null,null,null,null,null,null,null,null,null,null,null,null,null,null,null,null,null,null,null,null,null,null,null,null,null,null,null,null,null,null,null,null,null,null,null,null,null,null,null,null,null,null,null,null,null,null,null,null,null,null,null,null,null,null,null,null,null,null,null,null,null,null,963,"","","","","","","","","","","","","","","","","","","","","","","","","","","","","","","","","","","","","","","","","","","","","","","","","","","","","","","","","","","","","","","","","","","","","","","","","","","","","","","","","","","","","","","","","","","","","","","","","","","","","","","","","","","","","","","","","","","","","","","","","","","","","","","","","","","","","","","","","","","","","","","","","","","","","","","","","","","","","","","","","","","","","","","","","","","","","","","","","",1,0,-1,0,0]
[null,null,null,null,null,null,976,{"$f":"IF(NE996=1, START!$B$17, \"\")","v":""},{"$f":"IF(NE996=1, START!$B$20, \"\")","v":""},null,null,null,null,null,null,null,null,null,null,null,null,null,null,null,null,null,null,null,null,null,null,null,null,null,null,null,null,null,null,null,null,null,null,null,null,null,null,null,null,null,null,null,null,null,null,null,null,null,null,null,null,null,null,null,null,null,null,null,null,null,null,null,null,null,null,null,null,null,null,null,null,null,null,null,null,null,null,null,null,null,null,null,null,null,null,null,null,null,null,null,null,null,null,null,null,null,null,null,null,null,null,null,null,null,null,null,null,null,null,null,null,null,null,null,null,null,null,null,null,null,null,null,null,null,null,null,null,null,null,null,null,null,null,null,null,null,null,null,null,null,null,null,null,null,null,null,null,null,null,null,null,null,null,null,null,null,null,null,null,null,null,null,null,null,null,null,null,null,null,null,null,null,null,null,null,null,null,976,"","","","","","","","","","","","","","","","","","","","","","","","","","","","","","","","","","","","","","","","","","","","","","","","","","","","","","","","","","","","","","","","","","","","","","","","","","","","","","","","","","","","","","","","","","","","","","","","","","","","","","","","","","","","","","","","","","","","","","","","","","","","","","","","","","","","","","","","","","","","","","","","","","","","","","","","","","","","","","","","","","","","","","","","","","","","","","","","","",1,0,-1,0,0]
[null,null,null,null,null,null,986,{"$f":"IF(NE1006=1, START!$B$17, \"\")","v":""},{"$f":"IF(NE1006=1, START!$B$20, \"\")","v":""},null,null,null,null,null,null,null,null,null,null,null,null,null,null,null,null,null,null,null,null,null,null,null,null,null,null,null,null,null,null,null,null,null,null,null,null,null,null,null,null,null,null,null,null,null,null,null,null,null,null,null,null,null,null,null,null,null,null,null,null,null,null,null,null,null,null,null,null,null,null,null,null,null,null,null,null,null,null,null,null,null,null,null,null,null,null,null,null,null,null,null,null,null,null,null,null,null,null,null,null,null,null,null,null,null,null,null,null,null,null,null,null,null,null,null,null,null,null,null,null,null,null,null,null,null,null,null,null,null,null,null,null,null,null,null,null,null,null,null,null,null,null,null,null,null,null,null,null,null,null,null,null,null,null,null,null,null,null,null,null,null,null,null,null,null,null,null,null,null,null,null,null,null,null,null,null,null,null,986,"","","","","","","","","","","","","","","","","","","","","","","","","","","","","","","","","","","","","","","","","","","","","","","","","","","","","","","","","","","","","","","","","","","","","","","","","","","","","","","","","","","","","","","","","","","","","","","","","","","","","","","","","","","","","","","","","","","","","","","","","","","","","","","","","","","","","","","","","","","","","","","","","","","","","","","","","","","","","","","","","","","","","","","","","","","","","","","","","",1,0,-1,0,0]
[null,null,null,null,null,null,987,{"$f":"IF(NE1007=1, START!$B$17, \"\")","v":""},{"$f":"IF(NE1007=1, START!$B$20, \"\")","v":""},null,null,null,null,null,null,null,null,null,null,null,null,null,null,null,null,null,null,null,null,null,null,null,null,null,null,null,null,null,null,null,null,null,null,null,null,null,null,null,null,null,null,null,null,null,null,null,null,null,null,null,null,null,null,null,null,null,null,null,null,null,null,null,null,null,null,null,null,null,null,null,null,null,null,null,null,null,null,null,null,null,null,null,null,null,null,null,null,null,null,null,null,null,null,null,null,null,null,null,null,null,null,null,null,null,null,null,null,null,null,null,null,null,null,null,null,null,null,null,null,null,null,null,null,null,null,null,null,null,null,null,null,null,null,null,null,null,null,null,null,null,null,null,null,null,null,null,null,null,null,null,null,null,null,null,null,null,null,null,null,null,null,null,null,null,null,null,null,null,null,null,null,null,null,null,null,null,null,987,"","","","","","","","","","","","","","","","","","","","","","","","","","","","","","","","","","","","","","","","","","","","","","","","","","","","","","","","","","","","","","","","","","","","","","","","","","","","","","","","","","","","","","","","","","","","","","","","","","","","","","","","","","","","","","","","","","","","","","","","","","","","","","","","","","","","","","","","","","","","","","","","","","","","","","","","","","","","","","","","","","","","","","","","","","","","","","","","","",1,0,-1,0,0]
[null,null,null,null,null,null,988,{"$f":"IF(NE1008=1, START!$B$17, \"\")","v":""},{"$f":"IF(NE1008=1, START!$B$20, \"\")","v":""},null,null,null,null,null,null,null,null,null,null,null,null,null,null,null,null,null,null,null,null,null,null,null,null,null,null,null,null,null,null,null,null,null,null,null,null,null,null,null,null,null,null,null,null,null,null,null,null,null,null,null,null,null,null,null,null,null,null,null,null,null,null,null,null,null,null,null,null,null,null,null,null,null,null,null,null,null,null,null,null,null,null,null,null,null,null,null,null,null,null,null,null,null,null,null,null,null,null,null,null,null,null,null,null,null,null,null,null,null,null,null,null,null,null,null,null,null,null,null,null,null,null,null,null,null,null,null,null,null,null,null,null,null,null,null,null,null,null,null,null,null,null,null,null,null,null,null,null,null,null,null,null,null,null,null,null,null,null,null,null,null,null,null,null,null,null,null,null,null,null,null,null,null,null,null,null,null,null,988,"","","","","","","","","","","","","","","","","","","","","","","","","","","","","","","","","","","","","","","","","","","","","","","","","","","","","","","","","","","","","","","","","","","","","","","","","","","","","","","","","","","","","","","","","","","","","","","","","","","","","","","","","","","","","","","","","","","","","","","","","","","","","","","","","","","","","","","","","","","","","","","","","","","","","","","","","","","","","","","","","","","","","","","","","","","","","","","","","",1,0,-1,0,0]
[null,null,null,null,null,null,989,{"$f":"IF(NE1009=1, START!$B$17, \"\")","v":""},{"$f":"IF(NE1009=1, START!$B$20, \"\")","v":""},null,null,null,null,null,null,null,null,null,null,null,null,null,null,null,null,null,null,null,null,null,null,null,null,null,null,null,null,null,null,null,null,null,null,null,null,null,null,null,null,null,null,null,null,null,null,null,null,null,null,null,null,null,null,null,null,null,null,null,null,null,null,null,null,null,null,null,null,null,null,null,null,null,null,null,null,null,null,null,null,null,null,null,null,null,null,null,null,null,null,null,null,null,null,null,null,null,null,null,null,null,null,null,null,null,null,null,null,null,null,null,null,null,null,null,null,null,null,null,null,null,null,null,null,null,null,null,null,null,null,null,null,null,null,null,null,null,null,null,null,null,null,null,null,null,null,null,null,null,null,null,null,null,null,null,null,null,null,null,null,null,null,null,null,null,null,null,null,null,null,null,null,null,null,null,null,null,null,989,"","","","","","","","","","","","","","","","","","","","","","","","","","","","","","","","","","","","","","","","","","","","","","","","","","","","","","","","","","","","","","","","","","","","","","","","","","","","","","","","","","","","","","","","","","","","","","","","","","","","","","","","","","","","","","","","","","","","","","","","","","","","","","","","","","","","","","","","","","","","","","","","","","","","","","","","","","","","","","","","","","","","","","","","","","","","","","","","","",1,0,-1,0,0]
[null,null,null,null,null,null,990,{"$f":"IF(NE1010=1, START!$B$17, \"\")","v":""},{"$f":"IF(NE1010=1, START!$B$20, \"\")","v":""},null,null,null,null,null,null,null,null,null,null,null,null,null,null,null,null,null,null,null,null,null,null,null,null,null,null,null,null,null,null,null,null,null,null,null,null,null,null,null,null,null,null,null,null,null,null,null,null,null,null,null,null,null,null,null,null,null,null,null,null,null,null,null,null,null,null,null,null,null,null,null,null,null,null,null,null,null,null,null,null,null,null,null,null,null,null,null,null,null,null,null,null,null,null,null,null,null,null,null,null,null,null,null,null,null,null,null,null,null,null,null,null,null,null,null,null,null,null,null,null,null,null,null,null,null,null,null,null,null,null,null,null,null,null,null,null,null,null,null,null,null,null,null,null,null,null,null,null,null,null,null,null,null,null,null,null,null,null,null,null,null,null,null,null,null,null,null,null,null,null,null,null,null,null,null,null,null,null,990,"","","","","","","","","","","","","","","","","","","","","","","","","","","","","","","","","","","","","","","","","","","","","","","","","","","","","","","","","","","","","","","","","","","","","","","","","","","","","","","","","","","","","","","","","","","","","","","","","","","","","","","","","","","","","","","","","","","","","","","","","","","","","","","","","","","","","","","","","","","","","","","","","","","","","","","","","","","","","","","","","","","","","","","","","","","","","","","","","",1,0,-1,0,0]
[null,null,null,null,null,null,991,{"$f":"IF(NE1011=1, START!$B$17, \"\")","v":""},{"$f":"IF(NE1011=1, START!$B$20, \"\")","v":""},null,null,null,null,null,null,null,null,null,null,null,null,null,null,null,null,null,null,null,null,null,null,null,null,null,null,null,null,null,null,null,null,null,null,null,null,null,null,null,null,null,null,null,null,null,null,null,null,null,null,null,null,null,null,null,null,null,null,null,null,null,null,null,null,null,null,null,null,null,null,null,null,null,null,null,null,null,null,null,null,null,null,null,null,null,null,null,null,null,null,null,null,null,null,null,null,null,null,null,null,null,null,null,null,null,null,null,null,null,null,null,null,null,null,null,null,null,null,null,null,null,null,null,null,null,null,null,null,null,null,null,null,null,null,null,null,null,null,null,null,null,null,null,null,null,null,null,null,null,null,null,null,null,null,null,null,null,null,null,null,null,null,null,null,null,null,null,null,null,null,null,null,null,null,null,null,null,null,991,"","","","","","","","","","","","","","","","","","","","","","","","","","","","","","","","","","","","","","","","","","","","","","","","","","","","","","","","","","","","","","","","","","","","","","","","","","","","","","","","","","","","","","","","","","","","","","","","","","","","","","","","","","","","","","","","","","","","","","","","","","","","","","","","","","","","","","","","","","","","","","","","","","","","","","","","","","","","","","","","","","","","","","","","","","","","","","","","","",1,0,-1,0,0]
[null,null,null,null,null,null,992,{"$f":"IF(NE1012=1, START!$B$17, \"\")","v":""},{"$f":"IF(NE1012=1, START!$B$20, \"\")","v":""},null,null,null,null,null,null,null,null,null,null,null,null,null,null,null,null,null,null,null,null,null,null,null,null,null,null,null,null,null,null,null,null,null,null,null,null,null,null,null,null,null,null,null,null,null,null,null,null,null,null,null,null,null,null,null,null,null,null,null,null,null,null,null,null,null,null,null,null,null,null,null,null,null,null,null,null,null,null,null,null,null,null,null,null,null,null,null,null,null,null,null,null,null,null,null,null,null,null,null,null,null,null,null,null,null,null,null,null,null,null,null,null,null,null,null,null,null,null,null,null,null,null,null,null,null,null,null,null,null,null,null,null,null,null,null,null,null,null,null,null,null,null,null,null,null,null,null,null,null,null,null,null,null,null,null,null,null,null,null,null,null,null,null,null,null,null,null,null,null,null,null,null,null,null,null,null,null,null,992,"","","","","","","","","","","","","","","","","","","","","","","","","","","","","","","","","","","","","","","","","","","","","","","","","","","","","","","","","","","","","","","","","","","","","","","","","","","","","","","","","","","","","","","","","","","","","","","","","","","","","","","","","","","","","","","","","","","","","","","","","","","","","","","","","","","","","","","","","","","","","","","","","","","","","","","","","","","","","","","","","","","","","","","","","","","","","","","","","",1,0,-1,0,0]
[null,null,null,null,null,null,993,{"$f":"IF(NE1013=1, START!$B$17, \"\")","v":""},{"$f":"IF(NE1013=1, START!$B$20, \"\")","v":""},null,null,null,null,null,null,null,null,null,null,null,null,null,null,null,null,null,null,null,null,null,null,null,null,null,null,null,null,null,null,null,null,null,null,null,null,null,null,null,null,null,null,null,null,null,null,null,null,null,null,null,null,null,null,null,null,null,null,null,null,null,null,null,null,null,null,null,null,null,null,null,null,null,null,null,null,null,null,null,null,null,null,null,null,null,null,null,null,null,null,null,null,null,null,null,null,null,null,null,null,null,null,null,null,null,null,null,null,null,null,null,null,null,null,null,null,null,null,null,null,null,null,null,null,null,null,null,null,null,null,null,null,null,null,null,null,null,null,null,null,null,null,null,null,null,null,null,null,null,null,null,null,null,null,null,null,null,null,null,null,null,null,null,null,null,null,null,null,null,null,null,null,null,null,null,null,null,null,993,"","","","","","","","","","","","","","","","","","","","","","","","","","","","","","","","","","","","","","","","","","","","","","","","","","","","","","","","","","","","","","","","","","","","","","","","","","","","","","","","","","","","","","","","","","","","","","","","","","","","","","","","","","","","","","","","","","","","","","","","","","","","","","","","","","","","","","","","","","","","","","","","","","","","","","","","","","","","","","","","","","","","","","","","","","","","","","","","","",1,0,-1,0,0]
[null,null,null,null,null,null,994,{"$f":"IF(NE1014=1, START!$B$17, \"\")","v":""},{"$f":"IF(NE1014=1, START!$B$20, \"\")","v":""},null,null,null,null,null,null,null,null,null,null,null,null,null,null,null,null,null,null,null,null,null,null,null,null,null,null,null,null,null,null,null,null,null,null,null,null,null,null,null,null,null,null,null,null,null,null,null,null,null,null,null,null,null,null,null,null,null,null,null,null,null,null,null,null,null,null,null,null,null,null,null,null,null,null,null,null,null,null,null,null,null,null,null,null,null,null,null,null,null,null,null,null,null,null,null,null,null,null,null,null,null,null,null,null,null,null,null,null,null,null,null,null,null,null,null,null,null,null,null,null,null,null,null,null,null,null,null,null,null,null,null,null,null,null,null,null,null,null,null,null,null,null,null,null,null,null,null,null,null,null,null,null,null,null,null,null,null,null,null,null,null,null,null,null,null,null,null,null,null,null,null,null,null,null,null,null,null,null,994,"","","","","","","","","","","","","","","","","","","","","","","","","","","","","","","","","","","","","","","","","","","","","","","","","","","","","","","","","","","","","","","","","","","","","","","","","","","","","","","","","","","","","","","","","","","","","","","","","","","","","","","","","","","","","","","","","","","","","","","","","","","","","","","","","","","","","","","","","","","","","","","","","","","","","","","","","","","","","","","","","","","","","","","","","","","","","","","","","",1,0,-1,0,0]
[null,null,null,null,null,null,995,{"$f":"IF(NE1015=1, START!$B$17, \"\")","v":""},{"$f":"IF(NE1015=1, START!$B$20, \"\")","v":""},null,null,null,null,null,null,null,null,null,null,null,null,null,null,null,null,null,null,null,null,null,null,null,null,null,null,null,null,null,null,null,null,null,null,null,null,null,null,null,null,null,null,null,null,null,null,null,null,null,null,null,null,null,null,null,null,null,null,null,null,null,null,null,null,null,null,null,null,null,null,null,null,null,null,null,null,null,null,null,null,null,null,null,null,null,null,null,null,null,null,null,null,null,null,null,null,null,null,null,null,null,null,null,null,null,null,null,null,null,null,null,null,null,null,null,null,null,null,null,null,null,null,null,null,null,null,null,null,null,null,null,null,null,null,null,null,null,null,null,null,null,null,null,null,null,null,null,null,null,null,null,null,null,null,null,null,null,null,null,null,null,null,null,null,null,null,null,null,null,null,null,null,null,null,null,null,null,null,995,"","","","","","","","","","","","","","","","","","","","","","","","","","","","","","","","","","","","","","","","","","","","","","","","","","","","","","","","","","","","","","","","","","","","","","","","","","","","","","","","","","","","","","","","","","","","","","","","","","","","","","","","","","","","","","","","","","","","","","","","","","","","","","","","","","","","","","","","","","","","","","","","","","","","","","","","","","","","","","","","","","","","","","","","","","","","","","","","","",1,0,-1,0,0]
[null,null,null,null,null,null,996,{"$f":"IF(NE1016=1, START!$B$17, \"\")","v":""},{"$f":"IF(NE1016=1, START!$B$20, \"\")","v":""},null,null,null,null,null,null,null,null,null,null,null,null,null,null,null,null,null,null,null,null,null,null,null,null,null,null,null,null,null,null,null,null,null,null,null,null,null,null,null,null,null,null,null,null,null,null,null,null,null,null,null,null,null,null,null,null,null,null,null,null,null,null,null,null,null,null,null,null,null,null,null,null,null,null,null,null,null,null,null,null,null,null,null,null,null,null,null,null,null,null,null,null,null,null,null,null,null,null,null,null,null,null,null,null,null,null,null,null,null,null,null,null,null,null,null,null,null,null,null,null,null,null,null,null,null,null,null,null,null,null,null,null,null,null,null,null,null,null,null,null,null,null,null,null,null,null,null,null,null,null,null,null,null,null,null,null,null,null,null,null,null,null,null,null,null,null,null,null,null,null,null,null,null,null,null,null,null,null,996,"","","","","","","","","","","","","","","","","","","","","","","","","","","","","","","","","","","","","","","","","","","","","","","","","","","","","","","","","","","","","","","","","","","","","","","","","","","","","","","","","","","","","","","","","","","","","","","","","","","","","","","","","","","","","","","","","","","","","","","","","","","","","","","","","","","","","","","","","","","","","","","","","","","","","","","","","","","","","","","","","","","","","","","","","","","","","","","","","",1,0,-1,0,0]
[null,null,null,null,null,null,997,{"$f":"IF(NE1017=1, START!$B$17, \"\")","v":""},{"$f":"IF(NE1017=1, START!$B$20, \"\")","v":""},null,null,null,null,null,null,null,null,null,null,null,null,null,null,null,null,null,null,null,null,null,null,null,null,null,null,null,null,null,null,null,null,null,null,null,null,null,null,null,null,null,null,null,null,null,null,null,null,null,null,null,null,null,null,null,null,null,null,null,null,null,null,null,null,null,null,null,null,null,null,null,null,null,null,null,null,null,null,null,null,null,null,null,null,null,null,null,null,null,null,null,null,null,null,null,null,null,null,null,null,null,null,null,null,null,null,null,null,null,null,null,null,null,null,null,null,null,null,null,null,null,null,null,null,null,null,null,null,null,null,null,null,null,null,null,null,null,null,null,null,null,null,null,null,null,null,null,null,null,null,null,null,null,null,null,null,null,null,null,null,null,null,null,null,null,null,null,null,null,null,null,null,null,null,null,null,null,null,997,"","","","","","","","","","","","","","","","","","","","","","","","","","","","","","","","","","","","","","","","","","","","","","","","","","","","","","","","","","","","","","","","","","","","","","","","","","","","","","","","","","","","","","","","","","","","","","","","","","","","","","","","","","","","","","","","","","","","","","","","","","","","","","","","","","","","","","","","","","","","","","","","","","","","","","","","","","","","","","","","","","","","","","","","","","","","","","","","","",1,0,-1,0,0]
[null,null,null,null,null,null,998,{"$f":"IF(NE1018=1, START!$B$17, \"\")","v":""},{"$f":"IF(NE1018=1, START!$B$20, \"\")","v":""},null,null,null,null,null,null,null,null,null,null,null,null,null,null,null,null,null,null,null,null,null,null,null,null,null,null,null,null,null,null,null,null,null,null,null,null,null,null,null,null,null,null,null,null,null,null,null,null,null,null,null,null,null,null,null,null,null,null,null,null,null,null,null,null,null,null,null,null,null,null,null,null,null,null,null,null,null,null,null,null,null,null,null,null,null,null,null,null,null,null,null,null,null,null,null,null,null,null,null,null,null,null,null,null,null,null,null,null,null,null,null,null,null,null,null,null,null,null,null,null,null,null,null,null,null,null,null,null,null,null,null,null,null,null,null,null,null,null,null,null,null,null,null,null,null,null,null,null,null,null,null,null,null,null,null,null,null,null,null,null,null,null,null,null,null,null,null,null,null,null,null,null,null,null,null,null,null,null,998,"","","","","","","","","","","","","","","","","","","","","","","","","","","","","","","","","","","","","","","","","","","","","","","","","","","","","","","","","","","","","","","","","","","","","","","","","","","","","","","","","","","","","","","","","","","","","","","","","","","","","","","","","","","","","","","","","","","","","","","","","","","","","","","","","","","","","","","","","","","","","","","","","","","","","","","","","","","","","","","","","","","","","","","","","","","","","","","","","",1,0,-1,0,0]
[null,null,null,null,null,null,999,{"$f":"IF(NE1019=1, START!$B$17, \"\")","v":""},{"$f":"IF(NE1019=1, START!$B$20, \"\")","v":""},null,null,null,null,null,null,null,null,null,null,null,null,null,null,null,null,null,null,null,null,null,null,null,null,null,null,null,null,null,null,null,null,null,null,null,null,null,null,null,null,null,null,null,null,null,null,null,null,null,null,null,null,null,null,null,null,null,null,null,null,null,null,null,null,null,null,null,null,null,null,null,null,null,null,null,null,null,null,null,null,null,null,null,null,null,null,null,null,null,null,null,null,null,null,null,null,null,null,null,null,null,null,null,null,null,null,null,null,null,null,null,null,null,null,null,null,null,null,null,null,null,null,null,null,null,null,null,null,null,null,null,null,null,null,null,null,null,null,null,null,null,null,null,null,null,null,null,null,null,null,null,null,null,null,null,null,null,null,null,null,null,null,null,null,null,null,null,null,null,null,null,null,null,null,null,null,null,null,999,"","","","","","","","","","","","","","","","","","","","","","","","","","","","","","","","","","","","","","","","","","","","","","","","","","","","","","","","","","","","","","","","","","","","","","","","","","","","","","","","","","","","","","","","","","","","","","","","","","","","","","","","","","","","","","","","","","","","","","","","","","","","","","","","","","","","","","","","","","","","","","","","","","","","","","","","","","","","","","","","","","","","","","","","","","","","","","","","","",1,0,-1,0,0]
[null,null,null,null,null,null,1000,{"$f":"IF(NE1020=1, START!$B$17, \"\")","v":""},{"$f":"IF(NE1020=1, START!$B$20, \"\")","v":""},null,null,null,null,null,null,null,null,null,null,null,null,null,null,null,null,null,null,null,null,null,null,null,null,null,null,null,null,null,null,null,null,null,null,null,null,null,null,null,null,null,null,null,null,null,null,null,null,null,null,null,null,null,null,null,null,null,null,null,null,null,null,null,null,null,null,null,null,null,null,null,null,null,null,null,null,null,null,null,null,null,null,null,null,null,null,null,null,null,null,null,null,null,null,null,null,null,null,null,null,null,null,null,null,null,null,null,null,null,null,null,null,null,null,null,null,null,null,null,null,null,null,null,null,null,null,null,null,null,null,null,null,null,null,null,null,null,null,null,null,null,null,null,null,null,null,null,null,null,null,null,null,null,null,null,null,null,null,null,null,null,null,null,null,null,null,null,null,null,null,null,null,null,null,null,null,null,null,1000,"","","","","","","","","","","","","","","","","","","","","","","","","","","","","","","","","","","","","","","","","","","","","","","","","","","","","","","","","","","","","","","","","","","","","","","","","","","","","","","","","","","","","","","","","","","","","","","","","","","","","","","","","","","","","","","","","","","","","","","","","","","","","","","","","","","","","","","","","","","","","","","","","","","","","","","","","","","","","","","","","","","","","","","","","","","","","","","","","",1,0,-1,0,0]

{"sheet":"data_pp_pre","index":23,"n_rows":1,"n_cols":179,"rows_kept":1,"cut":false,"hidden":true,"merged":[]}
["prog_name","org_name","Tena1","Tena2","Conf1","Conf2","Conf3","Conf4","Conf5","Proa1","Proa2","Grow1","Grow2","Care1","Care2","Care3","Cult1","Glob1","Glob2","Glob3","Glob4","Inno1","Crit1","Crit2","Crit3","Prob1","Prob2","Prob3","Prob4","Prob5","Team1","Team2","Team3","Team4","Team5","Team6","Stak1","Stak2","Stak3","Stak4","Proj1","Emot1","Emot2","Emot3","Emot4","Emot5","Fina1","Phys1","Phys2","Nati1","Nati_pers1","Nati_pers2","Nati_pers3","Nati_pers4","Publ1","Trus1","Trus2","Trus3","Trus4","Soci1","Soci2","Open1","Open2","Empa1","Abil_comm1","Abil_comm2","Civi_comm1","Civi_comm2","Civi_comm3","Civi_comm4","Civi_comm5","Civi_comm6","Civi_comm7","Civi_env1","Civi_env2","Civi_env3","Civi_env4","Civi_env5","Civi_env6","Abil_govt1","Tena1","Tena2","Conf1","Conf2","Conf3","Conf4","Conf5","Proa1","Proa2","Grow1","Grow2","Care1","Care2","Care3","Cult1","Glob1","Glob2","Glob3","Glob4","Inno1","Crit1","Crit2","Crit3","Prob1","Prob2","Prob3","Prob4","Prob5","Team1","Team2","Team3","Team4","Team5","Team6","Stak1","Stak2","Stak3","Stak4","Proj1","Emot1","Emot2","Emot3","Emot4","Emot5","Fina1","Phys1","Phys2","Nati1","Nati_pers1","Nati_pers2","Nati_pers3","Nati_pers4","Publ1","Trus1","Trus2","Trus3","Trus4","Soci1","Soci2","Open1","Open2","Empa1","Abil_comm1","Abil_comm2","Civi_comm1","Civi_comm2","Civi_comm3","Civi_comm4","Civi_comm5","Civi_comm6","Civi_comm7","Civi_env1","Civi_env2","Civi_env3","Civi_env4","Civi_env5","Civi_env6","Abil_govt1","Prog_imp1","Prog_imp2","Prog_imp3","Prog_imp4","Prog_imp5","Feed1","Feed2","Feed3","Feed4","Feed5","Feed6","Feed7","Feed8","Feed9","Over1","Over2","Over3","Over4","Over5","Nric_Pre","Nric_Post"]

{"sheet":"4a_pp_pre_misc","index":24,"n_rows":81,"n_cols":5,"rows_kept":81,"cut":false,"hidden":true,"merged":[]}
[{"$f":"'Step 4A PP Pre'!#REF!","v":{"$error":"#REF!"}},{"$f":"'Step 4A PP Pre'!#REF!","v":{"$error":"#REF!"}},{"$f":"IF(AND(A1=1, B1=0), 1, 0)","v":{"$error":"#REF!"}},null,{"$f":"IF(SUM(C:C)=0, 0, 1)","v":{"$error":"#REF!"}}]
[{"$f":"'Step 4A PP Pre'!#REF!","v":{"$error":"#REF!"}},{"$f":"'Step 4A PP Pre'!#REF!","v":{"$error":"#REF!"}},{"$f":"IF(AND(A2=1, B2=0), 1, 0)","v":{"$error":"#REF!"}}]
[{"$f":"'Step 4A PP Pre'!#REF!","v":{"$error":"#REF!"}},{"$f":"'Step 4A PP Pre'!#REF!","v":{"$error":"#REF!"}},{"$error":"#REF!"}]
[{"$f":"'Step 4A PP Pre'!#REF!","v":{"$error":"#REF!"}},{"$f":"'Step 4A PP Pre'!#REF!","v":{"$error":"#REF!"}},{"$error":"#REF!"}]
[{"$f":"'Step 4A PP Pre'!#REF!","v":{"$error":"#REF!"}},{"$f":"'Step 4A PP Pre'!#REF!","v":{"$error":"#REF!"}},{"$error":"#REF!"}]
[{"$f":"'Step 4A PP Pre'!#REF!","v":{"$error":"#REF!"}},{"$f":"'Step 4A PP Pre'!#REF!","v":{"$error":"#REF!"}},{"$error":"#REF!"}]
[{"$f":"'Step 4A PP Pre'!#REF!","v":{"$error":"#REF!"}},{"$f":"'Step 4A PP Pre'!#REF!","v":{"$error":"#REF!"}},{"$error":"#REF!"}]
[{"$f":"'Step 4A PP Pre'!#REF!","v":{"$error":"#REF!"}},{"$f":"'Step 4A PP Pre'!#REF!","v":{"$error":"#REF!"}},{"$error":"#REF!"}]
[{"$f":"'Step 4A PP Pre'!#REF!","v":{"$error":"#REF!"}},{"$f":"'Step 4A PP Pre'!#REF!","v":{"$error":"#REF!"}},{"$error":"#REF!"}]
[{"$f":"'Step 4A PP Pre'!#REF!","v":{"$error":"#REF!"}},{"$f":"'Step 4A PP Pre'!#REF!","v":{"$error":"#REF!"}},{"$error":"#REF!"}]
[{"$f":"'Step 4A PP Pre'!#REF!","v":{"$error":"#REF!"}},{"$f":"'Step 4A PP Pre'!#REF!","v":{"$error":"#REF!"}},{"$error":"#REF!"}]
[{"$f":"'Step 4A PP Pre'!#REF!","v":{"$error":"#REF!"}},{"$f":"'Step 4A PP Pre'!#REF!","v":{"$error":"#REF!"}},{"$error":"#REF!"}]
[{"$f":"'Step 4A PP Pre'!#REF!","v":{"$error":"#REF!"}},{"$f":"'Step 4A PP Pre'!#REF!","v":{"$error":"#REF!"}},{"$error":"#REF!"}]
[{"$f":"'Step 4A PP Pre'!#REF!","v":{"$error":"#REF!"}},{"$f":"'Step 4A PP Pre'!#REF!","v":{"$error":"#REF!"}},{"$error":"#REF!"}]
[{"$f":"'Step 4A PP Pre'!#REF!","v":{"$error":"#REF!"}},{"$f":"'Step 4A PP Pre'!#REF!","v":{"$error":"#REF!"}},{"$error":"#REF!"}]
[{"$f":"'Step 4A PP Pre'!#REF!","v":{"$error":"#REF!"}},{"$f":"'Step 4A PP Pre'!#REF!","v":{"$error":"#REF!"}},{"$error":"#REF!"}]
[{"$f":"'Step 4A PP Pre'!#REF!","v":{"$error":"#REF!"}},{"$f":"'Step 4A PP Pre'!#REF!","v":{"$error":"#REF!"}},{"$error":"#REF!"}]
[{"$f":"'Step 4A PP Pre'!#REF!","v":{"$error":"#REF!"}},{"$f":"'Step 4A PP Pre'!#REF!","v":{"$error":"#REF!"}},{"$error":"#REF!"}]
[{"$f":"'Step 4A PP Pre'!#REF!","v":{"$error":"#REF!"}},{"$f":"'Step 4A PP Pre'!#REF!","v":{"$error":"#REF!"}},{"$error":"#REF!"}]
[{"$f":"'Step 4A PP Pre'!#REF!","v":{"$error":"#REF!"}},{"$f":"'Step 4A PP Pre'!#REF!","v":{"$error":"#REF!"}},{"$error":"#REF!"}]
[{"$f":"'Step 4A PP Pre'!#REF!","v":{"$error":"#REF!"}},{"$f":"'Step 4A PP Pre'!#REF!","v":{"$error":"#REF!"}},{"$error":"#REF!"}]
[{"$f":"'Step 4A PP Pre'!#REF!","v":{"$error":"#REF!"}},{"$f":"'Step 4A PP Pre'!#REF!","v":{"$error":"#REF!"}},{"$error":"#REF!"}]
[{"$f":"'Step 4A PP Pre'!#REF!","v":{"$error":"#REF!"}},{"$f":"'Step 4A PP Pre'!#REF!","v":{"$error":"#REF!"}},{"$error":"#REF!"}]
[{"$f":"'Step 4A PP Pre'!#REF!","v":{"$error":"#REF!"}},{"$f":"'Step 4A PP Pre'!#REF!","v":{"$error":"#REF!"}},{"$error":"#REF!"}]
[{"$f":"'Step 4A PP Pre'!#REF!","v":{"$error":"#REF!"}},{"$f":"'Step 4A PP Pre'!#REF!","v":{"$error":"#REF!"}},{"$error":"#REF!"}]
[{"$f":"'Step 4A PP Pre'!#REF!","v":{"$error":"#REF!"}},{"$f":"'Step 4A PP Pre'!#REF!","v":{"$error":"#REF!"}},{"$error":"#REF!"}]
[{"$f":"'Step 4A PP Pre'!#REF!","v":{"$error":"#REF!"}},{"$f":"'Step 4A PP Pre'!#REF!","v":{"$error":"#REF!"}},{"$error":"#REF!"}]
[{"$f":"'Step 4A PP Pre'!#REF!","v":{"$error":"#REF!"}},{"$f":"'Step 4A PP Pre'!#REF!","v":{"$error":"#REF!"}},{"$error":"#REF!"}]
[{"$f":"'Step 4A PP Pre'!#REF!","v":{"$error":"#REF!"}},{"$f":"'Step 4A PP Pre'!#REF!","v":{"$error":"#REF!"}},{"$error":"#REF!"}]
[{"$f":"'Step 4A PP Pre'!#REF!","v":{"$error":"#REF!"}},{"$f":"'Step 4A PP Pre'!#REF!","v":{"$error":"#REF!"}},{"$error":"#REF!"}]
[{"$f":"'Step 4A PP Pre'!#REF!","v":{"$error":"#REF!"}},{"$f":"'Step 4A PP Pre'!#REF!","v":{"$error":"#REF!"}},{"$error":"#REF!"}]
[{"$f":"'Step 4A PP Pre'!#REF!","v":{"$error":"#REF!"}},{"$f":"'Step 4A PP Pre'!#REF!","v":{"$error":"#REF!"}},{"$error":"#REF!"}]
[{"$f":"'Step 4A PP Pre'!#REF!","v":{"$error":"#REF!"}},{"$f":"'Step 4A PP Pre'!#REF!","v":{"$error":"#REF!"}},{"$error":"#REF!"}]
[{"$f":"'Step 4A PP Pre'!#REF!","v":{"$error":"#REF!"}},{"$f":"'Step 4A PP Pre'!#REF!","v":{"$error":"#REF!"}},{"$error":"#REF!"}]
[{"$f":"'Step 4A PP Pre'!#REF!","v":{"$error":"#REF!"}},{"$f":"'Step 4A PP Pre'!#REF!","v":{"$error":"#REF!"}},{"$error":"#REF!"}]
[{"$f":"'Step 4A PP Pre'!#REF!","v":{"$error":"#REF!"}},{"$f":"'Step 4A PP Pre'!#REF!","v":{"$error":"#REF!"}},{"$error":"#REF!"}]
[{"$f":"'Step 4A PP Pre'!#REF!","v":{"$error":"#REF!"}},{"$f":"'Step 4A PP Pre'!#REF!","v":{"$error":"#REF!"}},{"$error":"#REF!"}]
[{"$f":"'Step 4A PP Pre'!#REF!","v":{"$error":"#REF!"}},{"$f":"'Step 4A PP Pre'!#REF!","v":{"$error":"#REF!"}},{"$error":"#REF!"}]
[{"$f":"'Step 4A PP Pre'!#REF!","v":{"$error":"#REF!"}},{"$f":"'Step 4A PP Pre'!#REF!","v":{"$error":"#REF!"}},{"$error":"#REF!"}]
[{"$f":"'Step 4A PP Pre'!#REF!","v":{"$error":"#REF!"}},{"$f":"'Step 4A PP Pre'!#REF!","v":{"$error":"#REF!"}},{"$error":"#REF!"}]
[{"$f":"'Step 4A PP Pre'!#REF!","v":{"$error":"#REF!"}},{"$f":"'Step 4A PP Pre'!#REF!","v":{"$error":"#REF!"}},{"$error":"#REF!"}]
[{"$f":"'Step 4A PP Pre'!#REF!","v":{"$error":"#REF!"}},{"$f":"'Step 4A PP Pre'!#REF!","v":{"$error":"#REF!"}},{"$error":"#REF!"}]
[{"$f":"'Step 4A PP Pre'!#REF!","v":{"$error":"#REF!"}},{"$f":"'Step 4A PP Pre'!#REF!","v":{"$error":"#REF!"}},{"$error":"#REF!"}]
[{"$f":"'Step 4A PP Pre'!#REF!","v":{"$error":"#REF!"}},{"$f":"'Step 4A PP Pre'!#REF!","v":{"$error":"#REF!"}},{"$error":"#REF!"}]
[{"$f":"'Step 4A PP Pre'!#REF!","v":{"$error":"#REF!"}},{"$f":"'Step 4A PP Pre'!#REF!","v":{"$error":"#REF!"}},{"$error":"#REF!"}]
[{"$f":"'Step 4A PP Pre'!#REF!","v":{"$error":"#REF!"}},{"$f":"'Step 4A PP Pre'!#REF!","v":{"$error":"#REF!"}},{"$error":"#REF!"}]
[{"$f":"'Step 4A PP Pre'!#REF!","v":{"$error":"#REF!"}},{"$f":"'Step 4A PP Pre'!#REF!","v":{"$error":"#REF!"}},{"$error":"#REF!"}]
[{"$f":"'Step 4A PP Pre'!#REF!","v":{"$error":"#REF!"}},{"$f":"'Step 4A PP Pre'!#REF!","v":{"$error":"#REF!"}},{"$error":"#REF!"}]
[{"$f":"'Step 4A PP Pre'!#REF!","v":{"$error":"#REF!"}},{"$f":"'Step 4A PP Pre'!#REF!","v":{"$error":"#REF!"}},{"$error":"#REF!"}]
[{"$f":"'Step 4A PP Pre'!#REF!","v":{"$error":"#REF!"}},{"$f":"'Step 4A PP Pre'!#REF!","v":{"$error":"#REF!"}},{"$error":"#REF!"}]
[{"$f":"'Step 4A PP Pre'!#REF!","v":{"$error":"#REF!"}},{"$f":"'Step 4A PP Pre'!#REF!","v":{"$error":"#REF!"}},{"$error":"#REF!"}]
[{"$f":"'Step 4A PP Pre'!#REF!","v":{"$error":"#REF!"}},{"$f":"'Step 4A PP Pre'!#REF!","v":{"$error":"#REF!"}},{"$error":"#REF!"}]
[{"$f":"'Step 4A PP Pre'!#REF!","v":{"$error":"#REF!"}},{"$f":"'Step 4A PP Pre'!#REF!","v":{"$error":"#REF!"}},{"$error":"#REF!"}]
[{"$f":"'Step 4A PP Pre'!#REF!","v":{"$error":"#REF!"}},{"$f":"'Step 4A PP Pre'!#REF!","v":{"$error":"#REF!"}},{"$error":"#REF!"}]
[{"$f":"'Step 4A PP Pre'!#REF!","v":{"$error":"#REF!"}},{"$f":"'Step 4A PP Pre'!#REF!","v":{"$error":"#REF!"}},{"$error":"#REF!"}]
[{"$f":"'Step 4A PP Pre'!#REF!","v":{"$error":"#REF!"}},{"$f":"'Step 4A PP Pre'!#REF!","v":{"$error":"#REF!"}},{"$error":"#REF!"}]
[{"$f":"'Step 4A PP Pre'!#REF!","v":{"$error":"#REF!"}},{"$f":"'Step 4A PP Pre'!#REF!","v":{"$error":"#REF!"}},{"$error":"#REF!"}]
[{"$f":"'Step 4A PP Pre'!#REF!","v":{"$error":"#REF!"}},{"$f":"'Step 4A PP Pre'!#REF!","v":{"$error":"#REF!"}},{"$error":"#REF!"}]
[{"$f":"'Step 4A PP Pre'!#REF!","v":{"$error":"#REF!"}},{"$f":"'Step 4A PP Pre'!#REF!","v":{"$error":"#REF!"}},{"$error":"#REF!"}]
[{"$f":"'Step 4A PP Pre'!#REF!","v":{"$error":"#REF!"}},{"$f":"'Step 4A PP Pre'!#REF!","v":{"$error":"#REF!"}},{"$error":"#REF!"}]
[{"$f":"'Step 4A PP Pre'!#REF!","v":{"$error":"#REF!"}},{"$f":"'Step 4A PP Pre'!#REF!","v":{"$error":"#REF!"}},{"$error":"#REF!"}]
[{"$f":"'Step 4A PP Pre'!#REF!","v":{"$error":"#REF!"}},{"$f":"'Step 4A PP Pre'!#REF!","v":{"$error":"#REF!"}},{"$error":"#REF!"}]
[{"$f":"'Step 4A PP Pre'!#REF!","v":{"$error":"#REF!"}},{"$f":"'Step 4A PP Pre'!#REF!","v":{"$error":"#REF!"}},{"$error":"#REF!"}]
[{"$f":"'Step 4A PP Pre'!#REF!","v":{"$error":"#REF!"}},{"$f":"'Step 4A PP Pre'!#REF!","v":{"$error":"#REF!"}},{"$error":"#REF!"}]
[{"$f":"'Step 4A PP Pre'!#REF!","v":{"$error":"#REF!"}},{"$f":"'Step 4A PP Pre'!#REF!","v":{"$error":"#REF!"}},{"$error":"#REF!"}]
[{"$f":"'Step 4A PP Pre'!#REF!","v":{"$error":"#REF!"}},{"$f":"'Step 4A PP Pre'!#REF!","v":{"$error":"#REF!"}},{"$f":"IF(AND(A66=1, B66=0), 1, 0)","v":{"$error":"#REF!"}}]
[{"$f":"'Step 4A PP Pre'!#REF!","v":{"$error":"#REF!"}},{"$f":"'Step 4A PP Pre'!#REF!","v":{"$error":"#REF!"}},{"$error":"#REF!"}]
[{"$f":"'Step 4A PP Pre'!#REF!","v":{"$error":"#REF!"}},{"$f":"'Step 4A PP Pre'!#REF!","v":{"$error":"#REF!"}},{"$error":"#REF!"}]
[{"$f":"'Step 4A PP Pre'!#REF!","v":{"$error":"#REF!"}},{"$f":"'Step 4A PP Pre'!#REF!","v":{"$error":"#REF!"}},{"$error":"#REF!"}]
[{"$f":"'Step 4A PP Pre'!#REF!","v":{"$error":"#REF!"}},{"$f":"'Step 4A PP Pre'!#REF!","v":{"$error":"#REF!"}},{"$error":"#REF!"}]
[{"$f":"'Step 4A PP Pre'!#REF!","v":{"$error":"#REF!"}},{"$f":"'Step 4A PP Pre'!#REF!","v":{"$error":"#REF!"}},{"$error":"#REF!"}]
[{"$f":"'Step 4A PP Pre'!#REF!","v":{"$error":"#REF!"}},{"$f":"'Step 4A PP Pre'!#REF!","v":{"$error":"#REF!"}},{"$error":"#REF!"}]
[{"$f":"'Step 4A PP Pre'!#REF!","v":{"$error":"#REF!"}},{"$f":"'Step 4A PP Pre'!#REF!","v":{"$error":"#REF!"}},{"$error":"#REF!"}]
[{"$f":"'Step 4A PP Pre'!#REF!","v":{"$error":"#REF!"}},{"$f":"'Step 4A PP Pre'!#REF!","v":{"$error":"#REF!"}},{"$error":"#REF!"}]
[{"$f":"'Step 4A PP Pre'!#REF!","v":{"$error":"#REF!"}},{"$f":"'Step 4A PP Pre'!#REF!","v":{"$error":"#REF!"}},{"$error":"#REF!"}]
[{"$f":"'Step 4A PP Pre'!#REF!","v":{"$error":"#REF!"}},{"$f":"'Step 4A PP Pre'!#REF!","v":{"$error":"#REF!"}},{"$error":"#REF!"}]
[{"$f":"'Step 4A PP Pre'!#REF!","v":{"$error":"#REF!"}},{"$f":"'Step 4A PP Pre'!#REF!","v":{"$error":"#REF!"}},{"$error":"#REF!"}]
[{"$f":"'Step 4A PP Pre'!#REF!","v":{"$error":"#REF!"}},{"$f":"'Step 4A PP Pre'!#REF!","v":{"$error":"#REF!"}},{"$error":"#REF!"}]
[{"$f":"'Step 4A PP Pre'!#REF!","v":{"$error":"#REF!"}},{"$f":"'Step 4A PP Pre'!#REF!","v":{"$error":"#REF!"}},{"$error":"#REF!"}]
[{"$f":"'Step 4A PP Pre'!#REF!","v":{"$error":"#REF!"}},{"$f":"'Step 4A PP Pre'!#REF!","v":{"$error":"#REF!"}},{"$error":"#REF!"}]
[{"$f":"'Step 4A PP Pre'!#REF!","v":{"$error":"#REF!"}},{"$f":"'Step 4A PP Pre'!#REF!","v":{"$error":"#REF!"}},{"$error":"#REF!"}]

{"sheet":"Step 4B PP Post","index":25,"n_rows":1020,"n_cols":371,"rows_kept":139,"cut":true,"hidden":true,"merged":[],"bounds":{"rows_first":62,"rows_last":15,"rows_between":62,"halvings":5}}
[null,"Step 4B: Data Entry (Post-survey)"]
[null,null,null,null,{"$f":"COUNTA(data_pp_post!FW:FW)-1","v":0}]
[null,"Please key in the data from your survey on the right. You should input the numbers corresponding to the correct response as provided by the coding scheme.",null,null,null,null,null,null,null,null,null,null,null,null,null,null,null,null,null,null,null,null,null,null,null,null,null,null,null,null,null,null,null,null,null,null,null,null,null,null,null,null,null,null,null,null,null,null,null,null,null,null,null,null,null,null,null,null,null,null,null,null,null,null,null,null,null,null,null,null,null,null,null,null,null,null,null,null,null,null,null,null,null,null,null,null,null,null,null,null,null,null,null,null,null,null,null,null,null,null,null,null,null,null,null,null,null,null,null,null,null,null,null,null,null,null,null,null,null,null,null,null,null,null,null,null,null,null,null,null,null,null,null,null,null,null,null,null,null,null,null,null,null,null,null,null,null,null,null,null,null,null,null,null,null,null,null,null,null,null,null,null,null,null,null,"Coding Scheme","Coding Scheme",null,null,null,null,null,null,null,null,null,null,null,"Coding Scheme",null,"Coding Scheme",null,"Coding Scheme"]
[null,null,null,null,null,null,null,null,null,null,null,null,null,null,null,null,null,null,null,null,null,null,null,null,null,null,null,null,null,null,null,null,null,null,null,null,null,null,null,null,null,null,null,null,null,null,null,null,null,null,null,null,null,null,null,null,null,null,null,null,null,null,null,null,null,null,null,null,null,null,null,null,null,null,null,null,null,null,null,null,null,null,null,null,null,null,null,null,null,null,null,null,null,null,null,null,null,null,null,null,null,null,null,null,null,null,null,null,null,null,null,null,null,null,null,null,null,null,null,null,null,null,null,null,null,null,null,null,null,null,null,null,null,null,null,null,null,null,null,null,null,null,null,null,null,null,null,null,null,null,null,null,null,null,null,null,null,null,null,null,null,null,null,null,null,"1 - Too Slow","1 - Too Slow",null,null,null,null,null,null,null,null,null,null,null,"1 - Very Poor",null,"1 - Very Poor",null,"1 - Yes"]
[null,"Note that columns must be pasted individually.",null,null,null,null,null,null,null,null,null,null,null,null,null,null,null,null,null,null,null,null,null,null,null,null,null,null,null,null,null,null,null,null,null,null,null,null,null,null,null,null,null,null,null,null,null,null,null,null,null,null,null,null,null,null,null,null,null,null,null,null,null,null,null,null,null,null,null,null,null,null,null,null,null,null,null,null,null,null,null,null,null,null,null,null,null,null,null,null,null,null,null,null,null,null,null,null,null,null,null,null,null,null,null,null,null,null,null,null,null,null,null,null,null,null,null,null,null,null,null,null,null,null,null,null,null,null,null,null,null,null,null,null,null,null,null,null,null,null,null,null,null,null,null,null,null,null,null,null,null,null,null,null,null,null,null,null,null,null,null,null,null,null,null,"2 - Slow","2 - Slow",null,null,null,null,null,null,null,null,null,null,null,"2 - Poor",null,"2 - Poor",null,"2 - No"]
[null,"For questions on a 5-point likert scale of strongly disagree, disagree, neither agree nor disagree, agree, and strongly agree, please code 1,2,3,4,5 respectively. Use code 99 for blanks/NA. For other questions, the coding scheme is provided.",null,null,null,null,null,null,null,null,null,null,null,null,null,null,null,null,null,null,null,null,null,null,null,null,null,null,null,null,null,null,null,null,null,null,null,null,null,null,null,null,null,null,null,null,null,null,null,null,null,null,null,null,null,null,null,null,null,null,null,null,null,null,null,null,null,null,null,null,null,null,null,null,null,null,null,null,null,null,null,null,null,null,null,null,null,null,null,null,null,null,null,null,null,null,null,null,null,null,null,null,null,null,null,null,null,null,null,null,null,null,null,null,null,null,null,null,null,null,null,null,null,null,null,null,null,null,null,null,null,null,null,null,null,null,null,null,null,null,null,null,null,null,null,null,null,null,null,null,null,null,null,null,null,null,null,null,null,null,null,null,null,null,null,"3 - Just Right","3 - Just Right",null,null,null,null,null,null,null,null,null,null,null,"3 - Fair",null,"3 - Fair",null,"99 - 99 - NA/ Blank"]
[null,null,null,null,null,null,null,null,null,null,null,null,null,null,null,null,null,null,null,null,null,null,null,null,null,null,null,null,null,null,null,null,null,null,null,null,null,null,null,null,null,null,null,null,null,null,null,null,null,null,null,null,null,null,null,null,null,null,null,null,null,null,null,null,null,null,null,null,null,null,null,null,null,null,null,null,null,null,null,null,null,null,null,null,null,null,null,null,null,null,null,null,null,null,null,null,null,null,null,null,null,null,null,null,null,null,null,null,null,null,null,null,null,null,null,null,null,null,null,null,null,null,null,null,null,null,null,null,null,null,null,null,null,null,null,null,null,null,null,null,null,null,null,null,null,null,null,null,null,null,null,null,null,null,null,null,null,null,null,null,null,null,null,null,null,"4 - Long","4 - Fast",null,null,null,null,null,null,null,null,null,null,null,"4 - Good",null,"4 - Good"]
[null,null,null,null,null,null,null,null,null,null,null,null,null,null,null,null,null,null,null,null,null,null,null,null,null,null,null,null,null,null,null,null,null,null,null,null,null,null,null,null,null,null,null,null,null,null,null,null,null,null,null,null,null,null,null,null,null,null,null,null,null,null,null,null,null,null,null,null,null,null,null,null,null,null,null,null,null,null,null,null,null,null,null,null,null,null,null,null,null,null,null,null,null,null,null,null,null,null,null,null,null,null,null,null,null,null,null,null,null,null,null,null,null,null,null,null,null,null,null,null,null,null,null,null,null,null,null,null,null,null,null,null,null,null,null,null,null,null,null,null,null,null,null,null,null,null,null,null,null,null,null,null,null,null,null,null,null,null,null,null,null,null,null,null,null,"5 - Too Long","5 - Too Fast",null,null,null,null,null,null,null,null,null,null,null,"5 - Very Good",null,"5 - Very Good"]
[null,null,null,null,null,null,null,null,null,null,null,null,null,null,null,null,null,null,null,null,null,null,null,null,null,null,null,null,null,null,null,null,null,null,null,null,null,null,null,null,null,null,null,null,null,null,null,null,null,null,null,null,null,null,null,null,null,null,null,null,null,null,null,null,null,null,null,null,null,null,null,null,null,null,null,null,null,null,null,null,null,null,null,null,null,null,null,null,null,null,null,null,null,null,null,null,null,null,null,null,null,null,null,null,null,null,null,null,null,null,null,null,null,null,null,null,null,null,null,null,null,null,null,null,null,null,null,null,null,null,null,null,null,null,null,null,null,null,null,null,null,null,null,null,null,null,null,null,null,null,null,null,null,null,null,null,null,null,null,null,null,null,null,null,null,"99 - NA/ Blank","NA/ Blank",null,null,null,null,null,null,null,null,null,null,null,"99 - NA/ Blank",null,"99 - NA/ Blank"]
[]
[null,null,null,null,null,null,"overall use",0,0,{"$f":"IF('Step 3A'!D5=\"Combined Pre/Post Survey\", J14, J17)*IF(J19=\"Post\", 1, 0)","v":0},{"$f":"IF('Step 3A'!$D$5=\"Combined Pre/Post Survey\", K14, K17)","v":0},{"$f":"IF('Step 3A'!$D$5=\"Combined Pre/Post Survey\", L14, L17)","v":0},{"$f":"IF('Step 3A'!$D$5=\"Combined Pre/Post Survey\", M14, M17)","v":0},{"$f":"IF('Step 3A'!$D$5=\"Combined Pre/Post Survey\", N14, N17)","v":0},{"$f":"IF('Step 3A'!$D$5=\"Combined Pre/Post Survey\", O14, O17)","v":0},{"$f":"IF('Step 3A'!$D$5=\"Combined Pre/Post Survey\", P14, P17)","v":0},{"$f":"IF('Step 3A'!$D$5=\"Combined Pre/Post Survey\", Q14, Q17)","v":0},{"$f":"IF('Step 3A'!$D$5=\"Combined Pre/Post Survey\", R14, R17)","v":0},{"$f":"IF('Step 3A'!$D$5=\"Combined Pre/Post Survey\", S14, S17)","v":0},{"$f":"IF('Step 3A'!$D$5=\"Combined Pre/Post Survey\", T14, T17)","v":0},{"$f":"IF('Step 3A'!$D$5=\"Combined Pre/Post Survey\", U14, U17)","v":0},{"$f":"IF('Step 3A'!$D$5=\"Combined Pre/Post Survey\", V14, V17)","v":0},{"$f":"IF('Step 3A'!$D$5=\"Combined Pre/Post Survey\", W14, W17)","v":0},{"$f":"IF('Step 3A'!$D$5=\"Combined Pre/Post Survey\", X14, X17)","v":0},{"$f":"IF('Step 3A'!$D$5=\"Combined Pre/Post Survey\", Y14, Y17)","v":0},{"$f":"IF('Step 3A'!$D$5=\"Combined Pre/Post Survey\", Z14, Z17)","v":0},{"$f":"IF('Step 3A'!$D$5=\"Combined Pre/Post Survey\", AA14, AA17)","v":0},{"$f":"IF('Step 3A'!$D$5=\"Combined Pre/Post Survey\", AB14, AB17)","v":0},{"$f":"IF('Step 3A'!$D$5=\"Combined Pre/Post Survey\", AC14, AC17)","v":0},{"$f":"IF('Step 3A'!$D$5=\"Combined Pre/Post Survey\", AD14, AD17)","v":0},{"$f":"IF('Step 3A'!$D$5=\"Combined Pre/Post Survey\", AE14, AE17)","v":0},{"$f":"IF('Step 3A'!$D$5=\"Combined Pre/Post Survey\", AF14, AF17)","v":0},{"$f":"IF('Step 3A'!$D$5=\"Combined Pre/Post Survey\", AG14, AG17)","v":0},{"$f":"IF('Step 3A'!$D$5=\"Combined Pre/Post Survey\", AH14, AH17)","v":0},{"$f":"IF('Step 3A'!$D$5=\"Combined Pre/Post Survey\", AI14, AI17)","v":0},{"$f":"IF('Step 3A'!$D$5=\"Combined Pre/Post Survey\", AJ14, AJ17)","v":0},{"$f":"IF('Step 3A'!$D$5=\"Combined Pre/Post Survey\", AK14, AK17)","v":0},{"$f":"IF('Step 3A'!$D$5=\"Combined Pre/Post Survey\", AL14, AL17)","v":0},{"$f":"IF('Step 3A'!$D$5=\"Combined Pre/Post Survey\", AM14, AM17)","v":0},{"$f":"IF('Step 3A'!$D$5=\"Combined Pre/Post Survey\", AN14, AN17)","v":0},{"$f":"IF('Step 3A'!$D$5=\"Combined Pre/Post Survey\", AO14, AO17)","v":0},{"$f":"IF('Step 3A'!$D$5=\"Combined Pre/Post Survey\", AP14, AP17)","v":0},{"$f":"IF('Step 3A'!$D$5=\"Combined Pre/Post Survey\", AQ14, AQ17)","v":0},{"$f":"IF('Step 3A'!$D$5=\"Combined Pre/Post Survey\", AR14, AR17)","v":0},{"$f":"IF('Step 3A'!$D$5=\"Combined Pre/Post Survey\", AS14, AS17)","v":0},{"$f":"IF('Step 3A'!$D$5=\"Combined Pre/Post Survey\", AT14, AT17)","v":0},{"$f":"IF('Step 3A'!$D$5=\"Combined Pre/Post Survey\", AU14, AU17)","v":0},{"$f":"IF('Step 3A'!$D$5=\"Combined Pre/Post Survey\", AV14, AV17)","v":0},{"$f":"IF('Step 3A'!$D$5=\"Combined Pre/Post Survey\", AW14, AW17)","v":0},{"$f":"IF('Step 3A'!$D$5=\"Combined Pre/Post Survey\", AX14, AX17)","v":0},{"$f":"IF('Step 3A'!$D$5=\"Combined Pre/Post Survey\", AY14, AY17)","v":0},{"$f":"IF('Step 3A'!$D$5=\"Combined Pre/Post Survey\", AZ14, AZ17)","v":0},{"$f":"IF('Step 3A'!$D$5=\"Combined Pre/Post Survey\", BA14, BA17)","v":0},{"$f":"IF('Step 3A'!$D$5=\"Combined Pre/Post Survey\", BB14, BB17)","v":0},{"$f":"IF('Step 3A'!$D$5=\"Combined Pre/Post Survey\", BC14, BC17)","v":0},{"$f":"IF('Step 3A'!$D$5=\"Combined Pre/Post Survey\", BD14, BD17)","v":0},{"$f":"IF('Step 3A'!$D$5=\"Combined Pre/Post Survey\", BE14, BE17)","v":0},{"$f":"IF('Step 3A'!$D$5=\"Combined Pre/Post Survey\", BF14, BF17)","v":0},{"$f":"IF('Step 3A'!$D$5=\"Combined Pre/Post Survey\", BG14, BG17)","v":0},{"$f":"IF('Step 3A'!$D$5=\"Combined Pre/Post Survey\", BH14, BH17)","v":0},{"$f":"IF('Step 3A'!$D$5=\"Combined Pre/Post Survey\", BI14, BI17)","v":0},{"$f":"IF('Step 3A'!$D$5=\"Combined Pre/Post Survey\", BJ14, BJ17)","v":0},{"$f":"IF('Step 3A'!$D$5=\"Combined Pre/Post Survey\", BK14, BK17)","v":0},{"$f":"IF('Step 3A'!$D$5=\"Combined Pre/Post Survey\", BL14, BL17)","v":0},{"$f":"IF('Step 3A'!$D$5=\"Combined Pre/Post Survey\", BM14, BM17)","v":0},{"$f":"IF('Step 3A'!$D$5=\"Combined Pre/Post Survey\", BN14, BN17)","v":0},{"$f":"IF('Step 3A'!$D$5=\"Combined Pre/Post Survey\", BO14, BO17)","v":0},{"$f":"IF('Step 3A'!$D$5=\"Combined Pre/Post Survey\", BP14, BP17)","v":0},{"$f":"IF('Step 3A'!$D$5=\"Combined Pre/Post Survey\", BQ14, BQ17)","v":0},{"$f":"IF('Step 3A'!$D$5=\"Combined Pre/Post Survey\", BR14, BR17)","v":0},{"$f":"IF('Step 3A'!$D$5=\"Combined Pre/Post Survey\", BS14, BS17)","v":0},{"$f":"IF('Step 3A'!$D$5=\"Combined Pre/Post Survey\", BT14, BT17)","v":0},{"$f":"IF('Step 3A'!$D$5=\"Combined Pre/Post Survey\", BU14, BU17)","v":0},{"$f":"IF('Step 3A'!$D$5=\"Combined Pre/Post Survey\", BV14, BV17)","v":0},{"$f":"IF('Step 3A'!$D$5=\"Combined Pre/Post Survey\", BW14, BW17)","v":0},{"$f":"IF('Step 3A'!$D$5=\"Combined Pre/Post Survey\", BX14, BX17)","v":0},{"$f":"IF('Step 3A'!$D$5=\"Combined Pre/Post Survey\", BY14, BY17)","v":0},{"$f":"IF('Step 3A'!$D$5=\"Combined Pre/Post Survey\", BZ14, BZ17)","v":0},{"$f":"IF('Step 3A'!$D$5=\"Combined Pre/Post Survey\", CA14, CA17)","v":0},{"$f":"IF('Step 3A'!$D$5=\"Combined Pre/Post Survey\", CB14, CB17)","v":0},{"$f":"IF('Step 3A'!$D$5=\"Combined Pre/Post Survey\", CC14, CC17)","v":0},{"$f":"IF('Step 3A'!$D$5=\"Combined Pre/Post Survey\", CD14, CD17)","v":0},{"$f":"IF('Step 3A'!$D$5=\"Combined Pre/Post Survey\", CE14, CE17)","v":0},{"$f":"IF('Step 3A'!$D$5=\"Combined Pre/Post Survey\", CF14, CF17)","v":0},{"$f":"IF('Step 3A'!$D$5=\"Combined Pre/Post Survey\", CG14, CG17)","v":0},{"$f":"IF('Step 3A'!$D$5=\"Combined Pre/Post Survey\", CH14, CH17)","v":0},{"$f":"IF('Step 3A'!$D$5=\"Combined Pre/Post Survey\", CI14, CI17)","v":0},{"$f":"IF('Step 3A'!$D$5=\"Combined Pre/Post Survey\", CJ14, CJ17)","v":0},{"$f":"IF('Step 3A'!$D$5=\"Combined Pre/Post Survey\", CK14, CK17)","v":0},{"$f":"IF('Step 3A'!$D$5=\"Combined Pre/Post Survey\", CL14, CL17)","v":0},{"$f":"IF('Step 3A'!$D$5=\"Combined Pre/Post Survey\", CM14, CM17)","v":0},{"$f":"IF('Step 3A'!$D$5=\"Combined Pre/Post Survey\", CN14, CN17)","v":0},{"$f":"IF('Step 3A'!$D$5=\"Combined Pre/Post Survey\", CO14, CO17)","v":0},{"$f":"IF('Step 3A'!$D$5=\"Combined Pre/Post Survey\", CP14, CP17)","v":0},{"$f":"IF('Step 3A'!$D$5=\"Combined Pre/Post Survey\", CQ14, CQ17)","v":0},{"$f":"IF('Step 3A'!$D$5=\"Combined Pre/Post Survey\", CR14, CR17)","v":0},{"$f":"IF('Step 3A'!$D$5=\"Combined Pre/Post Survey\", CS14, CS17)","v":0},{"$f":"IF('Step 3A'!$D$5=\"Combined Pre/Post Survey\", CT14, CT17)","v":0},{"$f":"IF('Step 3A'!$D$5=\"Combined Pre/Post Survey\", CU14, CU17)","v":0},{"$f":"IF('Step 3A'!$D$5=\"Combined Pre/Post Survey\", CV14, CV17)","v":0},{"$f":"IF('Step 3A'!$D$5=\"Combined Pre/Post Survey\", CW14, CW17)","v":0},{"$f":"IF('Step 3A'!$D$5=\"Combined Pre/Post Survey\", CX14, CX17)","v":0},{"$f":"IF('Step 3A'!$D$5=\"Combined Pre/Post Survey\", CY14, CY17)","v":0},{"$f":"IF('Step 3A'!$D$5=\"Combined Pre/Post Survey\", CZ14, CZ17)","v":0},{"$f":"IF('Step 3A'!$D$5=\"Combined Pre/Post Survey\", DA14, DA17)","v":0},{"$f":"IF('Step 3A'!$D$5=\"Combined Pre/Post Survey\", DB14, DB17)","v":0},{"$f":"IF('Step 3A'!$D$5=\"Combined Pre/Post Survey\", DC14, DC17)","v":0},{"$f":"IF('Step 3A'!$D$5=\"Combined Pre/Post Survey\", DD14, DD17)","v":0},{"$f":"IF('Step 3A'!$D$5=\"Combined Pre/Post Survey\", DE14, DE17)","v":0},{"$f":"IF('Step 3A'!$D$5=\"Combined Pre/Post Survey\", DF14, DF17)","v":0},{"$f":"IF('Step 3A'!$D$5=\"Combined Pre/Post Survey\", DG14, DG17)","v":0},{"$f":"IF('Step 3A'!$D$5=\"Combined Pre/Post Survey\", DH14, DH17)","v":0},{"$f":"IF('Step 3A'!$D$5=\"Combined Pre/Post Survey\", DI14, DI17)","v":0},{"$f":"IF('Step 3A'!$D$5=\"Combined Pre/Post Survey\", DJ14, DJ17)","v":0},{"$f":"IF('Step 3A'!$D$5=\"Combined Pre/Post Survey\", DK14, DK17)","v":0},{"$f":"IF('Step 3A'!$D$5=\"Combined Pre/Post Survey\", DL14, DL17)","v":0},{"$f":"IF('Step 3A'!$D$5=\"Combined Pre/Post Survey\", DM14, DM17)","v":0},{"$f":"IF('Step 3A'!$D$5=\"Combined Pre/Post Survey\", DN14, DN17)","v":0},{"$f":"IF('Step 3A'!$D$5=\"Combined Pre/Post Survey\", DO14, DO17)","v":0},{"$f":"IF('Step 3A'!$D$5=\"Combined Pre/Post Survey\", DP14, DP17)","v":0},{"$f":"IF('Step 3A'!$D$5=\"Combined Pre/Post Survey\", DQ14, DQ17)","v":0},{"$f":"IF('Step 3A'!$D$5=\"Combined Pre/Post Survey\", DR14, DR17)","v":0},{"$f":"IF('Step 3A'!$D$5=\"Combined Pre/Post Survey\", DS14, DS17)","v":0},{"$f":"IF('Step 3A'!$D$5=\"Combined Pre/Post Survey\", DT14, DT17)","v":0},{"$f":"IF('Step 3A'!$D$5=\"Combined Pre/Post Survey\", DU14, DU17)","v":0},{"$f":"IF('Step 3A'!$D$5=\"Combined Pre/Post Survey\", DV14, DV17)","v":0},{"$f":"IF('Step 3A'!$D$5=\"Combined Pre/Post Survey\", DW14, DW17)","v":0},{"$f":"IF('Step 3A'!$D$5=\"Combined Pre/Post Survey\", DX14, DX17)","v":0},{"$f":"IF('Step 3A'!$D$5=\"Combined Pre/Post Survey\", DY14, DY17)","v":0},{"$f":"IF('Step 3A'!$D$5=\"Combined Pre/Post Survey\", DZ14, DZ17)","v":0},{"$f":"IF('Step 3A'!$D$5=\"Combined Pre/Post Survey\", EA14, EA17)","v":0},{"$f":"IF('Step 3A'!$D$5=\"Combined Pre/Post Survey\", EB14, EB17)","v":0},{"$f":"IF('Step 3A'!$D$5=\"Combined Pre/Post Survey\", EC14, EC17)","v":0},{"$f":"IF('Step 3A'!$D$5=\"Combined Pre/Post Survey\", ED14, ED17)","v":0},{"$f":"IF('Step 3A'!$D$5=\"Combined Pre/Post Survey\", EE14, EE17)","v":0},{"$f":"IF('Step 3A'!$D$5=\"Combined Pre/Post Survey\", EF14, EF17)","v":0},{"$f":"IF('Step 3A'!$D$5=\"Combined Pre/Post Survey\", EG14, EG17)","v":0},{"$f":"IF('Step 3A'!$D$5=\"Combined Pre/Post Survey\", EH14, EH17)","v":0},{"$f":"IF('Step 3A'!$D$5=\"Combined Pre/Post Survey\", EI14, EI17)","v":0},{"$f":"IF('Step 3A'!$D$5=\"Combined Pre/Post Survey\", EJ14, EJ17)","v":0},{"$f":"IF('Step 3A'!$D$5=\"Combined Pre/Post Survey\", EK14, EK17)","v":0},{"$f":"IF('Step 3A'!$D$5=\"Combined Pre/Post Survey\", EL14, EL17)","v":0},{"$f":"IF('Step 3A'!$D$5=\"Combined Pre/Post Survey\", EM14, EM17)","v":0},{"$f":"IF('Step 3A'!$D$5=\"Combined Pre/Post Survey\", EN14, EN17)","v":0},{"$f":"IF('Step 3A'!$D$5=\"Combined Pre/Post Survey\", EO14, EO17)","v":0},{"$f":"IF('Step 3A'!$D$5=\"Combined Pre/Post Survey\", EP14, EP17)","v":0},{"$f":"IF('Step 3A'!$D$5=\"Combined Pre/Post Survey\", EQ14, EQ17)","v":0},{"$f":"IF('Step 3A'!$D$5=\"Combined Pre/Post Survey\", ER14, ER17)","v":0},{"$f":"IF('Step 3A'!$D$5=\"Combined Pre/Post Survey\", ES14, ES17)","v":0},{"$f":"IF('Step 3A'!$D$5=\"Combined Pre/Post Survey\", ET14, ET17)","v":0},{"$f":"IF('Step 3A'!$D$5=\"Combined Pre/Post Survey\", EU14, EU17)","v":0},{"$f":"IF('Step 3A'!$D$5=\"Combined Pre/Post Survey\", EV14, EV17)","v":0},{"$f":"IF('Step 3A'!$D$5=\"Combined Pre/Post Survey\", EW14, EW17)","v":0},{"$f":"IF('Step 3A'!$D$5=\"Combined Pre/Post Survey\", EX14, EX17)","v":0},{"$f":"IF('Step 3A'!$D$5=\"Combined Pre/Post Survey\", EY14, EY17)","v":0},{"$f":"IF('Step 3A'!$D$5=\"Combined Pre/Post Survey\", EZ14, EZ17)","v":0},{"$f":"IF('Step 3A'!$D$5=\"Combined Pre/Post Survey\", FA14, FA17)","v":0},{"$f":"IF('Step 3A'!$D$5=\"Combined Pre/Post Survey\", FB14, FB17)","v":0},{"$f":"IF('Step 3A'!$D$5=\"Combined Pre/Post Survey\", FC14, FC17)","v":0},{"$f":"IF('Step 3A'!$D$5=\"Combined Pre/Post Survey\", FD14, FD17)","v":0},{"$f":"IF('Step 3A'!$D$5=\"Combined Pre/Post Survey\", FE14, FE17)","v":0},{"$f":"IF('Step 3A'!$D$5=\"Combined Pre/Post Survey\", FF14, FF17)","v":0},{"$f":"IF('Step 3A'!$D$5=\"Combined Pre/Post Survey\", FG14, FG17)","v":0},{"$f":"IF('Step 3A'!$D$5=\"Combined Pre/Post Survey\", FH14, FH17)","v":0},{"$f":"IF('Step 3A'!$D$5=\"Combined Pre/Post Survey\", FI14, FI17)","v":0},{"$f":"IF('Step 3A'!$D$5=\"Combined Pre/Post Survey\", FJ14, FJ17)","v":0},{"$f":"IF('Step 3A'!$D$5=\"Combined Pre/Post Survey\", FK14, FK17)","v":0},{"$f":"IF('Step 3A'!$D$5=\"Combined Pre/Post Survey\", FL14, FL17)","v":0},{"$f":"IF('Step 3A'!$D$5=\"Combined Pre/Post Survey\", FM14, FM17)","v":0},{"$f":"IF('Step 3A'!$D$5=\"Combined Pre/Post Survey\", FN14, FN17)","v":0},{"$f":"IF('Step 3A'!$D$5=\"Combined Pre/Post Survey\", FO14, FO17)","v":0},{"$f":"IF('Step 3A'!$D$5=\"Combined Pre/Post Survey\", FP14, FP17)","v":0},{"$f":"IF('Step 3A'!$D$5=\"Combined Pre/Post Survey\", FQ14, FQ17)","v":0},{"$f":"IF('Step 3A'!$D$5=\"Combined Pre/Post Survey\", FR14, FR17)","v":0},{"$f":"IF('Step 3A'!$D$5=\"Combined Pre/Post Survey\", FS14, FS17)","v":0},{"$f":"IF('Step 3A'!$D$5=\"Combined Pre/Post Survey\", FT14, FT17)","v":0},{"$f":"IF('Step 3A'!$D$5=\"Combined Pre/Post Survey\", FU14, FU17)","v":0},{"$f":"IF('Step 3A'!$D$5=\"Combined Pre/Post Survey\", FV14, FV17)","v":0},{"$f":"IF('Step 3A'!$D$5=\"Combined Pre/Post Survey\", FW14, FW17)","v":0},{"$f":"IF('Step 3A'!$D$5=\"Combined Pre/Post Survey\", FX14, FX17)","v":0},{"$f":"IF('Step 3A'!$D$5=\"Combined Pre/Post Survey\", FY14, FY17)","v":0},{"$f":"IF('Step 3A'!$D$5=\"Combined Pre/Post Survey\", FZ14, FZ17)","v":0},{"$f":"IF('Step 3A'!$D$5=\"Combined Pre/Post Survey\", GA14, GA17)","v":0},{"$f":"IF('Step 3A'!$D$5=\"Combined Pre/Post Survey\", GB14, GB17)","v":0},{"$f":"IF('Step 3A'!$D$5=\"Combined Pre/Post Survey\", GC14, GC17)","v":0},{"$f":"IF('Step 3A'!$D$5=\"Combined Pre/Post Survey\", GD14, GD17)","v":1},0,0,0,0,0,0,0,0,0,0,0,0,0,0,0,0,0,0,0,0,0,0,0,0,0,0,0,0,0,0,0,0,0,0,0,0,0,0,0,0,0,0,0,0,0,0,0,0,0,0,0,0,0,0,0,0,0,0,0,0,0,0,0,0,0,0,0,0,0,0,0,0,0,0,0,0,0,0,0,0,0,0,0,0,0,0,0,0,0,0,0,0,0,0,0,0,0,0,0,0,0,0,0,0,0,0,0,0,0,0,0,0,0,0,0,0,0,0,0,0,0,0,0,0,0,0,0,0,0,0,0,0,0,0,0,0,0,0,0,0,0,0,0,0,0,0,0,0,0,0,0,0,0,0,0,0,0,0,0,0,0,0,0,0,0,0,0,0,0,0,0,0,0,0,0,0,0,0,0,0,0,0,0,0,0]
[null,null,null,null,null,null,"Offset",null,null,1,2,3,4,5,6,7,8,9,10,11,12,13,14,15,16,17,18,19,20,21,22,23,24,25,26,27,28,29,30,31,32,33,34,35,36,37,38,39,40,41,42,43,44,45,46,47,48,49,50,51,52,53,54,55,56,57,58,59,60,61,62,63,64,65,66,67,68,69,70,71,72,73,74,75,76,77,78,1,2,3,4,5,6,7,8,9,10,11,12,13,14,15,16,17,18,19,20,21,22,23,24,25,26,27,28,29,30,31,32,33,34,35,36,37,38,39,40,41,42,43,44,45,46,47,48,49,50,51,52,53,54,55,56,57,58,59,60,61,62,63,64,65,66,67,68,69,70,71,72,73,74,75,76,77,78,1,2,3,4,5,6,7,8,9,10,11,12,13,14,17,18,19,20,21,0,0]
[null,null,null,null,null,null,"CPP",null,null,1,1,1,1,1,1,1,1,1,1,1,1,1,1,1,1,1,1,1,1,1,1,1,1,1,1,1,1,1,1,1,1,1,1,1,1,1,1,1,1,1,1,1,1,1,1,1,1,1,1,1,1,1,1,1,1,1,1,1,1,1,1,1,1,1,1,1,1,1,1,1,1,1,1,1,1,1,1,1,1,1,1,1,1,1,1,1,1,1,1,1,1,1,1,1,1,1,1,1,1,1,1,1,1,1,1,1,1,1,1,1,1,1,1,1,1,1,1,1,1,1,1,1,1,1,1,1,1,1,1,1,1,1,1,1,1,1,1,1,1,1,1,1,1,1,1,1,1,1,1,1,1,1,1,1,1,1,1,1,1,1,1,1,1,1,1,1,1,1,1,1,1,1,1,1,0,0]
[null,null,null,null,null,null,"Use",null,null,{"$f":"OFFSET(CPP_nyf_base!$G$10, 'Step 4A PP Pre'!J12, 0)","v":0},{"$f":"OFFSET(CPP_nyf_base!$G$10, 'Step 4A PP Pre'!K12, 0)","v":0},{"$f":"OFFSET(CPP_nyf_base!$G$10, 'Step 4A PP Pre'!L12, 0)","v":0},{"$f":"OFFSET(CPP_nyf_base!$G$10, 'Step 4A PP Pre'!M12, 0)","v":0},{"$f":"OFFSET(CPP_nyf_base!$G$10, 'Step 4A PP Pre'!N12, 0)","v":0},{"$f":"OFFSET(CPP_nyf_base!$G$10, 'Step 4A PP Pre'!O12, 0)","v":0},{"$f":"OFFSET(CPP_nyf_base!$G$10, 'Step 4A PP Pre'!P12, 0)","v":0},{"$f":"OFFSET(CPP_nyf_base!$G$10, 'Step 4A PP Pre'!Q12, 0)","v":0},{"$f":"OFFSET(CPP_nyf_base!$G$10, 'Step 4A PP Pre'!R12, 0)","v":0},{"$f":"OFFSET(CPP_nyf_base!$G$10, 'Step 4A PP Pre'!S12, 0)","v":0},{"$f":"OFFSET(CPP_nyf_base!$G$10, 'Step 4A PP Pre'!T12, 0)","v":0},{"$f":"OFFSET(CPP_nyf_base!$G$10, 'Step 4A PP Pre'!U12, 0)","v":0},{"$f":"OFFSET(CPP_nyf_base!$G$10, 'Step 4A PP Pre'!V12, 0)","v":0},{"$f":"OFFSET(CPP_nyf_base!$G$10, 'Step 4A PP Pre'!W12, 0)","v":0},{"$f":"OFFSET(CPP_nyf_base!$G$10, 'Step 4A PP Pre'!X12, 0)","v":0},{"$f":"OFFSET(CPP_nyf_base!$G$10, 'Step 4A PP Pre'!Y12, 0)","v":0},{"$f":"OFFSET(CPP_nyf_base!$G$10, 'Step 4A PP Pre'!Z12, 0)","v":0},{"$f":"OFFSET(CPP_nyf_base!$G$10, 'Step 4A PP Pre'!AA12, 0)","v":0},{"$f":"OFFSET(CPP_nyf_base!$G$10, 'Step 4A PP Pre'!AB12, 0)","v":0},{"$f":"OFFSET(CPP_nyf_base!$G$10, 'Step 4A PP Pre'!AC12, 0)","v":0},{"$f":"OFFSET(CPP_nyf_base!$G$10, 'Step 4A PP Pre'!AD12, 0)","v":0},{"$f":"OFFSET(CPP_nyf_base!$G$10, 'Step 4A PP Pre'!AE12, 0)","v":0},{"$f":"OFFSET(CPP_nyf_base!$G$10, 'Step 4A PP Pre'!AF12, 0)","v":0},{"$f":"OFFSET(CPP_nyf_base!$G$10, 'Step 4A PP Pre'!AG12, 0)","v":0},{"$f":"OFFSET(CPP_nyf_base!$G$10, 'Step 4A PP Pre'!AH12, 0)","v":0},{"$f":"OFFSET(CPP_nyf_base!$G$10, 'Step 4A PP Pre'!AI12, 0)","v":0},{"$f":"OFFSET(CPP_nyf_base!$G$10, 'Step 4A PP Pre'!AJ12, 0)","v":0},{"$f":"OFFSET(CPP_nyf_base!$G$10, 'Step 4A PP Pre'!AK12, 0)","v":0},{"$f":"OFFSET(CPP_nyf_base!$G$10, 'Step 4A PP Pre'!AL12, 0)","v":0},{"$f":"OFFSET(CPP_nyf_base!$G$10, 'Step 4A PP Pre'!AM12, 0)","v":0},{"$f":"OFFSET(CPP_nyf_base!$G$10, 'Step 4A PP Pre'!AN12, 0)","v":0},{"$f":"OFFSET(CPP_nyf_base!$G$10, 'Step 4A PP Pre'!AO12, 0)","v":0},{"$f":"OFFSET(CPP_nyf_base!$G$10, 'Step 4A PP Pre'!AP12, 0)","v":0},{"$f":"OFFSET(CPP_nyf_base!$G$10, 'Step 4A PP Pre'!AQ12, 0)","v":0},{"$f":"OFFSET(CPP_nyf_base!$G$10, 'Step 4A PP Pre'!AR12, 0)","v":0},{"$f":"OFFSET(CPP_nyf_base!$G$10, 'Step 4A PP Pre'!AS12, 0)","v":0},{"$f":"OFFSET(CPP_nyf_base!$G$10, 'Step 4A PP Pre'!AT12, 0)","v":0},{"$f":"OFFSET(CPP_nyf_base!$G$10, 'Step 4A PP Pre'!AU12, 0)","v":0},{"$f":"OFFSET(CPP_nyf_base!$G$10, 'Step 4A PP Pre'!AV12, 0)","v":0},{"$f":"OFFSET(CPP_nyf_base!$G$10, 'Step 4A PP Pre'!AW12, 0)","v":0},{"$f":"OFFSET(CPP_nyf_base!$G$10, 'Step 4A PP Pre'!AX12, 0)","v":0},{"$f":"OFFSET(CPP_nyf_base!$G$10, 'Step 4A PP Pre'!AY12, 0)","v":0},{"$f":"OFFSET(CPP_nyf_base!$G$10, 'Step 4A PP Pre'!AZ12, 0)","v":0},{"$f":"OFFSET(CPP_nyf_base!$G$10, 'Step 4A PP Pre'!BA12, 0)","v":0},{"$f":"OFFSET(CPP_nyf_base!$G$10, 'Step 4A PP Pre'!BB12, 0)","v":0},{"$f":"OFFSET(CPP_nyf_base!$G$10, 'Step 4A PP Pre'!BC12, 0)","v":0},{"$f":"OFFSET(CPP_nyf_base!$G$10, 'Step 4A PP Pre'!BD12, 0)","v":0},{"$f":"OFFSET(CPP_nyf_base!$G$10, 'Step 4A PP Pre'!BE12, 0)","v":0},{"$f":"OFFSET(CPP_nyf_base!$G$10, 'Step 4A PP Pre'!BF12, 0)","v":0},{"$f":"OFFSET(CPP_nyf_base!$G$10, 'Step 4A PP Pre'!BG12, 0)","v":0},{"$f":"OFFSET(CPP_nyf_base!$G$10, 'Step 4A PP Pre'!BH12, 0)","v":0},{"$f":"OFFSET(CPP_nyf_base!$G$10, 'Step 4A PP Pre'!BI12, 0)","v":0},{"$f":"OFFSET(CPP_nyf_base!$G$10, 'Step 4A PP Pre'!BJ12, 0)","v":0},{"$f":"OFFSET(CPP_nyf_base!$G$10, 'Step 4A PP Pre'!BK12, 0)","v":0},{"$f":"OFFSET(CPP_nyf_base!$G$10, 'Step 4A PP Pre'!BL12, 0)","v":0},{"$f":"OFFSET(CPP_nyf_base!$G$10, 'Step 4A PP Pre'!BM12, 0)","v":0},{"$f":"OFFSET(CPP_nyf_base!$G$10, 'Step 4A PP Pre'!BN12, 0)","v":0},{"$f":"OFFSET(CPP_nyf_base!$G$10, 'Step 4A PP Pre'!BO12, 0)","v":0},{"$f":"OFFSET(CPP_nyf_base!$G$10, 'Step 4A PP Pre'!BP12, 0)","v":0},{"$f":"OFFSET(CPP_nyf_base!$G$10, 'Step 4A PP Pre'!BQ12, 0)","v":0},{"$f":"OFFSET(CPP_nyf_base!$G$10, 'Step 4A PP Pre'!BR12, 0)","v":0},{"$f":"OFFSET(CPP_nyf_base!$G$10, 'Step 4A PP Pre'!BS12, 0)","v":0},{"$f":"OFFSET(CPP_nyf_base!$G$10, 'Step 4A PP Pre'!BT12, 0)","v":0},{"$f":"OFFSET(CPP_nyf_base!$G$10, 'Step 4A PP Pre'!BU12, 0)","v":0},{"$f":"OFFSET(CPP_nyf_base!$G$10, 'Step 4A PP Pre'!BV12, 0)","v":0},{"$f":"OFFSET(CPP_nyf_base!$G$10, 'Step 4A PP Pre'!BW12, 0)","v":0},{"$f":"OFFSET(CPP_nyf_base!$G$10, 'Step 4A PP Pre'!BX12, 0)","v":0},{"$f":"OFFSET(CPP_nyf_base!$G$10, 'Step 4A PP Pre'!BY12, 0)","v":0},{"$f":"OFFSET(CPP_nyf_base!$G$10, 'Step 4A PP Pre'!BZ12, 0)","v":0},{"$f":"OFFSET(CPP_nyf_base!$G$10, 'Step 4A PP Pre'!CA12, 0)","v":0},{"$f":"OFFSET(CPP_nyf_base!$G$10, 'Step 4A PP Pre'!CB12, 0)","v":0},{"$f":"OFFSET(CPP_nyf_base!$G$10, 'Step 4A PP Pre'!CC12, 0)","v":0},{"$f":"OFFSET(CPP_nyf_base!$G$10, 'Step 4A PP Pre'!CD12, 0)","v":0},{"$f":"OFFSET(CPP_nyf_base!$G$10, 'Step 4A PP Pre'!CE12, 0)","v":0},{"$f":"OFFSET(CPP_nyf_base!$G$10, 'Step 4A PP Pre'!CF12, 0)","v":0},{"$f":"OFFSET(CPP_nyf_base!$G$10, 'Step 4A PP Pre'!CG12, 0)","v":0},{"$f":"OFFSET(CPP_nyf_base!$G$10, 'Step 4A PP Pre'!CH12, 0)","v":0},{"$f":"OFFSET(CPP_nyf_base!$G$10, 'Step 4A PP Pre'!CI12, 0)","v":0},{"$f":"OFFSET(CPP_nyf_base!$G$10, 'Step 4A PP Pre'!CJ12, 0)","v":0},{"$f":"OFFSET(CPP_nyf_base!$G$10, 'Step 4A PP Pre'!CK12, 0)","v":0},{"$f":"OFFSET(CPP_nyf_base!$G$10, 'Step 4A PP Pre'!CL12, 0)","v":0},{"$f":"OFFSET(CPP_nyf_base!$G$10, 'Step 4A PP Pre'!CM12, 0)","v":0},{"$f":"OFFSET(CPP_nyf_base!$G$10, 'Step 4A PP Pre'!CN12, 0)","v":0},{"$f":"OFFSET(CPP_nyf_base!$G$10, 'Step 4A PP Pre'!CO12, 0)","v":0},{"$f":"OFFSET(CPP_nyf_base!$G$10, 'Step 4A PP Pre'!CP12, 0)","v":0},{"$f":"OFFSET(CPP_nyf_base!$G$10, 'Step 4A PP Pre'!CQ12, 0)","v":0},{"$f":"OFFSET(CPP_nyf_base!$G$10, 'Step 4A PP Pre'!CR12, 0)","v":0},{"$f":"OFFSET(CPP_nyf_base!$G$10, 'Step 4A PP Pre'!CS12, 0)","v":0},{"$f":"OFFSET(CPP_nyf_base!$G$10, 'Step 4A PP Pre'!CT12, 0)","v":0},{"$f":"OFFSET(CPP_nyf_base!$G$10, 'Step 4A PP Pre'!CU12, 0)","v":0},{"$f":"OFFSET(CPP_nyf_base!$G$10, 'Step 4A PP Pre'!CV12, 0)","v":0},{"$f":"OFFSET(CPP_nyf_base!$G$10, 'Step 4A PP Pre'!CW12, 0)","v":0},{"$f":"OFFSET(CPP_nyf_base!$G$10, 'Step 4A PP Pre'!CX12, 0)","v":0},{"$f":"OFFSET(CPP_nyf_base!$G$10, 'Step 4A PP Pre'!CY12, 0)","v":0},{"$f":"OFFSET(CPP_nyf_base!$G$10, 'Step 4A PP Pre'!CZ12, 0)","v":0},{"$f":"OFFSET(CPP_nyf_base!$G$10, 'Step 4A PP Pre'!DA12, 0)","v":0},{"$f":"OFFSET(CPP_nyf_base!$G$10, 'Step 4A PP Pre'!DB12, 0)","v":0},{"$f":"OFFSET(CPP_nyf_base!$G$10, 'Step 4A PP Pre'!DC12, 0)","v":0},{"$f":"OFFSET(CPP_nyf_base!$G$10, 'Step 4A PP Pre'!DD12, 0)","v":0},{"$f":"OFFSET(CPP_nyf_base!$G$10, 'Step 4A PP Pre'!DE12, 0)","v":0},{"$f":"OFFSET(CPP_nyf_base!$G$10, 'Step 4A PP Pre'!DF12, 0)","v":0},{"$f":"OFFSET(CPP_nyf_base!$G$10, 'Step 4A PP Pre'!DG12, 0)","v":0},{"$f":"OFFSET(CPP_nyf_base!$G$10, 'Step 4A PP Pre'!DH12, 0)","v":0},{"$f":"OFFSET(CPP_nyf_base!$G$10, 'Step 4A PP Pre'!DI12, 0)","v":0},{"$f":"OFFSET(CPP_nyf_base!$G$10, 'Step 4A PP Pre'!DJ12, 0)","v":0},{"$f":"OFFSET(CPP_nyf_base!$G$10, 'Step 4A PP Pre'!DK12, 0)","v":0},{"$f":"OFFSET(CPP_nyf_base!$G$10, 'Step 4A PP Pre'!DL12, 0)","v":0},{"$f":"OFFSET(CPP_nyf_base!$G$10, 'Step 4A PP Pre'!DM12, 0)","v":0},{"$f":"OFFSET(CPP_nyf_base!$G$10, 'Step 4A PP Pre'!DN12, 0)","v":0},{"$f":"OFFSET(CPP_nyf_base!$G$10, 'Step 4A PP Pre'!DO12, 0)","v":0},{"$f":"OFFSET(CPP_nyf_base!$G$10, 'Step 4A PP Pre'!DP12, 0)","v":0},{"$f":"OFFSET(CPP_nyf_base!$G$10, 'Step 4A PP Pre'!DQ12, 0)","v":0},{"$f":"OFFSET(CPP_nyf_base!$G$10, 'Step 4A PP Pre'!DR12, 0)","v":0},{"$f":"OFFSET(CPP_nyf_base!$G$10, 'Step 4A PP Pre'!DS12, 0)","v":0},{"$f":"OFFSET(CPP_nyf_base!$G$10, 'Step 4A PP Pre'!DT12, 0)","v":0},{"$f":"OFFSET(CPP_nyf_base!$G$10, 'Step 4A PP Pre'!DU12, 0)","v":0},{"$f":"OFFSET(CPP_nyf_base!$G$10, 'Step 4A PP Pre'!DV12, 0)","v":0},{"$f":"OFFSET(CPP_nyf_base!$G$10, 'Step 4A PP Pre'!DW12, 0)","v":0},{"$f":"OFFSET(CPP_nyf_base!$G$10, 'Step 4A PP Pre'!DX12, 0)","v":0},{"$f":"OFFSET(CPP_nyf_base!$G$10, 'Step 4A PP Pre'!DY12, 0)","v":0},{"$f":"OFFSET(CPP_nyf_base!$G$10, 'Step 4A PP Pre'!DZ12, 0)","v":0},{"$f":"OFFSET(CPP_nyf_base!$G$10, 'Step 4A PP Pre'!EA12, 0)","v":0},{"$f":"OFFSET(CPP_nyf_base!$G$10, 'Step 4A PP Pre'!EB12, 0)","v":0},{"$f":"OFFSET(CPP_nyf_base!$G$10, 'Step 4A PP Pre'!EC12, 0)","v":0},{"$f":"OFFSET(CPP_nyf_base!$G$10, 'Step 4A PP Pre'!ED12, 0)","v":0},{"$f":"OFFSET(CPP_nyf_base!$G$10, 'Step 4A PP Pre'!EE12, 0)","v":0},{"$f":"OFFSET(CPP_nyf_base!$G$10, 'Step 4A PP Pre'!EF12, 0)","v":0},{"$f":"OFFSET(CPP_nyf_base!$G$10, 'Step 4A PP Pre'!EG12, 0)","v":0},{"$f":"OFFSET(CPP_nyf_base!$G$10, 'Step 4A PP Pre'!EH12, 0)","v":0},{"$f":"OFFSET(CPP_nyf_base!$G$10, 'Step 4A PP Pre'!EI12, 0)","v":0},{"$f":"OFFSET(CPP_nyf_base!$G$10, 'Step 4A PP Pre'!EJ12, 0)","v":0},{"$f":"OFFSET(CPP_nyf_base!$G$10, 'Step 4A PP Pre'!EK12, 0)","v":0},{"$f":"OFFSET(CPP_nyf_base!$G$10, 'Step 4A PP Pre'!EL12, 0)","v":0},{"$f":"OFFSET(CPP_nyf_base!$G$10, 'Step 4A PP Pre'!EM12, 0)","v":0},{"$f":"OFFSET(CPP_nyf_base!$G$10, 'Step 4A PP Pre'!EN12, 0)","v":0},{"$f":"OFFSET(CPP_nyf_base!$G$10, 'Step 4A PP Pre'!EO12, 0)","v":0},{"$f":"OFFSET(CPP_nyf_base!$G$10, 'Step 4A PP Pre'!EP12, 0)","v":0},{"$f":"OFFSET(CPP_nyf_base!$G$10, 'Step 4A PP Pre'!EQ12, 0)","v":0},{"$f":"OFFSET(CPP_nyf_base!$G$10, 'Step 4A PP Pre'!ER12, 0)","v":0},{"$f":"OFFSET(CPP_nyf_base!$G$10, 'Step 4A PP Pre'!ES12, 0)","v":0},{"$f":"OFFSET(CPP_nyf_base!$G$10, 'Step 4A PP Pre'!ET12, 0)","v":0},{"$f":"OFFSET(CPP_nyf_base!$G$10, 'Step 4A PP Pre'!EU12, 0)","v":0},{"$f":"OFFSET(CPP_nyf_base!$G$10, 'Step 4A PP Pre'!EV12, 0)","v":0},{"$f":"OFFSET(CPP_nyf_base!$G$10, 'Step 4A PP Pre'!EW12, 0)","v":0},{"$f":"OFFSET(CPP_nyf_base!$G$10, 'Step 4A PP Pre'!EX12, 0)","v":0},{"$f":"OFFSET(CPP_nyf_base!$G$10, 'Step 4A PP Pre'!EY12, 0)","v":0},{"$f":"OFFSET(CPP_nyf_base!$G$10, 'Step 4A PP Pre'!EZ12, 0)","v":0},{"$f":"OFFSET(CPP_nyf_base!$G$10, 'Step 4A PP Pre'!FA12, 0)","v":0},{"$f":"OFFSET(CPP_nyf_base!$G$10, 'Step 4A PP Pre'!FB12, 0)","v":0},{"$f":"OFFSET(CPP_nyf_base!$G$10, 'Step 4A PP Pre'!FC12, 0)","v":0},{"$f":"OFFSET(CPP_nyf_base!$G$10, 'Step 4A PP Pre'!FD12, 0)","v":0},{"$f":"OFFSET(CPP_nyf_base!$G$10, 'Step 4A PP Pre'!FE12, 0)","v":0},{"$f":"OFFSET(CPP_nyf_base!$G$10, 'Step 4A PP Pre'!FF12, 0)","v":0},{"$f":"OFFSET(CPP_nyf_base!$G$10, 'Step 4A PP Pre'!FG12, 0)","v":0},{"$f":"OFFSET(CPP_nyf_base!$G$10, 'Step 4A PP Pre'!FH12, 0)","v":0},{"$f":"OFFSET(CPP_nyf_base!$G$10, 'Step 4A PP Pre'!FI12, 0)","v":0},{"$f":"OFFSET(CPP_nyf_base!$G$93, 'Step 4A PP Pre'!FJ12, 0)","v":0},{"$f":"OFFSET(CPP_nyf_base!$G$93, 'Step 4A PP Pre'!FK12, 0)","v":0},{"$f":"OFFSET(CPP_nyf_base!$G$93, 'Step 4A PP Pre'!FL12, 0)","v":0},{"$f":"OFFSET(CPP_nyf_base!$G$93, 'Step 4A PP Pre'!FM12, 0)","v":0},{"$f":"OFFSET(CPP_nyf_base!$G$93, 'Step 4A PP Pre'!FN12, 0)","v":0},{"$f":"OFFSET(CPP_nyf_base!$G$93, 'Step 4A PP Pre'!FO12, 0)","v":0},{"$f":"OFFSET(CPP_nyf_base!$G$93, 'Step 4A PP Pre'!FP12, 0)","v":0},{"$f":"OFFSET(CPP_nyf_base!$G$93, 'Step 4A PP Pre'!FQ12, 0)","v":0},{"$f":"OFFSET(CPP_nyf_base!$G$93, 'Step 4A PP Pre'!FR12, 0)","v":0},{"$f":"OFFSET(CPP_nyf_base!$G$93, 'Step 4A PP Pre'!FS12, 0)","v":0},{"$f":"OFFSET(CPP_nyf_base!$G$93, 'Step 4A PP Pre'!FT12, 0)","v":0},{"$f":"OFFSET(CPP_nyf_base!$G$93, 'Step 4A PP Pre'!FU12, 0)","v":0},{"$f":"OFFSET(CPP_nyf_base!$G$93, 'Step 4A PP Pre'!FV12, 0)","v":0},{"$f":"OFFSET(CPP_nyf_base!$G$93, 'Step 4A PP Pre'!FW12, 0)","v":0},{"$f":"OFFSET(CPP_nyf_base!$G$93, 'Step 4A PP Pre'!FX12, 0)","v":0},{"$f":"OFFSET(CPP_nyf_base!$G$93, 'Step 4A PP Pre'!FY12, 0)","v":0},{"$f":"OFFSET(CPP_nyf_base!$G$93, 'Step 4A PP Pre'!FZ12, 0)","v":0},{"$f":"OFFSET(CPP_nyf_base!$G$93, 'Step 4A PP Pre'!GA12, 0)","v":0},{"$f":"OFFSET(CPP_nyf_base!$G$93, 'Step 4A PP Pre'!GB12, 0)","v":0},0,0]
[null,null,null,null,null,null,"PP",null,null,1,1,1,1,1,1,1,1,1,1,1,1,1,1,1,1,1,1,1,1,1,1,1,1,1,1,1,1,1,1,1,1,1,1,1,1,1,1,1,1,1,1,1,1,1,1,1,1,1,1,1,1,1,1,1,1,1,1,1,1,1,1,1,1,1,1,1,1,1,1,1,1,1,1,1,1,1,1,1,1,1,1,1,1,1,1,1,1,1,1,1,1,1,1,1,1,1,1,1,1,1,1,1,1,1,1,1,1,1,1,1,1,1,1,1,1,1,1,1,1,1,1,1,1,1,1,1,1,1,1,1,1,1,1,1,1,1,1,1,1,1,1,1,1,1,1,1,1,1,1,1,1,1,1,1,1,1,1,1,1,1,1,1,1,1,1,1,1,1,1,1,1,1,1,1,1,1]
[null,null,null,null,null,null,"Offset",null,null,1,2,3,4,5,6,7,8,9,10,11,12,13,14,15,16,17,18,19,20,21,22,23,24,25,26,27,28,29,30,31,32,33,34,35,36,37,38,39,40,41,42,43,44,45,46,47,48,49,50,51,52,53,54,55,56,57,58,59,60,61,62,63,64,65,66,67,68,69,70,71,72,73,74,75,76,77,78,{"$f":"J16","v":1},{"$f":"K16","v":2},3,4,5,6,7,8,9,10,11,12,13,14,15,16,17,{"$f":"AA16","v":18},19,20,21,22,23,24,25,26,27,28,29,30,31,32,33,{"$f":"AQ16","v":34},35,36,37,38,39,40,41,42,43,44,45,46,47,48,49,{"$f":"BG16","v":50},51,52,53,54,55,56,57,58,59,60,61,62,63,64,65,{"$f":"BW16","v":66},67,68,69,70,71,72,73,74,75,76,77,78,1,2,3,4,5,6,7,8,9,10,11,12,13,14,17,18,19,20,21,0,0]
[null,null,null,null,null,null,"Use",null,null,{"$f":"OFFSET(PP_nyf_base!$G$10, 'Step 4A PP Pre'!J16, 0)","v":0},{"$f":"OFFSET(PP_nyf_base!$G$10, 'Step 4A PP Pre'!K16, 0)","v":0},{"$f":"OFFSET(PP_nyf_base!$G$10, 'Step 4A PP Pre'!L16, 0)","v":0},{"$f":"OFFSET(PP_nyf_base!$G$10, 'Step 4A PP Pre'!M16, 0)","v":0},{"$f":"OFFSET(PP_nyf_base!$G$10, 'Step 4A PP Pre'!N16, 0)","v":0},{"$f":"OFFSET(PP_nyf_base!$G$10, 'Step 4A PP Pre'!O16, 0)","v":0},{"$f":"OFFSET(PP_nyf_base!$G$10, 'Step 4A PP Pre'!P16, 0)","v":0},{"$f":"OFFSET(PP_nyf_base!$G$10, 'Step 4A PP Pre'!Q16, 0)","v":0},{"$f":"OFFSET(PP_nyf_base!$G$10, 'Step 4A PP Pre'!R16, 0)","v":0},{"$f":"OFFSET(PP_nyf_base!$G$10, 'Step 4A PP Pre'!S16, 0)","v":0},{"$f":"OFFSET(PP_nyf_base!$G$10, 'Step 4A PP Pre'!T16, 0)","v":0},{"$f":"OFFSET(PP_nyf_base!$G$10, 'Step 4A PP Pre'!U16, 0)","v":0},{"$f":"OFFSET(PP_nyf_base!$G$10, 'Step 4A PP Pre'!V16, 0)","v":0},{"$f":"OFFSET(PP_nyf_base!$G$10, 'Step 4A PP Pre'!W16, 0)","v":0},{"$f":"OFFSET(PP_nyf_base!$G$10, 'Step 4A PP Pre'!X16, 0)","v":0},{"$f":"OFFSET(PP_nyf_base!$G$10, 'Step 4A PP Pre'!Y16, 0)","v":0},{"$f":"OFFSET(PP_nyf_base!$G$10, 'Step 4A PP Pre'!Z16, 0)","v":0},{"$f":"OFFSET(PP_nyf_base!$G$10, 'Step 4A PP Pre'!AA16, 0)","v":0},{"$f":"OFFSET(PP_nyf_base!$G$10, 'Step 4A PP Pre'!AB16, 0)","v":0},{"$f":"OFFSET(PP_nyf_base!$G$10, 'Step 4A PP Pre'!AC16, 0)","v":0},{"$f":"OFFSET(PP_nyf_base!$G$10, 'Step 4A PP Pre'!AD16, 0)","v":0},{"$f":"OFFSET(PP_nyf_base!$G$10, 'Step 4A PP Pre'!AE16, 0)","v":0},{"$f":"OFFSET(PP_nyf_base!$G$10, 'Step 4A PP Pre'!AF16, 0)","v":0},{"$f":"OFFSET(PP_nyf_base!$G$10, 'Step 4A PP Pre'!AG16, 0)","v":0},{"$f":"OFFSET(PP_nyf_base!$G$10, 'Step 4A PP Pre'!AH16, 0)","v":0},{"$f":"OFFSET(PP_nyf_base!$G$10, 'Step 4A PP Pre'!AI16, 0)","v":0},{"$f":"OFFSET(PP_nyf_base!$G$10, 'Step 4A PP Pre'!AJ16, 0)","v":0},{"$f":"OFFSET(PP_nyf_base!$G$10, 'Step 4A PP Pre'!AK16, 0)","v":0},{"$f":"OFFSET(PP_nyf_base!$G$10, 'Step 4A PP Pre'!AL16, 0)","v":0},{"$f":"OFFSET(PP_nyf_base!$G$10, 'Step 4A PP Pre'!AM16, 0)","v":0},{"$f":"OFFSET(PP_nyf_base!$G$10, 'Step 4A PP Pre'!AN16, 0)","v":0},{"$f":"OFFSET(PP_nyf_base!$G$10, 'Step 4A PP Pre'!AO16, 0)","v":0},{"$f":"OFFSET(PP_nyf_base!$G$10, 'Step 4A PP Pre'!AP16, 0)","v":0},{"$f":"OFFSET(PP_nyf_base!$G$10, 'Step 4A PP Pre'!AQ16, 0)","v":0},{"$f":"OFFSET(PP_nyf_base!$G$10, 'Step 4A PP Pre'!AR16, 0)","v":0},{"$f":"OFFSET(PP_nyf_base!$G$10, 'Step 4A PP Pre'!AS16, 0)","v":0},{"$f":"OFFSET(PP_nyf_base!$G$10, 'Step 4A PP Pre'!AT16, 0)","v":0},{"$f":"OFFSET(PP_nyf_base!$G$10, 'Step 4A PP Pre'!AU16, 0)","v":0},{"$f":"OFFSET(PP_nyf_base!$G$10, 'Step 4A PP Pre'!AV16, 0)","v":0},{"$f":"OFFSET(PP_nyf_base!$G$10, 'Step 4A PP Pre'!AW16, 0)","v":0},{"$f":"OFFSET(PP_nyf_base!$G$10, 'Step 4A PP Pre'!AX16, 0)","v":0},{"$f":"OFFSET(PP_nyf_base!$G$10, 'Step 4A PP Pre'!AY16, 0)","v":0},{"$f":"OFFSET(PP_nyf_base!$G$10, 'Step 4A PP Pre'!AZ16, 0)","v":0},{"$f":"OFFSET(PP_nyf_base!$G$10, 'Step 4A PP Pre'!BA16, 0)","v":0},{"$f":"OFFSET(PP_nyf_base!$G$10, 'Step 4A PP Pre'!BB16, 0)","v":0},{"$f":"OFFSET(PP_nyf_base!$G$10, 'Step 4A PP Pre'!BC16, 0)","v":0},{"$f":"OFFSET(PP_nyf_base!$G$10, 'Step 4A PP Pre'!BD16, 0)","v":0},{"$f":"OFFSET(PP_nyf_base!$G$10, 'Step 4A PP Pre'!BE16, 0)","v":0},{"$f":"OFFSET(PP_nyf_base!$G$10, 'Step 4A PP Pre'!BF16, 0)","v":0},{"$f":"OFFSET(PP_nyf_base!$G$10, 'Step 4A PP Pre'!BG16, 0)","v":0},{"$f":"OFFSET(PP_nyf_base!$G$10, 'Step 4A PP Pre'!BH16, 0)","v":0},{"$f":"OFFSET(PP_nyf_base!$G$10, 'Step 4A PP Pre'!BI16, 0)","v":0},{"$f":"OFFSET(PP_nyf_base!$G$10, 'Step 4A PP Pre'!BJ16, 0)","v":0},{"$f":"OFFSET(PP_nyf_base!$G$10, 'Step 4A PP Pre'!BK16, 0)","v":0},{"$f":"OFFSET(PP_nyf_base!$G$10, 'Step 4A PP Pre'!BL16, 0)","v":0},{"$f":"OFFSET(PP_nyf_base!$G$10, 'Step 4A PP Pre'!BM16, 0)","v":0},{"$f":"OFFSET(PP_nyf_base!$G$10, 'Step 4A PP Pre'!BN16, 0)","v":0},{"$f":"OFFSET(PP_nyf_base!$G$10, 'Step 4A PP Pre'!BO16, 0)","v":0},{"$f":"OFFSET(PP_nyf_base!$G$10, 'Step 4A PP Pre'!BP16, 0)","v":0},{"$f":"OFFSET(PP_nyf_base!$G$10, 'Step 4A PP Pre'!BQ16, 0)","v":0},{"$f":"OFFSET(PP_nyf_base!$G$10, 'Step 4A PP Pre'!BR16, 0)","v":0},{"$f":"OFFSET(PP_nyf_base!$G$10, 'Step 4A PP Pre'!BS16, 0)","v":0},{"$f":"OFFSET(PP_nyf_base!$G$10, 'Step 4A PP Pre'!BT16, 0)","v":0},{"$f":"OFFSET(PP_nyf_base!$G$10, 'Step 4A PP Pre'!BU16, 0)","v":0},{"$f":"OFFSET(PP_nyf_base!$G$10, 'Step 4A PP Pre'!BV16, 0)","v":0},{"$f":"OFFSET(PP_nyf_base!$G$10, 'Step 4A PP Pre'!BW16, 0)","v":0},{"$f":"OFFSET(PP_nyf_base!$G$10, 'Step 4A PP Pre'!BX16, 0)","v":0},{"$f":"OFFSET(PP_nyf_base!$G$10, 'Step 4A PP Pre'!BY16, 0)","v":0},{"$f":"OFFSET(PP_nyf_base!$G$10, 'Step 4A PP Pre'!BZ16, 0)","v":0},{"$f":"OFFSET(PP_nyf_base!$G$10, 'Step 4A PP Pre'!CA16, 0)","v":0},{"$f":"OFFSET(PP_nyf_base!$G$10, 'Step 4A PP Pre'!CB16, 0)","v":0},{"$f":"OFFSET(PP_nyf_base!$G$10, 'Step 4A PP Pre'!CC16, 0)","v":0},{"$f":"OFFSET(PP_nyf_base!$G$10, 'Step 4A PP Pre'!CD16, 0)","v":0},{"$f":"OFFSET(PP_nyf_base!$G$10, 'Step 4A PP Pre'!CE16, 0)","v":0},{"$f":"OFFSET(PP_nyf_base!$G$10, 'Step 4A PP Pre'!CF16, 0)","v":0},{"$f":"OFFSET(PP_nyf_base!$G$10, 'Step 4A PP Pre'!CG16, 0)","v":0},{"$f":"OFFSET(PP_nyf_base!$G$10, 'Step 4A PP Pre'!CH16, 0)","v":0},{"$f":"OFFSET(PP_nyf_base!$G$10, 'Step 4A PP Pre'!CI16, 0)","v":0},{"$f":"J17","v":0},0,0,0,0,0,0,0,0,0,0,0,0,0,0,0,0,0,0,0,0,0,0,0,0,0,0,0,0,0,0,0,0,0,0,0,0,0,0,0,0,0,0,0,0,0,0,0,0,0,0,0,0,0,0,0,0,0,0,0,0,0,0,0,0,0,0,0,0,0,0,0,0,0,0,0,0,0,{"$f":"OFFSET(PP_nyf_base!$G$94, 'Step 4A PP Pre'!FJ16, 0)","v":0},{"$f":"OFFSET(PP_nyf_base!$G$94, 'Step 4A PP Pre'!FK16, 0)","v":0},{"$f":"OFFSET(PP_nyf_base!$G$94, 'Step 4A PP Pre'!FL16, 0)","v":0},{"$f":"OFFSET(PP_nyf_base!$G$94, 'Step 4A PP Pre'!FM16, 0)","v":0},{"$f":"OFFSET(PP_nyf_base!$G$94, 'Step 4A PP Pre'!FN16, 0)","v":0},{"$f":"OFFSET(PP_nyf_base!$G$94, 'Step 4A PP Pre'!FO16, 0)","v":0},{"$f":"OFFSET(PP_nyf_base!$G$94, 'Step 4A PP Pre'!FP16, 0)","v":0},{"$f":"OFFSET(PP_nyf_base!$G$94, 'Step 4A PP Pre'!FQ16, 0)","v":0},{"$f":"OFFSET(PP_nyf_base!$G$94, 'Step 4A PP Pre'!FR16, 0)","v":0},{"$f":"OFFSET(PP_nyf_base!$G$94, 'Step 4A PP Pre'!FS16, 0)","v":0},{"$f":"OFFSET(PP_nyf_base!$G$94, 'Step 4A PP Pre'!FT16, 0)","v":0},{"$f":"OFFSET(PP_nyf_base!$G$94, 'Step 4A PP Pre'!FU16, 0)","v":0},{"$f":"OFFSET(PP_nyf_base!$G$94, 'Step 4A PP Pre'!FV16, 0)","v":0},{"$f":"OFFSET(PP_nyf_base!$G$94, 'Step 4A PP Pre'!FW16, 0)","v":0},{"$f":"OFFSET(PP_nyf_base!$G$94, 'Step 4A PP Pre'!FX16, 0)","v":0},{"$f":"OFFSET(PP_nyf_base!$G$94, 'Step 4A PP Pre'!FY16, 0)","v":0},{"$f":"OFFSET(PP_nyf_base!$G$94, 'Step 4A PP Pre'!FZ16, 0)","v":0},{"$f":"OFFSET(PP_nyf_base!$G$94, 'Step 4A PP Pre'!GA16, 0)","v":0},{"$f":"OFFSET(PP_nyf_base!$G$94, 'Step 4A PP Pre'!GB16, 0)","v":0},0,1]
[null,null,null,null,null,null,"Code",null,null,"Tena1","Tena2","Conf1","Conf2","Conf3","Conf4","Conf5","Proa1","Proa2","Grow1","Grow2","Care1","Care2","Care3","Cult1","Glob1","Glob2","Glob3","Glob4","Inno1","Crit1","Crit2","Crit3","Prob1","Prob2","Prob3","Prob4","Prob5","Team1","Team2","Team3","Team4","Team5","Team6","Stak1","Stak2","Stak3","Stak4","Proj1","Emot1","Emot2","Emot3","Emot4","Emot5","Fina1","Phys1","Phys2","Nati1","Nati_pers1","Nati_pers2","Nati_pers3","Nati_pers4","Publ1","Trus1","Trus2","Trus3","Trus4","Soci1","Soci2","Open1","Open2","Empa1","Abil_comm1","Abil_comm2","Civi_comm1","Civi_comm2","Civi_comm3","Civi_comm4","Civi_comm5","Civi_comm6","Civi_comm7","Civi_env1","Civi_env2","Civi_env3","Civi_env4","Civi_env5","Civi_env6","Abil_govt1","Tena1","Tena2","Conf1","Conf2","Conf3","Conf4","Conf5","Proa1","Proa2","Grow1","Grow2","Care1","Care2","Care3","Cult1","Glob1","Glob2","Glob3","Glob4","Inno1","Crit1","Crit2","Crit3","Prob1","Prob2","Prob3","Prob4","Prob5","Team1","Team2","Team3","Team4","Team5","Team6","Stak1","Stak2","Stak3","Stak4","Proj1","Emot1","Emot2","Emot3","Emot4","Emot5","Fina1","Phys1","Phys2","Nati1","Nati_pers1","Nati_pers2","Nati_pers3","Nati_pers4","Publ1","Trus1","Trus2","Trus3","Trus4","Soci1","Soci2","Open1","Open2","Empa1","Abil_comm1","Abil_comm2","Civi_comm1","Civi_comm2","Civi_comm3","Civi_comm4","Civi_comm5","Civi_comm6","Civi_comm7","Civi_env1","Civi_env2","Civi_env3","Civi_env4","Civi_env5","Civi_env6","Abil_govt1","Prog_imp1","Prog_imp2","Prog_imp3","Prog_imp4","Prog_imp5","Feed1","Feed2","Feed3","Feed4","Feed5","Feed6","Feed7","Feed8","Feed9","Over1","Over2","Over3","Over4","Over5","Nric_Pre","Nric_Post",null,null,null,null,null,null,null,null,null,null,null,null,null,null,null,null,null,null,null,null,null,null,null,null,null,null,null,null,null,null,null,null,null,null,null,null,null,null,null,null,null,null,null,null,null,null,null,null,null,null,null,null,null,null,null,null,null,null,null,null,null,null,null,null,null,null,null,null,null,null,null,null,null,null,null,null,null,null,null,null,null,null,null,null,null,null,null,null,null,null,null,null,null,null,null,null,null,null,null,null,null,null,null,null,null,null,null,null,null,null,null,null,null,null,null,null,null,null,null,null,null,null,null,null,null,null,null,null,null,null,null,null,null,null,null,null,null,null,null,null,null,null,null,null,null,null,null,null,null,null,null,null,null,null,null,null,null,null,null,null,null,null,null,null,null,null,null,null,null,null,null,null,null,null,null,null,null,null,null,null,null,null,"sub_count",{"$f":"SUM(NE21:NE1020)","v":0}]
[null,null,null,null,null,null,"Stage",null,null,"Pre","Pre","Pre","Pre","Pre","Pre","Pre","Pre","Pre","Pre","Pre","Pre","Pre","Pre","Pre","Pre","Pre","Pre","Pre","Pre","Pre","Pre","Pre","Pre","Pre","Pre","Pre","Pre","Pre","Pre","Pre","Pre","Pre","Pre","Pre","Pre","Pre","Pre","Pre","Pre","Pre","Pre","Pre","Pre","Pre","Pre","Pre","Pre","Pre","Pre","Pre","Pre","Pre","Pre","Pre","Pre","Pre","Pre","Pre","Pre","Pre","Pre","Pre","Pre","Pre","Pre","Pre","Pre","Pre","Pre","Pre","Pre","Pre","Pre","Pre","Pre","Pre","Pre","Post","Post","Post","Post","Post","Post","Post","Post","Post","Post","Post","Post","Post","Post","Post","Post","Post","Post","Post","Post","Post","Post","Post","Post","Post","Post","Post","Post","Post","Post","Post","Post","Post","Post","Post","Post","Post","Post","Post","Post","Post","Post","Post","Post","Post","Post","Post","Post","Post","Post","Post","Post","Post","Post","Post","Post","Post","Post","Post","Post","Post","Post","Post","Post","Post","Post","Post","Post","Post","Post","Post","Post","Post","Post","Post","Post","Post","Post","Post","Post","Post","Post","Post","Post","Post","Post","Post","Post","Post","Post","Post","Post","Post","Post","Post","Post","Post","Pre","Post"]
[null,null,null,null,null,null,"Input","Prog_name","Org_name","I am able to persevere in the face of challenges.","I do not give up even after experiencing failure. ","I feel that I have a number of good qualities.","I am able to do things as well as most other people. ","I believe I can achieve my goals.","I believe I have the ability to succeed in the things I want to do.","I am confident I can succeed when I try my best.","I seize the opportunity whenever I see one. ","I take initiative instead of waiting for things to happen.","I believe it is important to challenge myself to grow. ","Difficult times are an opportunity for me to learn and grow as a person.","I am aware of the skills that will help me to succeed in my career in future.","I am aware of the potential career pathways that I can take to achieve my goals.","I believe I can achieve my career goals. ","I am aware of differences between cultures.","I am aware of issues affecting other countries","I understand how changes around the world affect other countries.","I understand the opportunities and challenges other countries have.","I understand the difficulties in trying to solve global issues.","I know of ways to come up with new ideas. ","I am able to link different information together. ","I think through issues from different angles.","I analyse an issue thoroughly before coming to a conclusion.","I know how to identify and solve problems.","I am able to solve problems that I face.","After I have tried to solve a problem, I examine why it did or did not work.","When solving a problem, I compare the pros and cons of my solutions. ","When faced with a problem, I try to find out the cause of the problem.","I know how to work well in a team.","I support others in the team.","I communicate well with my team members.","I work well in a team.","I treat other members of my team as equal to myself.","I am able to work with people who have different working styles from me.","I know how to work well with my stakeholders.","I seek to understand the needs of my stakeholders.","I am able to establish common understanding and build trust with my stakeholders.","I work well with my stakeholders.","I understand the factors that are critical to the smooth running of an event or a project. ","I know how to identify symptoms of mental and emotional distress. ","I am able to support those struggling mentally and emotionally. ","I know how I can manage negative thoughts and emotions. ","I know where to seek help when I have distressing thoughts and emotions beyond my control. ","If I have distressing thoughts and emotions beyond my control, I would seek help.","I know the steps that I can take to meet my financial goals.","I believe it is important to stay physically healthy. ","I make a conscious effort to maintain a healthy lifestyle.","I am proud to be a Singaporean. ","I am aware of issues affecting Singapore.","I understand how changes around the world affect Singapore and its future.","I understand the opportunities and challenges that Singapore has.","I understand the difficulties in trying to solve issues affecting Singapore's society.","I am aware of policies and programmes that tackle issues affecting Singapore's society.","I trust the government. ","I feel that the government understands the concerns of Singaporeans like me.","I feel that the government cares for the wellbeing of Singaporeans like me.","I feel that the government values my views.","I have people that I can talk with about my problems.","I have people whom I can turn to for support. ","I respect the opinions of others, even if I do not agree with it. ","I respect the values and beliefs of people who are of a different background from me.","I put myself in the shoes of others to understand how they feel.","I believe that I can make a difference in the community.","I believe I can help to shape society.","I am aware of the needs in the community.","I understand the ways that I can contribute to the community.","I believe I have a role to play in improving the community.","I feel a strong conviction to give back to the community.","I actively participate in efforts that help to improve the community.","I participate in discussions on national, community or social issues.","I encourage my peers to participate in activities that help to improve the community.","I am aware of the effects of my actions on the environment.","I understand the ways that I can care for the environment.","I feel responsible towards the environment.","My efforts to care for the environment will make a difference.","I actively participate in efforts to care for the environment.","I encourage my peers to care for the environment.","I believe that I can influence government decisions on issues. ","I am able to persevere in the face of challenges.","I do not give up even after experiencing failure. ","I feel that I have a number of good qualities.","I am able to do things as well as most other people. ","I believe I can achieve my goals.","I believe I have the ability to succeed in the things I want to do.","I am confident I can succeed when I try my best.","I seize the opportunity whenever I see one. ","I take initiative instead of waiting for things to happen.","I believe it is important to challenge myself to grow. ","Difficult times are an opportunity for me to learn and grow as a person.","I am aware of the skills that will help me to succeed in my career in future.","I am aware of the potential career pathways that I can take to achieve my goals.","I believe I can achieve my career goals. ","I am aware of differences between cultures.","I am aware of issues affecting other countries","I understand how changes around the world affect other countries.","I understand the opportunities and challenges other countries have.","I understand the difficulties in trying to solve global issues.","I know of ways to come up with new ideas. ","I am able to link different information together. ","I think through issues from different angles.","I analyse an issue thoroughly before coming to a conclusion.","I know how to identify and solve problems.","I am able to solve problems that I face.","After I have tried to solve a problem, I examine why it did or did not work.","When solving a problem, I compare the pros and cons of my solutions. ","When faced with a problem, I try to find out the cause of the problem.","I know how to work well in a team.","I support others in the team.","I communicate well with my team members.","I work well in a team.","I treat other members of my team as equal to myself.","I am able to work with people who have different working styles from me.","I know how to work well with my stakeholders.","I seek to understand the needs of my stakeholders.","I am able to establish common understanding and build trust with my stakeholders.","I work well with my stakeholders.","I understand the factors that are critical to the smooth running of an event or a project. ","I know how to identify symptoms of mental and emotional distress. ","I am able to support those struggling mentally and emotionally. ","I know how I can manage negative thoughts and emotions. ","I know where to seek help when I have distressing thoughts and emotions beyond my control. ","If I have distressing thoughts and emotions beyond my control, I would seek help.","I know the steps that I can take to meet my financial goals.","I believe it is important to stay physically healthy. ","I make a conscious effort to maintain a healthy lifestyle.","I am proud to be a Singaporean. ","I am aware of issues affecting Singapore.","I understand how changes around the world affect Singapore and its future.","I understand the opportunities and challenges that Singapore has.","I understand the difficulties in trying to solve issues affecting Singapore's society.","I am aware of policies and programmes that tackle issues affecting Singapore's society.","I trust the government. ","I feel that the government understands the concerns of Singaporeans like me.","I feel that the government cares for the wellbeing of Singaporeans like me.","I feel that the government values my views.","I have people that I can talk with about my problems.","I have people whom I can turn to for support. ","I respect the opinions of others, even if I do not agree with it. ","I respect the values and beliefs of people who are of a different background from me.","I put myself in the shoes of others to understand how they feel.","I believe that I can make a difference in the community.","I believe I can help to shape society.","I am aware of the needs in the community.","I understand the ways that I can contribute to the community.","I believe I have a role to play in improving the community.","I feel a strong conviction to give back to the community.","I actively participate in efforts that help to improve the community.","I participate in discussions on national, community or social issues.","I encourage my peers to participate in activities that help to improve the community.","I am aware of the effects of my actions on the environment.","I understand the ways that I can care for the environment.","I feel responsible towards the environment.","My efforts to care for the environment will make a difference.","I actively participate in efforts to care for the environment.","I encourage my peers to care for the environment.","I believe that I can influence government decisions on issues. ","What do you think of the duration of programme_name?","I feel that the pace of programme_name was…","The accommodation is of acceptable standard.","The meal(s) are of acceptable standard.","The facilities are of acceptable standard.","The mentor provided sufficient guidance. ","The mentor provided useful insights.","The mentor was able to facilitate learning through reflections and asking critical questions. ","The mentor provided useful feedback for my personal growth.","The mentor has the necessary knowledge and skills for the role.","The mentor was able to point me to useful resources.","The mentor is able to communicate well with the group.","The mentor was able to manage the group effectively","How would you rate the mentor as a whole?","Overall, I am satisfied with programme_name.","How would you rate programme_name as a whole? ","I would recommend programme_name to others. ","I would like to take part in other activities organised by organisation_name.","This programme has allowed me to expand my networks.","Please provide the last 5 characters of your NRIC","Please provide the last 5 characters of your NRIC",null,"VALIDATION","I am able to persevere in the face of challenges.","I do not give up even after experiencing failure. ","I feel that I have a number of good qualities.","I am able to do things as well as most other people. ","I believe I can achieve my goals.","I believe I have the ability to succeed in the things I want to do.","I am confident I can succeed when I try my best.","I seize the opportunity whenever I see one. ","I take initiative instead of waiting for things to happen.","I believe it is important to challenge myself to grow. ","Difficult times are an opportunity for me to learn and grow as a person.","I am aware of the skills that will help me to succeed in my career in future.","I am aware of the potential career pathways that I can take to achieve my goals.","I believe I can achieve my career goals. ","I am aware of differences between cultures.","I am aware of issues affecting other countries","I understand how changes around the world affect other countries.","I understand the opportunities and challenges other countries have.","I understand the difficulties in trying to solve global issues.","I know of ways to come up with new ideas. ","I am able to link different information together. ","I think through issues from different angles.","I analyse an issue thoroughly before coming to a conclusion.","I know how to identify and solve problems.","I am able to solve problems that I face.","After I have tried to solve a problem, I examine why it did or did not work.","When solving a problem, I compare the pros and cons of my solutions. ","When faced with a problem, I try to find out the cause of the problem.","I know how to work well in a team.","I support others in the team.","I communicate well with my team members.","I work well in a team.","I treat other members of my team as equal to myself.","I am able to work with people who have different working styles from me.","I know how to work well with my stakeholders.","I seek to understand the needs of my stakeholders.","I am able to establish common understanding and build trust with my stakeholders.","I work well with my stakeholders.","I understand the factors that are critical to the smooth running of an event or a project. ","I know how to identify symptoms of mental and emotional distress. ","I am able to support those struggling mentally and emotionally. ","I know how I can manage negative thoughts and emotions. ","I know where to seek help when I have distressing thoughts and emotions beyond my control. ","If I have distressing thoughts and emotions beyond my control, I would seek help.","I know the steps that I can take to meet my financial goals.","I believe it is important to stay physically healthy. ","I make a conscious effort to maintain a healthy lifestyle.","I am proud to be a Singaporean. ","I am aware of issues affecting Singapore.","I understand how changes around the world affect Singapore and its future.","I understand the opportunities and challenges that Singapore has.","I understand the difficulties in trying to solve issues affecting Singapore's society.","I am aware of policies and programmes that tackle issues affecting Singapore's society.","I trust the government. ","I feel that the government understands the concerns of Singaporeans like me.","I feel that the government cares for the wellbeing of Singaporeans like me.","I feel that the government values my views.","I have people that I can talk with about my problems.","I have people whom I can turn to for support. ","I respect the opinions of others, even if I do not agree with it. ","I respect the values and beliefs of people who are of a different background from me.","I put myself in the shoes of others to understand how they feel.","I believe that I can make a difference in the community.","I believe I can help to shape society.","I am aware of the needs in the community.","I understand the ways that I can contribute to the community.","I believe I have a role to play in improving the community.","I feel a strong conviction to give back to the community.","I actively participate in efforts that help to improve the community.","I participate in discussions on national, community or social issues.","I encourage my peers to participate in activities that help to improve the community.","I am aware of the effects of my actions on the environment.","I understand the ways that I can care for the environment.","I feel responsible towards the environment.","My efforts to care for the environment will make a difference.","I actively participate in efforts to care for the environment.","I encourage my peers to care for the environment.","I believe that I can influence government decisions on issues. ","I am able to persevere in the face of challenges.","I do not give up even after experiencing failure. ","I feel that I have a number of good qualities.","I am able to do things as well as most other people. ","I believe I can achieve my goals.","I believe I have the ability to succeed in the things I want to do.","I am confident I can succeed when I try my best.","I seize the opportunity whenever I see one. ","I take initiative instead of waiting for things to happen.","I believe it is important to challenge myself to grow. ","Difficult times are an opportunity for me to learn and grow as a person.","I am aware of the skills that will help me to succeed in my career in future.","I am aware of the potential career pathways that I can take to achieve my goals.","I believe I can achieve my career goals. ","I am aware of differences between cultures.","I am aware of issues affecting other countries","I understand how changes around the world affect other countries.","I understand the opportunities and challenges other countries have.","I understand the difficulties in trying to solve global issues.","I know of ways to come up with new ideas. ","I am able to link different information together. ","I think through issues from different angles.","I analyse an issue thoroughly before coming to a conclusion.","I know how to identify and solve problems.","I am able to solve problems that I face.","After I have tried to solve a problem, I examine why it did or did not work.","When solving a problem, I compare the pros and cons of my solutions. ","When faced with a problem, I try to find out the cause of the problem.","I know how to work well in a team.","I support others in the team.","I communicate well with my team members.","I work well in a team.","I treat other members of my team as equal to myself.","I am able to work with people who have different working styles from me.","I know how to work well with my stakeholders.","I seek to understand the needs of my stakeholders.","I am able to establish common understanding and build trust with my stakeholders.","I work well with my stakeholders.","I understand the factors that are critical to the smooth running of an event or a project. ","I know how to identify symptoms of mental and emotional distress. ","I am able to support those struggling mentally and emotionally. ","I know how I can manage negative thoughts and emotions. ","I know where to seek help when I have distressing thoughts and emotions beyond my control. ","If I have distressing thoughts and emotions beyond my control, I would seek help.","I know the steps that I can take to meet my financial goals.","I believe it is important to stay physically healthy. ","I make a conscious effort to maintain a healthy lifestyle.","I am proud to be a Singaporean. ","I am aware of issues affecting Singapore.","I understand how changes around the world affect Singapore and its future.","I understand the opportunities and challenges that Singapore has.","I understand the difficulties in trying to solve issues affecting Singapore's society.","I am aware of policies and programmes that tackle issues affecting Singapore's society.","I trust the government. ","I feel that the government understands the concerns of Singaporeans like me.","I feel that the government cares for the wellbeing of Singaporeans like me.","I feel that the government values my views.","I have people that I can talk with about my problems.","I have people whom I can turn to for support. ","I respect the opinions of others, even if I do not agree with it. ","I respect the values and beliefs of people who are of a different background from me.","I put myself in the shoes of others to understand how they feel.","I believe that I can make a difference in the community.","I believe I can help to shape society.","I am aware of the needs in the community.","I understand the ways that I can contribute to the community.","I believe I have a role to play in improving the community.","I feel a strong conviction to give back to the community.","I actively participate in efforts that help to improve the community.","I participate in discussions on national, community or social issues.","I encourage my peers to participate in activities that help to improve the community.","I am aware of the effects of my actions on the environment.","I understand the ways that I can care for the environment.","I feel responsible towards the environment.","My efforts to care for the environment will make a difference.","I actively participate in efforts to care for the environment.","I encourage my peers to care for the environment.","I believe that I can influence government decisions on issues. ","What do you think of the duration of programme_name?","I feel that the pace of programme_name was…","The accommodation is of acceptable standard.","The meal(s) are of acceptable standard.","The facilities are of acceptable standard.","The mentor provided sufficient guidance. ","The mentor provided useful insights.","The mentor was able to facilitate learning through reflections and asking critical questions. ","The mentor provided useful feedback for my personal growth.","The mentor has the necessary knowledge and skills for the role.","The mentor was able to point me to useful resources.","The mentor is able to communicate well with the group.","The mentor was able to manage the group effectively","How would you rate the mentor as a whole?","Overall, I am satisfied with programme_name.","How would you rate programme_name as a whole? ","I would recommend programme_name to others. ","I would like to take part in other activities organised by organisation_name.","This programme has allowed me to expand my networks.","Please provide the last 5 characters of your NRIC","Please provide the last 5 characters of your NRIC","Total Questions","Valid Responses","Difference","Submitted?","Error?",{"$f":"IF(COUNTIFS(NE21:NE1020, 1, ND21:ND1020, 0) = COUNTIF(NE21:NE1020, 1), 0, 1)","v":0}]
[null,null,null,null,null,null,1,{"$f":"IF(NE21=1, START!$B$17, \"\")","v":""},{"$f":"IF(NE21=1, START!$B$20, \"\")","v":""},null,null,null,null,null,null,null,null,null,null,null,null,null,null,null,null,null,null,null,null,null,null,null,null,null,null,null,null,null,null,null,null,null,null,null,null,null,null,null,null,null,null,null,null,null,null,null,null,null,null,null,null,null,null,null,null,null,null,null,null,null,null,null,null,null,null,null,null,null,null,null,null,null,null,null,null,null,null,null,null,null,null,null,null,null,null,null,null,null,null,null,null,null,null,null,null,null,null,null,null,null,null,null,null,null,null,null,null,null,null,null,null,null,null,null,null,null,null,null,null,null,null,null,null,null,null,null,null,null,null,null,null,null,null,null,null,null,null,null,null,null,null,null,null,null,null,null,null,null,null,null,null,null,null,null,null,null,null,null,null,null,null,null,null,null,null,null,null,null,null,null,null,null,null,null,null,null,null,1,{"$f":"IF(J21=\"\",\"\",IF(OR(J21=1,J21=2,J21=3,J21=4,J21=5,J21=99),1,0))","v":""},{"$f":"IF(K21=\"\",\"\",IF(OR(K21=1,K21=2,K21=3,K21=4,K21=5,K21=99),1,0))","v":""},"","","","","","","","","","","","","","","","","","","","","","","","","","","","","","","","","","","","","","","","","","","","","","","","","","","","","","","","","","","","","","","",{"$f":"IF(BW21=\"\",\"\",IF(OR(BW21=1,BW21=2,BW21=3,BW21=4,BW21=5,BW21=99),1,0))","v":""},"","","","","","","","","","","","","","","","","","","","","","","","","","","","","","","","","","","","","","","","","","","","","","","","","","","","","","","","","","","","","","","",{"$f":"IF(EI21=\"\",\"\",IF(OR(EI21=1,EI21=2,EI21=3,EI21=4,EI21=5,EI21=99),1,0))","v":""},"","","","","","","","","","","","","","","","","","","","","","","","","","","","","","","","","","","","","","","","","","","",{"$f":"IF(GA21=\"\",\"\",IF(OR(GA21=1,GA21=2,GA21=99),1,0))","v":""},{"$f":"IF(GB21=\"\",\"\",IF(OR(GB21=1,GB21=2,GB21=3,GB21=4,GB21=5,GB21=99),1,0))","v":""},{"$f":"IF(GC21=\"\",\"\",IF(AND(LEN(GC21)=5),1,0))","v":""},{"$f":"IF(GD21=\"\",\"\",IF(AND(LEN(GD21)=5),1,0))","v":""},{"$f":"SUM($J$11:$GD$11)","v":1},{"$f":"SUM(GG21:NA21)","v":0},{"$f":"NC21-NB21","v":-1},{"$f":"IF(NC21>0, 1, 0)","v":0},{"$f":"IF(AND(NE21=1,ND21=0),0,IF(NE21=0,0,1))","v":0}]
[null,null,null,null,null,null,2,{"$f":"IF(NE22=1, START!$B$17, \"\")","v":""},{"$f":"IF(NE22=1, START!$B$20, \"\")","v":""},null,null,null,null,null,null,null,null,null,null,null,null,null,null,null,null,null,null,null,null,null,null,null,null,null,null,null,null,null,null,null,null,null,null,null,null,null,null,null,null,null,null,null,null,null,null,null,null,null,null,null,null,null,null,null,null,null,null,null,null,null,null,null,null,null,null,null,null,null,null,null,null,null,null,null,null,null,null,null,null,null,null,null,null,null,null,null,null,null,null,null,null,null,null,null,null,null,null,null,null,null,null,null,null,null,null,null,null,null,null,null,null,null,null,null,null,null,null,null,null,null,null,null,null,null,null,null,null,null,null,null,null,null,null,null,null,null,null,null,null,null,null,null,null,null,null,null,null,null,null,null,null,null,null,null,null,null,null,null,null,null,null,null,null,null,null,null,null,null,null,null,null,null,null,null,null,null,null,2,{"$f":"IF(J22=\"\",\"\",IF(OR(J22=1,J22=2,J22=3,J22=4,J22=5,J22=99),1,0))","v":""},"","","","","","","","","","","","","","","","","","","","","","","","","","","","","","","","","","","","","","","","","","","","","","","","","","","","","","","","","","","","","","","","","","","","","","","","","","","","","","","","","","","","","","","","","","","","","","","","","","","","","","","","","","","","","","","","","","","","","","","","","","","","","","","","",{"$f":"IF(EI22=\"\",\"\",IF(OR(EI22=1,EI22=2,EI22=3,EI22=4,EI22=5,EI22=99),1,0))","v":""},"","","","","","","","","","","","","","","",{"$f":"IF(EY22=\"\",\"\",IF(OR(EY22=1,EY22=2,EY22=3,EY22=4,EY22=5,EY22=99),1,0))","v":""},"","","","","","","","","","","","","","","",{"$f":"IF(FO22=\"\",\"\",IF(OR(FO22=1,FO22=2,FO22=3,FO22=4,FO22=5,FO22=99),1,0))","v":""},"","","","","","","","","","","",{"$f":"IF(GA22=\"\",\"\",IF(OR(GA22=1,GA22=2,GA22=99),1,0))","v":""},{"$f":"IF(GB22=\"\",\"\",IF(OR(GB22=1,GB22=2,GB22=3,GB22=4,GB22=5,GB22=99),1,0))","v":""},{"$f":"IF(GC22=\"\",\"\",IF(AND(LEN(GC22)=5),1,0))","v":""},"",{"$f":"SUM($J$11:$GD$11)","v":1},{"$f":"SUM(GG22:NA22)","v":0},{"$f":"NC22-NB22","v":-1},{"$f":"IF(NC22>0, 1, 0)","v":0},{"$f":"IF(AND(NE22=1,ND22=0),0,IF(NE22=0,0,1))","v":0}]
[null,null,null,null,null,null,3,{"$f":"IF(NE23=1, START!$B$17, \"\")","v":""},{"$f":"IF(NE23=1, START!$B$20, \"\")","v":""},null,null,null,null,null,null,null,null,null,null,null,null,null,null,null,null,null,null,null,null,null,null,null,null,null,null,null,null,null,null,null,null,null,null,null,null,null,null,null,null,null,null,null,null,null,null,null,null,null,null,null,null,null,null,null,null,null,null,null,null,null,null,null,null,null,null,null,null,null,null,null,null,null,null,null,null,null,null,null,null,null,null,null,null,null,null,null,null,null,null,null,null,null,null,null,null,null,null,null,null,null,null,null,null,null,null,null,null,null,null,null,null,null,null,null,null,null,null,null,null,null,null,null,null,null,null,null,null,null,null,null,null,null,null,null,null,null,null,null,null,null,null,null,null,null,null,null,null,null,null,null,null,null,null,null,null,null,null,null,null,null,null,null,null,null,null,null,null,null,null,null,null,null,null,null,null,null,null,3,"","","","","","","","","","","","","","","","","","","","","","","","","","","","","","","","","","","","","","","","","","","","","","","","","","","","","","","","","","","","","","","","","","","","","","","","","","","","","","","","","","","","","","","","","","","","","","","","","","","","","","","","","","","","","","","","","","","","","","","","","","","","","","","","","","","","","","","","","","","","","","","","","","","","","","","","","","","","","","","","","","","","","","","","","","","","","","","","","",1,0,-1,0,0]
[null,null,null,null,null,null,4,{"$f":"IF(NE24=1, START!$B$17, \"\")","v":""},{"$f":"IF(NE24=1, START!$B$20, \"\")","v":""},null,null,null,null,null,null,null,null,null,null,null,null,null,null,null,null,null,null,null,null,null,null,null,null,null,null,null,null,null,null,null,null,null,null,null,null,null,null,null,null,null,null,null,null,null,null,null,null,null,null,null,null,null,null,null,null,null,null,null,null,null,null,null,null,null,null,null,null,null,null,null,null,null,null,null,null,null,null,null,null,null,null,null,null,null,null,null,null,null,null,null,null,null,null,null,null,null,null,null,null,null,null,null,null,null,null,null,null,null,null,null,null,null,null,null,null,null,null,null,null,null,null,null,null,null,null,null,null,null,null,null,null,null,null,null,null,null,null,null,null,null,null,null,null,null,null,null,null,null,null,null,null,null,null,null,null,null,null,null,null,null,null,null,null,null,null,null,null,null,null,null,null,null,null,null,null,null,null,4,"","","","","","","","","","","","","","","","","","","","","","","","","","","","","","","","","","","","","","","","","","","","","","","","","","","","","","","","","","","","","","","","",{"$f":"IF(BV24=\"\",\"\",IF(OR(BV24=1,BV24=2,BV24=3,BV24=4,BV24=5,BV24=99),1,0))","v":""},"","","","","","","","","","","","","","","","","","","","","","","","","","","","","","","","","","","","","","","","","","","","","","","","","","","","","","","","","","","","","","","",{"$f":"IF(EH24=\"\",\"\",IF(OR(EH24=1,EH24=2,EH24=3,EH24=4,EH24=5,EH24=99),1,0))","v":""},"","","","","","","","","","","","","","","","","","","","","","","","","","","","","","","","","","","","","","","","","","","","","","","","",1,0,-1,0,0]
[null,null,null,null,null,null,5,{"$f":"IF(NE25=1, START!$B$17, \"\")","v":""},{"$f":"IF(NE25=1, START!$B$20, \"\")","v":""},null,null,null,null,null,null,null,null,null,null,null,null,null,null,null,null,null,null,null,null,null,null,null,null,null,null,null,null,null,null,null,null,null,null,null,null,null,null,null,null,null,null,null,null,null,null,null,null,null,null,null,null,null,null,null,null,null,null,null,null,null,null,null,null,null,null,null,null,null,null,null,null,null,null,null,null,null,null,null,null,null,null,null,null,null,null,null,null,null,null,null,null,null,null,null,null,null,null,null,null,null,null,null,null,null,null,null,null,null,null,null,null,null,null,null,null,null,null,null,null,null,null,null,null,null,null,null,null,null,null,null,null,null,null,null,null,null,null,null,null,null,null,null,null,null,null,null,null,null,null,null,null,null,null,null,null,null,null,null,null,null,null,null,null,null,null,null,null,null,null,null,null,null,null,null,null,null,null,5,"","","","","","","","","","","","","","","","",{"$f":"IF(Z25=\"\",\"\",IF(OR(Z25=1,Z25=2,Z25=3,Z25=4,Z25=5,Z25=99),1,0))","v":""},"","","","","","","","","","","","","","","",{"$f":"IF(AP25=\"\",\"\",IF(OR(AP25=1,AP25=2,AP25=3,AP25=4,AP25=5,AP25=99),1,0))","v":""},"","","","","","","","","","","","","","","",{"$f":"IF(BF25=\"\",\"\",IF(OR(BF25=1,BF25=2,BF25=3,BF25=4,BF25=5,BF25=99),1,0))","v":""},"","","","","","","","","","","","","","","","","","","","","","","","","","","","","","","",{"$f":"IF(CL25=\"\",\"\",IF(OR(CL25=1,CL25=2,CL25=3,CL25=4,CL25=5,CL25=99),1,0))","v":""},"","","","","","","","","","","","","","","",{"$f":"IF(DB25=\"\",\"\",IF(OR(DB25=1,DB25=2,DB25=3,DB25=4,DB25=5,DB25=99),1,0))","v":""},"","","","","","","","","","","","","","","",{"$f":"IF(DR25=\"\",\"\",IF(OR(DR25=1,DR25=2,DR25=3,DR25=4,DR25=5,DR25=99),1,0))","v":""},"","","","","","","","","","","","","","","","","","","","","","","","","","","","","","","","","","","","","","","","","","","","","","","","","","","","","","","","","","","","","","","","",1,0,-1,0,0]
[null,null,null,null,null,null,6,{"$f":"IF(NE26=1, START!$B$17, \"\")","v":""},{"$f":"IF(NE26=1, START!$B$20, \"\")","v":""},null,null,null,null,null,null,null,null,null,null,null,null,null,null,null,null,null,null,null,null,null,null,null,null,null,null,null,null,null,null,null,null,null,null,null,null,null,null,null,null,null,null,null,null,null,null,null,null,null,null,null,null,null,null,null,null,null,null,null,null,null,null,null,null,null,null,null,null,null,null,null,null,null,null,null,null,null,null,null,null,null,null,null,null,null,null,null,null,null,null,null,null,null,null,null,null,null,null,null,null,null,null,null,null,null,null,null,null,null,null,null,null,null,null,null,null,null,null,null,null,null,null,null,null,null,null,null,null,null,null,null,null,null,null,null,null,null,null,null,null,null,null,null,null,null,null,null,null,null,null,null,null,null,null,null,null,null,null,null,null,null,null,null,null,null,null,null,null,null,null,null,null,null,null,null,null,null,null,6,"","","","","","","","","","","","","","","","","","","","","","","","","","","","","","","","","","","","","","","","","","","","","","","","","","","","","","","","","","","","","","","","","","","","","","","","","","","","","","","","","","","","","","","","","","","","","","","","","","","","","","","","","","","","","","","","","","","","","","","","","","","","","","","","","","","","","","","","","","","","","","","","","","","","","","","","","","","","","","","","","","","","","","","","","","","","","","","","","",1,0,-1,0,0]
[null,null,null,null,null,null,7,{"$f":"IF(NE27=1, START!$B$17, \"\")","v":""},{"$f":"IF(NE27=1, START!$B$20, \"\")","v":""},null,null,null,null,null,null,null,null,null,null,null,null,null,null,null,null,null,null,null,null,null,null,null,null,null,null,null,null,null,null,null,null,null,null,null,null,null,null,null,null,null,null,null,null,null,null,null,null,null,null,null,null,null,null,null,null,null,null,null,null,null,null,null,null,null,null,null,null,null,null,null,null,null,null,null,null,null,null,null,null,null,null,null,null,null,null,null,null,null,null,null,null,null,null,null,null,null,null,null,null,null,null,null,null,null,null,null,null,null,null,null,null,null,null,null,null,null,null,null,null,null,null,null,null,null,null,null,null,null,null,null,null,null,null,null,null,null,null,null,null,null,null,null,null,null,null,null,null,null,null,null,null,null,null,null,null,null,null,null,null,null,null,null,null,null,null,null,null,null,null,null,null,null,null,null,null,null,null,7,"","","","","","","","","","","","","","","","","","","","","","","","","","","","","","","","","","","","","","","","","","","","","","","","","","","","","","","","","","","","","","","","","","","","","","","","","","","","","","","","","","","","","","","","","","","","","","","","","","","","","","","","","","","","","","","","","","","","","","","","","","","","","","","","","","","","","","","","","","","","","","","","","","","","","","","","","","","","","","","","","","","","","","","","","","","","","","","","",{"$f":"IF(GD27=\"\",\"\",IF(AND(LEN(GD27)=5),1,0))","v":""},1,0,-1,0,0]
[null,null,null,null,null,null,8,{"$f":"IF(NE28=1, START!$B$17, \"\")","v":""},{"$f":"IF(NE28=1, START!$B$20, \"\")","v":""},null,null,null,null,null,null,null,null,null,null,null,null,null,null,null,null,null,null,null,null,null,null,null,null,null,null,null,null,null,null,null,null,null,null,null,null,null,null,null,null,null,null,null,null,null,null,null,null,null,null,null,null,null,null,null,null,null,null,null,null,null,null,null,null,null,null,null,null,null,null,null,null,null,null,null,null,null,null,null,null,null,null,null,null,null,null,null,null,null,null,null,null,null,null,null,null,null,null,null,null,null,null,null,null,null,null,null,null,null,null,null,null,null,null,null,null,null,null,null,null,null,null,null,null,null,null,null,null,null,null,null,null,null,null,null,null,null,null,null,null,null,null,null,null,null,null,null,null,null,null,null,null,null,null,null,null,null,null,null,null,null,null,null,null,null,null,null,null,null,null,null,null,null,null,null,null,null,null,8,"","","","","","","","","","","","","","","","","","","","","","","","","","","","","","","","","","","","","","","","","","","","","","","","","","","","","","","","","","","","","","","","","","","","","","","","","","","","","","","","","","","","","","","","","","","","","","","","","","","","","","","","","","","","","","","","","","","","","","","","","","","","","","","","","","","","","","","","","","","","","","","","","","","","","","","","","","","","","","","","","","","","","","","","","","","","","","","","","",1,0,-1,0,0]
[null,null,null,null,null,null,9,{"$f":"IF(NE29=1, START!$B$17, \"\")","v":""},{"$f":"IF(NE29=1, START!$B$20, \"\")","v":""},null,null,null,null,null,null,null,null,null,null,null,null,null,null,null,null,null,null,null,null,null,null,null,null,null,null,null,null,null,null,null,null,null,null,null,null,null,null,null,null,null,null,null,null,null,null,null,null,null,null,null,null,null,null,null,null,null,null,null,null,null,null,null,null,null,null,null,null,null,null,null,null,null,null,null,null,null,null,null,null,null,null,null,null,null,null,null,null,null,null,null,null,null,null,null,null,null,null,null,null,null,null,null,null,null,null,null,null,null,null,null,null,null,null,null,null,null,null,null,null,null,null,null,null,null,null,null,null,null,null,null,null,null,null,null,null,null,null,null,null,null,null,null,null,null,null,null,null,null,null,null,null,null,null,null,null,null,null,null,null,null,null,null,null,null,null,null,null,null,null,null,null,null,null,null,null,null,null,9,"","","","","","","","","","","","","","","","","","","","","","","","","","","","","","","","","","","","","","","","","","","","","","","","","","","","","","","","","","","","","","","","","","","","","","","","","","","","","","","","","","","","","","","","","","","","","","","","","","","","","","","","","","","","","","","","","","","","","","","","","","","","","","","","","","","","","","","","","","","","","","","","","","","","","","","","","","","","","","","","","","","","","","","","","","","","","","","","","",1,0,-1,0,0]
[null,null,null,null,null,null,10,{"$f":"IF(NE30=1, START!$B$17, \"\")","v":""},{"$f":"IF(NE30=1, START!$B$20, \"\")","v":""},null,null,null,null,null,null,null,null,null,null,null,null,null,null,null,null,null,null,null,null,null,null,null,null,null,null,null,null,null,null,null,null,null,null,null,null,null,null,null,null,null,null,null,null,null,null,null,null,null,null,null,null,null,null,null,null,null,null,null,null,null,null,null,null,null,null,null,null,null,null,null,null,null,null,null,null,null,null,null,null,null,null,null,null,null,null,null,null,null,null,null,null,null,null,null,null,null,null,null,null,null,null,null,null,null,null,null,null,null,null,null,null,null,null,null,null,null,null,null,null,null,null,null,null,null,null,null,null,null,null,null,null,null,null,null,null,null,null,null,null,null,null,null,null,null,null,null,null,null,null,null,null,null,null,null,null,null,null,null,null,null,null,null,null,null,null,null,null,null,null,null,null,null,null,null,null,null,null,10,"","","","","","","","","","","","","","","","","","","","","","","","","","","","","","","","","","","","","","","","","","","","","","","","","","","","","","","","","","","","","","","","","","","","","","","","","","","","","","","","","","","","","","","","","","","","","","","","","","","","","","","","","","","","","","","","","","","","","","","","","","","","","","","","","","","","","","","","","","","","","","","","","","","","","","","","","","","","","","","","","","","","","","","","","","","","","","","","","",1,0,-1,0,0]
[null,null,null,null,null,null,11,{"$f":"IF(NE31=1, START!$B$17, \"\")","v":""},{"$f":"IF(NE31=1, START!$B$20, \"\")","v":""},null,null,null,null,null,null,null,null,null,null,null,null,null,null,null,null,null,null,null,null,null,null,null,null,null,null,null,null,null,null,null,null,null,null,null,null,null,null,null,null,null,null,null,null,null,null,null,null,null,null,null,null,null,null,null,null,null,null,null,null,null,null,null,null,null,null,null,null,null,null,null,null,null,null,null,null,null,null,null,null,null,null,null,null,null,null,null,null,null,null,null,null,null,null,null,null,null,null,null,null,null,null,null,null,null,null,null,null,null,null,null,null,null,null,null,null,null,null,null,null,null,null,null,null,null,null,null,null,null,null,null,null,null,null,null,null,null,null,null,null,null,null,null,null,null,null,null,null,null,null,null,null,null,null,null,null,null,null,null,null,null,null,null,null,null,null,null,null,null,null,null,null,null,null,null,null,null,null,11,"","","","","","","","","","","","","","","","","","","","","","","","","","","","","","","","","","","","","","","","","","","","","","","","","","","","","","","","","","","","","","","","","","","","","","","","","","","","","","","","","","","","","","","","","","","","","","","","","","","","","","","","","","","","","","","","","","","","","","","","","","","","","","","","","","","","","","","","","","","","","","","","","","","","","","","","","","","","","","","","","","","","","","","","","","","","","","","","","",1,0,-1,0,0]
[null,null,null,null,null,null,12,{"$f":"IF(NE32=1, START!$B$17, \"\")","v":""},{"$f":"IF(NE32=1, START!$B$20, \"\")","v":""},null,null,null,null,null,null,null,null,null,null,null,null,null,null,null,null,null,null,null,null,null,null,null,null,null,null,null,null,null,null,null,null,null,null,null,null,null,null,null,null,null,null,null,null,null,null,null,null,null,null,null,null,null,null,null,null,null,null,null,null,null,null,null,null,null,null,null,null,null,null,null,null,null,null,null,null,null,null,null,null,null,null,null,null,null,null,null,null,null,null,null,null,null,null,null,null,null,null,null,null,null,null,null,null,null,null,null,null,null,null,null,null,null,null,null,null,null,null,null,null,null,null,null,null,null,null,null,null,null,null,null,null,null,null,null,null,null,null,null,null,null,null,null,null,null,null,null,null,null,null,null,null,null,null,null,null,null,null,null,null,null,null,null,null,null,null,null,null,null,null,null,null,null,null,null,null,null,null,12,"","","","","","","","","","","","","","","","","","","","","","","","","","","","","","","","","","","","","","","","","","","","","","","","","","","","","","","","","","","","","","","","","","","","","","","","","","","","","","","","","","","","","","","","","","","","","","","","","","","","","","","","","","","","","","","","","","","","","","","","","","","","","","","","","","","","","","","","","","","","","","","","","","","","","","","","","","","","","","","","","","","","","","","","","","","","","","","","","",1,0,-1,0,0]
[null,null,null,null,null,null,13,{"$f":"IF(NE33=1, START!$B$17, \"\")","v":""},{"$f":"IF(NE33=1, START!$B$20, \"\")","v":""},null,null,null,null,null,null,null,null,null,null,null,null,null,null,null,null,null,null,null,null,null,null,null,null,null,null,null,null,null,null,null,null,null,null,null,null,null,null,null,null,null,null,null,null,null,null,null,null,null,null,null,null,null,null,null,null,null,null,null,null,null,null,null,null,null,null,null,null,null,null,null,null,null,null,null,null,null,null,null,null,null,null,null,null,null,null,null,null,null,null,null,null,null,null,null,null,null,null,null,null,null,null,null,null,null,null,null,null,null,null,null,null,null,null,null,null,null,null,null,null,null,null,null,null,null,null,null,null,null,null,null,null,null,null,null,null,null,null,null,null,null,null,null,null,null,null,null,null,null,null,null,null,null,null,null,null,null,null,null,null,null,null,null,null,null,null,null,null,null,null,null,null,null,null,null,null,null,null,13,"","","","","","","","","","","","","","","","","","","","","","","","","","","","","","","","","","","","","","","","","","","","","","","","","","","","","","","","","","","","","","","","","","","","","","","","","","","","","","","","","","","","","","","","","","","","","","","","","","","","","","","","","","","","","","","","","","","","","","","","","","","","","","","","","","","","","","","","","","","","","","","","","","","","","","","","","","","","","","","","","","","","","","","","","","","","","","","","","",1,0,-1,0,0]
[null,null,null,null,null,null,14,{"$f":"IF(NE34=1, START!$B$17, \"\")","v":""},{"$f":"IF(NE34=1, START!$B$20, \"\")","v":""},null,null,null,null,null,null,null,null,null,null,null,null,null,null,null,null,null,null,null,null,null,null,null,null,null,null,null,null,null,null,null,null,null,null,null,null,null,null,null,null,null,null,null,null,null,null,null,null,null,null,null,null,null,null,null,null,null,null,null,null,null,null,null,null,null,null,null,null,null,null,null,null,null,null,null,null,null,null,null,null,null,null,null,null,null,null,null,null,null,null,null,null,null,null,null,null,null,null,null,null,null,null,null,null,null,null,null,null,null,null,null,null,null,null,null,null,null,null,null,null,null,null,null,null,null,null,null,null,null,null,null,null,null,null,null,null,null,null,null,null,null,null,null,null,null,null,null,null,null,null,null,null,null,null,null,null,null,null,null,null,null,null,null,null,null,null,null,null,null,null,null,null,null,null,null,null,null,null,14,"","","","","","","","","","","","","","","","","","","","","","","","","","","","","","","","","","","","","","","","","","","","","","","","","","","","","","","","","","","","","","","","","","","","","","","","","","","","","","","","","","","","","","","","","","","","","","","","","","","","","","","","","","","","","","","","","","","","","","","","","","","","","","","","","","","","","","","","","","","","","","","","","","","","","","","","","","","","","","","","","","","","","","","","","","","","","","","","","",1,0,-1,0,0]
[null,null,null,null,null,null,15,{"$f":"IF(NE35=1, START!$B$17, \"\")","v":""},{"$f":"IF(NE35=1, START!$B$20, \"\")","v":""},null,null,null,null,null,null,null,null,null,null,null,null,null,null,null,null,null,null,null,null,null,null,null,null,null,null,null,null,null,null,null,null,null,null,null,null,null,null,null,null,null,null,null,null,null,null,null,null,null,null,null,null,null,null,null,null,null,null,null,null,null,null,null,null,null,null,null,null,null,null,null,null,null,null,null,null,null,null,null,null,null,null,null,null,null,null,null,null,null,null,null,null,null,null,null,null,null,null,null,null,null,null,null,null,null,null,null,null,null,null,null,null,null,null,null,null,null,null,null,null,null,null,null,null,null,null,null,null,null,null,null,null,null,null,null,null,null,null,null,null,null,null,null,null,null,null,null,null,null,null,null,null,null,null,null,null,null,null,null,null,null,null,null,null,null,null,null,null,null,null,null,null,null,null,null,null,null,null,15,"","","","","","","","","","","","","","","","","","","","","","","","","","","","","","","","","","","","","","","","","","","","","","","","","","","","","","","","","","","","","","","","","","","","","","","","","","","","","","","","","","","","","","","","","","","","","","","","","","","","","","","","","","","","","","","","","","","","","","","","","","","","","","","","","","","","","","","","","","","","","","","","","","","","","","","","","","","","","","","","","","","","","","","","","","","","","","","","","",1,0,-1,0,0]
[null,null,null,null,null,null,16,{"$f":"IF(NE36=1, START!$B$17, \"\")","v":""},{"$f":"IF(NE36=1, START!$B$20, \"\")","v":""},null,null,null,null,null,null,null,null,null,null,null,null,null,null,null,null,null,null,null,null,null,null,null,null,null,null,null,null,null,null,null,null,null,null,null,null,null,null,null,null,null,null,null,null,null,null,null,null,null,null,null,null,null,null,null,null,null,null,null,null,null,null,null,null,null,null,null,null,null,null,null,null,null,null,null,null,null,null,null,null,null,null,null,null,null,null,null,null,null,null,null,null,null,null,null,null,null,null,null,null,null,null,null,null,null,null,null,null,null,null,null,null,null,null,null,null,null,null,null,null,null,null,null,null,null,null,null,null,null,null,null,null,null,null,null,null,null,null,null,null,null,null,null,null,null,null,null,null,null,null,null,null,null,null,null,null,null,null,null,null,null,null,null,null,null,null,null,null,null,null,null,null,null,null,null,null,null,null,16,"","","","","","","","","","","","","","","","","","","","","","","","","","","","","","","","","","","","","","","","","","","","","","","","","","","","","","","","","","","","","","","","","","","","","","","","","","","","","","","","","","","","","","","","","","","","","","","","","","","","","","","","","","","","","","","","","","","","","","","","","","","","","","","","","","","","","","","","","","","","","","","","","","","","","","","","","","","","","","","","","","","","","","","","","","","","","","","","","",1,0,-1,0,0]
[null,null,null,null,null,null,17,{"$f":"IF(NE37=1, START!$B$17, \"\")","v":""},{"$f":"IF(NE37=1, START!$B$20, \"\")","v":""},null,null,null,null,null,null,null,null,null,null,null,null,null,null,null,null,null,null,null,null,null,null,null,null,null,null,null,null,null,null,null,null,null,null,null,null,null,null,null,null,null,null,null,null,null,null,null,null,null,null,null,null,null,null,null,null,null,null,null,null,null,null,null,null,null,null,null,null,null,null,null,null,null,null,null,null,null,null,null,null,null,null,null,null,null,null,null,null,null,null,null,null,null,null,null,null,null,null,null,null,null,null,null,null,null,null,null,null,null,null,null,null,null,null,null,null,null,null,null,null,null,null,null,null,null,null,null,null,null,null,null,null,null,null,null,null,null,null,null,null,null,null,null,null,null,null,null,null,null,null,null,null,null,null,null,null,null,null,null,null,null,null,null,null,null,null,null,null,null,null,null,null,null,null,null,null,null,null,17,"","","","","","","","","","","","","","","","","","","","","","","","","","","","","","","","","","","","","","","","","","","","","","","","","","","","","","","","","","","","","","","","","","","","","","","","","","","","","","","","","","","","","","","","","","","","","","","","","","","","","","","","","","","","","","","","","","","","","","","","","","","","","","","","","","","","","","","","","","","","","","","","",{"$f":"IF(EX37=\"\",\"\",IF(OR(EX37=1,EX37=2,EX37=3,EX37=4,EX37=5,EX37=99),1,0))","v":""},"","","","","","","","","","","","","","","",{"$f":"IF(FN37=\"\",\"\",IF(OR(FN37=1,FN37=2,FN37=3,FN37=4,FN37=5,FN37=99),1,0))","v":""},"","","","","","","","","","","","","","","","",1,0,-1,0,0]
[null,null,null,null,null,null,18,{"$f":"IF(NE38=1, START!$B$17, \"\")","v":""},{"$f":"IF(NE38=1, START!$B$20, \"\")","v":""},null,null,null,null,null,null,null,null,null,null,null,null,null,null,null,null,null,null,null,null,null,null,null,null,null,null,null,null,null,null,null,null,null,null,null,null,null,null,null,null,null,null,null,null,null,null,null,null,null,null,null,null,null,null,null,null,null,null,null,null,null,null,null,null,null,null,null,null,null,null,null,null,null,null,null,null,null,null,null,null,null,null,null,null,null,null,null,null,null,null,null,null,null,null,null,null,null,null,null,null,null,null,null,null,null,null,null,null,null,null,null,null,null,null,null,null,null,null,null,null,null,null,null,null,null,null,null,null,null,null,null,null,null,null,null,null,null,null,null,null,null,null,null,null,null,null,null,null,null,null,null,null,null,null,null,null,null,null,null,null,null,null,null,null,null,null,null,null,null,null,null,null,null,null,null,null,null,null,18,"","","","","","","","","","","","","","","","","","","","","","","","","","","","","","","","","","","","","","","","","","","","","","","","","","","","","","","","","","","","","","","","","","","","","","","","","","","","","","","","","","","","","","","","","","","","","","","","","","","","","","","","","","","","","","","","","","","","","","","","","","","","","","","","","","","","","","","","","","","","","","","","","","","","","","","","","","","","","","","","","","","","","","","","","","","","","","","","","",1,0,-1,0,0]
[null,null,null,null,null,null,19,{"$f":"IF(NE39=1, START!$B$17, \"\")","v":""},{"$f":"IF(NE39=1, START!$B$20, \"\")","v":""},null,null,null,null,null,null,null,null,null,null,null,null,null,null,null,null,null,null,null,null,null,null,null,null,null,null,null,null,null,null,null,null,null,null,null,null,null,null,null,null,null,null,null,null,null,null,null,null,null,null,null,null,null,null,null,null,null,null,null,null,null,null,null,null,null,null,null,null,null,null,null,null,null,null,null,null,null,null,null,null,null,null,null,null,null,null,null,null,null,null,null,null,null,null,null,null,null,null,null,null,null,null,null,null,null,null,null,null,null,null,null,null,null,null,null,null,null,null,null,null,null,null,null,null,null,null,null,null,null,null,null,null,null,null,null,null,null,null,null,null,null,null,null,null,null,null,null,null,null,null,null,null,null,null,null,null,null,null,null,null,null,null,null,null,null,null,null,null,null,null,null,null,null,null,null,null,null,null,19,"","","","","","","","","","","","","","","","","","","","","","","","","","","","","","","","","","","","","","","","","","","","","","","","","","","","","","","","","","","","","","","","","","","","","","","","","","","","","","","","","","","","","","","","","","","","","","","","","","","","","","","","","","","","","","","","","","","","","","","","","","","","","","","","","","","","","","","","","","","","","","","","","","","","","","","","","","","","","","","","","","","","","","","","","","","","","","","","","",1,0,-1,0,0]
[null,null,null,null,null,null,20,{"$f":"IF(NE40=1, START!$B$17, \"\")","v":""},{"$f":"IF(NE40=1, START!$B$20, \"\")","v":""},null,null,null,null,null,null,null,null,null,null,null,null,null,null,null,null,null,null,null,null,null,null,null,null,null,null,null,null,null,null,null,null,null,null,null,null,null,null,null,null,null,null,null,null,null,null,null,null,null,null,null,null,null,null,null,null,null,null,null,null,null,null,null,null,null,null,null,null,null,null,null,null,null,null,null,null,null,null,null,null,null,null,null,null,null,null,null,null,null,null,null,null,null,null,null,null,null,null,null,null,null,null,null,null,null,null,null,null,null,null,null,null,null,null,null,null,null,null,null,null,null,null,null,null,null,null,null,null,null,null,null,null,null,null,null,null,null,null,null,null,null,null,null,null,null,null,null,null,null,null,null,null,null,null,null,null,null,null,null,null,null,null,null,null,null,null,null,null,null,null,null,null,null,null,null,null,null,null,20,"","","","","","","","","","","","",{"$f":"IF(V40=\"\",\"\",IF(OR(V40=1,V40=2,V40=3,V40=4,V40=5,V40=99),1,0))","v":""},"","","","","","","","","","","","","","","","","","",{"$f":"IF(AO40=\"\",\"\",IF(OR(AO40=1,AO40=2,AO40=3,AO40=4,AO40=5,AO40=99),1,0))","v":""},"","","","","","","","","","","","","","","",{"$f":"IF(BE40=\"\",\"\",IF(OR(BE40=1,BE40=2,BE40=3,BE40=4,BE40=5,BE40=99),1,0))","v":""},"","","","","","","","","","","","","","","",{"$f":"IF(BU40=\"\",\"\",IF(OR(BU40=1,BU40=2,BU40=3,BU40=4,BU40=5,BU40=99),1,0))","v":""},"","","","","","","","","","","","","","",{"$f":"IF(CJ40=\"\",\"\",IF(OR(CJ40=1,CJ40=2,CJ40=3,CJ40=4,CJ40=5,CJ40=99),1,0))","v":""},"","","","","","","","","","","","","","","","",{"$f":"IF(DA40=\"\",\"\",IF(OR(DA40=1,DA40=2,DA40=3,DA40=4,DA40=5,DA40=99),1,0))","v":""},"","","","","","","","","","","","","","","",{"$f":"IF(DQ40=\"\",\"\",IF(OR(DQ40=1,DQ40=2,DQ40=3,DQ40=4,DQ40=5,DQ40=99),1,0))","v":""},"","","","","","","","","","","","","","","",{"$f":"IF(EG40=\"\",\"\",IF(OR(EG40=1,EG40=2,EG40=3,EG40=4,EG40=5,EG40=99),1,0))","v":""},"","","","","","","","","","","","","","","","","","","","","","","","","","","","","","","","","","","","","","","","","","","","","","","","","",1,0,-1,0,0]
[null,null,null,null,null,null,21,{"$f":"IF(NE41=1, START!$B$17, \"\")","v":""},{"$f":"IF(NE41=1, START!$B$20, \"\")","v":""},null,null,null,null,null,null,null,null,null,null,null,null,null,null,null,null,null,null,null,null,null,null,null,null,null,null,null,null,null,null,null,null,null,null,null,null,null,null,null,null,null,null,null,null,null,null,null,null,null,null,null,null,null,null,null,null,null,null,null,null,null,null,null,null,null,null,null,null,null,null,null,null,null,null,null,null,null,null,null,null,null,null,null,null,null,null,null,null,null,null,null,null,null,null,null,null,null,null,null,null,null,null,null,null,null,null,null,null,null,null,null,null,null,null,null,null,null,null,null,null,null,null,null,null,null,null,null,null,null,null,null,null,null,null,null,null,null,null,null,null,null,null,null,null,null,null,null,null,null,null,null,null,null,null,null,null,null,null,null,null,null,null,null,null,null,null,null,null,null,null,null,null,null,null,null,null,null,null,21,{"$f":"IF(J41=\"\",\"\",IF(OR(J41=1,J41=2,J41=3,J41=4,J41=5,J41=99),1,0))","v":""},"","","","","","","","","","","","","","","","","","","","","","","","","","","",{"$f":"IF(AL41=\"\",\"\",IF(OR(AL41=1,AL41=2,AL41=3,AL41=4,AL41=5,AL41=99),1,0))","v":""},"","","","","","","","","","","","","","","","","","","","","","","","","","","","","","","","","","","","","","","","","","","","","","","","","","","","","","","","","","","","","","","","","",{"$f":"IF(CZ41=\"\",\"\",IF(OR(CZ41=1,CZ41=2,CZ41=3,CZ41=4,CZ41=5,CZ41=99),1,0))","v":""},"","","","","","","","","","","","","","","","","","","","","","","","","","","","","","","","","","","","","","","","","","","","","","","","","","","","","","","","","","","","","","","","","","","","","","","","","","","","","","","","","","",1,0,-1,0,0]
[null,null,null,null,null,null,22,{"$f":"IF(NE42=1, START!$B$17, \"\")","v":""},{"$f":"IF(NE42=1, START!$B$20, \"\")","v":""},null,null,null,null,null,null,null,null,null,null,null,null,null,null,null,null,null,null,null,null,null,null,null,null,null,null,null,null,null,null,null,null,null,null,null,null,null,null,null,null,null,null,null,null,null,null,null,null,null,null,null,null,null,null,null,null,null,null,null,null,null,null,null,null,null,null,null,null,null,null,null,null,null,null,null,null,null,null,null,null,null,null,null,null,null,null,null,null,null,null,null,null,null,null,null,null,null,null,null,null,null,null,null,null,null,null,null,null,null,null,null,null,null,null,null,null,null,null,null,null,null,null,null,null,null,null,null,null,null,null,null,null,null,null,null,null,null,null,null,null,null,null,null,null,null,null,null,null,null,null,null,null,null,null,null,null,null,null,null,null,null,null,null,null,null,null,null,null,null,null,null,null,null,null,null,null,null,null,22,"","","","","","","","","","","","","","","","","","","","","","","","","","","","","","","","","","","","","","","","","","","","","","","","","","","","","","","","","","","","","","","","","","","","","","","","","","","","","","","","","","","","","","","","","","","","","","","","","","","","","","","","","","","","","","","","","","","","","","","","","","","","","","","","","","","","","","","","","","","","","","","","","","","","","","","","","","","","","","","","","","","","","","","","","","","","","","","","","",1,0,-1,0,0]
[null,null,null,null,null,null,23,{"$f":"IF(NE43=1, START!$B$17, \"\")","v":""},{"$f":"IF(NE43=1, START!$B$20, \"\")","v":""},null,null,null,null,null,null,null,null,null,null,null,null,null,null,null,null,null,null,null,null,null,null,null,null,null,null,null,null,null,null,null,null,null,null,null,null,null,null,null,null,null,null,null,null,null,null,null,null,null,null,null,null,null,null,null,null,null,null,null,null,null,null,null,null,null,null,null,null,null,null,null,null,null,null,null,null,null,null,null,null,null,null,null,null,null,null,null,null,null,null,null,null,null,null,null,null,null,null,null,null,null,null,null,null,null,null,null,null,null,null,null,null,null,null,null,null,null,null,null,null,null,null,null,null,null,null,null,null,null,null,null,null,null,null,null,null,null,null,null,null,null,null,null,null,null,null,null,null,null,null,null,null,null,null,null,null,null,null,null,null,null,null,null,null,null,null,null,null,null,null,null,null,null,null,null,null,null,null,23,"","","","","","","","","","","","","","","","","","","","","","","","","","","","","","","","","","","","","","","","","","","","","","","","","","","","","","","","","","","","","","","","","","","","","","","","","","","","","","","","","","","","","","","","","","","","","","","","","","","","","","","","","","","","","","","","","","","","","","","","","","","","","","","","","","","","","","","","","","","","","","","","","","","","","","","","","","","","","","","","","","","","",{"$f":"IF(FR43=\"\",\"\",IF(OR(FR43=1,FR43=2,FR43=3,FR43=4,FR43=5,FR43=99),1,0))","v":""},"","","","","","","","","","","","",1,0,-1,0,0]
[null,null,null,null,null,null,24,{"$f":"IF(NE44=1, START!$B$17, \"\")","v":""},{"$f":"IF(NE44=1, START!$B$20, \"\")","v":""},null,null,null,null,null,null,null,null,null,null,null,null,null,null,null,null,null,null,null,null,null,null,null,null,null,null,null,null,null,null,null,null,null,null,null,null,null,null,null,null,null,null,null,null,null,null,null,null,null,null,null,null,null,null,null,null,null,null,null,null,null,null,null,null,null,null,null,null,null,null,null,null,null,null,null,null,null,null,null,null,null,null,null,null,null,null,null,null,null,null,null,null,null,null,null,null,null,null,null,null,null,null,null,null,null,null,null,null,null,null,null,null,null,null,null,null,null,null,null,null,null,null,null,null,null,null,null,null,null,null,null,null,null,null,null,null,null,null,null,null,null,null,null,null,null,null,null,null,null,null,null,null,null,null,null,null,null,null,null,null,null,null,null,null,null,null,null,null,null,null,null,null,null,null,null,null,null,null,24,"","","","","","","","","","","","","","","","","","","","","","","","","","","","","","","","","","","","","","","","","","","","","","","","","","","","","","","","","","","","","","","","","","","","","","","","","","","","","","","","","","","","","","","","","","","","","","","","","","","","","","","","","","","","","","","","","","","","","","","","","","","","","","","","","","","","","","","","","","","","","","","","","","","","","","","","","","","","","","","","","","","","","","","","","","","","","","","","","",1,0,-1,0,0]
[null,null,null,null,null,null,25,{"$f":"IF(NE45=1, START!$B$17, \"\")","v":""},{"$f":"IF(NE45=1, START!$B$20, \"\")","v":""},null,null,null,null,null,null,null,null,null,null,null,null,null,null,null,null,null,null,null,null,null,null,null,null,null,null,null,null,null,null,null,null,null,null,null,null,null,null,null,null,null,null,null,null,null,null,null,null,null,null,null,null,null,null,null,null,null,null,null,null,null,null,null,null,null,null,null,null,null,null,null,null,null,null,null,null,null,null,null,null,null,null,null,null,null,null,null,null,null,null,null,null,null,null,null,null,null,null,null,null,null,null,null,null,null,null,null,null,null,null,null,null,null,null,null,null,null,null,null,null,null,null,null,null,null,null,null,null,null,null,null,null,null,null,null,null,null,null,null,null,null,null,null,null,null,null,null,null,null,null,null,null,null,null,null,null,null,null,null,null,null,null,null,null,null,null,null,null,null,null,null,null,null,null,null,null,null,null,25,"","","","","","","","","","","","","","","","","","","","","","","","","","","","","","","","","","","","","","","","","","","","","","","","","","","","","","","","","","","","","","","","","","","","","","","","","","","","","","","","","","","","","","","","","","","","","","","","","","","","","","","","","","","","","","","","","","","","","","","","","","","","","","","","","","","","","","","","","","","","","","","","","","","","","","","","","","","","","","","","","","","","","","","","","","","","","","","","","",1,0,-1,0,0]
[null,null,null,null,null,null,26,{"$f":"IF(NE46=1, START!$B$17, \"\")","v":""},{"$f":"IF(NE46=1, START!$B$20, \"\")","v":""},null,null,null,null,null,null,null,null,null,null,null,null,null,null,null,null,null,null,null,null,null,null,null,null,null,null,null,null,null,null,null,null,null,null,null,null,null,null,null,null,null,null,null,null,null,null,null,null,null,null,null,null,null,null,null,null,null,null,null,null,null,null,null,null,null,null,null,null,null,null,null,null,null,null,null,null,null,null,null,null,null,null,null,null,null,null,null,null,null,null,null,null,null,null,null,null,null,null,null,null,null,null,null,null,null,null,null,null,null,null,null,null,null,null,null,null,null,null,null,null,null,null,null,null,null,null,null,null,null,null,null,null,null,null,null,null,null,null,null,null,null,null,null,null,null,null,null,null,null,null,null,null,null,null,null,null,null,null,null,null,null,null,null,null,null,null,null,null,null,null,null,null,null,null,null,null,null,null,26,"","","","","","","","","","","","","","","","","","","","","","","","","","","","","","","","","","","","","","","","","","","","","","","","","","","","","","","","","","","","","","","","","","","","","","","","","","","","","","","","","","","","","","","","","","","","","","","","","","","","","","","","","","","","","","","","","","","","","","","","","","","","","","","","","","","","","","","","","","","","","","","","","","","","","","","","","","","","","","","","","","","","","","","","","","","","","","","","","",1,0,-1,0,0]
[null,null,null,null,null,null,27,{"$f":"IF(NE47=1, START!$B$17, \"\")","v":""},{"$f":"IF(NE47=1, START!$B$20, \"\")","v":""},null,null,null,null,null,null,null,null,null,null,null,null,null,null,null,null,null,null,null,null,null,null,null,null,null,null,null,null,null,null,null,null,null,null,null,null,null,null,null,null,null,null,null,null,null,null,null,null,null,null,null,null,null,null,null,null,null,null,null,null,null,null,null,null,null,null,null,null,null,null,null,null,null,null,null,null,null,null,null,null,null,null,null,null,null,null,null,null,null,null,null,null,null,null,null,null,null,null,null,null,null,null,null,null,null,null,null,null,null,null,null,null,null,null,null,null,null,null,null,null,null,null,null,null,null,null,null,null,null,null,null,null,null,null,null,null,null,null,null,null,null,null,null,null,null,null,null,null,null,null,null,null,null,null,null,null,null,null,null,null,null,null,null,null,null,null,null,null,null,null,null,null,null,null,null,null,null,null,27,"","","","","","","","","","","","","","","","","","","","","","","","","","","","","","","","","","","","","","","","","","","","","","","","","","","","","","","","","","","","","","","","","","","","","","","","","","","","","","","","","","","","","","","","","","","","","","","","","","","","","","","","","","","","","","","","","","","","","","","","","","","","","","","","","","","","","","","","","","","","","","","","","","","","","","","","","","","","","","","","","","","","","","","","","","","","","","","","","",1,0,-1,0,0]
[null,null,null,null,null,null,28,{"$f":"IF(NE48=1, START!$B$17, \"\")","v":""},{"$f":"IF(NE48=1, START!$B$20, \"\")","v":""},null,null,null,null,null,null,null,null,null,null,null,null,null,null,null,null,null,null,null,null,null,null,null,null,null,null,null,null,null,null,null,null,null,null,null,null,null,null,null,null,null,null,null,null,null,null,null,null,null,null,null,null,null,null,null,null,null,null,null,null,null,null,null,null,null,null,null,null,null,null,null,null,null,null,null,null,null,null,null,null,null,null,null,null,null,null,null,null,null,null,null,null,null,null,null,null,null,null,null,null,null,null,null,null,null,null,null,null,null,null,null,null,null,null,null,null,null,null,null,null,null,null,null,null,null,null,null,null,null,null,null,null,null,null,null,null,null,null,null,null,null,null,null,null,null,null,null,null,null,null,null,null,null,null,null,null,null,null,null,null,null,null,null,null,null,null,null,null,null,null,null,null,null,null,null,null,null,null,28,"","","","","","","","","","","","","","","","","","","","","","","","","","","","","","","","","","","","","","","","","","","","","","","","","","","","","","","","","","","","","","","","","","","","","","","","","","","","","","","","","","","","","","","","","","","","","","","","","","","","","","","","","","","","","","","","","","","","","","","","","","","","","","","","","","","","","","","","","","","","","","","","","","","","","","","","","","","","","","","","","","","","","","","","","","","","","","","","","",1,0,-1,0,0]
[null,null,null,null,null,null,29,{"$f":"IF(NE49=1, START!$B$17, \"\")","v":""},{"$f":"IF(NE49=1, START!$B$20, \"\")","v":""},null,null,null,null,null,null,null,null,null,null,null,null,null,null,null,null,null,null,null,null,null,null,null,null,null,null,null,null,null,null,null,null,null,null,null,null,null,null,null,null,null,null,null,null,null,null,null,null,null,null,null,null,null,null,null,null,null,null,null,null,null,null,null,null,null,null,null,null,null,null,null,null,null,null,null,null,null,null,null,null,null,null,null,null,null,null,null,null,null,null,null,null,null,null,null,null,null,null,null,null,null,null,null,null,null,null,null,null,null,null,null,null,null,null,null,null,null,null,null,null,null,null,null,null,null,null,null,null,null,null,null,null,null,null,null,null,null,null,null,null,null,null,null,null,null,null,null,null,null,null,null,null,null,null,null,null,null,null,null,null,null,null,null,null,null,null,null,null,null,null,null,null,null,null,null,null,null,null,29,"","","","","","","","","","","","","","","","","","","","","","","","","","","","","","","","","","","","","","","","","","","","","","","","","","","","","","","","","","","","","","","","","","","","","","","","","","","","","","","","","","","","","","","","","","","","","","","","","","","","","","","","","","","","","","","","","","","","","","","","","","","","","","","","","","","","","","","","","","","","","","","","","","","","","","","","","","","","","","","","","","","","","","","","","","","","","","","","","",1,0,-1,0,0]
[null,null,null,null,null,null,30,{"$f":"IF(NE50=1, START!$B$17, \"\")","v":""},{"$f":"IF(NE50=1, START!$B$20, \"\")","v":""},null,null,null,null,null,null,null,null,null,null,null,null,null,null,null,null,null,null,null,null,null,null,null,null,null,null,null,null,null,null,null,null,null,null,null,null,null,null,null,null,null,null,null,null,null,null,null,null,null,null,null,null,null,null,null,null,null,null,null,null,null,null,null,null,null,null,null,null,null,null,null,null,null,null,null,null,null,null,null,null,null,null,null,null,null,null,null,null,null,null,null,null,null,null,null,null,null,null,null,null,null,null,null,null,null,null,null,null,null,null,null,null,null,null,null,null,null,null,null,null,null,null,null,null,null,null,null,null,null,null,null,null,null,null,null,null,null,null,null,null,null,null,null,null,null,null,null,null,null,null,null,null,null,null,null,null,null,null,null,null,null,null,null,null,null,null,null,null,null,null,null,null,null,null,null,null,null,null,30,"","","","","","","","","","","","","","","","","","","","","","","","","","","","","","","","","","","","","","","","","","","","","","","","","","","","","","","","","","","","","","","","","","","","","","","","","","","","","","","","","","","","","","","","","","","","","","","","","","","","","","","","","","","","","","","","","","","","","","","","","","","","","","","","","","","","","","","","","","","","","","","","","","","","","","","","","","","","","","","","","","","","","","","","","","","","","","","","","",1,0,-1,0,0]
[null,null,null,null,null,null,31,{"$f":"IF(NE51=1, START!$B$17, \"\")","v":""},{"$f":"IF(NE51=1, START!$B$20, \"\")","v":""},null,null,null,null,null,null,null,null,null,null,null,null,null,null,null,null,null,null,null,null,null,null,null,null,null,null,null,null,null,null,null,null,null,null,null,null,null,null,null,null,null,null,null,null,null,null,null,null,null,null,null,null,null,null,null,null,null,null,null,null,null,null,null,null,null,null,null,null,null,null,null,null,null,null,null,null,null,null,null,null,null,null,null,null,null,null,null,null,null,null,null,null,null,null,null,null,null,null,null,null,null,null,null,null,null,null,null,null,null,null,null,null,null,null,null,null,null,null,null,null,null,null,null,null,null,null,null,null,null,null,null,null,null,null,null,null,null,null,null,null,null,null,null,null,null,null,null,null,null,null,null,null,null,null,null,null,null,null,null,null,null,null,null,null,null,null,null,null,null,null,null,null,null,null,null,null,null,null,31,"","","","","","","","","","","","","","","","","","","","","","","","","","","","","","","","","","","","","","","","","","","","","","","","","","","","","","","","","","","","","","","","","","","","","","","","","","","","","","","","","","","","","","","","","","","","","","","","","","","","","","","","","","","","","","","","","","","","","","","","","","","","","","","","","","","","","","","","","","","","","","","","","","","","","","","","","","","","","","","","","","","","","","","","","","","","","","","","","",1,0,-1,0,0]
[null,null,null,null,null,null,32,{"$f":"IF(NE52=1, START!$B$17, \"\")","v":""},{"$f":"IF(NE52=1, START!$B$20, \"\")","v":""},null,null,null,null,null,null,null,null,null,null,null,null,null,null,null,null,null,null,null,null,null,null,null,null,null,null,null,null,null,null,null,null,null,null,null,null,null,null,null,null,null,null,null,null,null,null,null,null,null,null,null,null,null,null,null,null,null,null,null,null,null,null,null,null,null,null,null,null,null,null,null,null,null,null,null,null,null,null,null,null,null,null,null,null,null,null,null,null,null,null,null,null,null,null,null,null,null,null,null,null,null,null,null,null,null,null,null,null,null,null,null,null,null,null,null,null,null,null,null,null,null,null,null,null,null,null,null,null,null,null,null,null,null,null,null,null,null,null,null,null,null,null,null,null,null,null,null,null,null,null,null,null,null,null,null,null,null,null,null,null,null,null,null,null,null,null,null,null,null,null,null,null,null,null,null,null,null,null,32,"","","","","","","","","","","","","","","","","","","","","","","","","","","","","","","","","","","","","","","","","","","","","","","","","","","","","","","","","","","","","","","","","","","","","","","","","","","","","","","","","","","","","","","","","","","","","","","","","","","","","","","","","","","","","","","","","","","","","","","","","","","","","","","","","","","","","","","","","","","","","","","","","","","","","","","","","","","","","","","","","","","","","","","","","","","","","","","","","",1,0,-1,0,0]
[null,null,null,null,null,null,33,{"$f":"IF(NE53=1, START!$B$17, \"\")","v":""},{"$f":"IF(NE53=1, START!$B$20, \"\")","v":""},null,null,null,null,null,null,null,null,null,null,null,null,null,null,null,null,null,null,null,null,null,null,null,null,null,null,null,null,null,null,null,null,null,null,null,null,null,null,null,null,null,null,null,null,null,null,null,null,null,null,null,null,null,null,null,null,null,null,null,null,null,null,null,null,null,null,null,null,null,null,null,null,null,null,null,null,null,null,null,null,null,null,null,null,null,null,null,null,null,null,null,null,null,null,null,null,null,null,null,null,null,null,null,null,null,null,null,null,null,null,null,null,null,null,null,null,null,null,null,null,null,null,null,null,null,null,null,null,null,null,null,null,null,null,null,null,null,null,null,null,null,null,null,null,null,null,null,null,null,null,null,null,null,null,null,null,null,null,null,null,null,null,null,null,null,null,null,null,null,null,null,null,null,null,null,null,null,null,33,"","","","","","","","","","","","","","","","","","","","","","","","","","","","","","","","","","","","","","","","","","","","","","","","","","","","","","","","","","","","","","","","","","","","","","","","","","","","","","","","","","","","","","","","","","","","","","","","","","","","","","","","","","","","","","","","","","","","","","","","","","","","","","","","","",{"$f":"IF(EI53=\"\",\"\",IF(OR(EI53=1,EI53=2,EI53=3,EI53=4,EI53=5,EI53=99),1,0))","v":""},"","","","","","","","","","","","","","","","","","","","","","","","","","","","",{"$f":"IF(FL53=\"\",\"\",IF(OR(FL53=1,FL53=2,FL53=3,FL53=4,FL53=5,FL53=99),1,0))","v":""},"","","","","","","","","","","","","","","","","","",1,0,-1,0,0]
[null,null,null,null,null,null,34,{"$f":"IF(NE54=1, START!$B$17, \"\")","v":""},{"$f":"IF(NE54=1, START!$B$20, \"\")","v":""},null,null,null,null,null,null,null,null,null,null,null,null,null,null,null,null,null,null,null,null,null,null,null,null,null,null,null,null,null,null,null,null,null,null,null,null,null,null,null,null,null,null,null,null,null,null,null,null,null,null,null,null,null,null,null,null,null,null,null,null,null,null,null,null,null,null,null,null,null,null,null,null,null,null,null,null,null,null,null,null,null,null,null,null,null,null,null,null,null,null,null,null,null,null,null,null,null,null,null,null,null,null,null,null,null,null,null,null,null,null,null,null,null,null,null,null,null,null,null,null,null,null,null,null,null,null,null,null,null,null,null,null,null,null,null,null,null,null,null,null,null,null,null,null,null,null,null,null,null,null,null,null,null,null,null,null,null,null,null,null,null,null,null,null,null,null,null,null,null,null,null,null,null,null,null,null,null,null,34,"","","","","","","","","","","","","","","","","","","","","","","","","","","","","","","","","","","","","","","","","","","","","","","","","","","","","","","","","","","","","","","","","","","","","","","","","","","","","","","","","","","","","","","","","","","","","","","","","","","","","","","","","","","","","","","","","","","","","","","","","","","","","","","","","","","","","","","","","","","","","","","","","",{"$f":"IF(EY54=\"\",\"\",IF(OR(EY54=1,EY54=2,EY54=3,EY54=4,EY54=5,EY54=99),1,0))","v":""},"","","","","","","","","","","","","","","","","","","","","","","","","","","","","","","",1,0,-1,0,0]
[null,null,null,null,null,null,35,{"$f":"IF(NE55=1, START!$B$17, \"\")","v":""},{"$f":"IF(NE55=1, START!$B$20, \"\")","v":""},null,null,null,null,null,null,null,null,null,null,null,null,null,null,null,null,null,null,null,null,null,null,null,null,null,null,null,null,null,null,null,null,null,null,null,null,null,null,null,null,null,null,null,null,null,null,null,null,null,null,null,null,null,null,null,null,null,null,null,null,null,null,null,null,null,null,null,null,null,null,null,null,null,null,null,null,null,null,null,null,null,null,null,null,null,null,null,null,null,null,null,null,null,null,null,null,null,null,null,null,null,null,null,null,null,null,null,null,null,null,null,null,null,null,null,null,null,null,null,null,null,null,null,null,null,null,null,null,null,null,null,null,null,null,null,null,null,null,null,null,null,null,null,null,null,null,null,null,null,null,null,null,null,null,null,null,null,null,null,null,null,null,null,null,null,null,null,null,null,null,null,null,null,null,null,null,null,null,35,"","","","","","","","","","","","","","","","","","","","","","","","","","","","","","","","","","","","","","","","","","","","","","","","","","","","","","","","","","","","","","","","","","","","","","","","","","","","","","","","","","","","","","","","","","","","","","","","","","","","","","","","","","","","","","","","","","","","","","","","","","","","","","","","","","","","","","","","","","","","","","","","","","","","","","","","","","","","","","","","","","","","","","","","","","","","","","","","","",1,0,-1,0,0]
[null,null,null,null,null,null,36,{"$f":"IF(NE56=1, START!$B$17, \"\")","v":""},{"$f":"IF(NE56=1, START!$B$20, \"\")","v":""},null,null,null,null,null,null,null,null,null,null,null,null,null,null,null,null,null,null,null,null,null,null,null,null,null,null,null,null,null,null,null,null,null,null,null,null,null,null,null,null,null,null,null,null,null,null,null,null,null,null,null,null,null,null,null,null,null,null,null,null,null,null,null,null,null,null,null,null,null,null,null,null,null,null,null,null,null,null,null,null,null,null,null,null,null,null,null,null,null,null,null,null,null,null,null,null,null,null,null,null,null,null,null,null,null,null,null,null,null,null,null,null,null,null,null,null,null,null,null,null,null,null,null,null,null,null,null,null,null,null,null,null,null,null,null,null,null,null,null,null,null,null,null,null,null,null,null,null,null,null,null,null,null,null,null,null,null,null,null,null,null,null,null,null,null,null,null,null,null,null,null,null,null,null,null,null,null,null,36,"","","","","","","","","","","","","","","","","","","","","","","",{"$f":"IF(AG56=\"\",\"\",IF(OR(AG56=1,AG56=2,AG56=3,AG56=4,AG56=5,AG56=99),1,0))","v":""},"","","","","","","","","","","","","","","","","","","","","",{"$f":"IF(BC56=\"\",\"\",IF(OR(BC56=1,BC56=2,BC56=3,BC56=4,BC56=5,BC56=99),1,0))","v":""},"","","","","","","","","","","","","","","",{"$f":"IF(BS56=\"\",\"\",IF(OR(BS56=1,BS56=2,BS56=3,BS56=4,BS56=5,BS56=99),1,0))","v":""},"","","","","","","","","","","","","","","","","","","","","","","","","","","","","",{"$f":"IF(CW56=\"\",\"\",IF(OR(CW56=1,CW56=2,CW56=3,CW56=4,CW56=5,CW56=99),1,0))","v":""},"","","","","","","","","","","","","","","","","",{"$f":"IF(DO56=\"\",\"\",IF(OR(DO56=1,DO56=2,DO56=3,DO56=4,DO56=5,DO56=99),1,0))","v":""},"","","","","","","","","","","","","","","",{"$f":"IF(EE56=\"\",\"\",IF(OR(EE56=1,EE56=2,EE56=3,EE56=4,EE56=5,EE56=99),1,0))","v":""},"","","","","","","","","","","","","","","","","","","","","","","","","","","","","","","","","","","","","","","","","","","","","","","","","","","",1,0,-1,0,0]
[null,null,null,null,null,null,37,{"$f":"IF(NE57=1, START!$B$17, \"\")","v":""},{"$f":"IF(NE57=1, START!$B$20, \"\")","v":""},null,null,null,null,null,null,null,null,null,null,null,null,null,null,null,null,null,null,null,null,null,null,null,null,null,null,null,null,null,null,null,null,null,null,null,null,null,null,null,null,null,null,null,null,null,null,null,null,null,null,null,null,null,null,null,null,null,null,null,null,null,null,null,null,null,null,null,null,null,null,null,null,null,null,null,null,null,null,null,null,null,null,null,null,null,null,null,null,null,null,null,null,null,null,null,null,null,null,null,null,null,null,null,null,null,null,null,null,null,null,null,null,null,null,null,null,null,null,null,null,null,null,null,null,null,null,null,null,null,null,null,null,null,null,null,null,null,null,null,null,null,null,null,null,null,null,null,null,null,null,null,null,null,null,null,null,null,null,null,null,null,null,null,null,null,null,null,null,null,null,null,null,null,null,null,null,null,null,37,"","","","","","","","","","","","","","","","",{"$f":"IF(Z57=\"\",\"\",IF(OR(Z57=1,Z57=2,Z57=3,Z57=4,Z57=5,Z57=99),1,0))","v":""},"","","","","","","","","","","","","","","","","","","","","","","","","","","",{"$f":"IF(BB57=\"\",\"\",IF(OR(BB57=1,BB57=2,BB57=3,BB57=4,BB57=5,BB57=99),1,0))","v":""},"","","","","","","","","","","","","","","","","","","","","","","","","","","","","","","","",{"$f":"IF(CI57=\"\",\"\",IF(OR(CI57=1,CI57=2,CI57=3,CI57=4,CI57=5,CI57=99),1,0))","v":""},"","","","","","","","","","","","","","","","","","","","","","","","","","","","","","","","","","","","","","","","","","","","","","","","","","","","","","","","","","","","","","","","","","","","","","","","","","","","","","","","","","","","","","","","","","","","","","","","","","","",1,0,-1,0,0]
[null,null,null,null,null,null,38,{"$f":"IF(NE58=1, START!$B$17, \"\")","v":""},{"$f":"IF(NE58=1, START!$B$20, \"\")","v":""},null,null,null,null,null,null,null,null,null,null,null,null,null,null,null,null,null,null,null,null,null,null,null,null,null,null,null,null,null,null,null,null,null,null,null,null,null,null,null,null,null,null,null,null,null,null,null,null,null,null,null,null,null,null,null,null,null,null,null,null,null,null,null,null,null,null,null,null,null,null,null,null,null,null,null,null,null,null,null,null,null,null,null,null,null,null,null,null,null,null,null,null,null,null,null,null,null,null,null,null,null,null,null,null,null,null,null,null,null,null,null,null,null,null,null,null,null,null,null,null,null,null,null,null,null,null,null,null,null,null,null,null,null,null,null,null,null,null,null,null,null,null,null,null,null,null,null,null,null,null,null,null,null,null,null,null,null,null,null,null,null,null,null,null,null,null,null,null,null,null,null,null,null,null,null,null,null,null,38,"","","","","","","","","","","","","","","","","","","","","","","","","","","","","","","","","","","","","","","","","","","","","","","","","","","","","","","","","","","","","","","","","","","","","","","","","","","","","","","","","","","","","","","","","","","","","","","","","","","","","","","","","","","","","","","","","","","","","","","","","","","","","","","","","","","","","","","","","","","","","","","","","","","","","","","","","","","","","","","","","","","","","","","","","","","","","","","","","",1,0,-1,0,0]
[null,null,null,null,null,null,39,{"$f":"IF(NE59=1, START!$B$17, \"\")","v":""},{"$f":"IF(NE59=1, START!$B$20, \"\")","v":""},null,null,null,null,null,null,null,null,null,null,null,null,null,null,null,null,null,null,null,null,null,null,null,null,null,null,null,null,null,null,null,null,null,null,null,null,null,null,null,null,null,null,null,null,null,null,null,null,null,null,null,null,null,null,null,null,null,null,null,null,null,null,null,null,null,null,null,null,null,null,null,null,null,null,null,null,null,null,null,null,null,null,null,null,null,null,null,null,null,null,null,null,null,null,null,null,null,null,null,null,null,null,null,null,null,null,null,null,null,null,null,null,null,null,null,null,null,null,null,null,null,null,null,null,null,null,null,null,null,null,null,null,null,null,null,null,null,null,null,null,null,null,null,null,null,null,null,null,null,null,null,null,null,null,null,null,null,null,null,null,null,null,null,null,null,null,null,null,null,null,null,null,null,null,null,null,null,null,39,"","","","","","","","","","","","","","","","","","","","","","","","","","","","","","","","","","","","","","","","","","","","","","","","","","","","","","","","","","","","","","","","","","","","","","","","","","","","","","","","","","","","","","","","","","","","","","","","","","","","","","","","","","","","","","","","","","","","","","","","","","","","","","","","","","","","","","","","","","","","","","","","","","","","","","","","","","","","","","","","","","","","","","","","","","","","","","","","","",1,0,-1,0,0]
[null,null,null,null,null,null,40,{"$f":"IF(NE60=1, START!$B$17, \"\")","v":""},{"$f":"IF(NE60=1, START!$B$20, \"\")","v":""},null,null,null,null,null,null,null,null,null,null,null,null,null,null,null,null,null,null,null,null,null,null,null,null,null,null,null,null,null,null,null,null,null,null,null,null,null,null,null,null,null,null,null,null,null,null,null,null,null,null,null,null,null,null,null,null,null,null,null,null,null,null,null,null,null,null,null,null,null,null,null,null,null,null,null,null,null,null,null,null,null,null,null,null,null,null,null,null,null,null,null,null,null,null,null,null,null,null,null,null,null,null,null,null,null,null,null,null,null,null,null,null,null,null,null,null,null,null,null,null,null,null,null,null,null,null,null,null,null,null,null,null,null,null,null,null,null,null,null,null,null,null,null,null,null,null,null,null,null,null,null,null,null,null,null,null,null,null,null,null,null,null,null,null,null,null,null,null,null,null,null,null,null,null,null,null,null,null,40,"","","","","","","","","","","","","","","",{"$f":"IF(Y60=\"\",\"\",IF(OR(Y60=1,Y60=2,Y60=3,Y60=4,Y60=5,Y60=99),1,0))","v":""},"","","","","","","","","","","","","","","","","","","","","","","","","","","","","","","","","","","","","","","","","","","","","","","","","","","","","","","","","","","","","","","","","","","","","","","","","","","","","","","","","","","","","","","","","","","","","","","","","","","","","","","","","","","","","","","","","","","","","","","","","","","","","","","","","","","","","","","","","","","","","","","","","","","","","","","","","","","","","","","","","",1,0,-1,0,0]
[null,null,null,null,null,null,41,{"$f":"IF(NE61=1, START!$B$17, \"\")","v":""},{"$f":"IF(NE61=1, START!$B$20, \"\")","v":""},null,null,null,null,null,null,null,null,null,null,null,null,null,null,null,null,null,null,null,null,null,null,null,null,null,null,null,null,null,null,null,null,null,null,null,null,null,null,null,null,null,null,null,null,null,null,null,null,null,null,null,null,null,null,null,null,null,null,null,null,null,null,null,null,null,null,null,null,null,null,null,null,null,null,null,null,null,null,null,null,null,null,null,null,null,null,null,null,null,null,null,null,null,null,null,null,null,null,null,null,null,null,null,null,null,null,null,null,null,null,null,null,null,null,null,null,null,null,null,null,null,null,null,null,null,null,null,null,null,null,null,null,null,null,null,null,null,null,null,null,null,null,null,null,null,null,null,null,null,null,null,null,null,null,null,null,null,null,null,null,null,null,null,null,null,null,null,null,null,null,null,null,null,null,null,null,null,null,41,{"$f":"IF(J61=\"\",\"\",IF(OR(J61=1,J61=2,J61=3,J61=4,J61=5,J61=99),1,0))","v":""},"","","","","","","","","","","","","","","","","","","","","","","","","","","","","","","","","","","","","","","","","","","","","","","","","","","","","","","","","","","","","","","","","","","","","","","","","","","","","","","","","","","","","","","","","","","","","","","","","","","","","","","","","","","","","","","","","","","","","","","","","","","","","","","","","","","","","","","","","","","","","","","","","","","","","","","","","","","","","","","","","","","","","","","","","","","","","","","","",1,0,-1,0,0]
[null,null,null,null,null,null,42,{"$f":"IF(NE62=1, START!$B$17, \"\")","v":""},{"$f":"IF(NE62=1, START!$B$20, \"\")","v":""},null,null,null,null,null,null,null,null,null,null,null,null,null,null,null,null,null,null,null,null,null,null,null,null,null,null,null,null,null,null,null,null,null,null,null,null,null,null,null,null,null,null,null,null,null,null,null,null,null,null,null,null,null,null,null,null,null,null,null,null,null,null,null,null,null,null,null,null,null,null,null,null,null,null,null,null,null,null,null,null,null,null,null,null,null,null,null,null,null,null,null,null,null,null,null,null,null,null,null,null,null,null,null,null,null,null,null,null,null,null,null,null,null,null,null,null,null,null,null,null,null,null,null,null,null,null,null,null,null,null,null,null,null,null,null,null,null,null,null,null,null,null,null,null,null,null,null,null,null,null,null,null,null,null,null,null,null,null,null,null,null,null,null,null,null,null,null,null,null,null,null,null,null,null,null,null,null,null,42,"","","","","","","","","","","","","","","","","","","","","","","","","","","","","","","","","","","","","","","","","","","","","","","","","","","","","","","","","","","","","","","","","","","","","","","","","","","","","","","","","","","","","","","","","","","","","","","","","","","","","","","","","","","","","","","","","","","","","","","","","","","","","","","","","","","","","","","","","","","","","","","","","","","","","","","","","","","","","","","","","","","","","","","","","","","","","","","","","",1,0,-1,0,0]
[null,null,null,null,null,null,43,{"$f":"IF(NE63=1, START!$B$17, \"\")","v":""},{"$f":"IF(NE63=1, START!$B$20, \"\")","v":""},null,null,null,null,null,null,null,null,null,null,null,null,null,null,null,null,null,null,null,null,null,null,null,null,null,null,null,null,null,null,null,null,null,null,null,null,null,null,null,null,null,null,null,null,null,null,null,null,null,null,null,null,null,null,null,null,null,null,null,null,null,null,null,null,null,null,null,null,null,null,null,null,null,null,null,null,null,null,null,null,null,null,null,null,null,null,null,null,null,null,null,null,null,null,null,null,null,null,null,null,null,null,null,null,null,null,null,null,null,null,null,null,null,null,null,null,null,null,null,null,null,null,null,null,null,null,null,null,null,null,null,null,null,null,null,null,null,null,null,null,null,null,null,null,null,null,null,null,null,null,null,null,null,null,null,null,null,null,null,null,null,null,null,null,null,null,null,null,null,null,null,null,null,null,null,null,null,null,43,"","","","","","","","","","","","","","","","","","","","","","","","","","","","","","","","","","","","","","","","","","","","","","","","","","","","","","","","","","","","","","","","","","","","","","","","","","","","","","","","","","","","","","","","","","","","","","","","","","","","","","","","","","","","","","","","","","","","","","","","","","","","","","","","","","","","","","","","","","","","","","","","","","","","","","","","","","","","","","","","","","","","","","","","","","","","","","","","","",1,0,-1,0,0]
[null,null,null,null,null,null,59,{"$f":"IF(NE79=1, START!$B$17, \"\")","v":""},{"$f":"IF(NE79=1, START!$B$20, \"\")","v":""},null,null,null,null,null,null,null,null,null,null,null,null,null,null,null,null,null,null,null,null,null,null,null,null,null,null,null,null,null,null,null,null,null,null,null,null,null,null,null,null,null,null,null,null,null,null,null,null,null,null,null,null,null,null,null,null,null,null,null,null,null,null,null,null,null,null,null,null,null,null,null,null,null,null,null,null,null,null,null,null,null,null,null,null,null,null,null,null,null,null,null,null,null,null,null,null,null,null,null,null,null,null,null,null,null,null,null,null,null,null,null,null,null,null,null,null,null,null,null,null,null,null,null,null,null,null,null,null,null,null,null,null,null,null,null,null,null,null,null,null,null,null,null,null,null,null,null,null,null,null,null,null,null,null,null,null,null,null,null,null,null,null,null,null,null,null,null,null,null,null,null,null,null,null,null,null,null,null,59,"","","","","","","","","","","","","","","","","","","","","","","","","","","","","","","","","","","","","","","","","","","","","","","","","","","","","","","","","","","","","","","","","","","","","","","","","","","","","","","","","","","","","","","","","","","","","","","","","","","","","","","","","","","","","","","","","","","","","","","","","","","","","","","","","","","","","","","","","","","","","","","","","","","","","","","","","","","","","","","","","","","","","","","","","","","","","","","","","",1,0,-1,0,0]
[null,null,null,null,null,null,74,{"$f":"IF(NE94=1, START!$B$17, \"\")","v":""},{"$f":"IF(NE94=1, START!$B$20, \"\")","v":""},null,null,null,null,null,null,null,null,null,null,null,null,null,null,null,null,null,null,null,null,null,null,null,null,null,null,null,null,null,null,null,null,null,null,null,null,null,null,null,null,null,null,null,null,null,null,null,null,null,null,null,null,null,null,null,null,null,null,null,null,null,null,null,null,null,null,null,null,null,null,null,null,null,null,null,null,null,null,null,null,null,null,null,null,null,null,null,null,null,null,null,null,null,null,null,null,null,null,null,null,null,null,null,null,null,null,null,null,null,null,null,null,null,null,null,null,null,null,null,null,null,null,null,null,null,null,null,null,null,null,null,null,null,null,null,null,null,null,null,null,null,null,null,null,null,null,null,null,null,null,null,null,null,null,null,null,null,null,null,null,null,null,null,null,null,null,null,null,null,null,null,null,null,null,null,null,null,null,74,"","","","","","","","","","","","","","","","","","","","","","","","","","","","","","","","","","","","","","","","","","","","","","","","","","","","","","","","","","","","","","","","","","","","","","","","","","","","","","","","","","","","","","",{"$f":"IF(CR94=\"\",\"\",IF(OR(CR94=1,CR94=2,CR94=3,CR94=4,CR94=5,CR94=99),1,0))","v":""},"","","","","","","","","","","","","","","","","","","","","","","","","","","","","","","","","","","","","","","","","","","","","","","","","","","","","","","","","","","","","","","","","","","","","","","","","","","","","","","","","","","","","","","","","","",1,0,-1,0,0]
[null,null,null,null,null,null,90,{"$f":"IF(NE110=1, START!$B$17, \"\")","v":""},{"$f":"IF(NE110=1, START!$B$20, \"\")","v":""},null,null,null,null,null,null,null,null,null,null,null,null,null,null,null,null,null,null,null,null,null,null,null,null,null,null,null,null,null,null,null,null,null,null,null,null,null,null,null,null,null,null,null,null,null,null,null,null,null,null,null,null,null,null,null,null,null,null,null,null,null,null,null,null,null,null,null,null,null,null,null,null,null,null,null,null,null,null,null,null,null,null,null,null,null,null,null,null,null,null,null,null,null,null,null,null,null,null,null,null,null,null,null,null,null,null,null,null,null,null,null,null,null,null,null,null,null,null,null,null,null,null,null,null,null,null,null,null,null,null,null,null,null,null,null,null,null,null,null,null,null,null,null,null,null,null,null,null,null,null,null,null,null,null,null,null,null,null,null,null,null,null,null,null,null,null,null,null,null,null,null,null,null,null,null,null,null,null,90,"","","","","","","","","","","","","","","","","","","","","","","","","","","","","","","","","","","","","","","","","","","","","","","","","","","","","","","","","","","","","","","","","","","","","","","","","","","","","","","","","","","","","","","","","","","","","","","","","","","","","","","","","","","","","","","","","","","","","","","","","","","","","","","","","","","","","","","","","","","","","","","","","","","","","","","","","","","","","","","","","","","","","","","","","","","","","","","","","",1,0,-1,0,0]
[null,null,null,null,null,null,116,{"$f":"IF(NE136=1, START!$B$17, \"\")","v":""},{"$f":"IF(NE136=1, START!$B$20, \"\")","v":""},null,null,null,null,null,null,null,null,null,null,null,null,null,null,null,null,null,null,null,null,null,null,null,null,null,null,null,null,null,null,null,null,null,null,null,null,null,null,null,null,null,null,null,null,null,null,null,null,null,null,null,null,null,null,null,null,null,null,null,null,null,null,null,null,null,null,null,null,null,null,null,null,null,null,null,null,null,null,null,null,null,null,null,null,null,null,null,null,null,null,null,null,null,null,null,null,null,null,null,null,null,null,null,null,null,null,null,null,null,null,null,null,null,null,null,null,null,null,null,null,null,null,null,null,null,null,null,null,null,null,null,null,null,null,null,null,null,null,null,null,null,null,null,null,null,null,null,null,null,null,null,null,null,null,null,null,null,null,null,null,null,null,null,null,null,null,null,null,null,null,null,null,null,null,null,null,null,null,116,"","","","","","","","","","","",{"$f":"IF(U136=\"\",\"\",IF(OR(U136=1,U136=2,U136=3,U136=4,U136=5,U136=99),1,0))","v":""},"","","","","","","","","","","","","","","","","","","","","","","","","","","","","","","","","","","","","","","","","","","","","","","","","","","","","","","","","","","","","","","","","","","","","","","","","","","","","","","","","","","","","","","","","","","","","","","","","","","","","","","","","","","","","","","","","","","","","","","","","","","","","","","","","","","","","","","","","","","","","","","","","","","","","","","","","","","","","","","","","","","","","",1,0,-1,0,0]
[null,null,null,null,null,null,121,{"$f":"IF(NE141=1, START!$B$17, \"\")","v":""},{"$f":"IF(NE141=1, START!$B$20, \"\")","v":""},null,null,null,null,null,null,null,null,null,null,null,null,null,null,null,null,null,null,null,null,null,null,null,null,null,null,null,null,null,null,null,null,null,null,null,null,null,null,null,null,null,null,null,null,null,null,null,null,null,null,null,null,null,null,null,null,null,null,null,null,null,null,null,null,null,null,null,null,null,null,null,null,null,null,null,null,null,null,null,null,null,null,null,null,null,null,null,null,null,null,null,null,null,null,null,null,null,null,null,null,null,null,null,null,null,null,null,null,null,null,null,null,null,null,null,null,null,null,null,null,null,null,null,null,null,null,null,null,null,null,null,null,null,null,null,null,null,null,null,null,null,null,null,null,null,null,null,null,null,null,null,null,null,null,null,null,null,null,null,null,null,null,null,null,null,null,null,null,null,null,null,null,null,null,null,null,null,null,121,"","","","","","","","","","","","","","","","","","","","","","","","","","","","","","","","","","","","","","","","","","","","","","","","","","","","","","","","","","","","","","","","","","","","","","","","","","","","","","","","","","","","","","","","","","","","","","","","","","","","","","","","","","","","","","","","","","","","","","","","","","","","","","","","","","","","","","","","","","","","","","","","","","","","","","","","","","","","","","","","","","","","","","","","","","","","","","","","","",1,0,-1,0,0]
[null,null,null,null,null,null,137,{"$f":"IF(NE157=1, START!$B$17, \"\")","v":""},{"$f":"IF(NE157=1, START!$B$20, \"\")","v":""},null,null,null,null,null,null,null,null,null,null,null,null,null,null,null,null,null,null,null,null,null,null,null,null,null,null,null,null,null,null,null,null,null,null,null,null,null,null,null,null,null,null,null,null,null,null,null,null,null,null,null,null,null,null,null,null,null,null,null,null,null,null,null,null,null,null,null,null,null,null,null,null,null,null,null,null,null,null,null,null,null,null,null,null,null,null,null,null,null,null,null,null,null,null,null,null,null,null,null,null,null,null,null,null,null,null,null,null,null,null,null,null,null,null,null,null,null,null,null,null,null,null,null,null,null,null,null,null,null,null,null,null,null,null,null,null,null,null,null,null,null,null,null,null,null,null,null,null,null,null,null,null,null,null,null,null,null,null,null,null,null,null,null,null,null,null,null,null,null,null,null,null,null,null,null,null,null,null,137,"","","","","","","","","","","","","","","","","","","","","","","","","","","","","","","","","","","","","","","","","","","","","","","","","","","","","","","","","","","","","","","","","","","","","","","","","","","","","","","","","","","","","","","","","","","","","","","","","","","","","","","","","","","","","","","","","","","","","","","","","","","","","","","","","","","","","","","","","","","","","","","","","","","","","","","","","","","","","","","","","","","","","","","","","","","","","","","","","",1,0,-1,0,0]
[null,null,null,null,null,null,152,{"$f":"IF(NE172=1, START!$B$17, \"\")","v":""},{"$f":"IF(NE172=1, START!$B$20, \"\")","v":""},null,null,null,null,null,null,null,null,null,null,null,null,null,null,null,null,null,null,null,null,null,null,null,null,null,null,null,null,null,null,null,null,null,null,null,null,null,null,null,null,null,null,null,null,null,null,null,null,null,null,null,null,null,null,null,null,null,null,null,null,null,null,null,null,null,null,null,null,null,null,null,null,null,null,null,null,null,null,null,null,null,null,null,null,null,null,null,null,null,null,null,null,null,null,null,null,null,null,null,null,null,null,null,null,null,null,null,null,null,null,null,null,null,null,null,null,null,null,null,null,null,null,null,null,null,null,null,null,null,null,null,null,null,null,null,null,null,null,null,null,null,null,null,null,null,null,null,null,null,null,null,null,null,null,null,null,null,null,null,null,null,null,null,null,null,null,null,null,null,null,null,null,null,null,null,null,null,null,152,"","","","","","","","","","","","","","","","","","","","","","","","","","","","","","","","","","","","","","","","","","","","","","","","","","","","","","","","","","","","","","","","","","","","","","","","","","","","","","","","","","","","","","","","","","","","","","","","","","","","","","","","","","","","","","","","","","","","","","","","","","","","","","","","","","","","","","","","","","","","","","","","","","","","","","","","","","","","","","","","","","","","","","","","","","","","","","","","","",1,0,-1,0,0]
[null,null,null,null,null,null,168,{"$f":"IF(NE188=1, START!$B$17, \"\")","v":""},{"$f":"IF(NE188=1, START!$B$20, \"\")","v":""},null,null,null,null,null,null,null,null,null,null,null,null,null,null,null,null,null,null,null,null,null,null,null,null,null,null,null,null,null,null,null,null,null,null,null,null,null,null,null,null,null,null,null,null,null,null,null,null,null,null,null,null,null,null,null,null,null,null,null,null,null,null,null,null,null,null,null,null,null,null,null,null,null,null,null,null,null,null,null,null,null,null,null,null,null,null,null,null,null,null,null,null,null,null,null,null,null,null,null,null,null,null,null,null,null,null,null,null,null,null,null,null,null,null,null,null,null,null,null,null,null,null,null,null,null,null,null,null,null,null,null,null,null,null,null,null,null,null,null,null,null,null,null,null,null,null,null,null,null,null,null,null,null,null,null,null,null,null,null,null,null,null,null,null,null,null,null,null,null,null,null,null,null,null,null,null,null,null,168,"","","","","","","","","","","","","","","","","","","","","","","","","","","","","","","","","","","","","","","","","","","","","","","","","","","","","","","","","","","","","","","","","","","","","","","","","","","","","","","","","","","","","","","","","","","","","","","","","","","","","","","","","","","","","","","","","","","","","","","","","","","","","","","","","","","","","","","","","","","","","","","","","","","","","","","","","","","","","","","","","","","","","","","","","","","","","","","","","",1,0,-1,0,0]
[null,null,null,null,null,null,181,{"$f":"IF(NE201=1, START!$B$17, \"\")","v":""},{"$f":"IF(NE201=1, START!$B$20, \"\")","v":""},null,null,null,null,null,null,null,null,null,null,null,null,null,null,null,null,null,null,null,null,null,null,null,null,null,null,null,null,null,null,null,null,null,null,null,null,null,null,null,null,null,null,null,null,null,null,null,null,null,null,null,null,null,null,null,null,null,null,null,null,null,null,null,null,null,null,null,null,null,null,null,null,null,null,null,null,null,null,null,null,null,null,null,null,null,null,null,null,null,null,null,null,null,null,null,null,null,null,null,null,null,null,null,null,null,null,null,null,null,null,null,null,null,null,null,null,null,null,null,null,null,null,null,null,null,null,null,null,null,null,null,null,null,null,null,null,null,null,null,null,null,null,null,null,null,null,null,null,null,null,null,null,null,null,null,null,null,null,null,null,null,null,null,null,null,null,null,null,null,null,null,null,null,null,null,null,null,null,181,"","","","","","","","","","","","","","","","","","","","","","","","","","","","","","","","","","","","","","","","","","","","","","","","","","","","","","","","","","","","","","","","","","","","","","","","","","","","","","",{"$f":"IF(CJ201=\"\",\"\",IF(OR(CJ201=1,CJ201=2,CJ201=3,CJ201=4,CJ201=5,CJ201=99),1,0))","v":""},"","","","","","","","","","","","","","","","","","","","","","","","","","","","","","","","","","","","","","","","","","","","","","","","","","","","","","","","","","","","","","","","","","","","","","","","","","","","","",{"$f":"IF(FJ201=\"\",\"\",IF(OR(FJ201=1,FJ201=2,FJ201=3,FJ201=4,FJ201=5,FJ201=99),1,0))","v":""},"","","","","","","","","","","","","","","","","","","","",1,0,-1,0,0]
[null,null,null,null,null,null,199,{"$f":"IF(NE219=1, START!$B$17, \"\")","v":""},{"$f":"IF(NE219=1, START!$B$20, \"\")","v":""},null,null,null,null,null,null,null,null,null,null,null,null,null,null,null,null,null,null,null,null,null,null,null,null,null,null,null,null,null,null,null,null,null,null,null,null,null,null,null,null,null,null,null,null,null,null,null,null,null,null,null,null,null,null,null,null,null,null,null,null,null,null,null,null,null,null,null,null,null,null,null,null,null,null,null,null,null,null,null,null,null,null,null,null,null,null,null,null,null,null,null,null,null,null,null,null,null,null,null,null,null,null,null,null,null,null,null,null,null,null,null,null,null,null,null,null,null,null,null,null,null,null,null,null,null,null,null,null,null,null,null,null,null,null,null,null,null,null,null,null,null,null,null,null,null,null,null,null,null,null,null,null,null,null,null,null,null,null,null,null,null,null,null,null,null,null,null,null,null,null,null,null,null,null,null,null,null,null,199,"","","","","","","","","","","","","","","","","","","","","","","","","","","","","","","","","","","","","","","","","","","","","","","","","","","","","","","","","","","","","","","","","","","","","","","","","","","","","","","","","","","","","","","","","","","","","","","","","","","","","","","","","","","","","","","","","","","","","","","","","","","","","","","","","","","","","","","","","","","","","","","","","","","","","","","","","","","","","","","","","","","","","","","","","","","","","","","","","",1,0,-1,0,0]
[null,null,null,null,null,null,215,{"$f":"IF(NE235=1, START!$B$17, \"\")","v":""},{"$f":"IF(NE235=1, START!$B$20, \"\")","v":""},null,null,null,null,null,null,null,null,null,null,null,null,null,null,null,null,null,null,null,null,null,null,null,null,null,null,null,null,null,null,null,null,null,null,null,null,null,null,null,null,null,null,null,null,null,null,null,null,null,null,null,null,null,null,null,null,null,null,null,null,null,null,null,null,null,null,null,null,null,null,null,null,null,null,null,null,null,null,null,null,null,null,null,null,null,null,null,null,null,null,null,null,null,null,null,null,null,null,null,null,null,null,null,null,null,null,null,null,null,null,null,null,null,null,null,null,null,null,null,null,null,null,null,null,null,null,null,null,null,null,null,null,null,null,null,null,null,null,null,null,null,null,null,null,null,null,null,null,null,null,null,null,null,null,null,null,null,null,null,null,null,null,null,null,null,null,null,null,null,null,null,null,null,null,null,null,null,null,215,"","","","","","","","","","","","","","","","","","","","","","","","","","","","","","","","","","","","","","","","","","","","","","","","","","","","","","","","","","","","","","","","","","","","","","","","","","","","","","","","","","","","","","","","","","","","","","","","","","","","","","","","","","","","","","","","","","","","","","","","","","","","","","","","","","","","","","","","","","","","","","","","","","","","","","","","","","","","","","","","","","","","","","","","","","","","","","","","","",1,0,-1,0,0]
[null,null,null,null,null,null,230,{"$f":"IF(NE250=1, START!$B$17, \"\")","v":""},{"$f":"IF(NE250=1, START!$B$20, \"\")","v":""},null,null,null,null,null,null,null,null,null,null,null,null,null,null,null,null,null,null,null,null,null,null,null,null,null,null,null,null,null,null,null,null,null,null,null,null,null,null,null,null,null,null,null,null,null,null,null,null,null,null,null,null,null,null,null,null,null,null,null,null,null,null,null,null,null,null,null,null,null,null,null,null,null,null,null,null,null,null,null,null,null,null,null,null,null,null,null,null,null,null,null,null,null,null,null,null,null,null,null,null,null,null,null,null,null,null,null,null,null,null,null,null,null,null,null,null,null,null,null,null,null,null,null,null,null,null,null,null,null,null,null,null,null,null,null,null,null,null,null,null,null,null,null,null,null,null,null,null,null,null,null,null,null,null,null,null,null,null,null,null,null,null,null,null,null,null,null,null,null,null,null,null,null,null,null,null,null,null,230,"","","","","","","","","","","","","","","","","","","","","","","","","","","","","","","","","","","","","","","","","","","","","","","","","","","","","","","","","","","","","","","","","","","","","","","","","","","","","","","","","","","","",{"$f":"IF(CP250=\"\",\"\",IF(OR(CP250=1,CP250=2,CP250=3,CP250=4,CP250=5,CP250=99),1,0))","v":""},"","","","","","","","","","",{"$f":"IF(DA250=\"\",\"\",IF(OR(DA250=1,DA250=2,DA250=3,DA250=4,DA250=5,DA250=99),1,0))","v":""},"","","","","","","","","","","","","","","","","","","","","","","","","","","","","","","","","","","","","","","","","","","","","","","","","","","","","","","","","","","","","","","","","","","","","","","","","","","","","","","","","",1,0,-1,0,0]
[null,null,null,null,null,null,245,{"$f":"IF(NE265=1, START!$B$17, \"\")","v":""},{"$f":"IF(NE265=1, START!$B$20, \"\")","v":""},null,null,null,null,null,null,null,null,null,null,null,null,null,null,null,null,null,null,null,null,null,null,null,null,null,null,null,null,null,null,null,null,null,null,null,null,null,null,null,null,null,null,null,null,null,null,null,null,null,null,null,null,null,null,null,null,null,null,null,null,null,null,null,null,null,null,null,null,null,null,null,null,null,null,null,null,null,null,null,null,null,null,null,null,null,null,null,null,null,null,null,null,null,null,null,null,null,null,null,null,null,null,null,null,null,null,null,null,null,null,null,null,null,null,null,null,null,null,null,null,null,null,null,null,null,null,null,null,null,null,null,null,null,null,null,null,null,null,null,null,null,null,null,null,null,null,null,null,null,null,null,null,null,null,null,null,null,null,null,null,null,null,null,null,null,null,null,null,null,null,null,null,null,null,null,null,null,null,245,{"$f":"IF(J265=\"\",\"\",IF(OR(J265=1,J265=2,J265=3,J265=4,J265=5,J265=99),1,0))","v":""},"","","","","","","","","","","","","","","","","","","","","","","","","","","","","","","","","","","","","","","","","","","","","","",{"$f":"IF(BE265=\"\",\"\",IF(OR(BE265=1,BE265=2,BE265=3,BE265=4,BE265=5,BE265=99),1,0))","v":""},"","","","","","","","","","","","","","","","","","","","","","","","","","","","","","","","","","","","","","","","","","","","","","","","","","","","","","","","","","","","","","","","","","","","","","","","","","","","","","","","","","","","","","","","","","","","","","","","","","","","","","","","","","","","","","","","","","","","","","","","","","","","","","","","","",1,0,-1,0,0]
[null,null,null,null,null,null,262,{"$f":"IF(NE282=1, START!$B$17, \"\")","v":""},{"$f":"IF(NE282=1, START!$B$20, \"\")","v":""},null,null,null,null,null,null,null,null,null,null,null,null,null,null,null,null,null,null,null,null,null,null,null,null,null,null,null,null,null,null,null,null,null,null,null,null,null,null,null,null,null,null,null,null,null,null,null,null,null,null,null,null,null,null,null,null,null,null,null,null,null,null,null,null,null,null,null,null,null,null,null,null,null,null,null,null,null,null,null,null,null,null,null,null,null,null,null,null,null,null,null,null,null,null,null,null,null,null,null,null,null,null,null,null,null,null,null,null,null,null,null,null,null,null,null,null,null,null,null,null,null,null,null,null,null,null,null,null,null,null,null,null,null,null,null,null,null,null,null,null,null,null,null,null,null,null,null,null,null,null,null,null,null,null,null,null,null,null,null,null,null,null,null,null,null,null,null,null,null,null,null,null,null,null,null,null,null,null,262,"","","","","","","","","","","","","","","","","","","","","","","","","","","","",{"$f":"IF(AL282=\"\",\"\",IF(OR(AL282=1,AL282=2,AL282=3,AL282=4,AL282=5,AL282=99),1,0))","v":""},"","","","","","","","","","","","","","","","","","","","","","","","","","","","","","","","","","","","","","","","","","","","","","","","","","","","","","","","","","","","","","","","","","","","","","","","","","","","","","","","","","","","","","","","","","","","","","","","","","","","","","","","","","","","","","","","","","","","","","","","","","","","","","","","","","","","","","","","","","","","","","","","","","","","",1,0,-1,0,0]
[null,null,null,null,null,null,277,{"$f":"IF(NE297=1, START!$B$17, \"\")","v":""},{"$f":"IF(NE297=1, START!$B$20, \"\")","v":""},null,null,null,null,null,null,null,null,null,null,null,null,null,null,null,null,null,null,null,null,null,null,null,null,null,null,null,null,null,null,null,null,null,null,null,null,null,null,null,null,null,null,null,null,null,null,null,null,null,null,null,null,null,null,null,null,null,null,null,null,null,null,null,null,null,null,null,null,null,null,null,null,null,null,null,null,null,null,null,null,null,null,null,null,null,null,null,null,null,null,null,null,null,null,null,null,null,null,null,null,null,null,null,null,null,null,null,null,null,null,null,null,null,null,null,null,null,null,null,null,null,null,null,null,null,null,null,null,null,null,null,null,null,null,null,null,null,null,null,null,null,null,null,null,null,null,null,null,null,null,null,null,null,null,null,null,null,null,null,null,null,null,null,null,null,null,null,null,null,null,null,null,null,null,null,null,null,null,277,"","","","","","","","","","","","","","","","","","","","","","","","","","","","","","","","","","","","","","","","","","","","","","","","","","","","","","","","","","","","","","","","","","","","","","","","","","","","","","","","","","","","","","","","","","","","","","","","","","","","","","","","","","","","","","","","","","","","","","","","","","","","","","","","","","","","","","","","","","","","","","","","","","","",{"$f":"IF(FA297=\"\",\"\",IF(OR(FA297=1,FA297=2,FA297=3,FA297=4,FA297=5,FA297=99),1,0))","v":""},"","","","","","","","","","","","","","","","","","","","","","","","","","","","","",1,0,-1,0,0]
[null,null,null,null,null,null,293,{"$f":"IF(NE313=1, START!$B$17, \"\")","v":""},{"$f":"IF(NE313=1, START!$B$20, \"\")","v":""},null,null,null,null,null,null,null,null,null,null,null,null,null,null,null,null,null,null,null,null,null,null,null,null,null,null,null,null,null,null,null,null,null,null,null,null,null,null,null,null,null,null,null,null,null,null,null,null,null,null,null,null,null,null,null,null,null,null,null,null,null,null,null,null,null,null,null,null,null,null,null,null,null,null,null,null,null,null,null,null,null,null,null,null,null,null,null,null,null,null,null,null,null,null,null,null,null,null,null,null,null,null,null,null,null,null,null,null,null,null,null,null,null,null,null,null,null,null,null,null,null,null,null,null,null,null,null,null,null,null,null,null,null,null,null,null,null,null,null,null,null,null,null,null,null,null,null,null,null,null,null,null,null,null,null,null,null,null,null,null,null,null,null,null,null,null,null,null,null,null,null,null,null,null,null,null,null,null,293,"","","","","","","","","","","","","","","","","","","","","","","","","","","","","","","","","","","","","","","","","","","","","","","","","","","","","","","","","","","","","","","","","","","","","","","","","","","","","","","","","","","","","","","","","","","","","","","","","","","","","","","","","","","","","","","","","","","","","","","","","","","","","","","","","","","","","","","","","","","","","","","","","","","","","","","","","","","","","","","","","","","","","","","","","","","","","","","","","",1,0,-1,0,0]
[null,null,null,null,null,null,308,{"$f":"IF(NE328=1, START!$B$17, \"\")","v":""},{"$f":"IF(NE328=1, START!$B$20, \"\")","v":""},null,null,null,null,null,null,null,null,null,null,null,null,null,null,null,null,null,null,null,null,null,null,null,null,null,null,null,null,null,null,null,null,null,null,null,null,null,null,null,null,null,null,null,null,null,null,null,null,null,null,null,null,null,null,null,null,null,null,null,null,null,null,null,null,null,null,null,null,null,null,null,null,null,null,null,null,null,null,null,null,null,null,null,null,null,null,null,null,null,null,null,null,null,null,null,null,null,null,null,null,null,null,null,null,null,null,null,null,null,null,null,null,null,null,null,null,null,null,null,null,null,null,null,null,null,null,null,null,null,null,null,null,null,null,null,null,null,null,null,null,null,null,null,null,null,null,null,null,null,null,null,null,null,null,null,null,null,null,null,null,null,null,null,null,null,null,null,null,null,null,null,null,null,null,null,null,null,null,308,"","","","","","","","","","","","","","","","","","","","","","","","","","","","","","","","","","","","","","","","","","","","","","","","","","","","","","","","","","","","","","","","","","","","","","","","","","","","","","","","","","","","","","","","","","","","","","","","","","","","","","","","","","","","","","","","","","","","","","","","","",{"$f":"IF(EA328=\"\",\"\",IF(OR(EA328=1,EA328=2,EA328=3,EA328=4,EA328=5,EA328=99),1,0))","v":""},"","","","","","","","","","","","","","","","","","","","","","","","","","","","","","","","","","","","","","","","","","","","","","","","","","","","","","","",1,0,-1,0,0]
[null,null,null,null,null,null,323,{"$f":"IF(NE343=1, START!$B$17, \"\")","v":""},{"$f":"IF(NE343=1, START!$B$20, \"\")","v":""},null,null,null,null,null,null,null,null,null,null,null,null,null,null,null,null,null,null,null,null,null,null,null,null,null,null,null,null,null,null,null,null,null,null,null,null,null,null,null,null,null,null,null,null,null,null,null,null,null,null,null,null,null,null,null,null,null,null,null,null,null,null,null,null,null,null,null,null,null,null,null,null,null,null,null,null,null,null,null,null,null,null,null,null,null,null,null,null,null,null,null,null,null,null,null,null,null,null,null,null,null,null,null,null,null,null,null,null,null,null,null,null,null,null,null,null,null,null,null,null,null,null,null,null,null,null,null,null,null,null,null,null,null,null,null,null,null,null,null,null,null,null,null,null,null,null,null,null,null,null,null,null,null,null,null,null,null,null,null,null,null,null,null,null,null,null,null,null,null,null,null,null,null,null,null,null,null,null,323,"","","","","","","","","","","","","","","","","","","","","","","","","","","","","","","","","","","",{"$f":"IF(AS343=\"\",\"\",IF(OR(AS343=1,AS343=2,AS343=3,AS343=4,AS343=5,AS343=99),1,0))","v":""},"","","","","","","","","","","","","","","","","","","","","","","","","","","","","","","","","","","",{"$f":"IF(CC343=\"\",\"\",IF(OR(CC343=1,CC343=2,CC343=3,CC343=4,CC343=5,CC343=99),1,0))","v":""},"","","","","","","","","","","","","","","","","","","","","","","","","","","","","","","","","","","","","","","","","","","","","","","","","","","","","","","","","","","","","","","","","","","","","","","","","","","","","","","","","","","","","","","","","","","","","","","","","","","","","","","","","",1,0,-1,0,0]
[null,null,null,null,null,null,343,{"$f":"IF(NE363=1, START!$B$17, \"\")","v":""},{"$f":"IF(NE363=1, START!$B$20, \"\")","v":""},null,null,null,null,null,null,null,null,null,null,null,null,null,null,null,null,null,null,null,null,null,null,null,null,null,null,null,null,null,null,null,null,null,null,null,null,null,null,null,null,null,null,null,null,null,null,null,null,null,null,null,null,null,null,null,null,null,null,null,null,null,null,null,null,null,null,null,null,null,null,null,null,null,null,null,null,null,null,null,null,null,null,null,null,null,null,null,null,null,null,null,null,null,null,null,null,null,null,null,null,null,null,null,null,null,null,null,null,null,null,null,null,null,null,null,null,null,null,null,null,null,null,null,null,null,null,null,null,null,null,null,null,null,null,null,null,null,null,null,null,null,null,null,null,null,null,null,null,null,null,null,null,null,null,null,null,null,null,null,null,null,null,null,null,null,null,null,null,null,null,null,null,null,null,null,null,null,null,343,"","","","","","","","","","","","","","","","","","","","","","","","","","","","","","","","","","","","","","","","","","","","","","","","","","","","","","","","","","","","","","","","","","","","","","","","","","","","","","","","","","","","","","","","","","","","","","","","","","","","","","","","","","","","","","","","","","","","","","","","","","","","","","","","","","","","","","","","","","","","","","","","","","","","","","","","","","","","","","","","","","","","","","","","","","","","","","","","","",1,0,-1,0,0]
[null,null,null,null,null,null,355,{"$f":"IF(NE375=1, START!$B$17, \"\")","v":""},{"$f":"IF(NE375=1, START!$B$20, \"\")","v":""},null,null,null,null,null,null,null,null,null,null,null,null,null,null,null,null,null,null,null,null,null,null,null,null,null,null,null,null,null,null,null,null,null,null,null,null,null,null,null,null,null,null,null,null,null,null,null,null,null,null,null,null,null,null,null,null,null,null,null,null,null,null,null,null,null,null,null,null,null,null,null,null,null,null,null,null,null,null,null,null,null,null,null,null,null,null,null,null,null,null,null,null,null,null,null,null,null,null,null,null,null,null,null,null,null,null,null,null,null,null,null,null,null,null,null,null,null,null,null,null,null,null,null,null,null,null,null,null,null,null,null,null,null,null,null,null,null,null,null,null,null,null,null,null,null,null,null,null,null,null,null,null,null,null,null,null,null,null,null,null,null,null,null,null,null,null,null,null,null,null,null,null,null,null,null,null,null,null,355,"","","","","","","","","","","","","","","","",{"$f":"IF(Z375=\"\",\"\",IF(OR(Z375=1,Z375=2,Z375=3,Z375=4,Z375=5,Z375=99),1,0))","v":""},"","","","","","","","","","","","","","","","","","","","","","","","","","","","","","","","","","","","","","","","","","","","","","","","","","","","","","","","","","","","","","","","","","","","","","","","","","","","","","","","","","","","","","","","","","","","","","","","","","","","","","","","","","","","","","","","","","","","","","","","","","","","","","","","",{"$f":"IF(EY375=\"\",\"\",IF(OR(EY375=1,EY375=2,EY375=3,EY375=4,EY375=5,EY375=99),1,0))","v":""},"","","","","","","","","","","","","","","","","","","","","","","","","","","","","","","",1,0,-1,0,0]
[null,null,null,null,null,null,371,{"$f":"IF(NE391=1, START!$B$17, \"\")","v":""},{"$f":"IF(NE391=1, START!$B$20, \"\")","v":""},null,null,null,null,null,null,null,null,null,null,null,null,null,null,null,null,null,null,null,null,null,null,null,null,null,null,null,null,null,null,null,null,null,null,null,null,null,null,null,null,null,null,null,null,null,null,null,null,null,null,null,null,null,null,null,null,null,null,null,null,null,null,null,null,null,null,null,null,null,null,null,null,null,null,null,null,null,null,null,null,null,null,null,null,null,null,null,null,null,null,null,null,null,null,null,null,null,null,null,null,null,null,null,null,null,null,null,null,null,null,null,null,null,null,null,null,null,null,null,null,null,null,null,null,null,null,null,null,null,null,null,null,null,null,null,null,null,null,null,null,null,null,null,null,null,null,null,null,null,null,null,null,null,null,null,null,null,null,null,null,null,null,null,null,null,null,null,null,null,null,null,null,null,null,null,null,null,null,371,"","","","","","","","","","","","","","","","","","","","","","","","","","","","","","","","","","","","","","","","","","","","","","","","","","","","","","","","","","","","","","","","","","","","","","","","","","","","","","","","","","","","","","","","","",{"$f":"IF(CU391=\"\",\"\",IF(OR(CU391=1,CU391=2,CU391=3,CU391=4,CU391=5,CU391=99),1,0))","v":""},"","","","","","","","","","","","","","","","","","","","","","","","","","","","","","","","","","","","","","","","","","","","","","","","","","","","","","","","","","","","","","","","","","","","","","","","","","","","","","","","","","","","","","","",1,0,-1,0,0]
[null,null,null,null,null,null,386,{"$f":"IF(NE406=1, START!$B$17, \"\")","v":""},{"$f":"IF(NE406=1, START!$B$20, \"\")","v":""},null,null,null,null,null,null,null,null,null,null,null,null,null,null,null,null,null,null,null,null,null,null,null,null,null,null,null,null,null,null,null,null,null,null,null,null,null,null,null,null,null,null,null,null,null,null,null,null,null,null,null,null,null,null,null,null,null,null,null,null,null,null,null,null,null,null,null,null,null,null,null,null,null,null,null,null,null,null,null,null,null,null,null,null,null,null,null,null,null,null,null,null,null,null,null,null,null,null,null,null,null,null,null,null,null,null,null,null,null,null,null,null,null,null,null,null,null,null,null,null,null,null,null,null,null,null,null,null,null,null,null,null,null,null,null,null,null,null,null,null,null,null,null,null,null,null,null,null,null,null,null,null,null,null,null,null,null,null,null,null,null,null,null,null,null,null,null,null,null,null,null,null,null,null,null,null,null,null,386,"","","","","","","","","","","","","","","","","","","","","","","","","","","","","","","","","","","","","","","","","","","","","","","","",{"$f":"IF(BF406=\"\",\"\",IF(OR(BF406=1,BF406=2,BF406=3,BF406=4,BF406=5,BF406=99),1,0))","v":""},"","","","","","","","","","","","","","","","","","","","","","","","","","","","","","","","","","","","","","","","","","","","","","","","","","","","","","","","","","","","","","","","","","","","","","","","","","","","","","","","","","","","","","","","","","","","","","","","","","","","","","","","","","","","","","","","","","","","","","","","","","","","",{"$f":"IF(GA406=\"\",\"\",IF(OR(GA406=1,GA406=2,GA406=99),1,0))","v":""},{"$f":"IF(GB406=\"\",\"\",IF(OR(GB406=1,GB406=2,GB406=3,GB406=4,GB406=5,GB406=99),1,0))","v":""},{"$f":"IF(GC406=\"\",\"\",IF(AND(LEN(GC406)=5),1,0))","v":""},"",{"$f":"SUM($J$11:$GD$11)","v":1},{"$f":"SUM(GG406:NA406)","v":0},{"$f":"NC406-NB406","v":-1},{"$f":"IF(NC406>0, 1, 0)","v":0},{"$f":"IF(AND(NE406=1,ND406=0),0,IF(NE406=0,0,1))","v":0}]
[null,null,null,null,null,null,392,{"$f":"IF(NE412=1, START!$B$17, \"\")","v":""},{"$f":"IF(NE412=1, START!$B$20, \"\")","v":""},null,null,null,null,null,null,null,null,null,null,null,null,null,null,null,null,null,null,null,null,null,null,null,null,null,null,null,null,null,null,null,null,null,null,null,null,null,null,null,null,null,null,null,null,null,null,null,null,null,null,null,null,null,null,null,null,null,null,null,null,null,null,null,null,null,null,null,null,null,null,null,null,null,null,null,null,null,null,null,null,null,null,null,null,null,null,null,null,null,null,null,null,null,null,null,null,null,null,null,null,null,null,null,null,null,null,null,null,null,null,null,null,null,null,null,null,null,null,null,null,null,null,null,null,null,null,null,null,null,null,null,null,null,null,null,null,null,null,null,null,null,null,null,null,null,null,null,null,null,null,null,null,null,null,null,null,null,null,null,null,null,null,null,null,null,null,null,null,null,null,null,null,null,null,null,null,null,null,392,"","","","","","","","","","","","","","","","","","","","","","","","","","","","","","","","","","","","","","","","","","","","","","","","","","","","","","","","","","","","","","","","","","","","","","","","","","","","","","","","","","","","","","","","","","","","","","","","","","","","","","","","","","","","","","","","","","","","","","","","","","","","","","","","","","","","","","","","","","","","","","","","","","","","","","","","","","","","","","",{"$f":"IF(FL412=\"\",\"\",IF(OR(FL412=1,FL412=2,FL412=3,FL412=4,FL412=5,FL412=99),1,0))","v":""},"","","","","","","","","","","","","","","","","","",1,0,-1,0,0]
[null,null,null,null,null,null,418,{"$f":"IF(NE438=1, START!$B$17, \"\")","v":""},{"$f":"IF(NE438=1, START!$B$20, \"\")","v":""},null,null,null,null,null,null,null,null,null,null,null,null,null,null,null,null,null,null,null,null,null,null,null,null,null,null,null,null,null,null,null,null,null,null,null,null,null,null,null,null,null,null,null,null,null,null,null,null,null,null,null,null,null,null,null,null,null,null,null,null,null,null,null,null,null,null,null,null,null,null,null,null,null,null,null,null,null,null,null,null,null,null,null,null,null,null,null,null,null,null,null,null,null,null,null,null,null,null,null,null,null,null,null,null,null,null,null,null,null,null,null,null,null,null,null,null,null,null,null,null,null,null,null,null,null,null,null,null,null,null,null,null,null,null,null,null,null,null,null,null,null,null,null,null,null,null,null,null,null,null,null,null,null,null,null,null,null,null,null,null,null,null,null,null,null,null,null,null,null,null,null,null,null,null,null,null,null,null,418,"","","","","","","","","","","","","","","","","","","","","","","","","","","","","","","","","","","","","","","","","","","","","","","","","","","","","","","","","","","","","","","","","","","","","","","","","","","","","","","","","","","","","","","","","","",{"$f":"IF(CV438=\"\",\"\",IF(OR(CV438=1,CV438=2,CV438=3,CV438=4,CV438=5,CV438=99),1,0))","v":""},"","","","","","","","","","","","","","","","","","","","","","","","","","","","","","","","","","","","","","","","","","","","","","","","","","","","","","","","","","","","","","","","","","","","","","","","","","","","","","","","","","","","","","",1,0,-1,0,0]
[null,null,null,null,null,null,433,{"$f":"IF(NE453=1, START!$B$17, \"\")","v":""},{"$f":"IF(NE453=1, START!$B$20, \"\")","v":""},null,null,null,null,null,null,null,null,null,null,null,null,null,null,null,null,null,null,null,null,null,null,null,null,null,null,null,null,null,null,null,null,null,null,null,null,null,null,null,null,null,null,null,null,null,null,null,null,null,null,null,null,null,null,null,null,null,null,null,null,null,null,null,null,null,null,null,null,null,null,null,null,null,null,null,null,null,null,null,null,null,null,null,null,null,null,null,null,null,null,null,null,null,null,null,null,null,null,null,null,null,null,null,null,null,null,null,null,null,null,null,null,null,null,null,null,null,null,null,null,null,null,null,null,null,null,null,null,null,null,null,null,null,null,null,null,null,null,null,null,null,null,null,null,null,null,null,null,null,null,null,null,null,null,null,null,null,null,null,null,null,null,null,null,null,null,null,null,null,null,null,null,null,null,null,null,null,null,433,"","","","","","","","","","","","","","","","","","","","","","","","","","","","","","","","","","","","","","","","","","","","","","","","","","","","","","","","","","","","","","","","","","","","","","","","","","","","","","","","","","","","","","","","","","","","","","","","","","","","","","","","","","","","","","","","","","","","","","","","","","","","","","","","","",{"$f":"IF(EI453=\"\",\"\",IF(OR(EI453=1,EI453=2,EI453=3,EI453=4,EI453=5,EI453=99),1,0))","v":""},"","","","","","","","","","","","","","","","","","","","","","","","","","","","","","","","","","","","","","","","","","","","","","","",1,0,-1,0,0]
[null,null,null,null,null,null,448,{"$f":"IF(NE468=1, START!$B$17, \"\")","v":""},{"$f":"IF(NE468=1, START!$B$20, \"\")","v":""},null,null,null,null,null,null,null,null,null,null,null,null,null,null,null,null,null,null,null,null,null,null,null,null,null,null,null,null,null,null,null,null,null,null,null,null,null,null,null,null,null,null,null,null,null,null,null,null,null,null,null,null,null,null,null,null,null,null,null,null,null,null,null,null,null,null,null,null,null,null,null,null,null,null,null,null,null,null,null,null,null,null,null,null,null,null,null,null,null,null,null,null,null,null,null,null,null,null,null,null,null,null,null,null,null,null,null,null,null,null,null,null,null,null,null,null,null,null,null,null,null,null,null,null,null,null,null,null,null,null,null,null,null,null,null,null,null,null,null,null,null,null,null,null,null,null,null,null,null,null,null,null,null,null,null,null,null,null,null,null,null,null,null,null,null,null,null,null,null,null,null,null,null,null,null,null,null,null,448,"","","","","","","","","","","","","","","","","","","","","","","","","","","","","","","","","","","","","","","","","","","","","","","","","","","","","","","","","","","","","","","","","","","","","","","","","","","","","","","","","","","","","","","","","","","","","","","","","","","","","","","","","","","","","","","","","","","","","","","","","","","","","","","","","","","","","","","","","","","","","","","","","","","","","","","","","","","","","","","","","","","","","","","","","","","","","","","","","",1,0,-1,0,0]
[null,null,null,null,null,null,464,{"$f":"IF(NE484=1, START!$B$17, \"\")","v":""},{"$f":"IF(NE484=1, START!$B$20, \"\")","v":""},null,null,null,null,null,null,null,null,null,null,null,null,null,null,null,null,null,null,null,null,null,null,null,null,null,null,null,null,null,null,null,null,null,null,null,null,null,null,null,null,null,null,null,null,null,null,null,null,null,null,null,null,null,null,null,null,null,null,null,null,null,null,null,null,null,null,null,null,null,null,null,null,null,null,null,null,null,null,null,null,null,null,null,null,null,null,null,null,null,null,null,null,null,null,null,null,null,null,null,null,null,null,null,null,null,null,null,null,null,null,null,null,null,null,null,null,null,null,null,null,null,null,null,null,null,null,null,null,null,null,null,null,null,null,null,null,null,null,null,null,null,null,null,null,null,null,null,null,null,null,null,null,null,null,null,null,null,null,null,null,null,null,null,null,null,null,null,null,null,null,null,null,null,null,null,null,null,null,464,"","","","","","","","","","","","","","","","","","","","","","","","","","","","","","","","","","","","","","","","","","","","",{"$f":"IF(BB484=\"\",\"\",IF(OR(BB484=1,BB484=2,BB484=3,BB484=4,BB484=5,BB484=99),1,0))","v":""},"","","","",{"$f":"IF(BG484=\"\",\"\",IF(OR(BG484=1,BG484=2,BG484=3,BG484=4,BG484=5,BG484=99),1,0))","v":""},"","","","","","","","","","","","","","","","","","","","","","","","","","","","","","","","","","","","","","","","","","","","","","","","","","","","","","","","","","","","","","","","","","","","","","","","","","","","","","","","","","","","","","","","","","","","","","","","","","","","","","","","","","","","","","","","","","","","","","","","","","","","","","","",1,0,-1,0,0]
[null,null,null,null,null,null,473,{"$f":"IF(NE493=1, START!$B$17, \"\")","v":""},{"$f":"IF(NE493=1, START!$B$20, \"\")","v":""},null,null,null,null,null,null,null,null,null,null,null,null,null,null,null,null,null,null,null,null,null,null,null,null,null,null,null,null,null,null,null,null,null,null,null,null,null,null,null,null,null,null,null,null,null,null,null,null,null,null,null,null,null,null,null,null,null,null,null,null,null,null,null,null,null,null,null,null,null,null,null,null,null,null,null,null,null,null,null,null,null,null,null,null,null,null,null,null,null,null,null,null,null,null,null,null,null,null,null,null,null,null,null,null,null,null,null,null,null,null,null,null,null,null,null,null,null,null,null,null,null,null,null,null,null,null,null,null,null,null,null,null,null,null,null,null,null,null,null,null,null,null,null,null,null,null,null,null,null,null,null,null,null,null,null,null,null,null,null,null,null,null,null,null,null,null,null,null,null,null,null,null,null,null,null,null,null,null,473,"","","","","","","","","","","","","","","","","","","","","","","","","","","","","","","","","","","","","","","","","","","","","","","","","","","","","","","","","","","","","","","","","","","","","","","","","","","","","","","","","","",{"$f":"IF(CN493=\"\",\"\",IF(OR(CN493=1,CN493=2,CN493=3,CN493=4,CN493=5,CN493=99),1,0))","v":""},"","","","","","","","","","","","","","","","","","","","","","","","","","","","","","","","","","","","","","","","","","","","","","","","","","","","","","","","","","","","",{"$f":"IF(EW493=\"\",\"\",IF(OR(EW493=1,EW493=2,EW493=3,EW493=4,EW493=5,EW493=99),1,0))","v":""},"","","","","","","","","","","","","","","","","","","","","","","","","","","","","","","","","",1,0,-1,0,0]
[null,null,null,null,null,null,496,{"$f":"IF(NE516=1, START!$B$17, \"\")","v":""},{"$f":"IF(NE516=1, START!$B$20, \"\")","v":""},null,null,null,null,null,null,null,null,null,null,null,null,null,null,null,null,null,null,null,null,null,null,null,null,null,null,null,null,null,null,null,null,null,null,null,null,null,null,null,null,null,null,null,null,null,null,null,null,null,null,null,null,null,null,null,null,null,null,null,null,null,null,null,null,null,null,null,null,null,null,null,null,null,null,null,null,null,null,null,null,null,null,null,null,null,null,null,null,null,null,null,null,null,null,null,null,null,null,null,null,null,null,null,null,null,null,null,null,null,null,null,null,null,null,null,null,null,null,null,null,null,null,null,null,null,null,null,null,null,null,null,null,null,null,null,null,null,null,null,null,null,null,null,null,null,null,null,null,null,null,null,null,null,null,null,null,null,null,null,null,null,null,null,null,null,null,null,null,null,null,null,null,null,null,null,null,null,null,496,"","","","","","","","","","","","","","","","","","","","","","","","","","","","","","","","","","","","","","","","","","","","","","","","","","","","","","","","","","","","","","","","","","","","","","","","","","","","","","","","","","","","","","","","","",{"$f":"IF(CU516=\"\",\"\",IF(OR(CU516=1,CU516=2,CU516=3,CU516=4,CU516=5,CU516=99),1,0))","v":""},"","","","","","","","","","","","","","","","","","","","","","","","","","","","","","","","","","","","","","","","","","","","","","","","","","","","","","","","","","","","","","","","","","","","","","","","","","","","","","","","","","","","","","","",1,0,-1,0,0]
[null,null,null,null,null,null,511,{"$f":"IF(NE531=1, START!$B$17, \"\")","v":""},{"$f":"IF(NE531=1, START!$B$20, \"\")","v":""},null,null,null,null,null,null,null,null,null,null,null,null,null,null,null,null,null,null,null,null,null,null,null,null,null,null,null,null,null,null,null,null,null,null,null,null,null,null,null,null,null,null,null,null,null,null,null,null,null,null,null,null,null,null,null,null,null,null,null,null,null,null,null,null,null,null,null,null,null,null,null,null,null,null,null,null,null,null,null,null,null,null,null,null,null,null,null,null,null,null,null,null,null,null,null,null,null,null,null,null,null,null,null,null,null,null,null,null,null,null,null,null,null,null,null,null,null,null,null,null,null,null,null,null,null,null,null,null,null,null,null,null,null,null,null,null,null,null,null,null,null,null,null,null,null,null,null,null,null,null,null,null,null,null,null,null,null,null,null,null,null,null,null,null,null,null,null,null,null,null,null,null,null,null,null,null,null,null,511,"","","","","","","","","","","","","","","","","","","","","","","","","","","","","","","","","","","","","","","","","","","","","","","","","","","","","","","","","","","","","","","","","","","","","","","","","","","","","","","","","","","","","","","","","","","","","","","","","","","","","","","","","","","","","","","","","","","","","","","","","","","","","","","","","","","","","","","","","","","","","","","","","","","","","","","","","","","","","","","","","","","","","","","","","","","","","","","","","",1,0,-1,0,0]
[null,null,null,null,null,null,526,{"$f":"IF(NE546=1, START!$B$17, \"\")","v":""},{"$f":"IF(NE546=1, START!$B$20, \"\")","v":""},null,null,null,null,null,null,null,null,null,null,null,null,null,null,null,null,null,null,null,null,null,null,null,null,null,null,null,null,null,null,null,null,null,null,null,null,null,null,null,null,null,null,null,null,null,null,null,null,null,null,null,null,null,null,null,null,null,null,null,null,null,null,null,null,null,null,null,null,null,null,null,null,null,null,null,null,null,null,null,null,null,null,null,null,null,null,null,null,null,null,null,null,null,null,null,null,null,null,null,null,null,null,null,null,null,null,null,null,null,null,null,null,null,null,null,null,null,null,null,null,null,null,null,null,null,null,null,null,null,null,null,null,null,null,null,null,null,null,null,null,null,null,null,null,null,null,null,null,null,null,null,null,null,null,null,null,null,null,null,null,null,null,null,null,null,null,null,null,null,null,null,null,null,null,null,null,null,null,526,"","","","","","","","","","","","","","","","","","","","","","","","","","","","","","","","","","","","","","","","","","","","","","","","","","","","","","","","","","","","","","","","","","","","","","","","","","","","","","","","","","","","","","","","","","","","","","","","","","","","","","","","","","","","","","","","","","","","","","","","","","","","","","","","","","","","","","","","","","","","","","","","","","","","","","","","","","","","","","","","","","","","","","","","","","","","","","","","","",1,0,-1,0,0]
[null,null,null,null,null,null,542,{"$f":"IF(NE562=1, START!$B$17, \"\")","v":""},{"$f":"IF(NE562=1, START!$B$20, \"\")","v":""},null,null,null,null,null,null,null,null,null,null,null,null,null,null,null,null,null,null,null,null,null,null,null,null,null,null,null,null,null,null,null,null,null,null,null,null,null,null,null,null,null,null,null,null,null,null,null,null,null,null,null,null,null,null,null,null,null,null,null,null,null,null,null,null,null,null,null,null,null,null,null,null,null,null,null,null,null,null,null,null,null,null,null,null,null,null,null,null,null,null,null,null,null,null,null,null,null,null,null,null,null,null,null,null,null,null,null,null,null,null,null,null,null,null,null,null,null,null,null,null,null,null,null,null,null,null,null,null,null,null,null,null,null,null,null,null,null,null,null,null,null,null,null,null,null,null,null,null,null,null,null,null,null,null,null,null,null,null,null,null,null,null,null,null,null,null,null,null,null,null,null,null,null,null,null,null,null,null,542,"","","","","","","","","","","","","","","","","","","","","","","","","","","","","","",{"$f":"IF(AN562=\"\",\"\",IF(OR(AN562=1,AN562=2,AN562=3,AN562=4,AN562=5,AN562=99),1,0))","v":""},"","","","","","","","","","","","","","","","","","","","","","","","","","","","","","","","","","","","","","","","","","","","","","","","","","","","","","","","","","","","","","","","","","","","","","","","","","","","","","","","","","","","","","","","","","","","","","","","","","","","","","","","","","","","","","","","","","","","","","","","","","","","","","","","","","","","","","","","","","","","","","","","","","",1,0,-1,0,0]
[null,null,null,null,null,null,554,{"$f":"IF(NE574=1, START!$B$17, \"\")","v":""},{"$f":"IF(NE574=1, START!$B$20, \"\")","v":""},null,null,null,null,null,null,null,null,null,null,null,null,null,null,null,null,null,null,null,null,null,null,null,null,null,null,null,null,null,null,null,null,null,null,null,null,null,null,null,null,null,null,null,null,null,null,null,null,null,null,null,null,null,null,null,null,null,null,null,null,null,null,null,null,null,null,null,null,null,null,null,null,null,null,null,null,null,null,null,null,null,null,null,null,null,null,null,null,null,null,null,null,null,null,null,null,null,null,null,null,null,null,null,null,null,null,null,null,null,null,null,null,null,null,null,null,null,null,null,null,null,null,null,null,null,null,null,null,null,null,null,null,null,null,null,null,null,null,null,null,null,null,null,null,null,null,null,null,null,null,null,null,null,null,null,null,null,null,null,null,null,null,null,null,null,null,null,null,null,null,null,null,null,null,null,null,null,null,554,"","","","","","","","","","","","","","","","","","","","","","","","","","","","","","","","","","","","","","","","","","","","","","","","","","","","","","","","","","","","","","","","","","","","","","","","","","","","","","","","","","","","","","","","","","","","","","","","","","","","","","","","","","","","","","","","","","","","","","","","","","","","","","","","","","","","","","","","","","","","","","","","","","","","","","","","","","","","","","","","","","","","","","","","","","","","","","","","","",1,0,-1,0,0]
[null,null,null,null,null,null,573,{"$f":"IF(NE593=1, START!$B$17, \"\")","v":""},{"$f":"IF(NE593=1, START!$B$20, \"\")","v":""},null,null,null,null,null,null,null,null,null,null,null,null,null,null,null,null,null,null,null,null,null,null,null,null,null,null,null,null,null,null,null,null,null,null,null,null,null,null,null,null,null,null,null,null,null,null,null,null,null,null,null,null,null,null,null,null,null,null,null,null,null,null,null,null,null,null,null,null,null,null,null,null,null,null,null,null,null,null,null,null,null,null,null,null,null,null,null,null,null,null,null,null,null,null,null,null,null,null,null,null,null,null,null,null,null,null,null,null,null,null,null,null,null,null,null,null,null,null,null,null,null,null,null,null,null,null,null,null,null,null,null,null,null,null,null,null,null,null,null,null,null,null,null,null,null,null,null,null,null,null,null,null,null,null,null,null,null,null,null,null,null,null,null,null,null,null,null,null,null,null,null,null,null,null,null,null,null,null,573,"","","","","","","","","","","","","","","","","","","","","","","","","","","","","","","","","","","","","","","","","","","","","","","","","","","","","","","","","","","","","","","","","","","","","","","","","","","","","","","","","","","","","","","","","","","","","","","","","","","","","","","","","","","","","","","","","","","","","","","","","","","","","","","","","",{"$f":"IF(EI593=\"\",\"\",IF(OR(EI593=1,EI593=2,EI593=3,EI593=4,EI593=5,EI593=99),1,0))","v":""},"","","","","","","","","","","","","","","","","","","","","","","","","","","","","","","","","","","","","","","","","","","","","","","",1,0,-1,0,0]
[null,null,null,null,null,null,589,{"$f":"IF(NE609=1, START!$B$17, \"\")","v":""},{"$f":"IF(NE609=1, START!$B$20, \"\")","v":""},null,null,null,null,null,null,null,null,null,null,null,null,null,null,null,null,null,null,null,null,null,null,null,null,null,null,null,null,null,null,null,null,null,null,null,null,null,null,null,null,null,null,null,null,null,null,null,null,null,null,null,null,null,null,null,null,null,null,null,null,null,null,null,null,null,null,null,null,null,null,null,null,null,null,null,null,null,null,null,null,null,null,null,null,null,null,null,null,null,null,null,null,null,null,null,null,null,null,null,null,null,null,null,null,null,null,null,null,null,null,null,null,null,null,null,null,null,null,null,null,null,null,null,null,null,null,null,null,null,null,null,null,null,null,null,null,null,null,null,null,null,null,null,null,null,null,null,null,null,null,null,null,null,null,null,null,null,null,null,null,null,null,null,null,null,null,null,null,null,null,null,null,null,null,null,null,null,null,589,"","","","","","","","","","","","","","","","","","","","","","","","","","","","","","","","","","","","","","","","","","","","","","","","","","","","","","","","","","","","","","","","","","","","","","","","","","","","","","","","","","","","","","","","","","","","","","","","","","","","","","","","","","","","","","","","","","","","","","","","","","","","","","","","","","","","","","","","","","","","","","","","","","","","","","","","","","","","","","","","","","","","","","","","","","","","","","","","","",1,0,-1,0,0]
[null,null,null,null,null,null,604,{"$f":"IF(NE624=1, START!$B$17, \"\")","v":""},{"$f":"IF(NE624=1, START!$B$20, \"\")","v":""},null,null,null,null,null,null,null,null,null,null,null,null,null,null,null,null,null,null,null,null,null,null,null,null,null,null,null,null,null,null,null,null,null,null,null,null,null,null,null,null,null,null,null,null,null,null,null,null,null,null,null,null,null,null,null,null,null,null,null,null,null,null,null,null,null,null,null,null,null,null,null,null,null,null,null,null,null,null,null,null,null,null,null,null,null,null,null,null,null,null,null,null,null,null,null,null,null,null,null,null,null,null,null,null,null,null,null,null,null,null,null,null,null,null,null,null,null,null,null,null,null,null,null,null,null,null,null,null,null,null,null,null,null,null,null,null,null,null,null,null,null,null,null,null,null,null,null,null,null,null,null,null,null,null,null,null,null,null,null,null,null,null,null,null,null,null,null,null,null,null,null,null,null,null,null,null,null,null,604,"","","","","","","","","","","","","","","","","","","","","","","","","","","","","","","","","","","","","","","","","","","","","","","","","","","","","","","","","","","","","","","","","","","","","","","","","","","","","","","","","","","","","","","","","","","","","","","","","","","","","","","","","","","","","","","","","","","","","","","","","","","","","","","","","","","","","","","","","","","","","","","","","","","","","","","","","","","","","","","","","","","","","","","","","","","","","","","","","",1,0,-1,0,0]
[null,null,null,null,null,null,605,{"$f":"IF(NE625=1, START!$B$17, \"\")","v":""},{"$f":"IF(NE625=1, START!$B$20, \"\")","v":""},null,null,null,null,null,null,null,null,null,null,null,null,null,null,null,null,null,null,null,null,null,null,null,null,null,null,null,null,null,null,null,null,null,null,null,null,null,null,null,null,null,null,null,null,null,null,null,null,null,null,null,null,null,null,null,null,null,null,null,null,null,null,null,null,null,null,null,null,null,null,null,null,null,null,null,null,null,null,null,null,null,null,null,null,null,null,null,null,null,null,null,null,null,null,null,null,null,null,null,null,null,null,null,null,null,null,null,null,null,null,null,null,null,null,null,null,null,null,null,null,null,null,null,null,null,null,null,null,null,null,null,null,null,null,null,null,null,null,null,null,null,null,null,null,null,null,null,null,null,null,null,null,null,null,null,null,null,null,null,null,null,null,null,null,null,null,null,null,null,null,null,null,null,null,null,null,null,null,605,"","","","","","","","","","","","","","","","","","","","","","","","","","","","","","","","","","","","","","","","","","","","","","","","","","","","","","","","","","","","","","","","","","","","","","","","","","","","","","","","","","","","","","","","","","","","","","","","","","","","","","","","","","","","","","","","","","","","","","","","","","","","","","","","","","","","","","","","","","","","","","","","","","","","","","","","","","","","","","","","","","","","","","","","","",{"$f":"IF(FW625=\"\",\"\",IF(OR(FW625=1,FW625=2,FW625=3,FW625=4,FW625=5,FW625=99),1,0))","v":""},"","","","","","","",1,0,-1,0,0]
[null,null,null,null,null,null,635,{"$f":"IF(NE655=1, START!$B$17, \"\")","v":""},{"$f":"IF(NE655=1, START!$B$20, \"\")","v":""},null,null,null,null,null,null,null,null,null,null,null,null,null,null,null,null,null,null,null,null,null,null,null,null,null,null,null,null,null,null,null,null,null,null,null,null,null,null,null,null,null,null,null,null,null,null,null,null,null,null,null,null,null,null,null,null,null,null,null,null,null,null,null,null,null,null,null,null,null,null,null,null,null,null,null,null,null,null,null,null,null,null,null,null,null,null,null,null,null,null,null,null,null,null,null,null,null,null,null,null,null,null,null,null,null,null,null,null,null,null,null,null,null,null,null,null,null,null,null,null,null,null,null,null,null,null,null,null,null,null,null,null,null,null,null,null,null,null,null,null,null,null,null,null,null,null,null,null,null,null,null,null,null,null,null,null,null,null,null,null,null,null,null,null,null,null,null,null,null,null,null,null,null,null,null,null,null,null,635,{"$f":"IF(J655=\"\",\"\",IF(OR(J655=1,J655=2,J655=3,J655=4,J655=5,J655=99),1,0))","v":""},"","","","","","","","","","","","","","","","","","","","","","","","","","","","","","","",{"$f":"IF(AP655=\"\",\"\",IF(OR(AP655=1,AP655=2,AP655=3,AP655=4,AP655=5,AP655=99),1,0))","v":""},"","","","","","","","","","","","","","","","","","","","","","","","","","","","","","","","","","","","","","","","","","","","","","","","","","","","","","","","","","","","","","","","","","","","","","","","","","","","","","","","","","","","","","","","","","","","","","","","","","","","","","","","","","","","","","","","","","","","","","","","","","","","","","","","","","","","","","","","","","","","","","","","",1,0,-1,0,0]
[null,null,null,null,null,null,636,{"$f":"IF(NE656=1, START!$B$17, \"\")","v":""},{"$f":"IF(NE656=1, START!$B$20, \"\")","v":""},null,null,null,null,null,null,null,null,null,null,null,null,null,null,null,null,null,null,null,null,null,null,null,null,null,null,null,null,null,null,null,null,null,null,null,null,null,null,null,null,null,null,null,null,null,null,null,null,null,null,null,null,null,null,null,null,null,null,null,null,null,null,null,null,null,null,null,null,null,null,null,null,null,null,null,null,null,null,null,null,null,null,null,null,null,null,null,null,null,null,null,null,null,null,null,null,null,null,null,null,null,null,null,null,null,null,null,null,null,null,null,null,null,null,null,null,null,null,null,null,null,null,null,null,null,null,null,null,null,null,null,null,null,null,null,null,null,null,null,null,null,null,null,null,null,null,null,null,null,null,null,null,null,null,null,null,null,null,null,null,null,null,null,null,null,null,null,null,null,null,null,null,null,null,null,null,null,null,636,"","","","","","","","","","","","","","","","","","","","","","","","","","","","","","","","","","","","","","","","","","","","","","","","","","","","","","","","","","","","","","","","","","","","","","","","","","","","","","","","","","","","","","","","","","","","","","","","","","","","","","","",{"$f":"IF(DI656=\"\",\"\",IF(OR(DI656=1,DI656=2,DI656=3,DI656=4,DI656=5,DI656=99),1,0))","v":""},"","","","","","","","","","","","","","","","","","","","","","","","","","","","","","","","","","","","","","","","","","","","","","","","","","","","","","","","","","","","","","","","","","","","","","","","","",1,0,-1,0,0]
[null,null,null,null,null,null,652,{"$f":"IF(NE672=1, START!$B$17, \"\")","v":""},{"$f":"IF(NE672=1, START!$B$20, \"\")","v":""},null,null,null,null,null,null,null,null,null,null,null,null,null,null,null,null,null,null,null,null,null,null,null,null,null,null,null,null,null,null,null,null,null,null,null,null,null,null,null,null,null,null,null,null,null,null,null,null,null,null,null,null,null,null,null,null,null,null,null,null,null,null,null,null,null,null,null,null,null,null,null,null,null,null,null,null,null,null,null,null,null,null,null,null,null,null,null,null,null,null,null,null,null,null,null,null,null,null,null,null,null,null,null,null,null,null,null,null,null,null,null,null,null,null,null,null,null,null,null,null,null,null,null,null,null,null,null,null,null,null,null,null,null,null,null,null,null,null,null,null,null,null,null,null,null,null,null,null,null,null,null,null,null,null,null,null,null,null,null,null,null,null,null,null,null,null,null,null,null,null,null,null,null,null,null,null,null,null,652,"","","","","","","","","","","","","","","","","","","","","","","","","","","","","","","","","","","","","","","","","","","","","","","","","","","","","","","","","","","","","","","","","","","","","","","","","","","","","","","","","","","","","","","","","","","","","","","","","","","","","","","","","","","","","","","","","","","","","","","","","","","","","","","","","",{"$f":"IF(EI672=\"\",\"\",IF(OR(EI672=1,EI672=2,EI672=3,EI672=4,EI672=5,EI672=99),1,0))","v":""},"","","","","","","","","","","","","","","","","","","","","","","","","","","","","","","","","","","","","","","","","","","","","","","",1,0,-1,0,0]
[null,null,null,null,null,null,667,{"$f":"IF(NE687=1, START!$B$17, \"\")","v":""},{"$f":"IF(NE687=1, START!$B$20, \"\")","v":""},null,null,null,null,null,null,null,null,null,null,null,null,null,null,null,null,null,null,null,null,null,null,null,null,null,null,null,null,null,null,null,null,null,null,null,null,null,null,null,null,null,null,null,null,null,null,null,null,null,null,null,null,null,null,null,null,null,null,null,null,null,null,null,null,null,null,null,null,null,null,null,null,null,null,null,null,null,null,null,null,null,null,null,null,null,null,null,null,null,null,null,null,null,null,null,null,null,null,null,null,null,null,null,null,null,null,null,null,null,null,null,null,null,null,null,null,null,null,null,null,null,null,null,null,null,null,null,null,null,null,null,null,null,null,null,null,null,null,null,null,null,null,null,null,null,null,null,null,null,null,null,null,null,null,null,null,null,null,null,null,null,null,null,null,null,null,null,null,null,null,null,null,null,null,null,null,null,null,667,"","","","","","","","","","","","","","","","","","","","","","","","","","","","","","","","","","","","","","","","","","","","","","","","","","","","","","","","","","","","","","","","","","","","","","","","","","","","","","","","","","","","","","","","","","","","","","","","","","","","","","","","","","","","","","","","","","","","","","","","","","","","","","","","","","","","","","","","","","","","","","","","","","","","","","","","","","","","","","","","","","","","","","","","","","","","","","","","","",1,0,-1,0,0]
[null,null,null,null,null,null,684,{"$f":"IF(NE704=1, START!$B$17, \"\")","v":""},{"$f":"IF(NE704=1, START!$B$20, \"\")","v":""},null,null,null,null,null,null,null,null,null,null,null,null,null,null,null,null,null,null,null,null,null,null,null,null,null,null,null,null,null,null,null,null,null,null,null,null,null,null,null,null,null,null,null,null,null,null,null,null,null,null,null,null,null,null,null,null,null,null,null,null,null,null,null,null,null,null,null,null,null,null,null,null,null,null,null,null,null,null,null,null,null,null,null,null,null,null,null,null,null,null,null,null,null,null,null,null,null,null,null,null,null,null,null,null,null,null,null,null,null,null,null,null,null,null,null,null,null,null,null,null,null,null,null,null,null,null,null,null,null,null,null,null,null,null,null,null,null,null,null,null,null,null,null,null,null,null,null,null,null,null,null,null,null,null,null,null,null,null,null,null,null,null,null,null,null,null,null,null,null,null,null,null,null,null,null,null,null,null,684,"","","","","","","","","","","","","","","","","","","","","","","","","","","","","","","","","","","","","","","","","","","","","","","","","","","","","","","","","","","","","","","",{"$f":"IF(BU704=\"\",\"\",IF(OR(BU704=1,BU704=2,BU704=3,BU704=4,BU704=5,BU704=99),1,0))","v":""},"","","","","","","","","","","","","","","","","","","","","","","","","","","","","","","","","","","","","","","","","","","","","","","","","","","","","","","","","","","","","","","","","","","","","","","","","","","","","","","","","","","","","","","","","","","","","","","","","","","","","","","","","","","","","","","","","",1,0,-1,0,0]
[null,null,null,null,null,null,699,{"$f":"IF(NE719=1, START!$B$17, \"\")","v":""},{"$f":"IF(NE719=1, START!$B$20, \"\")","v":""},null,null,null,null,null,null,null,null,null,null,null,null,null,null,null,null,null,null,null,null,null,null,null,null,null,null,null,null,null,null,null,null,null,null,null,null,null,null,null,null,null,null,null,null,null,null,null,null,null,null,null,null,null,null,null,null,null,null,null,null,null,null,null,null,null,null,null,null,null,null,null,null,null,null,null,null,null,null,null,null,null,null,null,null,null,null,null,null,null,null,null,null,null,null,null,null,null,null,null,null,null,null,null,null,null,null,null,null,null,null,null,null,null,null,null,null,null,null,null,null,null,null,null,null,null,null,null,null,null,null,null,null,null,null,null,null,null,null,null,null,null,null,null,null,null,null,null,null,null,null,null,null,null,null,null,null,null,null,null,null,null,null,null,null,null,null,null,null,null,null,null,null,null,null,null,null,null,null,699,{"$f":"IF(J719=\"\",\"\",IF(OR(J719=1,J719=2,J719=3,J719=4,J719=5,J719=99),1,0))","v":""},"","","","","","","","","","","","","","","","","","","","","","","","","","","","","","","","","","","","","","","","","","","","","","","","","","","","","","","","","","","","","","","","","","","","","","","","","","","","","","","","","","","","","","","","","","","","","","","","",{"$f":"IF(DC719=\"\",\"\",IF(OR(DC719=1,DC719=2,DC719=3,DC719=4,DC719=5,DC719=99),1,0))","v":""},"","","","","","","","","","","","","","","","","","","","","","","","","","","","","","","","","","","","","","","","","","","","","","","","","","","","",{"$f":"IF(FD719=\"\",\"\",IF(OR(FD719=1,FD719=2,FD719=3,FD719=4,FD719=5,FD719=99),1,0))","v":""},"","","","","","","","","","","","","","","","","","","","","","","","","","",1,0,-1,0,0]
[null,null,null,null,null,null,714,{"$f":"IF(NE734=1, START!$B$17, \"\")","v":""},{"$f":"IF(NE734=1, START!$B$20, \"\")","v":""},null,null,null,null,null,null,null,null,null,null,null,null,null,null,null,null,null,null,null,null,null,null,null,null,null,null,null,null,null,null,null,null,null,null,null,null,null,null,null,null,null,null,null,null,null,null,null,null,null,null,null,null,null,null,null,null,null,null,null,null,null,null,null,null,null,null,null,null,null,null,null,null,null,null,null,null,null,null,null,null,null,null,null,null,null,null,null,null,null,null,null,null,null,null,null,null,null,null,null,null,null,null,null,null,null,null,null,null,null,null,null,null,null,null,null,null,null,null,null,null,null,null,null,null,null,null,null,null,null,null,null,null,null,null,null,null,null,null,null,null,null,null,null,null,null,null,null,null,null,null,null,null,null,null,null,null,null,null,null,null,null,null,null,null,null,null,null,null,null,null,null,null,null,null,null,null,null,null,714,"","","","","","","","","","","","","","","","","","","","","","","","","","","","","","","","","","","","","","","","","","","","","","","","","","","","","","","","","","","","","","","","","","","","","","","","","","","","","","","","","","","","","","","","","","","","","","","","","","","","","","","","","","","","","","","","","","","","","","","","","","","","","","","","","","","","","","","","","","","","","","","","","","","","","","","","","","","","","","","","","","","","","","","","","","","","","","","","","",1,0,-1,0,0]
[null,null,null,null,null,null,730,{"$f":"IF(NE750=1, START!$B$17, \"\")","v":""},{"$f":"IF(NE750=1, START!$B$20, \"\")","v":""},null,null,null,null,null,null,null,null,null,null,null,null,null,null,null,null,null,null,null,null,null,null,null,null,null,null,null,null,null,null,null,null,null,null,null,null,null,null,null,null,null,null,null,null,null,null,null,null,null,null,null,null,null,null,null,null,null,null,null,null,null,null,null,null,null,null,null,null,null,null,null,null,null,null,null,null,null,null,null,null,null,null,null,null,null,null,null,null,null,null,null,null,null,null,null,null,null,null,null,null,null,null,null,null,null,null,null,null,null,null,null,null,null,null,null,null,null,null,null,null,null,null,null,null,null,null,null,null,null,null,null,null,null,null,null,null,null,null,null,null,null,null,null,null,null,null,null,null,null,null,null,null,null,null,null,null,null,null,null,null,null,null,null,null,null,null,null,null,null,null,null,null,null,null,null,null,null,null,730,"","","","","","","","","","","","","","","","","","","","","","","","","","","","","","","","","","","","","","","","","","","","","","","","","","","","","","","","","","","","","","","","","","","","","","","","","","","","","","","","","","","","","","","","","","","","","","","","","","","","","","","","","","","","","","","","","","","","","","","","","","","","","","","","","","","","","","","","","","","","","","","","","","","","","","","","",{"$f":"IF(FF750=\"\",\"\",IF(OR(FF750=1,FF750=2,FF750=3,FF750=4,FF750=5,FF750=99),1,0))","v":""},"","","","","","","","","","","","","","","","","","","","","","","","",1,0,-1,0,0]
[null,null,null,null,null,null,745,{"$f":"IF(NE765=1, START!$B$17, \"\")","v":""},{"$f":"IF(NE765=1, START!$B$20, \"\")","v":""},null,null,null,null,null,null,null,null,null,null,null,null,null,null,null,null,null,null,null,null,null,null,null,null,null,null,null,null,null,null,null,null,null,null,null,null,null,null,null,null,null,null,null,null,null,null,null,null,null,null,null,null,null,null,null,null,null,null,null,null,null,null,null,null,null,null,null,null,null,null,null,null,null,null,null,null,null,null,null,null,null,null,null,null,null,null,null,null,null,null,null,null,null,null,null,null,null,null,null,null,null,null,null,null,null,null,null,null,null,null,null,null,null,null,null,null,null,null,null,null,null,null,null,null,null,null,null,null,null,null,null,null,null,null,null,null,null,null,null,null,null,null,null,null,null,null,null,null,null,null,null,null,null,null,null,null,null,null,null,null,null,null,null,null,null,null,null,null,null,null,null,null,null,null,null,null,null,null,745,"","","","","","","","","","","","","","","","","","","","","","","","",{"$f":"IF(AH765=\"\",\"\",IF(OR(AH765=1,AH765=2,AH765=3,AH765=4,AH765=5,AH765=99),1,0))","v":""},"","","","","","","","","","","","","","","","","","","","","","","","","","","","","","","","","","","","","","","","","","","","","","","","","","","","","","","","","","","","","","","","","","","","","","","","","","","","","","","","","","","","","","","","","","","","","","","","","","","","","","","","","","","","","","","","","","","","","","","","","","","","","","","","","","","","","","","","","","","","","","","","","","","","","","","","",1,0,-1,0,0]
[null,null,null,null,null,null,765,{"$f":"IF(NE785=1, START!$B$17, \"\")","v":""},{"$f":"IF(NE785=1, START!$B$20, \"\")","v":""},null,null,null,null,null,null,null,null,null,null,null,null,null,null,null,null,null,null,null,null,null,null,null,null,null,null,null,null,null,null,null,null,null,null,null,null,null,null,null,null,null,null,null,null,null,null,null,null,null,null,null,null,null,null,null,null,null,null,null,null,null,null,null,null,null,null,null,null,null,null,null,null,null,null,null,null,null,null,null,null,null,null,null,null,null,null,null,null,null,null,null,null,null,null,null,null,null,null,null,null,null,null,null,null,null,null,null,null,null,null,null,null,null,null,null,null,null,null,null,null,null,null,null,null,null,null,null,null,null,null,null,null,null,null,null,null,null,null,null,null,null,null,null,null,null,null,null,null,null,null,null,null,null,null,null,null,null,null,null,null,null,null,null,null,null,null,null,null,null,null,null,null,null,null,null,null,null,null,765,"","","","","","","","","","","","","","","","",{"$f":"IF(Z785=\"\",\"\",IF(OR(Z785=1,Z785=2,Z785=3,Z785=4,Z785=5,Z785=99),1,0))","v":""},"","","","","","","","","","","","","","","","","","","","","","","","","","","","","","","","","","","","","","","","","","","","","","","","","","","","","",{"$f":"IF(CB785=\"\",\"\",IF(OR(CB785=1,CB785=2,CB785=3,CB785=4,CB785=5,CB785=99),1,0))","v":""},"","","","","","","","","","","","","","","","","","","","","","","","","","","","","","","","","","","","","","","","","","","","","","","","","","","","","","","","","","","","","","","","","","","","","","","","","","","","","","","","","","","","","","","","","","","","","","","","","","","","","","","","","","",1,0,-1,0,0]
[null,null,null,null,null,null,777,{"$f":"IF(NE797=1, START!$B$17, \"\")","v":""},{"$f":"IF(NE797=1, START!$B$20, \"\")","v":""},null,null,null,null,null,null,null,null,null,null,null,null,null,null,null,null,null,null,null,null,null,null,null,null,null,null,null,null,null,null,null,null,null,null,null,null,null,null,null,null,null,null,null,null,null,null,null,null,null,null,null,null,null,null,null,null,null,null,null,null,null,null,null,null,null,null,null,null,null,null,null,null,null,null,null,null,null,null,null,null,null,null,null,null,null,null,null,null,null,null,null,null,null,null,null,null,null,null,null,null,null,null,null,null,null,null,null,null,null,null,null,null,null,null,null,null,null,null,null,null,null,null,null,null,null,null,null,null,null,null,null,null,null,null,null,null,null,null,null,null,null,null,null,null,null,null,null,null,null,null,null,null,null,null,null,null,null,null,null,null,null,null,null,null,null,null,null,null,null,null,null,null,null,null,null,null,null,null,777,"","","","","","","","","","","","","","","","","","","","","","","","","","","","","","","","","","","","","","","","","","","","","","","","","","","","","","","","","","","","","","","","","","","","","","","","","","","","","","","","","","","","","","","","","","","","","","","","","","","","","","","","","","","","","","","","","","","","","","","","","","","","","","","","","","","","","","","","","","","","","","","","","","","","","","","","","","","","","","","","","","","","","","","","","","","","","","","","","",1,0,-1,0,0]
[null,null,null,null,null,null,792,{"$f":"IF(NE812=1, START!$B$17, \"\")","v":""},{"$f":"IF(NE812=1, START!$B$20, \"\")","v":""},null,null,null,null,null,null,null,null,null,null,null,null,null,null,null,null,null,null,null,null,null,null,null,null,null,null,null,null,null,null,null,null,null,null,null,null,null,null,null,null,null,null,null,null,null,null,null,null,null,null,null,null,null,null,null,null,null,null,null,null,null,null,null,null,null,null,null,null,null,null,null,null,null,null,null,null,null,null,null,null,null,null,null,null,null,null,null,null,null,null,null,null,null,null,null,null,null,null,null,null,null,null,null,null,null,null,null,null,null,null,null,null,null,null,null,null,null,null,null,null,null,null,null,null,null,null,null,null,null,null,null,null,null,null,null,null,null,null,null,null,null,null,null,null,null,null,null,null,null,null,null,null,null,null,null,null,null,null,null,null,null,null,null,null,null,null,null,null,null,null,null,null,null,null,null,null,null,null,792,"","","","","","","","","","","","","","","","","","","","","","","","","","","","","","","","","","","","","","","","","","","","","","","","","","","","","","","","","","","","","","","","","","","","","","","","","","","","","","","","","","","","","","","","","","","","","","","","","","","","","","","","","","","","","","","","","","","","","","","","","","","","","","","","","","","","","","","","","","","","","","","","","","","","","","","","","","","","","","","","","","","","","","","","","","","","","","","","","",1,0,-1,0,0]
[null,null,null,null,null,null,808,{"$f":"IF(NE828=1, START!$B$17, \"\")","v":""},{"$f":"IF(NE828=1, START!$B$20, \"\")","v":""},null,null,null,null,null,null,null,null,null,null,null,null,null,null,null,null,null,null,null,null,null,null,null,null,null,null,null,null,null,null,null,null,null,null,null,null,null,null,null,null,null,null,null,null,null,null,null,null,null,null,null,null,null,null,null,null,null,null,null,null,null,null,null,null,null,null,null,null,null,null,null,null,null,null,null,null,null,null,null,null,null,null,null,null,null,null,null,null,null,null,null,null,null,null,null,null,null,null,null,null,null,null,null,null,null,null,null,null,null,null,null,null,null,null,null,null,null,null,null,null,null,null,null,null,null,null,null,null,null,null,null,null,null,null,null,null,null,null,null,null,null,null,null,null,null,null,null,null,null,null,null,null,null,null,null,null,null,null,null,null,null,null,null,null,null,null,null,null,null,null,null,null,null,null,null,null,null,null,808,"","","","","","","","","","","","","","","","","","","","","","","","","","","","","","","","","","","","","","","","","","","","","","","","","","","","","","","","","","","","","","","","","","","","","","","","","","","","","","","","","","","","","","","","","","","","","","","","","","","","","","","","","","","","","","","","","","","","","","","","","","","","","","","","","","","","","","","","","","","","","","","","","","","","","","","","","","","","","","","","","","","","","","","","","","","","","","","","","",1,0,-1,0,0]
[null,null,null,null,null,null,823,{"$f":"IF(NE843=1, START!$B$17, \"\")","v":""},{"$f":"IF(NE843=1, START!$B$20, \"\")","v":""},null,null,null,null,null,null,null,null,null,null,null,null,null,null,null,null,null,null,null,null,null,null,null,null,null,null,null,null,null,null,null,null,null,null,null,null,null,null,null,null,null,null,null,null,null,null,null,null,null,null,null,null,null,null,null,null,null,null,null,null,null,null,null,null,null,null,null,null,null,null,null,null,null,null,null,null,null,null,null,null,null,null,null,null,null,null,null,null,null,null,null,null,null,null,null,null,null,null,null,null,null,null,null,null,null,null,null,null,null,null,null,null,null,null,null,null,null,null,null,null,null,null,null,null,null,null,null,null,null,null,null,null,null,null,null,null,null,null,null,null,null,null,null,null,null,null,null,null,null,null,null,null,null,null,null,null,null,null,null,null,null,null,null,null,null,null,null,null,null,null,null,null,null,null,null,null,null,null,823,"","","","","","","","","","","","","","","","","","","","","","","","","","","","","","","","","","","","","","","","","","","","","","","","","","","","","","","","","","","","","","","","","","","","","","","","","","","","","","","","","","","","","","","","","","","","","","","","","","","","","","","","","","","","","","","","","","","","","","","","","","","","","","","","","","","","","","","","","","","","","","","","","","","","","","","","","","","","","","","","","","","","","","","","","","","","","","","","","",1,0,-1,0,0]
[null,null,null,null,null,null,846,{"$f":"IF(NE866=1, START!$B$17, \"\")","v":""},{"$f":"IF(NE866=1, START!$B$20, \"\")","v":""},null,null,null,null,null,null,null,null,null,null,null,null,null,null,null,null,null,null,null,null,null,null,null,null,null,null,null,null,null,null,null,null,null,null,null,null,null,null,null,null,null,null,null,null,null,null,null,null,null,null,null,null,null,null,null,null,null,null,null,null,null,null,null,null,null,null,null,null,null,null,null,null,null,null,null,null,null,null,null,null,null,null,null,null,null,null,null,null,null,null,null,null,null,null,null,null,null,null,null,null,null,null,null,null,null,null,null,null,null,null,null,null,null,null,null,null,null,null,null,null,null,null,null,null,null,null,null,null,null,null,null,null,null,null,null,null,null,null,null,null,null,null,null,null,null,null,null,null,null,null,null,null,null,null,null,null,null,null,null,null,null,null,null,null,null,null,null,null,null,null,null,null,null,null,null,null,null,null,846,"","","","","","","","","","","","","","","","","","","","","","","","","","","","","","","","","","","","","","","","","","","","","","","","","","","","","","","","","","","","","","","","","","","","","","","","","","","","","","","","","","","","","","","","","","","","","","","","","","","","","","","","","","","","","","","","","","","","","","","","","","","","","","","","","","","","","","","","","","","","","","","","","","","","","","","","","","","","","","","","","","","","","","","","","","","","","","","","","",1,0,-1,0,0]
[null,null,null,null,null,null,855,{"$f":"IF(NE875=1, START!$B$17, \"\")","v":""},{"$f":"IF(NE875=1, START!$B$20, \"\")","v":""},null,null,null,null,null,null,null,null,null,null,null,null,null,null,null,null,null,null,null,null,null,null,null,null,null,null,null,null,null,null,null,null,null,null,null,null,null,null,null,null,null,null,null,null,null,null,null,null,null,null,null,null,null,null,null,null,null,null,null,null,null,null,null,null,null,null,null,null,null,null,null,null,null,null,null,null,null,null,null,null,null,null,null,null,null,null,null,null,null,null,null,null,null,null,null,null,null,null,null,null,null,null,null,null,null,null,null,null,null,null,null,null,null,null,null,null,null,null,null,null,null,null,null,null,null,null,null,null,null,null,null,null,null,null,null,null,null,null,null,null,null,null,null,null,null,null,null,null,null,null,null,null,null,null,null,null,null,null,null,null,null,null,null,null,null,null,null,null,null,null,null,null,null,null,null,null,null,null,855,"","","","","","","","","","","","","","","","","","","","","","","","","","","","","","","","","","","","","","","","","","","","","","","","","","","","","","","","","","","","","","","","","","","","","","","","","","","","","","","","","","","","","","","","","","","","","","","","","","","","","","","","","","","","","","","","","","","","","","","","","","","","","","","","","","","","","","","","","","","","","","","","","","","","","","","","","","","","","","","","","","","","","","","","","","","","","","","","","",1,0,-1,0,0]
[null,null,null,null,null,null,870,{"$f":"IF(NE890=1, START!$B$17, \"\")","v":""},{"$f":"IF(NE890=1, START!$B$20, \"\")","v":""},null,null,null,null,null,null,null,null,null,null,null,null,null,null,null,null,null,null,null,null,null,null,null,null,null,null,null,null,null,null,null,null,null,null,null,null,null,null,null,null,null,null,null,null,null,null,null,null,null,null,null,null,null,null,null,null,null,null,null,null,null,null,null,null,null,null,null,null,null,null,null,null,null,null,null,null,null,null,null,null,null,null,null,null,null,null,null,null,null,null,null,null,null,null,null,null,null,null,null,null,null,null,null,null,null,null,null,null,null,null,null,null,null,null,null,null,null,null,null,null,null,null,null,null,null,null,null,null,null,null,null,null,null,null,null,null,null,null,null,null,null,null,null,null,null,null,null,null,null,null,null,null,null,null,null,null,null,null,null,null,null,null,null,null,null,null,null,null,null,null,null,null,null,null,null,null,null,null,870,"","","","","","","","","","","","","","","","","","","","","","","","","","","","","","","","","","","","","","","","","","","","","","","","","","","","","","","","","","","","","","","","","","","","","","","","","","","","","","","","","","","","","","","","","","","","","","","","","","","","","","","","","","","","","","","","","","","","","","","","","","","","","","","","","","","","","","","","","","","","","","","","","","","","","","","","","","","","","","","","","","","","","","","","","","","","","","","","","",1,0,-1,0,0]
[null,null,null,null,null,null,886,{"$f":"IF(NE906=1, START!$B$17, \"\")","v":""},{"$f":"IF(NE906=1, START!$B$20, \"\")","v":""},null,null,null,null,null,null,null,null,null,null,null,null,null,null,null,null,null,null,null,null,null,null,null,null,null,null,null,null,null,null,null,null,null,null,null,null,null,null,null,null,null,null,null,null,null,null,null,null,null,null,null,null,null,null,null,null,null,null,null,null,null,null,null,null,null,null,null,null,null,null,null,null,null,null,null,null,null,null,null,null,null,null,null,null,null,null,null,null,null,null,null,null,null,null,null,null,null,null,null,null,null,null,null,null,null,null,null,null,null,null,null,null,null,null,null,null,null,null,null,null,null,null,null,null,null,null,null,null,null,null,null,null,null,null,null,null,null,null,null,null,null,null,null,null,null,null,null,null,null,null,null,null,null,null,null,null,null,null,null,null,null,null,null,null,null,null,null,null,null,null,null,null,null,null,null,null,null,null,886,"","","","","","","",{"$f":"IF(Q906=\"\",\"\",IF(OR(Q906=1,Q906=2,Q906=3,Q906=4,Q906=5,Q906=99),1,0))","v":""},"","","","","","","","","","","","","","","","","","","","","","","","","","","","","","","",{"$f":"IF(AW906=\"\",\"\",IF(OR(AW906=1,AW906=2,AW906=3,AW906=4,AW906=5,AW906=99),1,0))","v":""},"","","","","","","","","","","","","","","","","","","","","","","","","","","","","","","","","","","","","","","","","","","","","","","","","","","","","","","","","","","","","","","","","","","","","","","","","","","","","","","","","","","","","","","","","","","","","","","","","","","","","","","","","","","","","","","","","","","","","","","","","","","","","","","","","","","","","","","","","",1,0,-1,0,0]
[null,null,null,null,null,null,901,{"$f":"IF(NE921=1, START!$B$17, \"\")","v":""},{"$f":"IF(NE921=1, START!$B$20, \"\")","v":""},null,null,null,null,null,null,null,null,null,null,null,null,null,null,null,null,null,null,null,null,null,null,null,null,null,null,null,null,null,null,null,null,null,null,null,null,null,null,null,null,null,null,null,null,null,null,null,null,null,null,null,null,null,null,null,null,null,null,null,null,null,null,null,null,null,null,null,null,null,null,null,null,null,null,null,null,null,null,null,null,null,null,null,null,null,null,null,null,null,null,null,null,null,null,null,null,null,null,null,null,null,null,null,null,null,null,null,null,null,null,null,null,null,null,null,null,null,null,null,null,null,null,null,null,null,null,null,null,null,null,null,null,null,null,null,null,null,null,null,null,null,null,null,null,null,null,null,null,null,null,null,null,null,null,null,null,null,null,null,null,null,null,null,null,null,null,null,null,null,null,null,null,null,null,null,null,null,null,901,"","","","","","","","","","","","","","","","","","","","","","","","","","","","","","","","","","","","","","","","","","","","","","","","","","","","","","","","","","","","","","","","","","","","","","","","","","","","","","","","","","","","","",{"$f":"IF(CQ921=\"\",\"\",IF(OR(CQ921=1,CQ921=2,CQ921=3,CQ921=4,CQ921=5,CQ921=99),1,0))","v":""},"","","","","","","","","","","","","","","","","","","","","","","","","","","","","","","","","","","","","","","","","","","","","","","","","","","","","","","","","","","","","","","","","","","","","","","","","","","","","","","","","",{"$f":"IF(FU921=\"\",\"\",IF(OR(FU921=1,FU921=2,FU921=3,FU921=4,FU921=5,FU921=99),1,0))","v":""},"","","","","","","","","",1,0,-1,0,0]
[null,null,null,null,null,null,911,{"$f":"IF(NE931=1, START!$B$17, \"\")","v":""},{"$f":"IF(NE931=1, START!$B$20, \"\")","v":""},null,null,null,null,null,null,null,null,null,null,null,null,null,null,null,null,null,null,null,null,null,null,null,null,null,null,null,null,null,null,null,null,null,null,null,null,null,null,null,null,null,null,null,null,null,null,null,null,null,null,null,null,null,null,null,null,null,null,null,null,null,null,null,null,null,null,null,null,null,null,null,null,null,null,null,null,null,null,null,null,null,null,null,null,null,null,null,null,null,null,null,null,null,null,null,null,null,null,null,null,null,null,null,null,null,null,null,null,null,null,null,null,null,null,null,null,null,null,null,null,null,null,null,null,null,null,null,null,null,null,null,null,null,null,null,null,null,null,null,null,null,null,null,null,null,null,null,null,null,null,null,null,null,null,null,null,null,null,null,null,null,null,null,null,null,null,null,null,null,null,null,null,null,null,null,null,null,null,911,"","","","","","","","","","","","","","","","",{"$f":"IF(Z931=\"\",\"\",IF(OR(Z931=1,Z931=2,Z931=3,Z931=4,Z931=5,Z931=99),1,0))","v":""},"","","","","","","","","","","","","","","","","","","","","","","","","","","","","","","","","","","","","","","","","","","","","","","","","","","","","","","","","","","","","","","","","","","","","","","","","","","","","","","","","","","","","","","","","","","","","","","","","","","","","","","","","","","","","","","","","","","","","","","","","","","","","","","","","","","","","","","","","","","","","","","","","","","","","","","","","","","","","","","","",1,0,-1,0,0]
[null,null,null,null,null,null,933,{"$f":"IF(NE953=1, START!$B$17, \"\")","v":""},{"$f":"IF(NE953=1, START!$B$20, \"\")","v":""},null,null,null,null,null,null,null,null,null,null,null,null,null,null,null,null,null,null,null,null,null,null,null,null,null,null,null,null,null,null,null,null,null,null,null,null,null,null,null,null,null,null,null,null,null,null,null,null,null,null,null,null,null,null,null,null,null,null,null,null,null,null,null,null,null,null,null,null,null,null,null,null,null,null,null,null,null,null,null,null,null,null,null,null,null,null,null,null,null,null,null,null,null,null,null,null,null,null,null,null,null,null,null,null,null,null,null,null,null,null,null,null,null,null,null,null,null,null,null,null,null,null,null,null,null,null,null,null,null,null,null,null,null,null,null,null,null,null,null,null,null,null,null,null,null,null,null,null,null,null,null,null,null,null,null,null,null,null,null,null,null,null,null,null,null,null,null,null,null,null,null,null,null,null,null,null,null,null,933,"","","","","","","","","","","","","","","","","","","","","","","","","","","","","","","","","","","","","","","","","","","","","","","","","","","","","","","","","","","","","","","","","","","","","","","","","","","","","","","","","","","","","","","","","","","","","","","","","","","","","","","","","","","","","","","","","","","","","","","","","","","","","","","","","","","","","","","","","","","","","","","","","","","","","","","","","","","","","","","","","","","","","","","","","","","","","","","","","",1,0,-1,0,0]
[null,null,null,null,null,null,948,{"$f":"IF(NE968=1, START!$B$17, \"\")","v":""},{"$f":"IF(NE968=1, START!$B$20, \"\")","v":""},null,null,null,null,null,null,null,null,null,null,null,null,null,null,null,null,null,null,null,null,null,null,null,null,null,null,null,null,null,null,null,null,null,null,null,null,null,null,null,null,null,null,null,null,null,null,null,null,null,null,null,null,null,null,null,null,null,null,null,null,null,null,null,null,null,null,null,null,null,null,null,null,null,null,null,null,null,null,null,null,null,null,null,null,null,null,null,null,null,null,null,null,null,null,null,null,null,null,null,null,null,null,null,null,null,null,null,null,null,null,null,null,null,null,null,null,null,null,null,null,null,null,null,null,null,null,null,null,null,null,null,null,null,null,null,null,null,null,null,null,null,null,null,null,null,null,null,null,null,null,null,null,null,null,null,null,null,null,null,null,null,null,null,null,null,null,null,null,null,null,null,null,null,null,null,null,null,null,948,"","","","","","","","","","","","","","","","","","","","","","","","","","","","","","","","","","","","","","","","","","","","","","","","","","","","","","","","","","","","","","","","","","","","","","","","","","","","","","","","","","","","","","","","","","","","","","","","","","","","","","","","","","","","","","","","","","","","","","","","","","","","","","","","","","","","","","","","","","","","","","","","","","","","","","","","","","","","","","","","","","","","","","","","","","","","","","","","","",1,0,-1,0,0]
[null,null,null,null,null,null,963,{"$f":"IF(NE983=1, START!$B$17, \"\")","v":""},{"$f":"IF(NE983=1, START!$B$20, \"\")","v":""},null,null,null,null,null,null,null,null,null,null,null,null,null,null,null,null,null,null,null,null,null,null,null,null,null,null,null,null,null,null,null,null,null,null,null,null,null,null,null,null,null,null,null,null,null,null,null,null,null,null,null,null,null,null,null,null,null,null,null,null,null,null,null,null,null,null,null,null,null,null,null,null,null,null,null,null,null,null,null,null,null,null,null,null,null,null,null,null,null,null,null,null,null,null,null,null,null,null,null,null,null,null,null,null,null,null,null,null,null,null,null,null,null,null,null,null,null,null,null,null,null,null,null,null,null,null,null,null,null,null,null,null,null,null,null,null,null,null,null,null,null,null,null,null,null,null,null,null,null,null,null,null,null,null,null,null,null,null,null,null,null,null,null,null,null,null,null,null,null,null,null,null,null,null,null,null,null,null,963,"","","","","","","","","","","","","","","","","","","","","","","","","","","","","","","","","","","","","","","","","","","","","","","","","","","","","","","","","","","","","","","","","","","","","","","","","","","","","","","","","","","","","","","","","","","","","","","","","","","","","","","","","","","","","","","","","","","","","","","","","","","","","","","","","","","","","","","","","","","","","","","","","","","","","","","","","","","","","","","","","","","","","","","","","","","","","","","","","",1,0,-1,0,0]
[null,null,null,null,null,null,976,{"$f":"IF(NE996=1, START!$B$17, \"\")","v":""},{"$f":"IF(NE996=1, START!$B$20, \"\")","v":""},null,null,null,null,null,null,null,null,null,null,null,null,null,null,null,null,null,null,null,null,null,null,null,null,null,null,null,null,null,null,null,null,null,null,null,null,null,null,null,null,null,null,null,null,null,null,null,null,null,null,null,null,null,null,null,null,null,null,null,null,null,null,null,null,null,null,null,null,null,null,null,null,null,null,null,null,null,null,null,null,null,null,null,null,null,null,null,null,null,null,null,null,null,null,null,null,null,null,null,null,null,null,null,null,null,null,null,null,null,null,null,null,null,null,null,null,null,null,null,null,null,null,null,null,null,null,null,null,null,null,null,null,null,null,null,null,null,null,null,null,null,null,null,null,null,null,null,null,null,null,null,null,null,null,null,null,null,null,null,null,null,null,null,null,null,null,null,null,null,null,null,null,null,null,null,null,null,null,976,"","","","","","","","","","","","","","","","","","","","","","","","","","","","","","","","","","","","","","","","","","","","","","","","","","","","","","","","","","","","","","","","","","","","","","","","","","","","","","","","","","","","","","","","","","","","","","","","","","","","","","","","","","","","","","","","","","","","","","","","","","","","","","","","","","","","","","","","","","","","","","","","","","","","","","","","","","","","","","","","","","","","","","","","","","","","","","","","","",1,0,-1,0,0]
[null,null,null,null,null,null,986,{"$f":"IF(NE1006=1, START!$B$17, \"\")","v":""},{"$f":"IF(NE1006=1, START!$B$20, \"\")","v":""},null,null,null,null,null,null,null,null,null,null,null,null,null,null,null,null,null,null,null,null,null,null,null,null,null,null,null,null,null,null,null,null,null,null,null,null,null,null,null,null,null,null,null,null,null,null,null,null,null,null,null,null,null,null,null,null,null,null,null,null,null,null,null,null,null,null,null,null,null,null,null,null,null,null,null,null,null,null,null,null,null,null,null,null,null,null,null,null,null,null,null,null,null,null,null,null,null,null,null,null,null,null,null,null,null,null,null,null,null,null,null,null,null,null,null,null,null,null,null,null,null,null,null,null,null,null,null,null,null,null,null,null,null,null,null,null,null,null,null,null,null,null,null,null,null,null,null,null,null,null,null,null,null,null,null,null,null,null,null,null,null,null,null,null,null,null,null,null,null,null,null,null,null,null,null,null,null,null,986,"","","","","","","","","","","","","","","","","","","","","","","","","","","","","","","","",{"$f":"IF(AP1006=\"\",\"\",IF(OR(AP1006=1,AP1006=2,AP1006=3,AP1006=4,AP1006=5,AP1006=99),1,0))","v":""},"","","","","","","","","","","","","","","","","","","","","","","","","","","",{"$f":"IF(BR1006=\"\",\"\",IF(OR(BR1006=1,BR1006=2,BR1006=3,BR1006=4,BR1006=5,BR1006=99),1,0))","v":""},"","","","","","","","","","","","","","","","","","","","","","","","","","","","","","","","","","","","","","","","","","","","","","","","","","","","","","","","","","","","","","","","","","","","","","","","","","","","","","","","","","","","","","","","","","","","","","","","","","","","","","","","","","","","","","","","","","","","",1,0,-1,0,0]
[null,null,null,null,null,null,987,{"$f":"IF(NE1007=1, START!$B$17, \"\")","v":""},{"$f":"IF(NE1007=1, START!$B$20, \"\")","v":""},null,null,null,null,null,null,null,null,null,null,null,null,null,null,null,null,null,null,null,null,null,null,null,null,null,null,null,null,null,null,null,null,null,null,null,null,null,null,null,null,null,null,null,null,null,null,null,null,null,null,null,null,null,null,null,null,null,null,null,null,null,null,null,null,null,null,null,null,null,null,null,null,null,null,null,null,null,null,null,null,null,null,null,null,null,null,null,null,null,null,null,null,null,null,null,null,null,null,null,null,null,null,null,null,null,null,null,null,null,null,null,null,null,null,null,null,null,null,null,null,null,null,null,null,null,null,null,null,null,null,null,null,null,null,null,null,null,null,null,null,null,null,null,null,null,null,null,null,null,null,null,null,null,null,null,null,null,null,null,null,null,null,null,null,null,null,null,null,null,null,null,null,null,null,null,null,null,null,987,"","","","","","","","","","","","","","","","","","","","","","","","","","","","","","","","","","","","","","","","","","","","","","","","","","","","","","","","","","","","","","","","","","","","","","","","","","","","","","","","","","","","","","","","","","","","",{"$f":"IF(CX1007=\"\",\"\",IF(OR(CX1007=1,CX1007=2,CX1007=3,CX1007=4,CX1007=5,CX1007=99),1,0))","v":""},"","","","","","","","","","","","","","","","","","","","","","","","","","","","","","","","","","","","","","","","","","","","","","","","","","","","","","",{"$f":"IF(FA1007=\"\",\"\",IF(OR(FA1007=1,FA1007=2,FA1007=3,FA1007=4,FA1007=5,FA1007=99),1,0))","v":""},"","","","","","","","","","","","","","","","","","","","","","","","","","","","","",1,0,-1,0,0]
[null,null,null,null,null,null,988,{"$f":"IF(NE1008=1, START!$B$17, \"\")","v":""},{"$f":"IF(NE1008=1, START!$B$20, \"\")","v":""},null,null,null,null,null,null,null,null,null,null,null,null,null,null,null,null,null,null,null,null,null,null,null,null,null,null,null,null,null,null,null,null,null,null,null,null,null,null,null,null,null,null,null,null,null,null,null,null,null,null,null,null,null,null,null,null,null,null,null,null,null,null,null,null,null,null,null,null,null,null,null,null,null,null,null,null,null,null,null,null,null,null,null,null,null,null,null,null,null,null,null,null,null,null,null,null,null,null,null,null,null,null,null,null,null,null,null,null,null,null,null,null,null,null,null,null,null,null,null,null,null,null,null,null,null,null,null,null,null,null,null,null,null,null,null,null,null,null,null,null,null,null,null,null,null,null,null,null,null,null,null,null,null,null,null,null,null,null,null,null,null,null,null,null,null,null,null,null,null,null,null,null,null,null,null,null,null,null,988,"","","","","","","","","","","","","","","","","","","","","","","","","","","","","","","","","","","","","","","","","",{"$f":"IF(AY1008=\"\",\"\",IF(OR(AY1008=1,AY1008=2,AY1008=3,AY1008=4,AY1008=5,AY1008=99),1,0))","v":""},"","","","","","","","","","","","","","","","","","","","","","","","","","","","","","","","","","","","","","","","","","","","","","","","","","","","","","","","","","","","","","","","","","","","","","","","","","","","","","","","","","","","","","","","","","","","","","","","","","","","",{"$f":"IF(EV1008=\"\",\"\",IF(OR(EV1008=1,EV1008=2,EV1008=3,EV1008=4,EV1008=5,EV1008=99),1,0))","v":""},"","","","","","","","","","","","","","","","","","","","","","","","","","","","","","","","","","",1,0,-1,0,0]
[null,null,null,null,null,null,989,{"$f":"IF(NE1009=1, START!$B$17, \"\")","v":""},{"$f":"IF(NE1009=1, START!$B$20, \"\")","v":""},null,null,null,null,null,null,null,null,null,null,null,null,null,null,null,null,null,null,null,null,null,null,null,null,null,null,null,null,null,null,null,null,null,null,null,null,null,null,null,null,null,null,null,null,null,null,null,null,null,null,null,null,null,null,null,null,null,null,null,null,null,null,null,null,null,null,null,null,null,null,null,null,null,null,null,null,null,null,null,null,null,null,null,null,null,null,null,null,null,null,null,null,null,null,null,null,null,null,null,null,null,null,null,null,null,null,null,null,null,null,null,null,null,null,null,null,null,null,null,null,null,null,null,null,null,null,null,null,null,null,null,null,null,null,null,null,null,null,null,null,null,null,null,null,null,null,null,null,null,null,null,null,null,null,null,null,null,null,null,null,null,null,null,null,null,null,null,null,null,null,null,null,null,null,null,null,null,null,989,"","","","","","","","","","","","","","","","","","","","","","","","","","","","","","","","","","","","","","","","","","","","","","","","","","","","","","","","","","","","","","","","","","","","","","","","","","","","","","","","","","","","","","","","","","","","","","","","","","","","","","","","","","","","","","","","","","","","","","","","","","","","","","","","","","","","","","","","","","","","","","","","","","","","","","","","","","","","","","","","","","","","","","","","","","","","","","","","","",1,0,-1,0,0]
[null,null,null,null,null,null,990,{"$f":"IF(NE1010=1, START!$B$17, \"\")","v":""},{"$f":"IF(NE1010=1, START!$B$20, \"\")","v":""},null,null,null,null,null,null,null,null,null,null,null,null,null,null,null,null,null,null,null,null,null,null,null,null,null,null,null,null,null,null,null,null,null,null,null,null,null,null,null,null,null,null,null,null,null,null,null,null,null,null,null,null,null,null,null,null,null,null,null,null,null,null,null,null,null,null,null,null,null,null,null,null,null,null,null,null,null,null,null,null,null,null,null,null,null,null,null,null,null,null,null,null,null,null,null,null,null,null,null,null,null,null,null,null,null,null,null,null,null,null,null,null,null,null,null,null,null,null,null,null,null,null,null,null,null,null,null,null,null,null,null,null,null,null,null,null,null,null,null,null,null,null,null,null,null,null,null,null,null,null,null,null,null,null,null,null,null,null,null,null,null,null,null,null,null,null,null,null,null,null,null,null,null,null,null,null,null,null,990,"","","","","","","","","","","","","","","","","","","","","","","","","","","","","","","","","","","","","","","","","","","","","","","","","","","","","","","","","","","","","","","","","","","","","","","","","","","","","","","","","","","","","","","","","","","","","","","","","","","","","","","","","","","","","","","","","","","","","","","","","","","","","","","","","","","","","","","","","","","","","","","","","","","","","","","","","","","","","","","","","","","","","","","","","","","","","","","","","",1,0,-1,0,0]
[null,null,null,null,null,null,991,{"$f":"IF(NE1011=1, START!$B$17, \"\")","v":""},{"$f":"IF(NE1011=1, START!$B$20, \"\")","v":""},null,null,null,null,null,null,null,null,null,null,null,null,null,null,null,null,null,null,null,null,null,null,null,null,null,null,null,null,null,null,null,null,null,null,null,null,null,null,null,null,null,null,null,null,null,null,null,null,null,null,null,null,null,null,null,null,null,null,null,null,null,null,null,null,null,null,null,null,null,null,null,null,null,null,null,null,null,null,null,null,null,null,null,null,null,null,null,null,null,null,null,null,null,null,null,null,null,null,null,null,null,null,null,null,null,null,null,null,null,null,null,null,null,null,null,null,null,null,null,null,null,null,null,null,null,null,null,null,null,null,null,null,null,null,null,null,null,null,null,null,null,null,null,null,null,null,null,null,null,null,null,null,null,null,null,null,null,null,null,null,null,null,null,null,null,null,null,null,null,null,null,null,null,null,null,null,null,null,991,"","","","","","","","","","","","","","","","","","","","","","","","","","","","","",{"$f":"IF(AM1011=\"\",\"\",IF(OR(AM1011=1,AM1011=2,AM1011=3,AM1011=4,AM1011=5,AM1011=99),1,0))","v":""},"","","","","","","","","","","","","","","","","","","","","","","","","","","","","","","","","","","","","","","","","","","","","","","","","","","","","","","","","","","","",{"$f":"IF(CV1011=\"\",\"\",IF(OR(CV1011=1,CV1011=2,CV1011=3,CV1011=4,CV1011=5,CV1011=99),1,0))","v":""},"","","","","","","","","","","","","","","","","","","","","","","","","","","","","","","","","","","","","","","","","","","","","","","","","","","","","","","","","","","","","","","","","","","","","","","","","","","","","","","","","","","","","","",1,0,-1,0,0]
[null,null,null,null,null,null,992,{"$f":"IF(NE1012=1, START!$B$17, \"\")","v":""},{"$f":"IF(NE1012=1, START!$B$20, \"\")","v":""},null,null,null,null,null,null,null,null,null,null,null,null,null,null,null,null,null,null,null,null,null,null,null,null,null,null,null,null,null,null,null,null,null,null,null,null,null,null,null,null,null,null,null,null,null,null,null,null,null,null,null,null,null,null,null,null,null,null,null,null,null,null,null,null,null,null,null,null,null,null,null,null,null,null,null,null,null,null,null,null,null,null,null,null,null,null,null,null,null,null,null,null,null,null,null,null,null,null,null,null,null,null,null,null,null,null,null,null,null,null,null,null,null,null,null,null,null,null,null,null,null,null,null,null,null,null,null,null,null,null,null,null,null,null,null,null,null,null,null,null,null,null,null,null,null,null,null,null,null,null,null,null,null,null,null,null,null,null,null,null,null,null,null,null,null,null,null,null,null,null,null,null,null,null,null,null,null,null,992,"","","","","","","","","","","","","","","","","","","","","","","","","","","","","","","","","","","","","","","","","","","","","","","","","","","","","","","","","","","","","","","","","","","","","","","","","","","","","","","","","","","","","","","","","","","","","","","","","","","","","","","","","","","","","","","","","","","","","","","","","","","","","","","","","","","","","","","","","","","","","","","","","","","","","","","","","","","","","","","","","","","","","","","","","","","","","","","","","",1,0,-1,0,0]
[null,null,null,null,null,null,993,{"$f":"IF(NE1013=1, START!$B$17, \"\")","v":""},{"$f":"IF(NE1013=1, START!$B$20, \"\")","v":""},null,null,null,null,null,null,null,null,null,null,null,null,null,null,null,null,null,null,null,null,null,null,null,null,null,null,null,null,null,null,null,null,null,null,null,null,null,null,null,null,null,null,null,null,null,null,null,null,null,null,null,null,null,null,null,null,null,null,null,null,null,null,null,null,null,null,null,null,null,null,null,null,null,null,null,null,null,null,null,null,null,null,null,null,null,null,null,null,null,null,null,null,null,null,null,null,null,null,null,null,null,null,null,null,null,null,null,null,null,null,null,null,null,null,null,null,null,null,null,null,null,null,null,null,null,null,null,null,null,null,null,null,null,null,null,null,null,null,null,null,null,null,null,null,null,null,null,null,null,null,null,null,null,null,null,null,null,null,null,null,null,null,null,null,null,null,null,null,null,null,null,null,null,null,null,null,null,null,993,"","","","","","","","","","","","","","","","","","","","","","","","","","","","","","","","","","","","","","","","","","","","","","","","","","","","","","","","","","","","","","","","","","","","","","","","","","","","","","","","","","","","","","","","","","","","","","","","","","","","","","","","","","","","","","","","","","","","","","","","","","","","","","","","","","","","","","","","","","","","","","","","","","","","","","","","","","","","","","","","","","","","","","","","","","","","","","","","","",1,0,-1,0,0]
[null,null,null,null,null,null,994,{"$f":"IF(NE1014=1, START!$B$17, \"\")","v":""},{"$f":"IF(NE1014=1, START!$B$20, \"\")","v":""},null,null,null,null,null,null,null,null,null,null,null,null,null,null,null,null,null,null,null,null,null,null,null,null,null,null,null,null,null,null,null,null,null,null,null,null,null,null,null,null,null,null,null,null,null,null,null,null,null,null,null,null,null,null,null,null,null,null,null,null,null,null,null,null,null,null,null,null,null,null,null,null,null,null,null,null,null,null,null,null,null,null,null,null,null,null,null,null,null,null,null,null,null,null,null,null,null,null,null,null,null,null,null,null,null,null,null,null,null,null,null,null,null,null,null,null,null,null,null,null,null,null,null,null,null,null,null,null,null,null,null,null,null,null,null,null,null,null,null,null,null,null,null,null,null,null,null,null,null,null,null,null,null,null,null,null,null,null,null,null,null,null,null,null,null,null,null,null,null,null,null,null,null,null,null,null,null,null,994,"","","","","","","","","","","","","","","","","","","","","","","","","","","","","","","","","","","","","","","","","","","","","","","","","","","","","","","","","","","","","","","","","","","","","","","","","","","","","","","","","","","","","","","","","","","","","","","","","","","","","","","","","","","","","","","","","","","","","","","","","","","","","","","","","","","","","","","","","","","","","","","","","","","","","","","","","","","","","","","","","","","","","","","","","","","","","","","","","",1,0,-1,0,0]
[null,null,null,null,null,null,995,{"$f":"IF(NE1015=1, START!$B$17, \"\")","v":""},{"$f":"IF(NE1015=1, START!$B$20, \"\")","v":""},null,null,null,null,null,null,null,null,null,null,null,null,null,null,null,null,null,null,null,null,null,null,null,null,null,null,null,null,null,null,null,null,null,null,null,null,null,null,null,null,null,null,null,null,null,null,null,null,null,null,null,null,null,null,null,null,null,null,null,null,null,null,null,null,null,null,null,null,null,null,null,null,null,null,null,null,null,null,null,null,null,null,null,null,null,null,null,null,null,null,null,null,null,null,null,null,null,null,null,null,null,null,null,null,null,null,null,null,null,null,null,null,null,null,null,null,null,null,null,null,null,null,null,null,null,null,null,null,null,null,null,null,null,null,null,null,null,null,null,null,null,null,null,null,null,null,null,null,null,null,null,null,null,null,null,null,null,null,null,null,null,null,null,null,null,null,null,null,null,null,null,null,null,null,null,null,null,null,995,"","","","","","","","","","","","","","","","","","","","","","","","","","","","","","","","","","","","","","","","","","","","","","","","","","","","","","","","","","","","","","","","","","","","","","","","","","","","","","","","","","","","","","","","","","","","","","","","","","","","","","","","","","","","","","","","","","","","","","","","","","","","","","","","","","","","","","","","","","","","","","","","","","","","","","","","","","","","","","","","","","","","","","","","","","","","","","","","","",1,0,-1,0,0]
[null,null,null,null,null,null,996,{"$f":"IF(NE1016=1, START!$B$17, \"\")","v":""},{"$f":"IF(NE1016=1, START!$B$20, \"\")","v":""},null,null,null,null,null,null,null,null,null,null,null,null,null,null,null,null,null,null,null,null,null,null,null,null,null,null,null,null,null,null,null,null,null,null,null,null,null,null,null,null,null,null,null,null,null,null,null,null,null,null,null,null,null,null,null,null,null,null,null,null,null,null,null,null,null,null,null,null,null,null,null,null,null,null,null,null,null,null,null,null,null,null,null,null,null,null,null,null,null,null,null,null,null,null,null,null,null,null,null,null,null,null,null,null,null,null,null,null,null,null,null,null,null,null,null,null,null,null,null,null,null,null,null,null,null,null,null,null,null,null,null,null,null,null,null,null,null,null,null,null,null,null,null,null,null,null,null,null,null,null,null,null,null,null,null,null,null,null,null,null,null,null,null,null,null,null,null,null,null,null,null,null,null,null,null,null,null,null,996,"","","","","","","","","","","","","","","","","","","","","","","","","","","","","","","","","","","","","","","","","","","","","","","","","","","","","","","","","","","","","","","","","","","","","","","","","","","","","","","","","","","","","","","","","","","","","","","","","","","","","","","","","","","","","","","","","","","","","","","","","","","","","","","","","","","","","","","","","","","","","","","","","","","","","","","","","","","","","","","","","","","","","","","","","",{"$f":"IF(FW1016=\"\",\"\",IF(OR(FW1016=1,FW1016=2,FW1016=3,FW1016=4,FW1016=5,FW1016=99),1,0))","v":""},"","","","","","","",1,0,-1,0,0]
[null,null,null,null,null,null,997,{"$f":"IF(NE1017=1, START!$B$17, \"\")","v":""},{"$f":"IF(NE1017=1, START!$B$20, \"\")","v":""},null,null,null,null,null,null,null,null,null,null,null,null,null,null,null,null,null,null,null,null,null,null,null,null,null,null,null,null,null,null,null,null,null,null,null,null,null,null,null,null,null,null,null,null,null,null,null,null,null,null,null,null,null,null,null,null,null,null,null,null,null,null,null,null,null,null,null,null,null,null,null,null,null,null,null,null,null,null,null,null,null,null,null,null,null,null,null,null,null,null,null,null,null,null,null,null,null,null,null,null,null,null,null,null,null,null,null,null,null,null,null,null,null,null,null,null,null,null,null,null,null,null,null,null,null,null,null,null,null,null,null,null,null,null,null,null,null,null,null,null,null,null,null,null,null,null,null,null,null,null,null,null,null,null,null,null,null,null,null,null,null,null,null,null,null,null,null,null,null,null,null,null,null,null,null,null,null,null,997,"","","","","","","","","","","","","","","","","","","","","","","","","","","","","","","","","","","","","","","","","","","","","","","","","","","","","","","","","","","","","","","","","","","","","","","","","","","","","","","","","","","","","","","","","","","","","","","","","","","","","","","","","","","","","","","","","","","","","","","","","",{"$f":"IF(EA1017=\"\",\"\",IF(OR(EA1017=1,EA1017=2,EA1017=3,EA1017=4,EA1017=5,EA1017=99),1,0))","v":""},"","","","","","","","","","","","","","","","","","","","","","","","","","","","","","","","","","","","","","","","","","","","","","",{"$f":"IF(FV1017=\"\",\"\",IF(OR(FV1017=1,FV1017=2,FV1017=3,FV1017=4,FV1017=5,FV1017=99),1,0))","v":""},"","","","","","","","",1,0,-1,0,0]
[null,null,null,null,null,null,998,{"$f":"IF(NE1018=1, START!$B$17, \"\")","v":""},{"$f":"IF(NE1018=1, START!$B$20, \"\")","v":""},null,null,null,null,null,null,null,null,null,null,null,null,null,null,null,null,null,null,null,null,null,null,null,null,null,null,null,null,null,null,null,null,null,null,null,null,null,null,null,null,null,null,null,null,null,null,null,null,null,null,null,null,null,null,null,null,null,null,null,null,null,null,null,null,null,null,null,null,null,null,null,null,null,null,null,null,null,null,null,null,null,null,null,null,null,null,null,null,null,null,null,null,null,null,null,null,null,null,null,null,null,null,null,null,null,null,null,null,null,null,null,null,null,null,null,null,null,null,null,null,null,null,null,null,null,null,null,null,null,null,null,null,null,null,null,null,null,null,null,null,null,null,null,null,null,null,null,null,null,null,null,null,null,null,null,null,null,null,null,null,null,null,null,null,null,null,null,null,null,null,null,null,null,null,null,null,null,null,998,"","","","","","","","","","","","","","","","","","","","","","","","","","","","","","","","","","","","","","","","","","","","","","","","","","","","","","","","","","","","","","","","","","","","","","","","","","","","","","","","","","","","","","","","","","","","","","","","","","","","","","","","","","","","","","","","","","","","","","","","","","","","","","","","","","","","","","","","","","","","","","","","","","","","","","","","","","","","","",{"$f":"IF(FK1018=\"\",\"\",IF(OR(FK1018=1,FK1018=2,FK1018=3,FK1018=4,FK1018=5,FK1018=99),1,0))","v":""},"","","","","","","","","","","","","","","","","","","",1,0,-1,0,0]
[null,null,null,null,null,null,999,{"$f":"IF(NE1019=1, START!$B$17, \"\")","v":""},{"$f":"IF(NE1019=1, START!$B$20, \"\")","v":""},null,null,null,null,null,null,null,null,null,null,null,null,null,null,null,null,null,null,null,null,null,null,null,null,null,null,null,null,null,null,null,null,null,null,null,null,null,null,null,null,null,null,null,null,null,null,null,null,null,null,null,null,null,null,null,null,null,null,null,null,null,null,null,null,null,null,null,null,null,null,null,null,null,null,null,null,null,null,null,null,null,null,null,null,null,null,null,null,null,null,null,null,null,null,null,null,null,null,null,null,null,null,null,null,null,null,null,null,null,null,null,null,null,null,null,null,null,null,null,null,null,null,null,null,null,null,null,null,null,null,null,null,null,null,null,null,null,null,null,null,null,null,null,null,null,null,null,null,null,null,null,null,null,null,null,null,null,null,null,null,null,null,null,null,null,null,null,null,null,null,null,null,null,null,null,null,null,null,999,"","","","","","","","","","","","","","","","","","","","","","","","","","","","","","","","","","","","","","","","","","","","","","","","","","","","","","","",{"$f":"IF(BM1019=\"\",\"\",IF(OR(BM1019=1,BM1019=2,BM1019=3,BM1019=4,BM1019=5,BM1019=99),1,0))","v":""},"","","","","","","","","","","","","","","","","","","","","","","","","","","","","","","","","","","","","","","","","","","","","","","","","","","","","","","","","","","","","","","","","","","","","","","","","","","","","","","","","","","","","","","","","","","","","","","","","","","","","","","","","","","","","","","","","","","","","","","","","",1,0,-1,0,0]
[null,null,null,null,null,null,1000,{"$f":"IF(NE1020=1, START!$B$17, \"\")","v":""},{"$f":"IF(NE1020=1, START!$B$20, \"\")","v":""},null,null,null,null,null,null,null,null,null,null,null,null,null,null,null,null,null,null,null,null,null,null,null,null,null,null,null,null,null,null,null,null,null,null,null,null,null,null,null,null,null,null,null,null,null,null,null,null,null,null,null,null,null,null,null,null,null,null,null,null,null,null,null,null,null,null,null,null,null,null,null,null,null,null,null,null,null,null,null,null,null,null,null,null,null,null,null,null,null,null,null,null,null,null,null,null,null,null,null,null,null,null,null,null,null,null,null,null,null,null,null,null,null,null,null,null,null,null,null,null,null,null,null,null,null,null,null,null,null,null,null,null,null,null,null,null,null,null,null,null,null,null,null,null,null,null,null,null,null,null,null,null,null,null,null,null,null,null,null,null,null,null,null,null,null,null,null,null,null,null,null,null,null,null,null,null,null,null,1000,"","","","","","","","","","","","","","","","","","","","","","","","","","","","","","","","","","","","","","","","","","","","","","","","","","","","","","","","","","","","","","","","","","","","","","","","","","","","","","","","","","","","","","","","","","","","","","","","","","","","","","","","","","","","","","","","","","","","","","","","","","","","","","","","","","","","","","","","","","","","","","","","","","","","","","","","","","","","","","","","","","","","","","","","","","","","","","","","","",1,0,-1,0,0]

{"sheet":"data_pp_post","index":26,"n_rows":1,"n_cols":179,"rows_kept":1,"cut":false,"hidden":true,"merged":[]}
["prog_name","org_name","Tena1","Tena2","Conf1","Conf2","Conf3","Conf4","Conf5","Proa1","Proa2","Grow1","Grow2","Care1","Care2","Care3","Cult1","Glob1","Glob2","Glob3","Glob4","Inno1","Crit1","Crit2","Crit3","Prob1","Prob2","Prob3","Prob4","Prob5","Team1","Team2","Team3","Team4","Team5","Team6","Stak1","Stak2","Stak3","Stak4","Proj1","Emot1","Emot2","Emot3","Emot4","Emot5","Fina1","Phys1","Phys2","Nati1","Nati_pers1","Nati_pers2","Nati_pers3","Nati_pers4","Publ1","Trus1","Trus2","Trus3","Trus4","Soci1","Soci2","Open1","Open2","Empa1","Abil_comm1","Abil_comm2","Civi_comm1","Civi_comm2","Civi_comm3","Civi_comm4","Civi_comm5","Civi_comm6","Civi_comm7","Civi_env1","Civi_env2","Civi_env3","Civi_env4","Civi_env5","Civi_env6","Abil_govt1","Tena1","Tena2","Conf1","Conf2","Conf3","Conf4","Conf5","Proa1","Proa2","Grow1","Grow2","Care1","Care2","Care3","Cult1","Glob1","Glob2","Glob3","Glob4","Inno1","Crit1","Crit2","Crit3","Prob1","Prob2","Prob3","Prob4","Prob5","Team1","Team2","Team3","Team4","Team5","Team6","Stak1","Stak2","Stak3","Stak4","Proj1","Emot1","Emot2","Emot3","Emot4","Emot5","Fina1","Phys1","Phys2","Nati1","Nati_pers1","Nati_pers2","Nati_pers3","Nati_pers4","Publ1","Trus1","Trus2","Trus3","Trus4","Soci1","Soci2","Open1","Open2","Empa1","Abil_comm1","Abil_comm2","Civi_comm1","Civi_comm2","Civi_comm3","Civi_comm4","Civi_comm5","Civi_comm6","Civi_comm7","Civi_env1","Civi_env2","Civi_env3","Civi_env4","Civi_env5","Civi_env6","Abil_govt1","Prog_imp1","Prog_imp2","Prog_imp3","Prog_imp4","Prog_imp5","Feed1","Feed2","Feed3","Feed4","Feed5","Feed6","Feed7","Feed8","Feed9","Over1","Over2","Over3","Over4","Over5","Nric_Pre","Nric_Post"]

{"sheet":"data_pp_combined","index":27,"n_rows":2501,"n_cols":183,"rows_kept":281,"cut":true,"hidden":true,"merged":[],"bounds":{"rows_first":125,"rows_last":31,"rows_between":125,"halvings":4}}
["ID","Match Post","Valid",null,"prog_name","org_name","Tena1","Tena2","Conf1","Conf2","Conf3","Conf4","Conf5","Proa1","Proa2","Grow1","Grow2","Care1","Care2","Care3","Cult1","Glob1","Glob2","Glob3","Glob4","Inno1","Crit1","Crit2","Crit3","Prob1","Prob2","Prob3","Prob4","Prob5","Team1","Team2","Team3","Team4","Team5","Team6","Stak1","Stak2","Stak3","Stak4","Proj1","Emot1","Emot2","Emot3","Emot4","Emot5","Fina1","Phys1","Phys2","Nati1","Nati_pers1","Nati_pers2","Nati_pers3","Nati_pers4","Publ1","Trus1","Trus2","Trus3","Trus4","Soci1","Soci2","Open1","Open2","Empa1","Abil_comm1","Abil_comm2","Civi_comm1","Civi_comm2","Civi_comm3","Civi_comm4","Civi_comm5","Civi_comm6","Civi_comm7","Civi_env1","Civi_env2","Civi_env3","Civi_env4","Civi_env5","Civi_env6","Abil_govt1","Tena1","Tena2","Conf1","Conf2","Conf3","Conf4","Conf5","Proa1","Proa2","Grow1","Grow2","Care1","Care2","Care3","Cult1","Glob1","Glob2","Glob3","Glob4","Inno1","Crit1","Crit2","Crit3","Prob1","Prob2","Prob3","Prob4","Prob5","Team1","Team2","Team3","Team4","Team5","Team6","Stak1","Stak2","Stak3","Stak4","Proj1","Emot1","Emot2","Emot3","Emot4","Emot5","Fina1","Phys1","Phys2","Nati1","Nati_pers1","Nati_pers2","Nati_pers3","Nati_pers4","Publ1","Trus1","Trus2","Trus3","Trus4","Soci1","Soci2","Open1","Open2","Empa1","Abil_comm1","Abil_comm2","Civi_comm1","Civi_comm2","Civi_comm3","Civi_comm4","Civi_comm5","Civi_comm6","Civi_comm7","Civi_env1","Civi_env2","Civi_env3","Civi_env4","Civi_env5","Civi_env6","Abil_govt1","Prog_imp1","Prog_imp2","Prog_imp3","Prog_imp4","Prog_imp5","Feed1","Feed2","Feed3","Feed4","Feed5","Feed6","Feed7","Feed8","Feed9","Over1","Over2","Over3","Over4","Over5","Nric_Pre","Nric_Post"]
[null,null,null,null,null,null,null,null,null,null,null,null,null,null,null,null,null,null,null,null,null,null,null,null,null,null,null,null,null,null,null,null,null,null,null,null,null,null,null,null,null,null,null,null,null,null,null,null,null,null,null,null,null,null,null,null,null,null,null,null,null,null,null,null,null,null,null,null,null,null,null,null,null,null,null,null,null,null,null,null,null,null,null,null,null,null,null,null,null,null,null,null,null,null,null,null,null,null,null,null,null,null,null,null,null,null,null,null,null,null,null,null,null,null,null,null,null,null,null,null,null,null,null,null,null,null,null,null,null,null,null,null,null,null,null,null,null,null,null,null,null,null,null,null,null,null,null,null,null,null,null,null,null,null,null,null,null,null,null,null,null,null,null,null,null,null,null,null,null,null,null,null,null,null,null,null,null,null,null,{"$f":"IF(data_pp_combined!$C2=0, \"\", OFFSET(data_pp_post!FT$1, data_pp_combined!$B2, 0))","v":""},{"$f":"IF(data_pp_combined!$C2=0, \"\", OFFSET(data_pp_post!FU$1, data_pp_combined!$B2, 0))","v":""},{"$f":"IF(data_pp_pre!FV2=\"\", \"\", data_pp_pre!FV2)","v":""},{"$f":"FZ2","v":""}]
[null,null,null,null,null,null,null,null,null,null,null,null,null,null,null,null,null,null,null,null,null,null,null,null,null,null,null,null,null,null,null,null,null,null,null,null,null,null,null,null,null,null,null,null,null,null,null,null,null,null,null,null,null,null,null,null,null,null,null,null,null,null,null,null,null,null,null,null,null,null,null,null,null,null,null,null,null,null,null,null,null,null,null,null,null,null,null,null,null,null,null,null,null,null,null,null,null,null,null,null,null,null,null,null,null,null,null,null,null,null,null,null,null,null,null,null,null,null,null,null,null,null,null,null,null,null,null,null,null,null,null,null,null,null,null,null,null,null,null,null,null,null,null,null,null,null,null,null,null,null,null,null,null,null,null,null,null,null,null,null,null,null,null,null,null,null,null,null,null,null,null,null,null,null,null,null,null,null,null,{"$f":"IF(data_pp_combined!$C3=0, \"\", OFFSET(data_pp_post!FT$1, data_pp_combined!$B3-1, 0))","v":""},{"$f":"IF(data_pp_combined!$C3=0, \"\", OFFSET(data_pp_post!FU$1, data_pp_combined!$B3-1, 0))","v":""},{"$f":"IF(data_pp_pre!FV3=\"\", \"\", data_pp_pre!FV3)","v":""},{"$f":"FZ3","v":""}]
[null,null,null,null,null,null,null,null,null,null,null,null,null,null,null,null,null,null,null,null,null,null,null,null,null,null,null,null,null,null,null,null,null,null,null,null,null,null,null,null,null,null,null,null,null,null,null,null,null,null,null,null,null,null,null,null,null,null,null,null,null,null,null,null,null,null,null,null,null,null,null,null,null,null,null,null,null,null,null,null,null,null,null,null,null,null,null,null,null,null,null,null,null,null,null,null,null,null,null,null,null,null,null,null,null,null,null,null,null,null,null,null,null,null,null,null,null,null,null,null,null,null,null,null,null,null,null,null,null,null,null,null,null,null,null,null,null,null,null,null,null,null,null,null,null,null,null,null,null,null,null,null,null,null,null,null,null,null,null,null,null,null,null,null,null,null,null,null,null,null,null,null,null,null,null,null,null,null,null,{"$f":"IF(data_pp_combined!$C4=0, \"\", OFFSET(data_pp_post!FT$1, data_pp_combined!$B4-1, 0))","v":""},{"$f":"IF(data_pp_combined!$C4=0, \"\", OFFSET(data_pp_post!FU$1, data_pp_combined!$B4-1, 0))","v":""},{"$f":"IF(data_pp_pre!FV4=\"\", \"\", data_pp_pre!FV4)","v":""},""]
[null,null,null,null,null,null,null,null,null,null,null,null,null,null,null,null,null,null,null,null,null,null,null,null,null,null,null,null,null,null,null,null,null,null,null,null,null,null,null,null,null,null,null,null,null,null,null,null,null,null,null,null,null,null,null,null,null,null,null,null,null,null,null,null,null,null,null,null,null,null,null,null,null,null,null,null,null,null,null,null,null,null,null,null,null,null,null,null,null,null,null,null,null,null,null,null,null,null,null,null,null,null,null,null,null,null,null,null,null,null,null,null,null,null,null,null,null,null,null,null,null,null,null,null,null,null,null,null,null,null,null,null,null,null,null,null,null,null,null,null,null,null,null,null,null,null,null,null,null,null,null,null,null,null,null,null,null,null,null,null,null,null,null,null,null,null,null,null,null,null,null,null,null,null,null,null,null,null,null,{"$f":"IF(data_pp_combined!$C5=0, \"\", OFFSET(data_pp_post!FT$1, data_pp_combined!$B5-1, 0))","v":""},{"$f":"IF(data_pp_combined!$C5=0, \"\", OFFSET(data_pp_post!FU$1, data_pp_combined!$B5-1, 0))","v":""},{"$f":"IF(data_pp_pre!FV5=\"\", \"\", data_pp_pre!FV5)","v":""},""]
[null,null,null,null,null,null,null,null,null,null,null,null,null,null,null,null,null,null,null,null,null,null,null,null,null,null,null,null,null,null,null,null,null,null,null,null,null,null,null,null,null,null,null,null,null,null,null,null,null,null,null,null,null,null,null,null,null,null,null,null,null,null,null,null,null,null,null,null,null,null,null,null,null,null,null,null,null,null,null,null,null,null,null,null,null,null,null,null,null,null,null,null,null,null,null,null,null,null,null,null,null,null,null,null,null,null,null,null,null,null,null,null,null,null,null,null,null,null,null,null,null,null,null,null,null,null,null,null,null,null,null,null,null,null,null,null,null,null,null,null,null,null,null,null,null,null,null,null,null,null,null,null,null,null,null,null,null,null,null,null,null,null,null,null,null,null,null,null,null,null,null,null,null,null,null,null,null,null,null,{"$f":"IF(data_pp_combined!$C6=0, \"\", OFFSET(data_pp_post!FT$1, data_pp_combined!$B6-1, 0))","v":""},{"$f":"IF(data_pp_combined!$C6=0, \"\", OFFSET(data_pp_post!FU$1, data_pp_combined!$B6-1, 0))","v":""},{"$f":"IF(data_pp_pre!FV6=\"\", \"\", data_pp_pre!FV6)","v":""},""]
[null,null,null,null,null,null,null,null,null,null,null,null,null,null,null,null,null,null,null,null,null,null,null,null,null,null,null,null,null,null,null,null,null,null,null,null,null,null,null,null,null,null,null,null,null,null,null,null,null,null,null,null,null,null,null,null,null,null,null,null,null,null,null,null,null,null,null,null,null,null,null,null,null,null,null,null,null,null,null,null,null,null,null,null,null,null,null,null,null,null,null,null,null,null,null,null,null,null,null,null,null,null,null,null,null,null,null,null,null,null,null,null,null,null,null,null,null,null,null,null,null,null,null,null,null,null,null,null,null,null,null,null,null,null,null,null,null,null,null,null,null,null,null,null,null,null,null,null,null,null,null,null,null,null,null,null,null,null,null,null,null,null,null,null,null,null,null,null,null,null,null,null,null,null,null,null,null,null,null,{"$f":"IF(data_pp_combined!$C7=0, \"\", OFFSET(data_pp_post!FT$1, data_pp_combined!$B7-1, 0))","v":""},{"$f":"IF(data_pp_combined!$C7=0, \"\", OFFSET(data_pp_post!FU$1, data_pp_combined!$B7-1, 0))","v":""},{"$f":"IF(data_pp_pre!FV7=\"\", \"\", data_pp_pre!FV7)","v":""},""]
[null,null,null,null,null,null,null,null,null,null,null,null,null,null,null,null,null,null,null,null,null,null,null,null,null,null,null,null,null,null,null,null,null,null,null,null,null,null,null,null,null,null,null,null,null,null,null,null,null,null,null,null,null,null,null,null,null,null,null,null,null,null,null,null,null,null,null,null,null,null,null,null,null,null,null,null,null,null,null,null,null,null,null,null,null,null,null,null,null,null,null,null,null,null,null,null,null,null,null,null,null,null,null,null,null,null,null,null,null,null,null,null,null,null,null,null,null,null,null,null,null,null,null,null,null,null,null,null,null,null,null,null,null,null,null,null,null,null,null,null,null,null,null,null,null,null,null,null,null,null,null,null,null,null,null,null,null,null,null,null,null,null,null,null,null,null,null,null,null,null,null,null,null,null,null,null,null,null,null,{"$f":"IF(data_pp_combined!$C8=0, \"\", OFFSET(data_pp_post!FT$1, data_pp_combined!$B8-1, 0))","v":""},{"$f":"IF(data_pp_combined!$C8=0, \"\", OFFSET(data_pp_post!FU$1, data_pp_combined!$B8-1, 0))","v":""},{"$f":"IF(data_pp_pre!FV8=\"\", \"\", data_pp_pre!FV8)","v":""},""]
[null,null,null,null,null,null,null,null,null,null,null,null,null,null,null,null,null,null,null,null,null,null,null,null,null,null,null,null,null,null,null,null,null,null,null,null,null,null,null,null,null,null,null,null,null,null,null,null,null,null,null,null,null,null,null,null,null,null,null,null,null,null,null,null,null,null,null,null,null,null,null,null,null,null,null,null,null,null,null,null,null,null,null,null,null,null,null,null,null,null,null,null,null,null,null,null,null,null,null,null,null,null,null,null,null,null,null,null,null,null,null,null,null,null,null,null,null,null,null,null,null,null,null,null,null,null,null,null,null,null,null,null,null,null,null,null,null,null,null,null,null,null,null,null,null,null,null,null,null,null,null,null,null,null,null,null,null,null,null,null,null,null,null,null,null,null,null,null,null,null,null,null,null,null,null,null,null,null,null,{"$f":"IF(data_pp_combined!$C9=0, \"\", OFFSET(data_pp_post!FT$1, data_pp_combined!$B9-1, 0))","v":""},{"$f":"IF(data_pp_combined!$C9=0, \"\", OFFSET(data_pp_post!FU$1, data_pp_combined!$B9-1, 0))","v":""},{"$f":"IF(data_pp_pre!FV9=\"\", \"\", data_pp_pre!FV9)","v":""},""]
[null,null,null,null,null,null,null,null,null,null,null,null,null,null,null,null,null,null,null,null,null,null,null,null,null,null,null,null,null,null,null,null,null,null,null,null,null,null,null,null,null,null,null,null,null,null,null,null,null,null,null,null,null,null,null,null,null,null,null,null,null,null,null,null,null,null,null,null,null,null,null,null,null,null,null,null,null,null,null,null,null,null,null,null,null,null,null,null,null,null,null,null,null,null,null,null,null,null,null,null,null,null,null,null,null,null,null,null,null,null,null,null,null,null,null,null,null,null,null,null,null,null,null,null,null,null,null,null,null,null,null,null,null,null,null,null,null,null,null,null,null,null,null,null,null,null,null,null,null,null,null,null,null,null,null,null,null,null,null,null,null,null,null,null,null,null,null,null,null,null,null,null,null,null,null,null,null,null,null,{"$f":"IF(data_pp_combined!$C10=0, \"\", OFFSET(data_pp_post!FT$1, data_pp_combined!$B10-1, 0))","v":""},{"$f":"IF(data_pp_combined!$C10=0, \"\", OFFSET(data_pp_post!FU$1, data_pp_combined!$B10-1, 0))","v":""},{"$f":"IF(data_pp_pre!FV10=\"\", \"\", data_pp_pre!FV10)","v":""},""]
[null,null,null,null,null,null,null,null,null,null,null,null,null,null,null,null,null,null,null,null,null,null,null,null,null,null,null,null,null,null,null,null,null,null,null,null,null,null,null,null,null,null,null,null,null,null,null,null,null,null,null,null,null,null,null,null,null,null,null,null,null,null,null,null,null,null,null,null,null,null,null,null,null,null,null,null,null,null,null,null,null,null,null,null,null,null,null,null,null,null,null,null,null,null,null,null,null,null,null,null,null,null,null,null,null,null,null,null,null,null,null,null,null,null,null,null,null,null,null,null,null,null,null,null,null,null,null,null,null,null,null,null,null,null,null,null,null,null,null,null,null,null,null,null,null,null,null,null,null,null,null,null,null,null,null,null,null,null,null,null,null,null,null,null,null,null,null,null,null,null,null,null,null,null,null,null,null,null,null,{"$f":"IF(data_pp_combined!$C11=0, \"\", OFFSET(data_pp_post!FT$1, data_pp_combined!$B11-1, 0))","v":""},{"$f":"IF(data_pp_combined!$C11=0, \"\", OFFSET(data_pp_post!FU$1, data_pp_combined!$B11-1, 0))","v":""},{"$f":"IF(data_pp_pre!FV11=\"\", \"\", data_pp_pre!FV11)","v":""},""]
[null,null,null,null,null,null,null,null,null,null,null,null,null,null,null,null,null,null,null,null,null,null,null,null,null,null,null,null,null,null,null,null,null,null,null,null,null,null,null,null,null,null,null,null,null,null,null,null,null,null,null,null,null,null,null,null,null,null,null,null,null,null,null,null,null,null,null,null,null,null,null,null,null,null,null,null,null,null,null,null,null,null,null,null,null,null,null,null,null,null,null,null,null,null,null,null,null,null,null,null,null,null,null,null,null,null,null,null,null,null,null,null,null,null,null,null,null,null,null,null,null,null,null,null,null,null,null,null,null,null,null,null,null,null,null,null,null,null,null,null,null,null,null,null,null,null,null,null,null,null,null,null,null,null,null,null,null,null,null,null,null,null,null,null,null,null,null,null,null,null,null,null,null,null,null,null,null,null,null,{"$f":"IF(data_pp_combined!$C12=0, \"\", OFFSET(data_pp_post!FT$1, data_pp_combined!$B12-1, 0))","v":""},{"$f":"IF(data_pp_combined!$C12=0, \"\", OFFSET(data_pp_post!FU$1, data_pp_combined!$B12-1, 0))","v":""},{"$f":"IF(data_pp_pre!FV12=\"\", \"\", data_pp_pre!FV12)","v":""},""]
[null,null,null,null,null,null,null,null,null,null,null,null,null,null,null,null,null,null,null,null,null,null,null,null,null,null,null,null,null,null,null,null,null,null,null,null,null,null,null,null,null,null,null,null,null,null,null,null,null,null,null,null,null,null,null,null,null,null,null,null,null,null,null,null,null,null,null,null,null,null,null,null,null,null,null,null,null,null,null,null,null,null,null,null,null,null,null,null,null,null,null,null,null,null,null,null,null,null,null,null,null,null,null,null,null,null,null,null,null,null,null,null,null,null,null,null,null,null,null,null,null,null,null,null,null,null,null,null,null,null,null,null,null,null,null,null,null,null,null,null,null,null,null,null,null,null,null,null,null,null,null,null,null,null,null,null,null,null,null,null,null,null,null,null,null,null,null,null,null,null,null,null,null,null,null,null,null,null,null,{"$f":"IF(data_pp_combined!$C13=0, \"\", OFFSET(data_pp_post!FT$1, data_pp_combined!$B13-1, 0))","v":""},{"$f":"IF(data_pp_combined!$C13=0, \"\", OFFSET(data_pp_post!FU$1, data_pp_combined!$B13-1, 0))","v":""},{"$f":"IF(data_pp_pre!FV13=\"\", \"\", data_pp_pre!FV13)","v":""},""]
[null,null,null,null,null,null,null,null,null,null,null,null,null,null,null,null,null,null,null,null,null,null,null,null,null,null,null,null,null,null,null,null,null,null,null,null,null,null,null,null,null,null,null,null,null,null,null,null,null,null,null,null,null,null,null,null,null,null,null,null,null,null,null,null,null,null,null,null,null,null,null,null,null,null,null,null,null,null,null,null,null,null,null,null,null,null,null,null,null,null,null,null,null,null,null,null,null,null,null,null,null,null,null,null,null,null,null,null,null,null,null,null,null,null,null,null,null,null,null,null,null,null,null,null,null,null,null,null,null,null,null,null,null,null,null,null,null,null,null,null,null,null,null,null,null,null,null,null,null,null,null,null,null,null,null,null,null,null,null,null,null,null,null,null,null,null,null,null,null,null,null,null,null,null,null,null,null,null,null,{"$f":"IF(data_pp_combined!$C14=0, \"\", OFFSET(data_pp_post!FT$1, data_pp_combined!$B14-1, 0))","v":""},{"$f":"IF(data_pp_combined!$C14=0, \"\", OFFSET(data_pp_post!FU$1, data_pp_combined!$B14-1, 0))","v":""},{"$f":"IF(data_pp_pre!FV14=\"\", \"\", data_pp_pre!FV14)","v":""},""]
[null,null,null,null,null,null,null,null,null,null,null,null,null,null,null,null,null,null,null,null,null,null,null,null,null,null,null,null,null,null,null,null,null,null,null,null,null,null,null,null,null,null,null,null,null,null,null,null,null,null,null,null,null,null,null,null,null,null,null,null,null,null,null,null,null,null,null,null,null,null,null,null,null,null,null,null,null,null,null,null,null,null,null,null,null,null,null,null,null,null,null,null,null,null,null,null,null,null,null,null,null,null,null,null,null,null,null,null,null,null,null,null,null,null,null,null,null,null,null,null,null,null,null,null,null,null,null,null,null,null,null,null,null,null,null,null,null,null,null,null,null,null,null,null,null,null,null,null,null,null,null,null,null,null,null,null,null,null,null,null,null,null,null,null,null,null,null,null,null,null,null,null,null,null,null,null,null,null,null,{"$f":"IF(data_pp_combined!$C15=0, \"\", OFFSET(data_pp_post!FT$1, data_pp_combined!$B15-1, 0))","v":""},{"$f":"IF(data_pp_combined!$C15=0, \"\", OFFSET(data_pp_post!FU$1, data_pp_combined!$B15-1, 0))","v":""},{"$f":"IF(data_pp_pre!FV15=\"\", \"\", data_pp_pre!FV15)","v":""},""]
[null,null,null,null,null,null,null,null,null,null,null,null,null,null,null,null,null,null,null,null,null,null,null,null,null,null,null,null,null,null,null,null,null,null,null,null,null,null,null,null,null,null,null,null,null,null,null,null,null,null,null,null,null,null,null,null,null,null,null,null,null,null,null,null,null,null,null,null,null,null,null,null,null,null,null,null,null,null,null,null,null,null,null,null,null,null,null,null,null,null,null,null,null,null,null,null,null,null,null,null,null,null,null,null,null,null,null,null,null,null,null,null,null,null,null,null,null,null,null,null,null,null,null,null,null,null,null,null,null,null,null,null,null,null,null,null,null,null,null,null,null,null,null,null,null,null,null,null,null,null,null,null,null,null,null,null,null,null,null,null,null,null,null,null,null,null,null,null,null,null,null,null,null,null,null,null,null,null,null,{"$f":"IF(data_pp_combined!$C16=0, \"\", OFFSET(data_pp_post!FT$1, data_pp_combined!$B16-1, 0))","v":""},{"$f":"IF(data_pp_combined!$C16=0, \"\", OFFSET(data_pp_post!FU$1, data_pp_combined!$B16-1, 0))","v":""},{"$f":"IF(data_pp_pre!FV16=\"\", \"\", data_pp_pre!FV16)","v":""},""]
[null,null,null,null,null,null,null,null,null,null,null,null,null,null,null,null,null,null,null,null,null,null,null,null,null,null,null,null,null,null,null,null,null,null,null,null,null,null,null,null,null,null,null,null,null,null,null,null,null,null,null,null,null,null,null,null,null,null,null,null,null,null,null,null,null,null,null,null,null,null,null,null,null,null,null,null,null,null,null,null,null,null,null,null,null,null,null,null,null,null,null,null,null,null,null,null,null,null,null,null,null,null,null,null,null,null,null,null,null,null,null,null,null,null,null,null,null,null,null,null,null,null,null,null,null,null,null,null,null,null,null,null,null,null,null,null,null,null,null,null,null,null,null,null,null,null,null,null,null,null,null,null,null,null,null,null,null,null,null,null,null,null,null,null,null,null,null,null,null,null,null,null,null,null,null,null,null,null,null,{"$f":"IF(data_pp_combined!$C17=0, \"\", OFFSET(data_pp_post!FT$1, data_pp_combined!$B17-1, 0))","v":""},{"$f":"IF(data_pp_combined!$C17=0, \"\", OFFSET(data_pp_post!FU$1, data_pp_combined!$B17-1, 0))","v":""},{"$f":"IF(data_pp_pre!FV17=\"\", \"\", data_pp_pre!FV17)","v":""},""]
[null,null,null,null,null,null,null,null,null,null,null,null,null,null,null,null,null,null,null,null,null,null,null,null,null,null,null,null,null,null,null,null,null,null,null,null,null,null,null,null,null,null,null,null,null,null,null,null,null,null,null,null,null,null,null,null,null,null,null,null,null,null,null,null,null,null,null,null,null,null,null,null,null,null,null,null,null,null,null,null,null,null,null,null,null,null,null,null,null,null,null,null,null,null,null,null,null,null,null,null,null,null,null,null,null,null,null,null,null,null,null,null,null,null,null,null,null,null,null,null,null,null,null,null,null,null,null,null,null,null,null,null,null,null,null,null,null,null,null,null,null,null,null,null,null,null,null,null,null,null,null,null,null,null,null,null,null,null,null,null,null,null,null,null,null,null,null,null,null,null,null,null,null,null,null,null,null,null,null,{"$f":"IF(data_pp_combined!$C18=0, \"\", OFFSET(data_pp_post!FT$1, data_pp_combined!$B18-1, 0))","v":""},{"$f":"IF(data_pp_combined!$C18=0, \"\", OFFSET(data_pp_post!FU$1, data_pp_combined!$B18-1, 0))","v":""},{"$f":"IF(data_pp_pre!FV18=\"\", \"\", data_pp_pre!FV18)","v":""},""]
[null,null,null,null,null,null,null,null,null,null,null,null,null,null,null,null,null,null,null,null,null,null,null,null,null,null,null,null,null,null,null,null,null,null,null,null,null,null,null,null,null,null,null,null,null,null,null,null,null,null,null,null,null,null,null,null,null,null,null,null,null,null,null,null,null,null,null,null,null,null,null,null,null,null,null,null,null,null,null,null,null,null,null,null,null,null,null,null,null,null,null,null,null,null,null,null,null,null,null,null,null,null,null,null,null,null,null,null,null,null,null,null,null,null,null,null,null,null,null,null,null,null,null,null,null,null,null,null,null,null,null,null,null,null,null,null,null,null,null,null,null,null,null,null,null,null,null,null,null,null,null,null,null,null,null,null,null,null,null,null,null,null,null,null,null,null,null,null,null,null,null,null,null,null,null,null,null,null,null,{"$f":"IF(data_pp_combined!$C19=0, \"\", OFFSET(data_pp_post!FT$1, data_pp_combined!$B19-1, 0))","v":""},{"$f":"IF(data_pp_combined!$C19=0, \"\", OFFSET(data_pp_post!FU$1, data_pp_combined!$B19-1, 0))","v":""},{"$f":"IF(data_pp_pre!FV19=\"\", \"\", data_pp_pre!FV19)","v":""},""]
[null,null,null,null,null,null,null,null,null,null,null,null,null,null,null,null,null,null,null,null,null,null,null,null,null,null,null,null,null,null,null,null,null,null,null,null,null,null,null,null,null,null,null,null,null,null,null,null,null,null,null,null,null,null,null,null,null,null,null,null,null,null,null,null,null,null,null,null,null,null,null,null,null,null,null,null,null,null,null,null,null,null,null,null,null,null,null,null,null,null,null,null,null,null,null,null,null,null,null,null,null,null,null,null,null,null,null,null,null,null,null,null,null,null,null,null,null,null,null,null,null,null,null,null,null,null,null,null,null,null,null,null,null,null,null,null,null,null,null,null,null,null,null,null,null,null,null,null,null,null,null,null,null,null,null,null,null,null,null,null,null,null,null,null,null,null,null,null,null,null,null,null,null,null,null,null,null,null,null,{"$f":"IF(data_pp_combined!$C20=0, \"\", OFFSET(data_pp_post!FT$1, data_pp_combined!$B20-1, 0))","v":""},{"$f":"IF(data_pp_combined!$C20=0, \"\", OFFSET(data_pp_post!FU$1, data_pp_combined!$B20-1, 0))","v":""},{"$f":"IF(data_pp_pre!FV20=\"\", \"\", data_pp_pre!FV20)","v":""},""]
[null,null,null,null,null,null,null,null,null,null,null,null,null,null,null,null,null,null,null,null,null,null,null,null,null,null,null,null,null,null,null,null,null,null,null,null,null,null,null,null,null,null,null,null,null,null,null,null,null,null,null,null,null,null,null,null,null,null,null,null,null,null,null,null,null,null,null,null,null,null,null,null,null,null,null,null,null,null,null,null,null,null,null,null,null,null,null,null,null,null,null,null,null,null,null,null,null,null,null,null,null,null,null,null,null,null,null,null,null,null,null,null,null,null,null,null,null,null,null,null,null,null,null,null,null,null,null,null,null,null,null,null,null,null,null,null,null,null,null,null,null,null,null,null,null,null,null,null,null,null,null,null,null,null,null,null,null,null,null,null,null,null,null,null,null,null,null,null,null,null,null,null,null,null,null,null,null,null,null,{"$f":"IF(data_pp_combined!$C21=0, \"\", OFFSET(data_pp_post!FT$1, data_pp_combined!$B21-1, 0))","v":""},{"$f":"IF(data_pp_combined!$C21=0, \"\", OFFSET(data_pp_post!FU$1, data_pp_combined!$B21-1, 0))","v":""},{"$f":"IF(data_pp_pre!FV21=\"\", \"\", data_pp_pre!FV21)","v":""},""]
[null,null,null,null,null,null,null,null,null,null,null,null,null,null,null,null,null,null,null,null,null,null,null,null,null,null,null,null,null,null,null,null,null,null,null,null,null,null,null,null,null,null,null,null,null,null,null,null,null,null,null,null,null,null,null,null,null,null,null,null,null,null,null,null,null,null,null,null,null,null,null,null,null,null,null,null,null,null,null,null,null,null,null,null,null,null,null,null,null,null,null,null,null,null,null,null,null,null,null,null,null,null,null,null,null,null,null,null,null,null,null,null,null,null,null,null,null,null,null,null,null,null,null,null,null,null,null,null,null,null,null,null,null,null,null,null,null,null,null,null,null,null,null,null,null,null,null,null,null,null,null,null,null,null,null,null,null,null,null,null,null,null,null,null,null,null,null,null,null,null,null,null,null,null,null,null,null,null,null,{"$f":"IF(data_pp_combined!$C22=0, \"\", OFFSET(data_pp_post!FT$1, data_pp_combined!$B22-1, 0))","v":""},{"$f":"IF(data_pp_combined!$C22=0, \"\", OFFSET(data_pp_post!FU$1, data_pp_combined!$B22-1, 0))","v":""},{"$f":"IF(data_pp_pre!FV22=\"\", \"\", data_pp_pre!FV22)","v":""},""]
[null,null,null,null,null,null,null,null,null,null,null,null,null,null,null,null,null,null,null,null,null,null,null,null,null,null,null,null,null,null,null,null,null,null,null,null,null,null,null,null,null,null,null,null,null,null,null,null,null,null,null,null,null,null,null,null,null,null,null,null,null,null,null,null,null,null,null,null,null,null,null,null,null,null,null,null,null,null,null,null,null,null,null,null,null,null,null,null,null,null,null,null,null,null,null,null,null,null,null,null,null,null,null,null,null,null,null,null,null,null,null,null,null,null,null,null,null,null,null,null,null,null,null,null,null,null,null,null,null,null,null,null,null,null,null,null,null,null,null,null,null,null,null,null,null,null,null,null,null,null,null,null,null,null,null,null,null,null,null,null,null,null,null,null,null,null,null,null,null,null,null,null,null,null,null,null,null,null,null,{"$f":"IF(data_pp_combined!$C23=0, \"\", OFFSET(data_pp_post!FT$1, data_pp_combined!$B23-1, 0))","v":""},{"$f":"IF(data_pp_combined!$C23=0, \"\", OFFSET(data_pp_post!FU$1, data_pp_combined!$B23-1, 0))","v":""},{"$f":"IF(data_pp_pre!FV23=\"\", \"\", data_pp_pre!FV23)","v":""},""]
[null,null,null,null,null,null,null,null,null,null,null,null,null,null,null,null,null,null,null,null,null,null,null,null,null,null,null,null,null,null,null,null,null,null,null,null,null,null,null,null,null,null,null,null,null,null,null,null,null,null,null,null,null,null,null,null,null,null,null,null,null,null,null,null,null,null,null,null,null,null,null,null,null,null,null,null,null,null,null,null,null,null,null,null,null,null,null,null,null,null,null,null,null,null,null,null,null,null,null,null,null,null,null,null,null,null,null,null,null,null,null,null,null,null,null,null,null,null,null,null,null,null,null,null,null,null,null,null,null,null,null,null,null,null,null,null,null,null,null,null,null,null,null,null,null,null,null,null,null,null,null,null,null,null,null,null,null,null,null,null,null,null,null,null,null,null,null,null,null,null,null,null,null,null,null,null,null,null,null,{"$f":"IF(data_pp_combined!$C24=0, \"\", OFFSET(data_pp_post!FT$1, data_pp_combined!$B24-1, 0))","v":""},{"$f":"IF(data_pp_combined!$C24=0, \"\", OFFSET(data_pp_post!FU$1, data_pp_combined!$B24-1, 0))","v":""},{"$f":"IF(data_pp_pre!FV24=\"\", \"\", data_pp_pre!FV24)","v":""},""]
[null,null,null,null,null,null,null,null,null,null,null,null,null,null,null,null,null,null,null,null,null,null,null,null,null,null,null,null,null,null,null,null,null,null,null,null,null,null,null,null,null,null,null,null,null,null,null,null,null,null,null,null,null,null,null,null,null,null,null,null,null,null,null,null,null,null,null,null,null,null,null,null,null,null,null,null,null,null,null,null,null,null,null,null,null,null,null,null,null,null,null,null,null,null,null,null,null,null,null,null,null,null,null,null,null,null,null,null,null,null,null,null,null,null,null,null,null,null,null,null,null,null,null,null,null,null,null,null,null,null,null,null,null,null,null,null,null,null,null,null,null,null,null,null,null,null,null,null,null,null,null,null,null,null,null,null,null,null,null,null,null,null,null,null,null,null,null,null,null,null,null,null,null,null,null,null,null,null,null,{"$f":"IF(data_pp_combined!$C25=0, \"\", OFFSET(data_pp_post!FT$1, data_pp_combined!$B25-1, 0))","v":""},{"$f":"IF(data_pp_combined!$C25=0, \"\", OFFSET(data_pp_post!FU$1, data_pp_combined!$B25-1, 0))","v":""},{"$f":"IF(data_pp_pre!FV25=\"\", \"\", data_pp_pre!FV25)","v":""},""]
[null,null,null,null,null,null,null,null,null,null,null,null,null,null,null,null,null,null,null,null,null,null,null,null,null,null,null,null,null,null,null,null,null,null,null,null,null,null,null,null,null,null,null,null,null,null,null,null,null,null,null,null,null,null,null,null,null,null,null,null,null,null,null,null,null,null,null,null,null,null,null,null,null,null,null,null,null,null,null,null,null,null,null,null,null,null,null,null,null,null,null,null,null,null,null,null,null,null,null,null,null,null,null,null,null,null,null,null,null,null,null,null,null,null,null,null,null,null,null,null,null,null,null,null,null,null,null,null,null,null,null,null,null,null,null,null,null,null,null,null,null,null,null,null,null,null,null,null,null,null,null,null,null,null,null,null,null,null,null,null,null,null,null,null,null,null,null,null,null,null,null,null,null,null,null,null,null,null,null,{"$f":"IF(data_pp_combined!$C26=0, \"\", OFFSET(data_pp_post!FT$1, data_pp_combined!$B26-1, 0))","v":""},{"$f":"IF(data_pp_combined!$C26=0, \"\", OFFSET(data_pp_post!FU$1, data_pp_combined!$B26-1, 0))","v":""},{"$f":"IF(data_pp_pre!FV26=\"\", \"\", data_pp_pre!FV26)","v":""},""]
[null,null,null,null,null,null,null,null,null,null,null,null,null,null,null,null,null,null,null,null,null,null,null,null,null,null,null,null,null,null,null,null,null,null,null,null,null,null,null,null,null,null,null,null,null,null,null,null,null,null,null,null,null,null,null,null,null,null,null,null,null,null,null,null,null,null,null,null,null,null,null,null,null,null,null,null,null,null,null,null,null,null,null,null,null,null,null,null,null,null,null,null,null,null,null,null,null,null,null,null,null,null,null,null,null,null,null,null,null,null,null,null,null,null,null,null,null,null,null,null,null,null,null,null,null,null,null,null,null,null,null,null,null,null,null,null,null,null,null,null,null,null,null,null,null,null,null,null,null,null,null,null,null,null,null,null,null,null,null,null,null,null,null,null,null,null,null,null,null,null,null,null,null,null,null,null,null,null,null,{"$f":"IF(data_pp_combined!$C27=0, \"\", OFFSET(data_pp_post!FT$1, data_pp_combined!$B27-1, 0))","v":""},{"$f":"IF(data_pp_combined!$C27=0, \"\", OFFSET(data_pp_post!FU$1, data_pp_combined!$B27-1, 0))","v":""},{"$f":"IF(data_pp_pre!FV27=\"\", \"\", data_pp_pre!FV27)","v":""},""]
[null,null,null,null,null,null,null,null,null,null,null,null,null,null,null,null,null,null,null,null,null,null,null,null,null,null,null,null,null,null,null,null,null,null,null,null,null,null,null,null,null,null,null,null,null,null,null,null,null,null,null,null,null,null,null,null,null,null,null,null,null,null,null,null,null,null,null,null,null,null,null,null,null,null,null,null,null,null,null,null,null,null,null,null,null,null,null,null,null,null,null,null,null,null,null,null,null,null,null,null,null,null,null,null,null,null,null,null,null,null,null,null,null,null,null,null,null,null,null,null,null,null,null,null,null,null,null,null,null,null,null,null,null,null,null,null,null,null,null,null,null,null,null,null,null,null,null,null,null,null,null,null,null,null,null,null,null,null,null,null,null,null,null,null,null,null,null,null,null,null,null,null,null,null,null,null,null,null,null,{"$f":"IF(data_pp_combined!$C28=0, \"\", OFFSET(data_pp_post!FT$1, data_pp_combined!$B28-1, 0))","v":""},{"$f":"IF(data_pp_combined!$C28=0, \"\", OFFSET(data_pp_post!FU$1, data_pp_combined!$B28-1, 0))","v":""},{"$f":"IF(data_pp_pre!FV28=\"\", \"\", data_pp_pre!FV28)","v":""},""]
[null,null,null,null,null,null,null,null,null,null,null,null,null,null,null,null,null,null,null,null,null,null,null,null,null,null,null,null,null,null,null,null,null,null,null,null,null,null,null,null,null,null,null,null,null,null,null,null,null,null,null,null,null,null,null,null,null,null,null,null,null,null,null,null,null,null,null,null,null,null,null,null,null,null,null,null,null,null,null,null,null,null,null,null,null,null,null,null,null,null,null,null,null,null,null,null,null,null,null,null,null,null,null,null,null,null,null,null,null,null,null,null,null,null,null,null,null,null,null,null,null,null,null,null,null,null,null,null,null,null,null,null,null,null,null,null,null,null,null,null,null,null,null,null,null,null,null,null,null,null,null,null,null,null,null,null,null,null,null,null,null,null,null,null,null,null,null,null,null,null,null,null,null,null,null,null,null,null,null,{"$f":"IF(data_pp_combined!$C29=0, \"\", OFFSET(data_pp_post!FT$1, data_pp_combined!$B29-1, 0))","v":""},{"$f":"IF(data_pp_combined!$C29=0, \"\", OFFSET(data_pp_post!FU$1, data_pp_combined!$B29-1, 0))","v":""},{"$f":"IF(data_pp_pre!FV29=\"\", \"\", data_pp_pre!FV29)","v":""},""]
[null,null,null,null,null,null,null,null,null,null,null,null,null,null,null,null,null,null,null,null,null,null,null,null,null,null,null,null,null,null,null,null,null,null,null,null,null,null,null,null,null,null,null,null,null,null,null,null,null,null,null,null,null,null,null,null,null,null,null,null,null,null,null,null,null,null,null,null,null,null,null,null,null,null,null,null,null,null,null,null,null,null,null,null,null,null,null,null,null,null,null,null,null,null,null,null,null,null,null,null,null,null,null,null,null,null,null,null,null,null,null,null,null,null,null,null,null,null,null,null,null,null,null,null,null,null,null,null,null,null,null,null,null,null,null,null,null,null,null,null,null,null,null,null,null,null,null,null,null,null,null,null,null,null,null,null,null,null,null,null,null,null,null,null,null,null,null,null,null,null,null,null,null,null,null,null,null,null,null,{"$f":"IF(data_pp_combined!$C30=0, \"\", OFFSET(data_pp_post!FT$1, data_pp_combined!$B30-1, 0))","v":""},{"$f":"IF(data_pp_combined!$C30=0, \"\", OFFSET(data_pp_post!FU$1, data_pp_combined!$B30-1, 0))","v":""},{"$f":"IF(data_pp_pre!FV30=\"\", \"\", data_pp_pre!FV30)","v":""},""]
[null,null,null,null,null,null,null,null,null,null,null,null,null,null,null,null,null,null,null,null,null,null,null,null,null,null,null,null,null,null,null,null,null,null,null,null,null,null,null,null,null,null,null,null,null,null,null,null,null,null,null,null,null,null,null,null,null,null,null,null,null,null,null,null,null,null,null,null,null,null,null,null,null,null,null,null,null,null,null,null,null,null,null,null,null,null,null,null,null,null,null,null,null,null,null,null,null,null,null,null,null,null,null,null,null,null,null,null,null,null,null,null,null,null,null,null,null,null,null,null,null,null,null,null,null,null,null,null,null,null,null,null,null,null,null,null,null,null,null,null,null,null,null,null,null,null,null,null,null,null,null,null,null,null,null,null,null,null,null,null,null,null,null,null,null,null,null,null,null,null,null,null,null,null,null,null,null,null,null,{"$f":"IF(data_pp_combined!$C31=0, \"\", OFFSET(data_pp_post!FT$1, data_pp_combined!$B31-1, 0))","v":""},{"$f":"IF(data_pp_combined!$C31=0, \"\", OFFSET(data_pp_post!FU$1, data_pp_combined!$B31-1, 0))","v":""},{"$f":"IF(data_pp_pre!FV31=\"\", \"\", data_pp_pre!FV31)","v":""},""]
[null,null,null,null,null,null,null,null,null,null,null,null,null,null,null,null,null,null,null,null,null,null,null,null,null,null,null,null,null,null,null,null,null,null,null,null,null,null,null,null,null,null,null,null,null,null,null,null,null,null,null,null,null,null,null,null,null,null,null,null,null,null,null,null,null,null,null,null,null,null,null,null,null,null,null,null,null,null,null,null,null,null,null,null,null,null,null,null,null,null,null,null,null,null,null,null,null,null,null,null,null,null,null,null,null,null,null,null,null,null,null,null,null,null,null,null,null,null,null,null,null,null,null,null,null,null,null,null,null,null,null,null,null,null,null,null,null,null,null,null,null,null,null,null,null,null,null,null,null,null,null,null,null,null,null,null,null,null,null,null,null,null,null,null,null,null,null,null,null,null,null,null,null,null,null,null,null,null,null,{"$f":"IF(data_pp_combined!$C32=0, \"\", OFFSET(data_pp_post!FT$1, data_pp_combined!$B32-1, 0))","v":""},{"$f":"IF(data_pp_combined!$C32=0, \"\", OFFSET(data_pp_post!FU$1, data_pp_combined!$B32-1, 0))","v":""},{"$f":"IF(data_pp_pre!FV32=\"\", \"\", data_pp_pre!FV32)","v":""},""]
[null,null,null,null,null,null,null,null,null,null,null,null,null,null,null,null,null,null,null,null,null,null,null,null,null,null,null,null,null,null,null,null,null,null,null,null,null,null,null,null,null,null,null,null,null,null,null,null,null,null,null,null,null,null,null,null,null,null,null,null,null,null,null,null,null,null,null,null,null,null,null,null,null,null,null,null,null,null,null,null,null,null,null,null,null,null,null,null,null,null,null,null,null,null,null,null,null,null,null,null,null,null,null,null,null,null,null,null,null,null,null,null,null,null,null,null,null,null,null,null,null,null,null,null,null,null,null,null,null,null,null,null,null,null,null,null,null,null,null,null,null,null,null,null,null,null,null,null,null,null,null,null,null,null,null,null,null,null,null,null,null,null,null,null,null,null,null,null,null,null,null,null,null,null,null,null,null,null,null,{"$f":"IF(data_pp_combined!$C33=0, \"\", OFFSET(data_pp_post!FT$1, data_pp_combined!$B33-1, 0))","v":""},{"$f":"IF(data_pp_combined!$C33=0, \"\", OFFSET(data_pp_post!FU$1, data_pp_combined!$B33-1, 0))","v":""},{"$f":"IF(data_pp_pre!FV33=\"\", \"\", data_pp_pre!FV33)","v":""},""]
[null,null,null,null,null,null,null,null,null,null,null,null,null,null,null,null,null,null,null,null,null,null,null,null,null,null,null,null,null,null,null,null,null,null,null,null,null,null,null,null,null,null,null,null,null,null,null,null,null,null,null,null,null,null,null,null,null,null,null,null,null,null,null,null,null,null,null,null,null,null,null,null,null,null,null,null,null,null,null,null,null,null,null,null,null,null,null,null,null,null,null,null,null,null,null,null,null,null,null,null,null,null,null,null,null,null,null,null,null,null,null,null,null,null,null,null,null,null,null,null,null,null,null,null,null,null,null,null,null,null,null,null,null,null,null,null,null,null,null,null,null,null,null,null,null,null,null,null,null,null,null,null,null,null,null,null,null,null,null,null,null,null,null,null,null,null,null,null,null,null,null,null,null,null,null,null,null,null,null,{"$f":"IF(data_pp_combined!$C34=0, \"\", OFFSET(data_pp_post!FT$1, data_pp_combined!$B34-1, 0))","v":""},{"$f":"IF(data_pp_combined!$C34=0, \"\", OFFSET(data_pp_post!FU$1, data_pp_combined!$B34-1, 0))","v":""},{"$f":"IF(data_pp_pre!FV34=\"\", \"\", data_pp_pre!FV34)","v":""},""]
[null,null,null,null,null,null,null,null,null,null,null,null,null,null,null,null,null,null,null,null,null,null,null,null,null,null,null,null,null,null,null,null,null,null,null,null,null,null,null,null,null,null,null,null,null,null,null,null,null,null,null,null,null,null,null,null,null,null,null,null,null,null,null,null,null,null,null,null,null,null,null,null,null,null,null,null,null,null,null,null,null,null,null,null,null,null,null,null,null,null,null,null,null,null,null,null,null,null,null,null,null,null,null,null,null,null,null,null,null,null,null,null,null,null,null,null,null,null,null,null,null,null,null,null,null,null,null,null,null,null,null,null,null,null,null,null,null,null,null,null,null,null,null,null,null,null,null,null,null,null,null,null,null,null,null,null,null,null,null,null,null,null,null,null,null,null,null,null,null,null,null,null,null,null,null,null,null,null,null,{"$f":"IF(data_pp_combined!$C35=0, \"\", OFFSET(data_pp_post!FT$1, data_pp_combined!$B35-1, 0))","v":""},{"$f":"IF(data_pp_combined!$C35=0, \"\", OFFSET(data_pp_post!FU$1, data_pp_combined!$B35-1, 0))","v":""},{"$f":"IF(data_pp_pre!FV35=\"\", \"\", data_pp_pre!FV35)","v":""},""]
[null,null,null,null,null,null,null,null,null,null,null,null,null,null,null,null,null,null,null,null,null,null,null,null,null,null,null,null,null,null,null,null,null,null,null,null,null,null,null,null,null,null,null,null,null,null,null,null,null,null,null,null,null,null,null,null,null,null,null,null,null,null,null,null,null,null,null,null,null,null,null,null,null,null,null,null,null,null,null,null,null,null,null,null,null,null,null,null,null,null,null,null,null,null,null,null,null,null,null,null,null,null,null,null,null,null,null,null,null,null,null,null,null,null,null,null,null,null,null,null,null,null,null,null,null,null,null,null,null,null,null,null,null,null,null,null,null,null,null,null,null,null,null,null,null,null,null,null,null,null,null,null,null,null,null,null,null,null,null,null,null,null,null,null,null,null,null,null,null,null,null,null,null,null,null,null,null,null,null,{"$f":"IF(data_pp_combined!$C36=0, \"\", OFFSET(data_pp_post!FT$1, data_pp_combined!$B36-1, 0))","v":""},{"$f":"IF(data_pp_combined!$C36=0, \"\", OFFSET(data_pp_post!FU$1, data_pp_combined!$B36-1, 0))","v":""},{"$f":"IF(data_pp_pre!FV36=\"\", \"\", data_pp_pre!FV36)","v":""},""]
[null,null,null,null,null,null,null,null,null,null,null,null,null,null,null,null,null,null,null,null,null,null,null,null,null,null,null,null,null,null,null,null,null,null,null,null,null,null,null,null,null,null,null,null,null,null,null,null,null,null,null,null,null,null,null,null,null,null,null,null,null,null,null,null,null,null,null,null,null,null,null,null,null,null,null,null,null,null,null,null,null,null,null,null,null,null,null,null,null,null,null,null,null,null,null,null,null,null,null,null,null,null,null,null,null,null,null,null,null,null,null,null,null,null,null,null,null,null,null,null,null,null,null,null,null,null,null,null,null,null,null,null,null,null,null,null,null,null,null,null,null,null,null,null,null,null,null,null,null,null,null,null,null,null,null,null,null,null,null,null,null,null,null,null,null,null,null,null,null,null,null,null,null,null,null,null,null,null,null,{"$f":"IF(data_pp_combined!$C37=0, \"\", OFFSET(data_pp_post!FT$1, data_pp_combined!$B37-1, 0))","v":""},{"$f":"IF(data_pp_combined!$C37=0, \"\", OFFSET(data_pp_post!FU$1, data_pp_combined!$B37-1, 0))","v":""},{"$f":"IF(data_pp_pre!FV37=\"\", \"\", data_pp_pre!FV37)","v":""},""]
[null,null,null,null,null,null,null,null,null,null,null,null,null,null,null,null,null,null,null,null,null,null,null,null,null,null,null,null,null,null,null,null,null,null,null,null,null,null,null,null,null,null,null,null,null,null,null,null,null,null,null,null,null,null,null,null,null,null,null,null,null,null,null,null,null,null,null,null,null,null,null,null,null,null,null,null,null,null,null,null,null,null,null,null,null,null,null,null,null,null,null,null,null,null,null,null,null,null,null,null,null,null,null,null,null,null,null,null,null,null,null,null,null,null,null,null,null,null,null,null,null,null,null,null,null,null,null,null,null,null,null,null,null,null,null,null,null,null,null,null,null,null,null,null,null,null,null,null,null,null,null,null,null,null,null,null,null,null,null,null,null,null,null,null,null,null,null,null,null,null,null,null,null,null,null,null,null,null,null,{"$f":"IF(data_pp_combined!$C38=0, \"\", OFFSET(data_pp_post!FT$1, data_pp_combined!$B38-1, 0))","v":""},{"$f":"IF(data_pp_combined!$C38=0, \"\", OFFSET(data_pp_post!FU$1, data_pp_combined!$B38-1, 0))","v":""},{"$f":"IF(data_pp_pre!FV38=\"\", \"\", data_pp_pre!FV38)","v":""},""]
[null,null,null,null,null,null,null,null,null,null,null,null,null,null,null,null,null,null,null,null,null,null,null,null,null,null,null,null,null,null,null,null,null,null,null,null,null,null,null,null,null,null,null,null,null,null,null,null,null,null,null,null,null,null,null,null,null,null,null,null,null,null,null,null,null,null,null,null,null,null,null,null,null,null,null,null,null,null,null,null,null,null,null,null,null,null,null,null,null,null,null,null,null,null,null,null,null,null,null,null,null,null,null,null,null,null,null,null,null,null,null,null,null,null,null,null,null,null,null,null,null,null,null,null,null,null,null,null,null,null,null,null,null,null,null,null,null,null,null,null,null,null,null,null,null,null,null,null,null,null,null,null,null,null,null,null,null,null,null,null,null,null,null,null,null,null,null,null,null,null,null,null,null,null,null,null,null,null,null,{"$f":"IF(data_pp_combined!$C39=0, \"\", OFFSET(data_pp_post!FT$1, data_pp_combined!$B39-1, 0))","v":""},{"$f":"IF(data_pp_combined!$C39=0, \"\", OFFSET(data_pp_post!FU$1, data_pp_combined!$B39-1, 0))","v":""},{"$f":"IF(data_pp_pre!FV39=\"\", \"\", data_pp_pre!FV39)","v":""},""]
[null,null,null,null,null,null,null,null,null,null,null,null,null,null,null,null,null,null,null,null,null,null,null,null,null,null,null,null,null,null,null,null,null,null,null,null,null,null,null,null,null,null,null,null,null,null,null,null,null,null,null,null,null,null,null,null,null,null,null,null,null,null,null,null,null,null,null,null,null,null,null,null,null,null,null,null,null,null,null,null,null,null,null,null,null,null,null,null,null,null,null,null,null,null,null,null,null,null,null,null,null,null,null,null,null,null,null,null,null,null,null,null,null,null,null,null,null,null,null,null,null,null,null,null,null,null,null,null,null,null,null,null,null,null,null,null,null,null,null,null,null,null,null,null,null,null,null,null,null,null,null,null,null,null,null,null,null,null,null,null,null,null,null,null,null,null,null,null,null,null,null,null,null,null,null,null,null,null,null,{"$f":"IF(data_pp_combined!$C40=0, \"\", OFFSET(data_pp_post!FT$1, data_pp_combined!$B40-1, 0))","v":""},{"$f":"IF(data_pp_combined!$C40=0, \"\", OFFSET(data_pp_post!FU$1, data_pp_combined!$B40-1, 0))","v":""},{"$f":"IF(data_pp_pre!FV40=\"\", \"\", data_pp_pre!FV40)","v":""},""]
[null,null,null,null,null,null,null,null,null,null,null,null,null,null,null,null,null,null,null,null,null,null,null,null,null,null,null,null,null,null,null,null,null,null,null,null,null,null,null,null,null,null,null,null,null,null,null,null,null,null,null,null,null,null,null,null,null,null,null,null,null,null,null,null,null,null,null,null,null,null,null,null,null,null,null,null,null,null,null,null,null,null,null,null,null,null,null,null,null,null,null,null,null,null,null,null,null,null,null,null,null,null,null,null,null,null,null,null,null,null,null,null,null,null,null,null,null,null,null,null,null,null,null,null,null,null,null,null,null,null,null,null,null,null,null,null,null,null,null,null,null,null,null,null,null,null,null,null,null,null,null,null,null,null,null,null,null,null,null,null,null,null,null,null,null,null,null,null,null,null,null,null,null,null,null,null,null,null,null,{"$f":"IF(data_pp_combined!$C41=0, \"\", OFFSET(data_pp_post!FT$1, data_pp_combined!$B41-1, 0))","v":""},{"$f":"IF(data_pp_combined!$C41=0, \"\", OFFSET(data_pp_post!FU$1, data_pp_combined!$B41-1, 0))","v":""},{"$f":"IF(data_pp_pre!FV41=\"\", \"\", data_pp_pre!FV41)","v":""},""]
[null,null,null,null,null,null,null,null,null,null,null,null,null,null,null,null,null,null,null,null,null,null,null,null,null,null,null,null,null,null,null,null,null,null,null,null,null,null,null,null,null,null,null,null,null,null,null,null,null,null,null,null,null,null,null,null,null,null,null,null,null,null,null,null,null,null,null,null,null,null,null,null,null,null,null,null,null,null,null,null,null,null,null,null,null,null,null,null,null,null,null,null,null,null,null,null,null,null,null,null,null,null,null,null,null,null,null,null,null,null,null,null,null,null,null,null,null,null,null,null,null,null,null,null,null,null,null,null,null,null,null,null,null,null,null,null,null,null,null,null,null,null,null,null,null,null,null,null,null,null,null,null,null,null,null,null,null,null,null,null,null,null,null,null,null,null,null,null,null,null,null,null,null,null,null,null,null,null,null,{"$f":"IF(data_pp_combined!$C42=0, \"\", OFFSET(data_pp_post!FT$1, data_pp_combined!$B42-1, 0))","v":""},{"$f":"IF(data_pp_combined!$C42=0, \"\", OFFSET(data_pp_post!FU$1, data_pp_combined!$B42-1, 0))","v":""},{"$f":"IF(data_pp_pre!FV42=\"\", \"\", data_pp_pre!FV42)","v":""},""]
[null,null,null,null,null,null,null,null,null,null,null,null,null,null,null,null,null,null,null,null,null,null,null,null,null,null,null,null,null,null,null,null,null,null,null,null,null,null,null,null,null,null,null,null,null,null,null,null,null,null,null,null,null,null,null,null,null,null,null,null,null,null,null,null,null,null,null,null,null,null,null,null,null,null,null,null,null,null,null,null,null,null,null,null,null,null,null,null,null,null,null,null,null,null,null,null,null,null,null,null,null,null,null,null,null,null,null,null,null,null,null,null,null,null,null,null,null,null,null,null,null,null,null,null,null,null,null,null,null,null,null,null,null,null,null,null,null,null,null,null,null,null,null,null,null,null,null,null,null,null,null,null,null,null,null,null,null,null,null,null,null,null,null,null,null,null,null,null,null,null,null,null,null,null,null,null,null,null,null,{"$f":"IF(data_pp_combined!$C43=0, \"\", OFFSET(data_pp_post!FT$1, data_pp_combined!$B43-1, 0))","v":""},{"$f":"IF(data_pp_combined!$C43=0, \"\", OFFSET(data_pp_post!FU$1, data_pp_combined!$B43-1, 0))","v":""},{"$f":"IF(data_pp_pre!FV43=\"\", \"\", data_pp_pre!FV43)","v":""},""]
[null,null,null,null,null,null,null,null,null,null,null,null,null,null,null,null,null,null,null,null,null,null,null,null,null,null,null,null,null,null,null,null,null,null,null,null,null,null,null,null,null,null,null,null,null,null,null,null,null,null,null,null,null,null,null,null,null,null,null,null,null,null,null,null,null,null,null,null,null,null,null,null,null,null,null,null,null,null,null,null,null,null,null,null,null,null,null,null,null,null,null,null,null,null,null,null,null,null,null,null,null,null,null,null,null,null,null,null,null,null,null,null,null,null,null,null,null,null,null,null,null,null,null,null,null,null,null,null,null,null,null,null,null,null,null,null,null,null,null,null,null,null,null,null,null,null,null,null,null,null,null,null,null,null,null,null,null,null,null,null,null,null,null,null,null,null,null,null,null,null,null,null,null,null,null,null,null,null,null,{"$f":"IF(data_pp_combined!$C44=0, \"\", OFFSET(data_pp_post!FT$1, data_pp_combined!$B44-1, 0))","v":""},{"$f":"IF(data_pp_combined!$C44=0, \"\", OFFSET(data_pp_post!FU$1, data_pp_combined!$B44-1, 0))","v":""},{"$f":"IF(data_pp_pre!FV44=\"\", \"\", data_pp_pre!FV44)","v":""},""]
[null,null,null,null,null,null,null,null,null,null,null,null,null,null,null,null,null,null,null,null,null,null,null,null,null,null,null,null,null,null,null,null,null,null,null,null,null,null,null,null,null,null,null,null,null,null,null,null,null,null,null,null,null,null,null,null,null,null,null,null,null,null,null,null,null,null,null,null,null,null,null,null,null,null,null,null,null,null,null,null,null,null,null,null,null,null,null,null,null,null,null,null,null,null,null,null,null,null,null,null,null,null,null,null,null,null,null,null,null,null,null,null,null,null,null,null,null,null,null,null,null,null,null,null,null,null,null,null,null,null,null,null,null,null,null,null,null,null,null,null,null,null,null,null,null,null,null,null,null,null,null,null,null,null,null,null,null,null,null,null,null,null,null,null,null,null,null,null,null,null,null,null,null,null,null,null,null,null,null,{"$f":"IF(data_pp_combined!$C45=0, \"\", OFFSET(data_pp_post!FT$1, data_pp_combined!$B45-1, 0))","v":""},{"$f":"IF(data_pp_combined!$C45=0, \"\", OFFSET(data_pp_post!FU$1, data_pp_combined!$B45-1, 0))","v":""},{"$f":"IF(data_pp_pre!FV45=\"\", \"\", data_pp_pre!FV45)","v":""},""]
[null,null,null,null,null,null,null,null,null,null,null,null,null,null,null,null,null,null,null,null,null,null,null,null,null,null,null,null,null,null,null,null,null,null,null,null,null,null,null,null,null,null,null,null,null,null,null,null,null,null,null,null,null,null,null,null,null,null,null,null,null,null,null,null,null,null,null,null,null,null,null,null,null,null,null,null,null,null,null,null,null,null,null,null,null,null,null,null,null,null,null,null,null,null,null,null,null,null,null,null,null,null,null,null,null,null,null,null,null,null,null,null,null,null,null,null,null,null,null,null,null,null,null,null,null,null,null,null,null,null,null,null,null,null,null,null,null,null,null,null,null,null,null,null,null,null,null,null,null,null,null,null,null,null,null,null,null,null,null,null,null,null,null,null,null,null,null,null,null,null,null,null,null,null,null,null,null,null,null,{"$f":"IF(data_pp_combined!$C46=0, \"\", OFFSET(data_pp_post!FT$1, data_pp_combined!$B46-1, 0))","v":""},{"$f":"IF(data_pp_combined!$C46=0, \"\", OFFSET(data_pp_post!FU$1, data_pp_combined!$B46-1, 0))","v":""},{"$f":"IF(data_pp_pre!FV46=\"\", \"\", data_pp_pre!FV46)","v":""},""]
[null,null,null,null,null,null,null,null,null,null,null,null,null,null,null,null,null,null,null,null,null,null,null,null,null,null,null,null,null,null,null,null,null,null,null,null,null,null,null,null,null,null,null,null,null,null,null,null,null,null,null,null,null,null,null,null,null,null,null,null,null,null,null,null,null,null,null,null,null,null,null,null,null,null,null,null,null,null,null,null,null,null,null,null,null,null,null,null,null,null,null,null,null,null,null,null,null,null,null,null,null,null,null,null,null,null,null,null,null,null,null,null,null,null,null,null,null,null,null,null,null,null,null,null,null,null,null,null,null,null,null,null,null,null,null,null,null,null,null,null,null,null,null,null,null,null,null,null,null,null,null,null,null,null,null,null,null,null,null,null,null,null,null,null,null,null,null,null,null,null,null,null,null,null,null,null,null,null,null,{"$f":"IF(data_pp_combined!$C47=0, \"\", OFFSET(data_pp_post!FT$1, data_pp_combined!$B47-1, 0))","v":""},{"$f":"IF(data_pp_combined!$C47=0, \"\", OFFSET(data_pp_post!FU$1, data_pp_combined!$B47-1, 0))","v":""},{"$f":"IF(data_pp_pre!FV47=\"\", \"\", data_pp_pre!FV47)","v":""},""]
[null,null,null,null,null,null,null,null,null,null,null,null,null,null,null,null,null,null,null,null,null,null,null,null,null,null,null,null,null,null,null,null,null,null,null,null,null,null,null,null,null,null,null,null,null,null,null,null,null,null,null,null,null,null,null,null,null,null,null,null,null,null,null,null,null,null,null,null,null,null,null,null,null,null,null,null,null,null,null,null,null,null,null,null,null,null,null,null,null,null,null,null,null,null,null,null,null,null,null,null,null,null,null,null,null,null,null,null,null,null,null,null,null,null,null,null,null,null,null,null,null,null,null,null,null,null,null,null,null,null,null,null,null,null,null,null,null,null,null,null,null,null,null,null,null,null,null,null,null,null,null,null,null,null,null,null,null,null,null,null,null,null,null,null,null,null,null,null,null,null,null,null,null,null,null,null,null,null,null,{"$f":"IF(data_pp_combined!$C48=0, \"\", OFFSET(data_pp_post!FT$1, data_pp_combined!$B48-1, 0))","v":""},{"$f":"IF(data_pp_combined!$C48=0, \"\", OFFSET(data_pp_post!FU$1, data_pp_combined!$B48-1, 0))","v":""},{"$f":"IF(data_pp_pre!FV48=\"\", \"\", data_pp_pre!FV48)","v":""},""]
[null,null,null,null,null,null,null,null,null,null,null,null,null,null,null,null,null,null,null,null,null,null,null,null,null,null,null,null,null,null,null,null,null,null,null,null,null,null,null,null,null,null,null,null,null,null,null,null,null,null,null,null,null,null,null,null,null,null,null,null,null,null,null,null,null,null,null,null,null,null,null,null,null,null,null,null,null,null,null,null,null,null,null,null,null,null,null,null,null,null,null,null,null,null,null,null,null,null,null,null,null,null,null,null,null,null,null,null,null,null,null,null,null,null,null,null,null,null,null,null,null,null,null,null,null,null,null,null,null,null,null,null,null,null,null,null,null,null,null,null,null,null,null,null,null,null,null,null,null,null,null,null,null,null,null,null,null,null,null,null,null,null,null,null,null,null,null,null,null,null,null,null,null,null,null,null,null,null,null,{"$f":"IF(data_pp_combined!$C49=0, \"\", OFFSET(data_pp_post!FT$1, data_pp_combined!$B49-1, 0))","v":""},{"$f":"IF(data_pp_combined!$C49=0, \"\", OFFSET(data_pp_post!FU$1, data_pp_combined!$B49-1, 0))","v":""},{"$f":"IF(data_pp_pre!FV49=\"\", \"\", data_pp_pre!FV49)","v":""},""]
[null,null,null,null,null,null,null,null,null,null,null,null,null,null,null,null,null,null,null,null,null,null,null,null,null,null,null,null,null,null,null,null,null,null,null,null,null,null,null,null,null,null,null,null,null,null,null,null,null,null,null,null,null,null,null,null,null,null,null,null,null,null,null,null,null,null,null,null,null,null,null,null,null,null,null,null,null,null,null,null,null,null,null,null,null,null,null,null,null,null,null,null,null,null,null,null,null,null,null,null,null,null,null,null,null,null,null,null,null,null,null,null,null,null,null,null,null,null,null,null,null,null,null,null,null,null,null,null,null,null,null,null,null,null,null,null,null,null,null,null,null,null,null,null,null,null,null,null,null,null,null,null,null,null,null,null,null,null,null,null,null,null,null,null,null,null,null,null,null,null,null,null,null,null,null,null,null,null,null,{"$f":"IF(data_pp_combined!$C50=0, \"\", OFFSET(data_pp_post!FT$1, data_pp_combined!$B50-1, 0))","v":""},{"$f":"IF(data_pp_combined!$C50=0, \"\", OFFSET(data_pp_post!FU$1, data_pp_combined!$B50-1, 0))","v":""},{"$f":"IF(data_pp_pre!FV50=\"\", \"\", data_pp_pre!FV50)","v":""},""]
[null,null,null,null,null,null,null,null,null,null,null,null,null,null,null,null,null,null,null,null,null,null,null,null,null,null,null,null,null,null,null,null,null,null,null,null,null,null,null,null,null,null,null,null,null,null,null,null,null,null,null,null,null,null,null,null,null,null,null,null,null,null,null,null,null,null,null,null,null,null,null,null,null,null,null,null,null,null,null,null,null,null,null,null,null,null,null,null,null,null,null,null,null,null,null,null,null,null,null,null,null,null,null,null,null,null,null,null,null,null,null,null,null,null,null,null,null,null,null,null,null,null,null,null,null,null,null,null,null,null,null,null,null,null,null,null,null,null,null,null,null,null,null,null,null,null,null,null,null,null,null,null,null,null,null,null,null,null,null,null,null,null,null,null,null,null,null,null,null,null,null,null,null,null,null,null,null,null,null,{"$f":"IF(data_pp_combined!$C51=0, \"\", OFFSET(data_pp_post!FT$1, data_pp_combined!$B51-1, 0))","v":""},{"$f":"IF(data_pp_combined!$C51=0, \"\", OFFSET(data_pp_post!FU$1, data_pp_combined!$B51-1, 0))","v":""},{"$f":"IF(data_pp_pre!FV51=\"\", \"\", data_pp_pre!FV51)","v":""},""]
[null,null,null,null,null,null,null,null,null,null,null,null,null,null,null,null,null,null,null,null,null,null,null,null,null,null,null,null,null,null,null,null,null,null,null,null,null,null,null,null,null,null,null,null,null,null,null,null,null,null,null,null,null,null,null,null,null,null,null,null,null,null,null,null,null,null,null,null,null,null,null,null,null,null,null,null,null,null,null,null,null,null,null,null,null,null,null,null,null,null,null,null,null,null,null,null,null,null,null,null,null,null,null,null,null,null,null,null,null,null,null,null,null,null,null,null,null,null,null,null,null,null,null,null,null,null,null,null,null,null,null,null,null,null,null,null,null,null,null,null,null,null,null,null,null,null,null,null,null,null,null,null,null,null,null,null,null,null,null,null,null,null,null,null,null,null,null,null,null,null,null,null,null,null,null,null,null,null,null,{"$f":"IF(data_pp_combined!$C52=0, \"\", OFFSET(data_pp_post!FT$1, data_pp_combined!$B52-1, 0))","v":""},{"$f":"IF(data_pp_combined!$C52=0, \"\", OFFSET(data_pp_post!FU$1, data_pp_combined!$B52-1, 0))","v":""},{"$f":"IF(data_pp_pre!FV52=\"\", \"\", data_pp_pre!FV52)","v":""},""]
[null,null,null,null,null,null,null,null,null,null,null,null,null,null,null,null,null,null,null,null,null,null,null,null,null,null,null,null,null,null,null,null,null,null,null,null,null,null,null,null,null,null,null,null,null,null,null,null,null,null,null,null,null,null,null,null,null,null,null,null,null,null,null,null,null,null,null,null,null,null,null,null,null,null,null,null,null,null,null,null,null,null,null,null,null,null,null,null,null,null,null,null,null,null,null,null,null,null,null,null,null,null,null,null,null,null,null,null,null,null,null,null,null,null,null,null,null,null,null,null,null,null,null,null,null,null,null,null,null,null,null,null,null,null,null,null,null,null,null,null,null,null,null,null,null,null,null,null,null,null,null,null,null,null,null,null,null,null,null,null,null,null,null,null,null,null,null,null,null,null,null,null,null,null,null,null,null,null,null,{"$f":"IF(data_pp_combined!$C53=0, \"\", OFFSET(data_pp_post!FT$1, data_pp_combined!$B53-1, 0))","v":""},{"$f":"IF(data_pp_combined!$C53=0, \"\", OFFSET(data_pp_post!FU$1, data_pp_combined!$B53-1, 0))","v":""},{"$f":"IF(data_pp_pre!FV53=\"\", \"\", data_pp_pre!FV53)","v":""},""]
[null,null,null,null,null,null,null,null,null,null,null,null,null,null,null,null,null,null,null,null,null,null,null,null,null,null,null,null,null,null,null,null,null,null,null,null,null,null,null,null,null,null,null,null,null,null,null,null,null,null,null,null,null,null,null,null,null,null,null,null,null,null,null,null,null,null,null,null,null,null,null,null,null,null,null,null,null,null,null,null,null,null,null,null,null,null,null,null,null,null,null,null,null,null,null,null,null,null,null,null,null,null,null,null,null,null,null,null,null,null,null,null,null,null,null,null,null,null,null,null,null,null,null,null,null,null,null,null,null,null,null,null,null,null,null,null,null,null,null,null,null,null,null,null,null,null,null,null,null,null,null,null,null,null,null,null,null,null,null,null,null,null,null,null,null,null,null,null,null,null,null,null,null,null,null,null,null,null,null,{"$f":"IF(data_pp_combined!$C54=0, \"\", OFFSET(data_pp_post!FT$1, data_pp_combined!$B54-1, 0))","v":""},{"$f":"IF(data_pp_combined!$C54=0, \"\", OFFSET(data_pp_post!FU$1, data_pp_combined!$B54-1, 0))","v":""},{"$f":"IF(data_pp_pre!FV54=\"\", \"\", data_pp_pre!FV54)","v":""},""]
[null,null,null,null,null,null,null,null,null,null,null,null,null,null,null,null,null,null,null,null,null,null,null,null,null,null,null,null,null,null,null,null,null,null,null,null,null,null,null,null,null,null,null,null,null,null,null,null,null,null,null,null,null,null,null,null,null,null,null,null,null,null,null,null,null,null,null,null,null,null,null,null,null,null,null,null,null,null,null,null,null,null,null,null,null,null,null,null,null,null,null,null,null,null,null,null,null,null,null,null,null,null,null,null,null,null,null,null,null,null,null,null,null,null,null,null,null,null,null,null,null,null,null,null,null,null,null,null,null,null,null,null,null,null,null,null,null,null,null,null,null,null,null,null,null,null,null,null,null,null,null,null,null,null,null,null,null,null,null,null,null,null,null,null,null,null,null,null,null,null,null,null,null,null,null,null,null,null,null,{"$f":"IF(data_pp_combined!$C55=0, \"\", OFFSET(data_pp_post!FT$1, data_pp_combined!$B55-1, 0))","v":""},{"$f":"IF(data_pp_combined!$C55=0, \"\", OFFSET(data_pp_post!FU$1, data_pp_combined!$B55-1, 0))","v":""},{"$f":"IF(data_pp_pre!FV55=\"\", \"\", data_pp_pre!FV55)","v":""},""]
[null,null,null,null,null,null,null,null,null,null,null,null,null,null,null,null,null,null,null,null,null,null,null,null,null,null,null,null,null,null,null,null,null,null,null,null,null,null,null,null,null,null,null,null,null,null,null,null,null,null,null,null,null,null,null,null,null,null,null,null,null,null,null,null,null,null,null,null,null,null,null,null,null,null,null,null,null,null,null,null,null,null,null,null,null,null,null,null,null,null,null,null,null,null,null,null,null,null,null,null,null,null,null,null,null,null,null,null,null,null,null,null,null,null,null,null,null,null,null,null,null,null,null,null,null,null,null,null,null,null,null,null,null,null,null,null,null,null,null,null,null,null,null,null,null,null,null,null,null,null,null,null,null,null,null,null,null,null,null,null,null,null,null,null,null,null,null,null,null,null,null,null,null,null,null,null,null,null,null,{"$f":"IF(data_pp_combined!$C56=0, \"\", OFFSET(data_pp_post!FT$1, data_pp_combined!$B56-1, 0))","v":""},{"$f":"IF(data_pp_combined!$C56=0, \"\", OFFSET(data_pp_post!FU$1, data_pp_combined!$B56-1, 0))","v":""},{"$f":"IF(data_pp_pre!FV56=\"\", \"\", data_pp_pre!FV56)","v":""},""]
[null,null,null,null,null,null,null,null,null,null,null,null,null,null,null,null,null,null,null,null,null,null,null,null,null,null,null,null,null,null,null,null,null,null,null,null,null,null,null,null,null,null,null,null,null,null,null,null,null,null,null,null,null,null,null,null,null,null,null,null,null,null,null,null,null,null,null,null,null,null,null,null,null,null,null,null,null,null,null,null,null,null,null,null,null,null,null,null,null,null,null,null,null,null,null,null,null,null,null,null,null,null,null,null,null,null,null,null,null,null,null,null,null,null,null,null,null,null,null,null,null,null,null,null,null,null,null,null,null,null,null,null,null,null,null,null,null,null,null,null,null,null,null,null,null,null,null,null,null,null,null,null,null,null,null,null,null,null,null,null,null,null,null,null,null,null,null,null,null,null,null,null,null,null,null,null,null,null,null,{"$f":"IF(data_pp_combined!$C57=0, \"\", OFFSET(data_pp_post!FT$1, data_pp_combined!$B57-1, 0))","v":""},{"$f":"IF(data_pp_combined!$C57=0, \"\", OFFSET(data_pp_post!FU$1, data_pp_combined!$B57-1, 0))","v":""},{"$f":"IF(data_pp_pre!FV57=\"\", \"\", data_pp_pre!FV57)","v":""},""]
[null,null,null,null,null,null,null,null,null,null,null,null,null,null,null,null,null,null,null,null,null,null,null,null,null,null,null,null,null,null,null,null,null,null,null,null,null,null,null,null,null,null,null,null,null,null,null,null,null,null,null,null,null,null,null,null,null,null,null,null,null,null,null,null,null,null,null,null,null,null,null,null,null,null,null,null,null,null,null,null,null,null,null,null,null,null,null,null,null,null,null,null,null,null,null,null,null,null,null,null,null,null,null,null,null,null,null,null,null,null,null,null,null,null,null,null,null,null,null,null,null,null,null,null,null,null,null,null,null,null,null,null,null,null,null,null,null,null,null,null,null,null,null,null,null,null,null,null,null,null,null,null,null,null,null,null,null,null,null,null,null,null,null,null,null,null,null,null,null,null,null,null,null,null,null,null,null,null,null,{"$f":"IF(data_pp_combined!$C58=0, \"\", OFFSET(data_pp_post!FT$1, data_pp_combined!$B58-1, 0))","v":""},{"$f":"IF(data_pp_combined!$C58=0, \"\", OFFSET(data_pp_post!FU$1, data_pp_combined!$B58-1, 0))","v":""},{"$f":"IF(data_pp_pre!FV58=\"\", \"\", data_pp_pre!FV58)","v":""},""]
[null,null,null,null,null,null,null,null,null,null,null,null,null,null,null,null,null,null,null,null,null,null,null,null,null,null,null,null,null,null,null,null,null,null,null,null,null,null,null,null,null,null,null,null,null,null,null,null,null,null,null,null,null,null,null,null,null,null,null,null,null,null,null,null,null,null,null,null,null,null,null,null,null,null,null,null,null,null,null,null,null,null,null,null,null,null,null,null,null,null,null,null,null,null,null,null,null,null,null,null,null,null,null,null,null,null,null,null,null,null,null,null,null,null,null,null,null,null,null,null,null,null,null,null,null,null,null,null,null,null,null,null,null,null,null,null,null,null,null,null,null,null,null,null,null,null,null,null,null,null,null,null,null,null,null,null,null,null,null,null,null,null,null,null,null,null,null,null,null,null,null,null,null,null,null,null,null,null,null,{"$f":"IF(data_pp_combined!$C59=0, \"\", OFFSET(data_pp_post!FT$1, data_pp_combined!$B59-1, 0))","v":""},{"$f":"IF(data_pp_combined!$C59=0, \"\", OFFSET(data_pp_post!FU$1, data_pp_combined!$B59-1, 0))","v":""},{"$f":"IF(data_pp_pre!FV59=\"\", \"\", data_pp_pre!FV59)","v":""},""]
[null,null,null,null,null,null,null,null,null,null,null,null,null,null,null,null,null,null,null,null,null,null,null,null,null,null,null,null,null,null,null,null,null,null,null,null,null,null,null,null,null,null,null,null,null,null,null,null,null,null,null,null,null,null,null,null,null,null,null,null,null,null,null,null,null,null,null,null,null,null,null,null,null,null,null,null,null,null,null,null,null,null,null,null,null,null,null,null,null,null,null,null,null,null,null,null,null,null,null,null,null,null,null,null,null,null,null,null,null,null,null,null,null,null,null,null,null,null,null,null,null,null,null,null,null,null,null,null,null,null,null,null,null,null,null,null,null,null,null,null,null,null,null,null,null,null,null,null,null,null,null,null,null,null,null,null,null,null,null,null,null,null,null,null,null,null,null,null,null,null,null,null,null,null,null,null,null,null,null,{"$f":"IF(data_pp_combined!$C60=0, \"\", OFFSET(data_pp_post!FT$1, data_pp_combined!$B60-1, 0))","v":""},{"$f":"IF(data_pp_combined!$C60=0, \"\", OFFSET(data_pp_post!FU$1, data_pp_combined!$B60-1, 0))","v":""},{"$f":"IF(data_pp_pre!FV60=\"\", \"\", data_pp_pre!FV60)","v":""},""]
[null,null,null,null,null,null,null,null,null,null,null,null,null,null,null,null,null,null,null,null,null,null,null,null,null,null,null,null,null,null,null,null,null,null,null,null,null,null,null,null,null,null,null,null,null,null,null,null,null,null,null,null,null,null,null,null,null,null,null,null,null,null,null,null,null,null,null,null,null,null,null,null,null,null,null,null,null,null,null,null,null,null,null,null,null,null,null,null,null,null,null,null,null,null,null,null,null,null,null,null,null,null,null,null,null,null,null,null,null,null,null,null,null,null,null,null,null,null,null,null,null,null,null,null,null,null,null,null,null,null,null,null,null,null,null,null,null,null,null,null,null,null,null,null,null,null,null,null,null,null,null,null,null,null,null,null,null,null,null,null,null,null,null,null,null,null,null,null,null,null,null,null,null,null,null,null,null,null,null,{"$f":"IF(data_pp_combined!$C61=0, \"\", OFFSET(data_pp_post!FT$1, data_pp_combined!$B61-1, 0))","v":""},{"$f":"IF(data_pp_combined!$C61=0, \"\", OFFSET(data_pp_post!FU$1, data_pp_combined!$B61-1, 0))","v":""},{"$f":"IF(data_pp_pre!FV61=\"\", \"\", data_pp_pre!FV61)","v":""},""]
[null,null,null,null,null,null,null,null,null,null,null,null,null,null,null,null,null,null,null,null,null,null,null,null,null,null,null,null,null,null,null,null,null,null,null,null,null,null,null,null,null,null,null,null,null,null,null,null,null,null,null,null,null,null,null,null,null,null,null,null,null,null,null,null,null,null,null,null,null,null,null,null,null,null,null,null,null,null,null,null,null,null,null,null,null,null,null,null,null,null,null,null,null,null,null,null,null,null,null,null,null,null,null,null,null,null,null,null,null,null,null,null,null,null,null,null,null,null,null,null,null,null,null,null,null,null,null,null,null,null,null,null,null,null,null,null,null,null,null,null,null,null,null,null,null,null,null,null,null,null,null,null,null,null,null,null,null,null,null,null,null,null,null,null,null,null,null,null,null,null,null,null,null,null,null,null,null,null,null,{"$f":"IF(data_pp_combined!$C62=0, \"\", OFFSET(data_pp_post!FT$1, data_pp_combined!$B62-1, 0))","v":""},{"$f":"IF(data_pp_combined!$C62=0, \"\", OFFSET(data_pp_post!FU$1, data_pp_combined!$B62-1, 0))","v":""},{"$f":"IF(data_pp_pre!FV62=\"\", \"\", data_pp_pre!FV62)","v":""},""]
[null,null,null,null,null,null,null,null,null,null,null,null,null,null,null,null,null,null,null,null,null,null,null,null,null,null,null,null,null,null,null,null,null,null,null,null,null,null,null,null,null,null,null,null,null,null,null,null,null,null,null,null,null,null,null,null,null,null,null,null,null,null,null,null,null,null,null,null,null,null,null,null,null,null,null,null,null,null,null,null,null,null,null,null,null,null,null,null,null,null,null,null,null,null,null,null,null,null,null,null,null,null,null,null,null,null,null,null,null,null,null,null,null,null,null,null,null,null,null,null,null,null,null,null,null,null,null,null,null,null,null,null,null,null,null,null,null,null,null,null,null,null,null,null,null,null,null,null,null,null,null,null,null,null,null,null,null,null,null,null,null,null,null,null,null,null,null,null,null,null,null,null,null,null,null,null,null,null,null,{"$f":"IF(data_pp_combined!$C63=0, \"\", OFFSET(data_pp_post!FT$1, data_pp_combined!$B63-1, 0))","v":""},{"$f":"IF(data_pp_combined!$C63=0, \"\", OFFSET(data_pp_post!FU$1, data_pp_combined!$B63-1, 0))","v":""},{"$f":"IF(data_pp_pre!FV63=\"\", \"\", data_pp_pre!FV63)","v":""},""]
[null,null,null,null,null,null,null,null,null,null,null,null,null,null,null,null,null,null,null,null,null,null,null,null,null,null,null,null,null,null,null,null,null,null,null,null,null,null,null,null,null,null,null,null,null,null,null,null,null,null,null,null,null,null,null,null,null,null,null,null,null,null,null,null,null,null,null,null,null,null,null,null,null,null,null,null,null,null,null,null,null,null,null,null,null,null,null,null,null,null,null,null,null,null,null,null,null,null,null,null,null,null,null,null,null,null,null,null,null,null,null,null,null,null,null,null,null,null,null,null,null,null,null,null,null,null,null,null,null,null,null,null,null,null,null,null,null,null,null,null,null,null,null,null,null,null,null,null,null,null,null,null,null,null,null,null,null,null,null,null,null,null,null,null,null,null,null,null,null,null,null,null,null,null,null,null,null,null,null,{"$f":"IF(data_pp_combined!$C64=0, \"\", OFFSET(data_pp_post!FT$1, data_pp_combined!$B64-1, 0))","v":""},{"$f":"IF(data_pp_combined!$C64=0, \"\", OFFSET(data_pp_post!FU$1, data_pp_combined!$B64-1, 0))","v":""},{"$f":"IF(data_pp_pre!FV64=\"\", \"\", data_pp_pre!FV64)","v":""},""]
[null,null,null,null,null,null,null,null,null,null,null,null,null,null,null,null,null,null,null,null,null,null,null,null,null,null,null,null,null,null,null,null,null,null,null,null,null,null,null,null,null,null,null,null,null,null,null,null,null,null,null,null,null,null,null,null,null,null,null,null,null,null,null,null,null,null,null,null,null,null,null,null,null,null,null,null,null,null,null,null,null,null,null,null,null,null,null,null,null,null,null,null,null,null,null,null,null,null,null,null,null,null,null,null,null,null,null,null,null,null,null,null,null,null,null,null,null,null,null,null,null,null,null,null,null,null,null,null,null,null,null,null,null,null,null,null,null,null,null,null,null,null,null,null,null,null,null,null,null,null,null,null,null,null,null,null,null,null,null,null,null,null,null,null,null,null,null,null,null,null,null,null,null,null,null,null,null,null,null,{"$f":"IF(data_pp_combined!$C65=0, \"\", OFFSET(data_pp_post!FT$1, data_pp_combined!$B65-1, 0))","v":""},{"$f":"IF(data_pp_combined!$C65=0, \"\", OFFSET(data_pp_post!FU$1, data_pp_combined!$B65-1, 0))","v":""},{"$f":"IF(data_pp_pre!FV65=\"\", \"\", data_pp_pre!FV65)","v":""},""]
[null,null,null,null,null,null,null,null,null,null,null,null,null,null,null,null,null,null,null,null,null,null,null,null,null,null,null,null,null,null,null,null,null,null,null,null,null,null,null,null,null,null,null,null,null,null,null,null,null,null,null,null,null,null,null,null,null,null,null,null,null,null,null,null,null,null,null,null,null,null,null,null,null,null,null,null,null,null,null,null,null,null,null,null,null,null,null,null,null,null,null,null,null,null,null,null,null,null,null,null,null,null,null,null,null,null,null,null,null,null,null,null,null,null,null,null,null,null,null,null,null,null,null,null,null,null,null,null,null,null,null,null,null,null,null,null,null,null,null,null,null,null,null,null,null,null,null,null,null,null,null,null,null,null,null,null,null,null,null,null,null,null,null,null,null,null,null,null,null,null,null,null,null,null,null,null,null,null,null,{"$f":"IF(data_pp_combined!$C66=0, \"\", OFFSET(data_pp_post!FT$1, data_pp_combined!$B66-1, 0))","v":""},{"$f":"IF(data_pp_combined!$C66=0, \"\", OFFSET(data_pp_post!FU$1, data_pp_combined!$B66-1, 0))","v":""},{"$f":"IF(data_pp_pre!FV66=\"\", \"\", data_pp_pre!FV66)","v":""},""]
[null,null,null,null,null,null,null,null,null,null,null,null,null,null,null,null,null,null,null,null,null,null,null,null,null,null,null,null,null,null,null,null,null,null,null,null,null,null,null,null,null,null,null,null,null,null,null,null,null,null,null,null,null,null,null,null,null,null,null,null,null,null,null,null,null,null,null,null,null,null,null,null,null,null,null,null,null,null,null,null,null,null,null,null,null,null,null,null,null,null,null,null,null,null,null,null,null,null,null,null,null,null,null,null,null,null,null,null,null,null,null,null,null,null,null,null,null,null,null,null,null,null,null,null,null,null,null,null,null,null,null,null,null,null,null,null,null,null,null,null,null,null,null,null,null,null,null,null,null,null,null,null,null,null,null,null,null,null,null,null,null,null,null,null,null,null,null,null,null,null,null,null,null,null,null,null,null,null,null,{"$f":"IF(data_pp_combined!$C67=0, \"\", OFFSET(data_pp_post!FT$1, data_pp_combined!$B67-1, 0))","v":""},{"$f":"IF(data_pp_combined!$C67=0, \"\", OFFSET(data_pp_post!FU$1, data_pp_combined!$B67-1, 0))","v":""},{"$f":"IF(data_pp_pre!FV67=\"\", \"\", data_pp_pre!FV67)","v":""},{"$f":"FZ67","v":""}]
[null,null,null,null,null,null,null,null,null,null,null,null,null,null,null,null,null,null,null,null,null,null,null,null,null,null,null,null,null,null,null,null,null,null,null,null,null,null,null,null,null,null,null,null,null,null,null,null,null,null,null,null,null,null,null,null,null,null,null,null,null,null,null,null,null,null,null,null,null,null,null,null,null,null,null,null,null,null,null,null,null,null,null,null,null,null,null,null,null,null,null,null,null,null,null,null,null,null,null,null,null,null,null,null,null,null,null,null,null,null,null,null,null,null,null,null,null,null,null,null,null,null,null,null,null,null,null,null,null,null,null,null,null,null,null,null,null,null,null,null,null,null,null,null,null,null,null,null,null,null,null,null,null,null,null,null,null,null,null,null,null,null,null,null,null,null,null,null,null,null,null,null,null,null,null,null,null,null,null,{"$f":"IF(data_pp_combined!$C68=0, \"\", OFFSET(data_pp_post!FT$1, data_pp_combined!$B68-1, 0))","v":""},{"$f":"IF(data_pp_combined!$C68=0, \"\", OFFSET(data_pp_post!FU$1, data_pp_combined!$B68-1, 0))","v":""},{"$f":"IF(data_pp_pre!FV68=\"\", \"\", data_pp_pre!FV68)","v":""},""]
[null,null,null,null,null,null,null,null,null,null,null,null,null,null,null,null,null,null,null,null,null,null,null,null,null,null,null,null,null,null,null,null,null,null,null,null,null,null,null,null,null,null,null,null,null,null,null,null,null,null,null,null,null,null,null,null,null,null,null,null,null,null,null,null,null,null,null,null,null,null,null,null,null,null,null,null,null,null,null,null,null,null,null,null,null,null,null,null,null,null,null,null,null,null,null,null,null,null,null,null,null,null,null,null,null,null,null,null,null,null,null,null,null,null,null,null,null,null,null,null,null,null,null,null,null,null,null,null,null,null,null,null,null,null,null,null,null,null,null,null,null,null,null,null,null,null,null,null,null,null,null,null,null,null,null,null,null,null,null,null,null,null,null,null,null,null,null,null,null,null,null,null,null,null,null,null,null,null,null,{"$f":"IF(data_pp_combined!$C69=0, \"\", OFFSET(data_pp_post!FT$1, data_pp_combined!$B69-1, 0))","v":""},{"$f":"IF(data_pp_combined!$C69=0, \"\", OFFSET(data_pp_post!FU$1, data_pp_combined!$B69-1, 0))","v":""},{"$f":"IF(data_pp_pre!FV69=\"\", \"\", data_pp_pre!FV69)","v":""},""]
[null,null,null,null,null,null,null,null,null,null,null,null,null,null,null,null,null,null,null,null,null,null,null,null,null,null,null,null,null,null,null,null,null,null,null,null,null,null,null,null,null,null,null,null,null,null,null,null,null,null,null,null,null,null,null,null,null,null,null,null,null,null,null,null,null,null,null,null,null,null,null,null,null,null,null,null,null,null,null,null,null,null,null,null,null,null,null,null,null,null,null,null,null,null,null,null,null,null,null,null,null,null,null,null,null,null,null,null,null,null,null,null,null,null,null,null,null,null,null,null,null,null,null,null,null,null,null,null,null,null,null,null,null,null,null,null,null,null,null,null,null,null,null,null,null,null,null,null,null,null,null,null,null,null,null,null,null,null,null,null,null,null,null,null,null,null,null,null,null,null,null,null,null,null,null,null,null,null,null,{"$f":"IF(data_pp_combined!$C70=0, \"\", OFFSET(data_pp_post!FT$1, data_pp_combined!$B70-1, 0))","v":""},{"$f":"IF(data_pp_combined!$C70=0, \"\", OFFSET(data_pp_post!FU$1, data_pp_combined!$B70-1, 0))","v":""},{"$f":"IF(data_pp_pre!FV70=\"\", \"\", data_pp_pre!FV70)","v":""},""]
[null,null,null,null,null,null,null,null,null,null,null,null,null,null,null,null,null,null,null,null,null,null,null,null,null,null,null,null,null,null,null,null,null,null,null,null,null,null,null,null,null,null,null,null,null,null,null,null,null,null,null,null,null,null,null,null,null,null,null,null,null,null,null,null,null,null,null,null,null,null,null,null,null,null,null,null,null,null,null,null,null,null,null,null,null,null,null,null,null,null,null,null,null,null,null,null,null,null,null,null,null,null,null,null,null,null,null,null,null,null,null,null,null,null,null,null,null,null,null,null,null,null,null,null,null,null,null,null,null,null,null,null,null,null,null,null,null,null,null,null,null,null,null,null,null,null,null,null,null,null,null,null,null,null,null,null,null,null,null,null,null,null,null,null,null,null,null,null,null,null,null,null,null,null,null,null,null,null,null,{"$f":"IF(data_pp_combined!$C71=0, \"\", OFFSET(data_pp_post!FT$1, data_pp_combined!$B71-1, 0))","v":""},{"$f":"IF(data_pp_combined!$C71=0, \"\", OFFSET(data_pp_post!FU$1, data_pp_combined!$B71-1, 0))","v":""},{"$f":"IF(data_pp_pre!FV71=\"\", \"\", data_pp_pre!FV71)","v":""},""]
[null,null,null,null,null,null,null,null,null,null,null,null,null,null,null,null,null,null,null,null,null,null,null,null,null,null,null,null,null,null,null,null,null,null,null,null,null,null,null,null,null,null,null,null,null,null,null,null,null,null,null,null,null,null,null,null,null,null,null,null,null,null,null,null,null,null,null,null,null,null,null,null,null,null,null,null,null,null,null,null,null,null,null,null,null,null,null,null,null,null,null,null,null,null,null,null,null,null,null,null,null,null,null,null,null,null,null,null,null,null,null,null,null,null,null,null,null,null,null,null,null,null,null,null,null,null,null,null,null,null,null,null,null,null,null,null,null,null,null,null,null,null,null,null,null,null,null,null,null,null,null,null,null,null,null,null,null,null,null,null,null,null,null,null,null,null,null,null,null,null,null,null,null,null,null,null,null,null,null,{"$f":"IF(data_pp_combined!$C72=0, \"\", OFFSET(data_pp_post!FT$1, data_pp_combined!$B72-1, 0))","v":""},{"$f":"IF(data_pp_combined!$C72=0, \"\", OFFSET(data_pp_post!FU$1, data_pp_combined!$B72-1, 0))","v":""},{"$f":"IF(data_pp_pre!FV72=\"\", \"\", data_pp_pre!FV72)","v":""},""]
[null,null,null,null,null,null,null,null,null,null,null,null,null,null,null,null,null,null,null,null,null,null,null,null,null,null,null,null,null,null,null,null,null,null,null,null,null,null,null,null,null,null,null,null,null,null,null,null,null,null,null,null,null,null,null,null,null,null,null,null,null,null,null,null,null,null,null,null,null,null,null,null,null,null,null,null,null,null,null,null,null,null,null,null,null,null,null,null,null,null,null,null,null,null,null,null,null,null,null,null,null,null,null,null,null,null,null,null,null,null,null,null,null,null,null,null,null,null,null,null,null,null,null,null,null,null,null,null,null,null,null,null,null,null,null,null,null,null,null,null,null,null,null,null,null,null,null,null,null,null,null,null,null,null,null,null,null,null,null,null,null,null,null,null,null,null,null,null,null,null,null,null,null,null,null,null,null,null,null,{"$f":"IF(data_pp_combined!$C73=0, \"\", OFFSET(data_pp_post!FT$1, data_pp_combined!$B73-1, 0))","v":""},{"$f":"IF(data_pp_combined!$C73=0, \"\", OFFSET(data_pp_post!FU$1, data_pp_combined!$B73-1, 0))","v":""},{"$f":"IF(data_pp_pre!FV73=\"\", \"\", data_pp_pre!FV73)","v":""},""]
[null,null,null,null,null,null,null,null,null,null,null,null,null,null,null,null,null,null,null,null,null,null,null,null,null,null,null,null,null,null,null,null,null,null,null,null,null,null,null,null,null,null,null,null,null,null,null,null,null,null,null,null,null,null,null,null,null,null,null,null,null,null,null,null,null,null,null,null,null,null,null,null,null,null,null,null,null,null,null,null,null,null,null,null,null,null,null,null,null,null,null,null,null,null,null,null,null,null,null,null,null,null,null,null,null,null,null,null,null,null,null,null,null,null,null,null,null,null,null,null,null,null,null,null,null,null,null,null,null,null,null,null,null,null,null,null,null,null,null,null,null,null,null,null,null,null,null,null,null,null,null,null,null,null,null,null,null,null,null,null,null,null,null,null,null,null,null,null,null,null,null,null,null,null,null,null,null,null,null,{"$f":"IF(data_pp_combined!$C74=0, \"\", OFFSET(data_pp_post!FT$1, data_pp_combined!$B74-1, 0))","v":""},{"$f":"IF(data_pp_combined!$C74=0, \"\", OFFSET(data_pp_post!FU$1, data_pp_combined!$B74-1, 0))","v":""},{"$f":"IF(data_pp_pre!FV74=\"\", \"\", data_pp_pre!FV74)","v":""},""]
[null,null,null,null,null,null,null,null,null,null,null,null,null,null,null,null,null,null,null,null,null,null,null,null,null,null,null,null,null,null,null,null,null,null,null,null,null,null,null,null,null,null,null,null,null,null,null,null,null,null,null,null,null,null,null,null,null,null,null,null,null,null,null,null,null,null,null,null,null,null,null,null,null,null,null,null,null,null,null,null,null,null,null,null,null,null,null,null,null,null,null,null,null,null,null,null,null,null,null,null,null,null,null,null,null,null,null,null,null,null,null,null,null,null,null,null,null,null,null,null,null,null,null,null,null,null,null,null,null,null,null,null,null,null,null,null,null,null,null,null,null,null,null,null,null,null,null,null,null,null,null,null,null,null,null,null,null,null,null,null,null,null,null,null,null,null,null,null,null,null,null,null,null,null,null,null,null,null,null,{"$f":"IF(data_pp_combined!$C75=0, \"\", OFFSET(data_pp_post!FT$1, data_pp_combined!$B75-1, 0))","v":""},{"$f":"IF(data_pp_combined!$C75=0, \"\", OFFSET(data_pp_post!FU$1, data_pp_combined!$B75-1, 0))","v":""},{"$f":"IF(data_pp_pre!FV75=\"\", \"\", data_pp_pre!FV75)","v":""},""]
[null,null,null,null,null,null,null,null,null,null,null,null,null,null,null,null,null,null,null,null,null,null,null,null,null,null,null,null,null,null,null,null,null,null,null,null,null,null,null,null,null,null,null,null,null,null,null,null,null,null,null,null,null,null,null,null,null,null,null,null,null,null,null,null,null,null,null,null,null,null,null,null,null,null,null,null,null,null,null,null,null,null,null,null,null,null,null,null,null,null,null,null,null,null,null,null,null,null,null,null,null,null,null,null,null,null,null,null,null,null,null,null,null,null,null,null,null,null,null,null,null,null,null,null,null,null,null,null,null,null,null,null,null,null,null,null,null,null,null,null,null,null,null,null,null,null,null,null,null,null,null,null,null,null,null,null,null,null,null,null,null,null,null,null,null,null,null,null,null,null,null,null,null,null,null,null,null,null,null,{"$f":"IF(data_pp_combined!$C76=0, \"\", OFFSET(data_pp_post!FT$1, data_pp_combined!$B76-1, 0))","v":""},{"$f":"IF(data_pp_combined!$C76=0, \"\", OFFSET(data_pp_post!FU$1, data_pp_combined!$B76-1, 0))","v":""},{"$f":"IF(data_pp_pre!FV76=\"\", \"\", data_pp_pre!FV76)","v":""},""]
[null,null,null,null,null,null,null,null,null,null,null,null,null,null,null,null,null,null,null,null,null,null,null,null,null,null,null,null,null,null,null,null,null,null,null,null,null,null,null,null,null,null,null,null,null,null,null,null,null,null,null,null,null,null,null,null,null,null,null,null,null,null,null,null,null,null,null,null,null,null,null,null,null,null,null,null,null,null,null,null,null,null,null,null,null,null,null,null,null,null,null,null,null,null,null,null,null,null,null,null,null,null,null,null,null,null,null,null,null,null,null,null,null,null,null,null,null,null,null,null,null,null,null,null,null,null,null,null,null,null,null,null,null,null,null,null,null,null,null,null,null,null,null,null,null,null,null,null,null,null,null,null,null,null,null,null,null,null,null,null,null,null,null,null,null,null,null,null,null,null,null,null,null,null,null,null,null,null,null,{"$f":"IF(data_pp_combined!$C77=0, \"\", OFFSET(data_pp_post!FT$1, data_pp_combined!$B77-1, 0))","v":""},{"$f":"IF(data_pp_combined!$C77=0, \"\", OFFSET(data_pp_post!FU$1, data_pp_combined!$B77-1, 0))","v":""},{"$f":"IF(data_pp_pre!FV77=\"\", \"\", data_pp_pre!FV77)","v":""},""]
[null,null,null,null,null,null,null,null,null,null,null,null,null,null,null,null,null,null,null,null,null,null,null,null,null,null,null,null,null,null,null,null,null,null,null,null,null,null,null,null,null,null,null,null,null,null,null,null,null,null,null,null,null,null,null,null,null,null,null,null,null,null,null,null,null,null,null,null,null,null,null,null,null,null,null,null,null,null,null,null,null,null,null,null,null,null,null,null,null,null,null,null,null,null,null,null,null,null,null,null,null,null,null,null,null,null,null,null,null,null,null,null,null,null,null,null,null,null,null,null,null,null,null,null,null,null,null,null,null,null,null,null,null,null,null,null,null,null,null,null,null,null,null,null,null,null,null,null,null,null,null,null,null,null,null,null,null,null,null,null,null,null,null,null,null,null,null,null,null,null,null,null,null,null,null,null,null,null,null,{"$f":"IF(data_pp_combined!$C78=0, \"\", OFFSET(data_pp_post!FT$1, data_pp_combined!$B78-1, 0))","v":""},{"$f":"IF(data_pp_combined!$C78=0, \"\", OFFSET(data_pp_post!FU$1, data_pp_combined!$B78-1, 0))","v":""},{"$f":"IF(data_pp_pre!FV78=\"\", \"\", data_pp_pre!FV78)","v":""},""]
[null,null,null,null,null,null,null,null,null,null,null,null,null,null,null,null,null,null,null,null,null,null,null,null,null,null,null,null,null,null,null,null,null,null,null,null,null,null,null,null,null,null,null,null,null,null,null,null,null,null,null,null,null,null,null,null,null,null,null,null,null,null,null,null,null,null,null,null,null,null,null,null,null,null,null,null,null,null,null,null,null,null,null,null,null,null,null,null,null,null,null,null,null,null,null,null,null,null,null,null,null,null,null,null,null,null,null,null,null,null,null,null,null,null,null,null,null,null,null,null,null,null,null,null,null,null,null,null,null,null,null,null,null,null,null,null,null,null,null,null,null,null,null,null,null,null,null,null,null,null,null,null,null,null,null,null,null,null,null,null,null,null,null,null,null,null,null,null,null,null,null,null,null,null,null,null,null,null,null,{"$f":"IF(data_pp_combined!$C79=0, \"\", OFFSET(data_pp_post!FT$1, data_pp_combined!$B79-1, 0))","v":""},{"$f":"IF(data_pp_combined!$C79=0, \"\", OFFSET(data_pp_post!FU$1, data_pp_combined!$B79-1, 0))","v":""},{"$f":"IF(data_pp_pre!FV79=\"\", \"\", data_pp_pre!FV79)","v":""},""]
[null,null,null,null,null,null,null,null,null,null,null,null,null,null,null,null,null,null,null,null,null,null,null,null,null,null,null,null,null,null,null,null,null,null,null,null,null,null,null,null,null,null,null,null,null,null,null,null,null,null,null,null,null,null,null,null,null,null,null,null,null,null,null,null,null,null,null,null,null,null,null,null,null,null,null,null,null,null,null,null,null,null,null,null,null,null,null,null,null,null,null,null,null,null,null,null,null,null,null,null,null,null,null,null,null,null,null,null,null,null,null,null,null,null,null,null,null,null,null,null,null,null,null,null,null,null,null,null,null,null,null,null,null,null,null,null,null,null,null,null,null,null,null,null,null,null,null,null,null,null,null,null,null,null,null,null,null,null,null,null,null,null,null,null,null,null,null,null,null,null,null,null,null,null,null,null,null,null,null,{"$f":"IF(data_pp_combined!$C80=0, \"\", OFFSET(data_pp_post!FT$1, data_pp_combined!$B80-1, 0))","v":""},{"$f":"IF(data_pp_combined!$C80=0, \"\", OFFSET(data_pp_post!FU$1, data_pp_combined!$B80-1, 0))","v":""},{"$f":"IF(data_pp_pre!FV80=\"\", \"\", data_pp_pre!FV80)","v":""},""]
[null,null,null,null,null,null,null,null,null,null,null,null,null,null,null,null,null,null,null,null,null,null,null,null,null,null,null,null,null,null,null,null,null,null,null,null,null,null,null,null,null,null,null,null,null,null,null,null,null,null,null,null,null,null,null,null,null,null,null,null,null,null,null,null,null,null,null,null,null,null,null,null,null,null,null,null,null,null,null,null,null,null,null,null,null,null,null,null,null,null,null,null,null,null,null,null,null,null,null,null,null,null,null,null,null,null,null,null,null,null,null,null,null,null,null,null,null,null,null,null,null,null,null,null,null,null,null,null,null,null,null,null,null,null,null,null,null,null,null,null,null,null,null,null,null,null,null,null,null,null,null,null,null,null,null,null,null,null,null,null,null,null,null,null,null,null,null,null,null,null,null,null,null,null,null,null,null,null,null,{"$f":"IF(data_pp_combined!$C81=0, \"\", OFFSET(data_pp_post!FT$1, data_pp_combined!$B81-1, 0))","v":""},{"$f":"IF(data_pp_combined!$C81=0, \"\", OFFSET(data_pp_post!FU$1, data_pp_combined!$B81-1, 0))","v":""},{"$f":"IF(data_pp_pre!FV81=\"\", \"\", data_pp_pre!FV81)","v":""},""]
[null,null,null,null,null,null,null,null,null,null,null,null,null,null,null,null,null,null,null,null,null,null,null,null,null,null,null,null,null,null,null,null,null,null,null,null,null,null,null,null,null,null,null,null,null,null,null,null,null,null,null,null,null,null,null,null,null,null,null,null,null,null,null,null,null,null,null,null,null,null,null,null,null,null,null,null,null,null,null,null,null,null,null,null,null,null,null,null,null,null,null,null,null,null,null,null,null,null,null,null,null,null,null,null,null,null,null,null,null,null,null,null,null,null,null,null,null,null,null,null,null,null,null,null,null,null,null,null,null,null,null,null,null,null,null,null,null,null,null,null,null,null,null,null,null,null,null,null,null,null,null,null,null,null,null,null,null,null,null,null,null,null,null,null,null,null,null,null,null,null,null,null,null,null,null,null,null,null,null,{"$f":"IF(data_pp_combined!$C82=0, \"\", OFFSET(data_pp_post!FT$1, data_pp_combined!$B82-1, 0))","v":""},{"$f":"IF(data_pp_combined!$C82=0, \"\", OFFSET(data_pp_post!FU$1, data_pp_combined!$B82-1, 0))","v":""},{"$f":"IF(data_pp_pre!FV82=\"\", \"\", data_pp_pre!FV82)","v":""},""]
[null,null,null,null,null,null,null,null,null,null,null,null,null,null,null,null,null,null,null,null,null,null,null,null,null,null,null,null,null,null,null,null,null,null,null,null,null,null,null,null,null,null,null,null,null,null,null,null,null,null,null,null,null,null,null,null,null,null,null,null,null,null,null,null,null,null,null,null,null,null,null,null,null,null,null,null,null,null,null,null,null,null,null,null,null,null,null,null,null,null,null,null,null,null,null,null,null,null,null,null,null,null,null,null,null,null,null,null,null,null,null,null,null,null,null,null,null,null,null,null,null,null,null,null,null,null,null,null,null,null,null,null,null,null,null,null,null,null,null,null,null,null,null,null,null,null,null,null,null,null,null,null,null,null,null,null,null,null,null,null,null,null,null,null,null,null,null,null,null,null,null,null,null,null,null,null,null,null,null,{"$f":"IF(data_pp_combined!$C83=0, \"\", OFFSET(data_pp_post!FT$1, data_pp_combined!$B83-1, 0))","v":""},{"$f":"IF(data_pp_combined!$C83=0, \"\", OFFSET(data_pp_post!FU$1, data_pp_combined!$B83-1, 0))","v":""},{"$f":"IF(data_pp_pre!FV83=\"\", \"\", data_pp_pre!FV83)","v":""},""]
[null,null,null,null,null,null,null,null,null,null,null,null,null,null,null,null,null,null,null,null,null,null,null,null,null,null,null,null,null,null,null,null,null,null,null,null,null,null,null,null,null,null,null,null,null,null,null,null,null,null,null,null,null,null,null,null,null,null,null,null,null,null,null,null,null,null,null,null,null,null,null,null,null,null,null,null,null,null,null,null,null,null,null,null,null,null,null,null,null,null,null,null,null,null,null,null,null,null,null,null,null,null,null,null,null,null,null,null,null,null,null,null,null,null,null,null,null,null,null,null,null,null,null,null,null,null,null,null,null,null,null,null,null,null,null,null,null,null,null,null,null,null,null,null,null,null,null,null,null,null,null,null,null,null,null,null,null,null,null,null,null,null,null,null,null,null,null,null,null,null,null,null,null,null,null,null,null,null,null,{"$f":"IF(data_pp_combined!$C84=0, \"\", OFFSET(data_pp_post!FT$1, data_pp_combined!$B84-1, 0))","v":""},{"$f":"IF(data_pp_combined!$C84=0, \"\", OFFSET(data_pp_post!FU$1, data_pp_combined!$B84-1, 0))","v":""},{"$f":"IF(data_pp_pre!FV84=\"\", \"\", data_pp_pre!FV84)","v":""},""]
[null,null,null,null,null,null,null,null,null,null,null,null,null,null,null,null,null,null,null,null,null,null,null,null,null,null,null,null,null,null,null,null,null,null,null,null,null,null,null,null,null,null,null,null,null,null,null,null,null,null,null,null,null,null,null,null,null,null,null,null,null,null,null,null,null,null,null,null,null,null,null,null,null,null,null,null,null,null,null,null,null,null,null,null,null,null,null,null,null,null,null,null,null,null,null,null,null,null,null,null,null,null,null,null,null,null,null,null,null,null,null,null,null,null,null,null,null,null,null,null,null,null,null,null,null,null,null,null,null,null,null,null,null,null,null,null,null,null,null,null,null,null,null,null,null,null,null,null,null,null,null,null,null,null,null,null,null,null,null,null,null,null,null,null,null,null,null,null,null,null,null,null,null,null,null,null,null,null,null,{"$f":"IF(data_pp_combined!$C85=0, \"\", OFFSET(data_pp_post!FT$1, data_pp_combined!$B85-1, 0))","v":""},{"$f":"IF(data_pp_combined!$C85=0, \"\", OFFSET(data_pp_post!FU$1, data_pp_combined!$B85-1, 0))","v":""},{"$f":"IF(data_pp_pre!FV85=\"\", \"\", data_pp_pre!FV85)","v":""},""]
[null,null,null,null,null,null,null,null,null,null,null,null,null,null,null,null,null,null,null,null,null,null,null,null,null,null,null,null,null,null,null,null,null,null,null,null,null,null,null,null,null,null,null,null,null,null,null,null,null,null,null,null,null,null,null,null,null,null,null,null,null,null,null,null,null,null,null,null,null,null,null,null,null,null,null,null,null,null,null,null,null,null,null,null,null,null,null,null,null,null,null,null,null,null,null,null,null,null,null,null,null,null,null,null,null,null,null,null,null,null,null,null,null,null,null,null,null,null,null,null,null,null,null,null,null,null,null,null,null,null,null,null,null,null,null,null,null,null,null,null,null,null,null,null,null,null,null,null,null,null,null,null,null,null,null,null,null,null,null,null,null,null,null,null,null,null,null,null,null,null,null,null,null,null,null,null,null,null,null,{"$f":"IF(data_pp_combined!$C86=0, \"\", OFFSET(data_pp_post!FT$1, data_pp_combined!$B86-1, 0))","v":""},{"$f":"IF(data_pp_combined!$C86=0, \"\", OFFSET(data_pp_post!FU$1, data_pp_combined!$B86-1, 0))","v":""},{"$f":"IF(data_pp_pre!FV86=\"\", \"\", data_pp_pre!FV86)","v":""},""]
[null,null,null,null,null,null,null,null,null,null,null,null,null,null,null,null,null,null,null,null,null,null,null,null,null,null,null,null,null,null,null,null,null,null,null,null,null,null,null,null,null,null,null,null,null,null,null,null,null,null,null,null,null,null,null,null,null,null,null,null,null,null,null,null,null,null,null,null,null,null,null,null,null,null,null,null,null,null,null,null,null,null,null,null,null,null,null,null,null,null,null,null,null,null,null,null,null,null,null,null,null,null,null,null,null,null,null,null,null,null,null,null,null,null,null,null,null,null,null,null,null,null,null,null,null,null,null,null,null,null,null,null,null,null,null,null,null,null,null,null,null,null,null,null,null,null,null,null,null,null,null,null,null,null,null,null,null,null,null,null,null,null,null,null,null,null,null,null,null,null,null,null,null,null,null,null,null,null,null,{"$f":"IF(data_pp_combined!$C87=0, \"\", OFFSET(data_pp_post!FT$1, data_pp_combined!$B87-1, 0))","v":""},{"$f":"IF(data_pp_combined!$C87=0, \"\", OFFSET(data_pp_post!FU$1, data_pp_combined!$B87-1, 0))","v":""},{"$f":"IF(data_pp_pre!FV87=\"\", \"\", data_pp_pre!FV87)","v":""},""]
[null,null,null,null,null,null,null,null,null,null,null,null,null,null,null,null,null,null,null,null,null,null,null,null,null,null,null,null,null,null,null,null,null,null,null,null,null,null,null,null,null,null,null,null,null,null,null,null,null,null,null,null,null,null,null,null,null,null,null,null,null,null,null,null,null,null,null,null,null,null,null,null,null,null,null,null,null,null,null,null,null,null,null,null,null,null,null,null,null,null,null,null,null,null,null,null,null,null,null,null,null,null,null,null,null,null,null,null,null,null,null,null,null,null,null,null,null,null,null,null,null,null,null,null,null,null,null,null,null,null,null,null,null,null,null,null,null,null,null,null,null,null,null,null,null,null,null,null,null,null,null,null,null,null,null,null,null,null,null,null,null,null,null,null,null,null,null,null,null,null,null,null,null,null,null,null,null,null,null,{"$f":"IF(data_pp_combined!$C88=0, \"\", OFFSET(data_pp_post!FT$1, data_pp_combined!$B88-1, 0))","v":""},{"$f":"IF(data_pp_combined!$C88=0, \"\", OFFSET(data_pp_post!FU$1, data_pp_combined!$B88-1, 0))","v":""},{"$f":"IF(data_pp_pre!FV88=\"\", \"\", data_pp_pre!FV88)","v":""},""]
[null,null,null,null,null,null,null,null,null,null,null,null,null,null,null,null,null,null,null,null,null,null,null,null,null,null,null,null,null,null,null,null,null,null,null,null,null,null,null,null,null,null,null,null,null,null,null,null,null,null,null,null,null,null,null,null,null,null,null,null,null,null,null,null,null,null,null,null,null,null,null,null,null,null,null,null,null,null,null,null,null,null,null,null,null,null,null,null,null,null,null,null,null,null,null,null,null,null,null,null,null,null,null,null,null,null,null,null,null,null,null,null,null,null,null,null,null,null,null,null,null,null,null,null,null,null,null,null,null,null,null,null,null,null,null,null,null,null,null,null,null,null,null,null,null,null,null,null,null,null,null,null,null,null,null,null,null,null,null,null,null,null,null,null,null,null,null,null,null,null,null,null,null,null,null,null,null,null,null,{"$f":"IF(data_pp_combined!$C89=0, \"\", OFFSET(data_pp_post!FT$1, data_pp_combined!$B89-1, 0))","v":""},{"$f":"IF(data_pp_combined!$C89=0, \"\", OFFSET(data_pp_post!FU$1, data_pp_combined!$B89-1, 0))","v":""},{"$f":"IF(data_pp_pre!FV89=\"\", \"\", data_pp_pre!FV89)","v":""},""]
[null,null,null,null,null,null,null,null,null,null,null,null,null,null,null,null,null,null,null,null,null,null,null,null,null,null,null,null,null,null,null,null,null,null,null,null,null,null,null,null,null,null,null,null,null,null,null,null,null,null,null,null,null,null,null,null,null,null,null,null,null,null,null,null,null,null,null,null,null,null,null,null,null,null,null,null,null,null,null,null,null,null,null,null,null,null,null,null,null,null,null,null,null,null,null,null,null,null,null,null,null,null,null,null,null,null,null,null,null,null,null,null,null,null,null,null,null,null,null,null,null,null,null,null,null,null,null,null,null,null,null,null,null,null,null,null,null,null,null,null,null,null,null,null,null,null,null,null,null,null,null,null,null,null,null,null,null,null,null,null,null,null,null,null,null,null,null,null,null,null,null,null,null,null,null,null,null,null,null,{"$f":"IF(data_pp_combined!$C90=0, \"\", OFFSET(data_pp_post!FT$1, data_pp_combined!$B90-1, 0))","v":""},{"$f":"IF(data_pp_combined!$C90=0, \"\", OFFSET(data_pp_post!FU$1, data_pp_combined!$B90-1, 0))","v":""},{"$f":"IF(data_pp_pre!FV90=\"\", \"\", data_pp_pre!FV90)","v":""},""]
[null,null,null,null,null,null,null,null,null,null,null,null,null,null,null,null,null,null,null,null,null,null,null,null,null,null,null,null,null,null,null,null,null,null,null,null,null,null,null,null,null,null,null,null,null,null,null,null,null,null,null,null,null,null,null,null,null,null,null,null,null,null,null,null,null,null,null,null,null,null,null,null,null,null,null,null,null,null,null,null,null,null,null,null,null,null,null,null,null,null,null,null,null,null,null,null,null,null,null,null,null,null,null,null,null,null,null,null,null,null,null,null,null,null,null,null,null,null,null,null,null,null,null,null,null,null,null,null,null,null,null,null,null,null,null,null,null,null,null,null,null,null,null,null,null,null,null,null,null,null,null,null,null,null,null,null,null,null,null,null,null,null,null,null,null,null,null,null,null,null,null,null,null,null,null,null,null,null,null,{"$f":"IF(data_pp_combined!$C91=0, \"\", OFFSET(data_pp_post!FT$1, data_pp_combined!$B91-1, 0))","v":""},{"$f":"IF(data_pp_combined!$C91=0, \"\", OFFSET(data_pp_post!FU$1, data_pp_combined!$B91-1, 0))","v":""},{"$f":"IF(data_pp_pre!FV91=\"\", \"\", data_pp_pre!FV91)","v":""},""]
[null,null,null,null,null,null,null,null,null,null,null,null,null,null,null,null,null,null,null,null,null,null,null,null,null,null,null,null,null,null,null,null,null,null,null,null,null,null,null,null,null,null,null,null,null,null,null,null,null,null,null,null,null,null,null,null,null,null,null,null,null,null,null,null,null,null,null,null,null,null,null,null,null,null,null,null,null,null,null,null,null,null,null,null,null,null,null,null,null,null,null,null,null,null,null,null,null,null,null,null,null,null,null,null,null,null,null,null,null,null,null,null,null,null,null,null,null,null,null,null,null,null,null,null,null,null,null,null,null,null,null,null,null,null,null,null,null,null,null,null,null,null,null,null,null,null,null,null,null,null,null,null,null,null,null,null,null,null,null,null,null,null,null,null,null,null,null,null,null,null,null,null,null,null,null,null,null,null,null,{"$f":"IF(data_pp_combined!$C92=0, \"\", OFFSET(data_pp_post!FT$1, data_pp_combined!$B92-1, 0))","v":""},{"$f":"IF(data_pp_combined!$C92=0, \"\", OFFSET(data_pp_post!FU$1, data_pp_combined!$B92-1, 0))","v":""},{"$f":"IF(data_pp_pre!FV92=\"\", \"\", data_pp_pre!FV92)","v":""},""]
[null,null,null,null,null,null,null,null,null,null,null,null,null,null,null,null,null,null,null,null,null,null,null,null,null,null,null,null,null,null,null,null,null,null,null,null,null,null,null,null,null,null,null,null,null,null,null,null,null,null,null,null,null,null,null,null,null,null,null,null,null,null,null,null,null,null,null,null,null,null,null,null,null,null,null,null,null,null,null,null,null,null,null,null,null,null,null,null,null,null,null,null,null,null,null,null,null,null,null,null,null,null,null,null,null,null,null,null,null,null,null,null,null,null,null,null,null,null,null,null,null,null,null,null,null,null,null,null,null,null,null,null,null,null,null,null,null,null,null,null,null,null,null,null,null,null,null,null,null,null,null,null,null,null,null,null,null,null,null,null,null,null,null,null,null,null,null,null,null,null,null,null,null,null,null,null,null,null,null,{"$f":"IF(data_pp_combined!$C93=0, \"\", OFFSET(data_pp_post!FT$1, data_pp_combined!$B93-1, 0))","v":""},{"$f":"IF(data_pp_combined!$C93=0, \"\", OFFSET(data_pp_post!FU$1, data_pp_combined!$B93-1, 0))","v":""},{"$f":"IF(data_pp_pre!FV93=\"\", \"\", data_pp_pre!FV93)","v":""},""]
[null,null,null,null,null,null,null,null,null,null,null,null,null,null,null,null,null,null,null,null,null,null,null,null,null,null,null,null,null,null,null,null,null,null,null,null,null,null,null,null,null,null,null,null,null,null,null,null,null,null,null,null,null,null,null,null,null,null,null,null,null,null,null,null,null,null,null,null,null,null,null,null,null,null,null,null,null,null,null,null,null,null,null,null,null,null,null,null,null,null,null,null,null,null,null,null,null,null,null,null,null,null,null,null,null,null,null,null,null,null,null,null,null,null,null,null,null,null,null,null,null,null,null,null,null,null,null,null,null,null,null,null,null,null,null,null,null,null,null,null,null,null,null,null,null,null,null,null,null,null,null,null,null,null,null,null,null,null,null,null,null,null,null,null,null,null,null,null,null,null,null,null,null,null,null,null,null,null,null,{"$f":"IF(data_pp_combined!$C94=0, \"\", OFFSET(data_pp_post!FT$1, data_pp_combined!$B94-1, 0))","v":""},{"$f":"IF(data_pp_combined!$C94=0, \"\", OFFSET(data_pp_post!FU$1, data_pp_combined!$B94-1, 0))","v":""},{"$f":"IF(data_pp_pre!FV94=\"\", \"\", data_pp_pre!FV94)","v":""},""]
[null,null,null,null,null,null,null,null,null,null,null,null,null,null,null,null,null,null,null,null,null,null,null,null,null,null,null,null,null,null,null,null,null,null,null,null,null,null,null,null,null,null,null,null,null,null,null,null,null,null,null,null,null,null,null,null,null,null,null,null,null,null,null,null,null,null,null,null,null,null,null,null,null,null,null,null,null,null,null,null,null,null,null,null,null,null,null,null,null,null,null,null,null,null,null,null,null,null,null,null,null,null,null,null,null,null,null,null,null,null,null,null,null,null,null,null,null,null,null,null,null,null,null,null,null,null,null,null,null,null,null,null,null,null,null,null,null,null,null,null,null,null,null,null,null,null,null,null,null,null,null,null,null,null,null,null,null,null,null,null,null,null,null,null,null,null,null,null,null,null,null,null,null,null,null,null,null,null,null,{"$f":"IF(data_pp_combined!$C95=0, \"\", OFFSET(data_pp_post!FT$1, data_pp_combined!$B95-1, 0))","v":""},{"$f":"IF(data_pp_combined!$C95=0, \"\", OFFSET(data_pp_post!FU$1, data_pp_combined!$B95-1, 0))","v":""},{"$f":"IF(data_pp_pre!FV95=\"\", \"\", data_pp_pre!FV95)","v":""},""]
[null,null,null,null,null,null,null,null,null,null,null,null,null,null,null,null,null,null,null,null,null,null,null,null,null,null,null,null,null,null,null,null,null,null,null,null,null,null,null,null,null,null,null,null,null,null,null,null,null,null,null,null,null,null,null,null,null,null,null,null,null,null,null,null,null,null,null,null,null,null,null,null,null,null,null,null,null,null,null,null,null,null,null,null,null,null,null,null,null,null,null,null,null,null,null,null,null,null,null,null,null,null,null,null,null,null,null,null,null,null,null,null,null,null,null,null,null,null,null,null,null,null,null,null,null,null,null,null,null,null,null,null,null,null,null,null,null,null,null,null,null,null,null,null,null,null,null,null,null,null,null,null,null,null,null,null,null,null,null,null,null,null,null,null,null,null,null,null,null,null,null,null,null,null,null,null,null,null,null,{"$f":"IF(data_pp_combined!$C96=0, \"\", OFFSET(data_pp_post!FT$1, data_pp_combined!$B96-1, 0))","v":""},{"$f":"IF(data_pp_combined!$C96=0, \"\", OFFSET(data_pp_post!FU$1, data_pp_combined!$B96-1, 0))","v":""},{"$f":"IF(data_pp_pre!FV96=\"\", \"\", data_pp_pre!FV96)","v":""},""]
[null,null,null,null,null,null,null,null,null,null,null,null,null,null,null,null,null,null,null,null,null,null,null,null,null,null,null,null,null,null,null,null,null,null,null,null,null,null,null,null,null,null,null,null,null,null,null,null,null,null,null,null,null,null,null,null,null,null,null,null,null,null,null,null,null,null,null,null,null,null,null,null,null,null,null,null,null,null,null,null,null,null,null,null,null,null,null,null,null,null,null,null,null,null,null,null,null,null,null,null,null,null,null,null,null,null,null,null,null,null,null,null,null,null,null,null,null,null,null,null,null,null,null,null,null,null,null,null,null,null,null,null,null,null,null,null,null,null,null,null,null,null,null,null,null,null,null,null,null,null,null,null,null,null,null,null,null,null,null,null,null,null,null,null,null,null,null,null,null,null,null,null,null,null,null,null,null,null,null,{"$f":"IF(data_pp_combined!$C97=0, \"\", OFFSET(data_pp_post!FT$1, data_pp_combined!$B97-1, 0))","v":""},{"$f":"IF(data_pp_combined!$C97=0, \"\", OFFSET(data_pp_post!FU$1, data_pp_combined!$B97-1, 0))","v":""},{"$f":"IF(data_pp_pre!FV97=\"\", \"\", data_pp_pre!FV97)","v":""},""]
[null,null,null,null,null,null,null,null,null,null,null,null,null,null,null,null,null,null,null,null,null,null,null,null,null,null,null,null,null,null,null,null,null,null,null,null,null,null,null,null,null,null,null,null,null,null,null,null,null,null,null,null,null,null,null,null,null,null,null,null,null,null,null,null,null,null,null,null,null,null,null,null,null,null,null,null,null,null,null,null,null,null,null,null,null,null,null,null,null,null,null,null,null,null,null,null,null,null,null,null,null,null,null,null,null,null,null,null,null,null,null,null,null,null,null,null,null,null,null,null,null,null,null,null,null,null,null,null,null,null,null,null,null,null,null,null,null,null,null,null,null,null,null,null,null,null,null,null,null,null,null,null,null,null,null,null,null,null,null,null,null,null,null,null,null,null,null,null,null,null,null,null,null,null,null,null,null,null,null,{"$f":"IF(data_pp_combined!$C98=0, \"\", OFFSET(data_pp_post!FT$1, data_pp_combined!$B98-1, 0))","v":""},{"$f":"IF(data_pp_combined!$C98=0, \"\", OFFSET(data_pp_post!FU$1, data_pp_combined!$B98-1, 0))","v":""},{"$f":"IF(data_pp_pre!FV98=\"\", \"\", data_pp_pre!FV98)","v":""},""]
[null,null,null,null,null,null,null,null,null,null,null,null,null,null,null,null,null,null,null,null,null,null,null,null,null,null,null,null,null,null,null,null,null,null,null,null,null,null,null,null,null,null,null,null,null,null,null,null,null,null,null,null,null,null,null,null,null,null,null,null,null,null,null,null,null,null,null,null,null,null,null,null,null,null,null,null,null,null,null,null,null,null,null,null,null,null,null,null,null,null,null,null,null,null,null,null,null,null,null,null,null,null,null,null,null,null,null,null,null,null,null,null,null,null,null,null,null,null,null,null,null,null,null,null,null,null,null,null,null,null,null,null,null,null,null,null,null,null,null,null,null,null,null,null,null,null,null,null,null,null,null,null,null,null,null,null,null,null,null,null,null,null,null,null,null,null,null,null,null,null,null,null,null,null,null,null,null,null,null,{"$f":"IF(data_pp_combined!$C99=0, \"\", OFFSET(data_pp_post!FT$1, data_pp_combined!$B99-1, 0))","v":""},{"$f":"IF(data_pp_combined!$C99=0, \"\", OFFSET(data_pp_post!FU$1, data_pp_combined!$B99-1, 0))","v":""},{"$f":"IF(data_pp_pre!FV99=\"\", \"\", data_pp_pre!FV99)","v":""},""]
[null,null,null,null,null,null,null,null,null,null,null,null,null,null,null,null,null,null,null,null,null,null,null,null,null,null,null,null,null,null,null,null,null,null,null,null,null,null,null,null,null,null,null,null,null,null,null,null,null,null,null,null,null,null,null,null,null,null,null,null,null,null,null,null,null,null,null,null,null,null,null,null,null,null,null,null,null,null,null,null,null,null,null,null,null,null,null,null,null,null,null,null,null,null,null,null,null,null,null,null,null,null,null,null,null,null,null,null,null,null,null,null,null,null,null,null,null,null,null,null,null,null,null,null,null,null,null,null,null,null,null,null,null,null,null,null,null,null,null,null,null,null,null,null,null,null,null,null,null,null,null,null,null,null,null,null,null,null,null,null,null,null,null,null,null,null,null,null,null,null,null,null,null,null,null,null,null,null,null,{"$f":"IF(data_pp_combined!$C100=0, \"\", OFFSET(data_pp_post!FT$1, data_pp_combined!$B100-1, 0))","v":""},{"$f":"IF(data_pp_combined!$C100=0, \"\", OFFSET(data_pp_post!FU$1, data_pp_combined!$B100-1, 0))","v":""},{"$f":"IF(data_pp_pre!FV100=\"\", \"\", data_pp_pre!FV100)","v":""},""]
[null,null,null,null,null,null,null,null,null,null,null,null,null,null,null,null,null,null,null,null,null,null,null,null,null,null,null,null,null,null,null,null,null,null,null,null,null,null,null,null,null,null,null,null,null,null,null,null,null,null,null,null,null,null,null,null,null,null,null,null,null,null,null,null,null,null,null,null,null,null,null,null,null,null,null,null,null,null,null,null,null,null,null,null,null,null,null,null,null,null,null,null,null,null,null,null,null,null,null,null,null,null,null,null,null,null,null,null,null,null,null,null,null,null,null,null,null,null,null,null,null,null,null,null,null,null,null,null,null,null,null,null,null,null,null,null,null,null,null,null,null,null,null,null,null,null,null,null,null,null,null,null,null,null,null,null,null,null,null,null,null,null,null,null,null,null,null,null,null,null,null,null,null,null,null,null,null,null,null,{"$f":"IF(data_pp_combined!$C101=0, \"\", OFFSET(data_pp_post!FT$1, data_pp_combined!$B101-1, 0))","v":""},{"$f":"IF(data_pp_combined!$C101=0, \"\", OFFSET(data_pp_post!FU$1, data_pp_combined!$B101-1, 0))","v":""},{"$f":"IF(data_pp_pre!FV101=\"\", \"\", data_pp_pre!FV101)","v":""},""]
[null,null,null,null,null,null,null,null,null,null,null,null,null,null,null,null,null,null,null,null,null,null,null,null,null,null,null,null,null,null,null,null,null,null,null,null,null,null,null,null,null,null,null,null,null,null,null,null,null,null,null,null,null,null,null,null,null,null,null,null,null,null,null,null,null,null,null,null,null,null,null,null,null,null,null,null,null,null,null,null,null,null,null,null,null,null,null,null,null,null,null,null,null,null,null,null,null,null,null,null,null,null,null,null,null,null,null,null,null,null,null,null,null,null,null,null,null,null,null,null,null,null,null,null,null,null,null,null,null,null,null,null,null,null,null,null,null,null,null,null,null,null,null,null,null,null,null,null,null,null,null,null,null,null,null,null,null,null,null,null,null,null,null,null,null,null,null,null,null,null,null,null,null,null,null,null,null,null,null,{"$f":"IF(data_pp_combined!$C102=0, \"\", OFFSET(data_pp_post!FT$1, data_pp_combined!$B102-1, 0))","v":""},{"$f":"IF(data_pp_combined!$C102=0, \"\", OFFSET(data_pp_post!FU$1, data_pp_combined!$B102-1, 0))","v":""},{"$f":"IF(data_pp_pre!FV102=\"\", \"\", data_pp_pre!FV102)","v":""},""]
[null,null,null,null,null,null,null,null,null,null,null,null,null,null,null,null,null,null,null,null,null,null,null,null,null,null,null,null,null,null,null,null,null,null,null,null,null,null,null,null,null,null,null,null,null,null,null,null,null,null,null,null,null,null,null,null,null,null,null,null,null,null,null,null,null,null,null,null,null,null,null,null,null,null,null,null,null,null,null,null,null,null,null,null,null,null,null,null,null,null,null,null,null,null,null,null,null,null,null,null,null,null,null,null,null,null,null,null,null,null,null,null,null,null,null,null,null,null,null,null,null,null,null,null,null,null,null,null,null,null,null,null,null,null,null,null,null,null,null,null,null,null,null,null,null,null,null,null,null,null,null,null,null,null,null,null,null,null,null,null,null,null,null,null,null,null,null,null,null,null,null,null,null,null,null,null,null,null,null,{"$f":"IF(data_pp_combined!$C103=0, \"\", OFFSET(data_pp_post!FT$1, data_pp_combined!$B103-1, 0))","v":""},{"$f":"IF(data_pp_combined!$C103=0, \"\", OFFSET(data_pp_post!FU$1, data_pp_combined!$B103-1, 0))","v":""},{"$f":"IF(data_pp_pre!FV103=\"\", \"\", data_pp_pre!FV103)","v":""},""]
[null,null,null,null,null,null,null,null,null,null,null,null,null,null,null,null,null,null,null,null,null,null,null,null,null,null,null,null,null,null,null,null,null,null,null,null,null,null,null,null,null,null,null,null,null,null,null,null,null,null,null,null,null,null,null,null,null,null,null,null,null,null,null,null,null,null,null,null,null,null,null,null,null,null,null,null,null,null,null,null,null,null,null,null,null,null,null,null,null,null,null,null,null,null,null,null,null,null,null,null,null,null,null,null,null,null,null,null,null,null,null,null,null,null,null,null,null,null,null,null,null,null,null,null,null,null,null,null,null,null,null,null,null,null,null,null,null,null,null,null,null,null,null,null,null,null,null,null,null,null,null,null,null,null,null,null,null,null,null,null,null,null,null,null,null,null,null,null,null,null,null,null,null,null,null,null,null,null,null,{"$f":"IF(data_pp_combined!$C104=0, \"\", OFFSET(data_pp_post!FT$1, data_pp_combined!$B104-1, 0))","v":""},{"$f":"IF(data_pp_combined!$C104=0, \"\", OFFSET(data_pp_post!FU$1, data_pp_combined!$B104-1, 0))","v":""},{"$f":"IF(data_pp_pre!FV104=\"\", \"\", data_pp_pre!FV104)","v":""},""]
[null,null,null,null,null,null,null,null,null,null,null,null,null,null,null,null,null,null,null,null,null,null,null,null,null,null,null,null,null,null,null,null,null,null,null,null,null,null,null,null,null,null,null,null,null,null,null,null,null,null,null,null,null,null,null,null,null,null,null,null,null,null,null,null,null,null,null,null,null,null,null,null,null,null,null,null,null,null,null,null,null,null,null,null,null,null,null,null,null,null,null,null,null,null,null,null,null,null,null,null,null,null,null,null,null,null,null,null,null,null,null,null,null,null,null,null,null,null,null,null,null,null,null,null,null,null,null,null,null,null,null,null,null,null,null,null,null,null,null,null,null,null,null,null,null,null,null,null,null,null,null,null,null,null,null,null,null,null,null,null,null,null,null,null,null,null,null,null,null,null,null,null,null,null,null,null,null,null,null,{"$f":"IF(data_pp_combined!$C105=0, \"\", OFFSET(data_pp_post!FT$1, data_pp_combined!$B105-1, 0))","v":""},{"$f":"IF(data_pp_combined!$C105=0, \"\", OFFSET(data_pp_post!FU$1, data_pp_combined!$B105-1, 0))","v":""},{"$f":"IF(data_pp_pre!FV105=\"\", \"\", data_pp_pre!FV105)","v":""},""]
[null,null,null,null,null,null,null,null,null,null,null,null,null,null,null,null,null,null,null,null,null,null,null,null,null,null,null,null,null,null,null,null,null,null,null,null,null,null,null,null,null,null,null,null,null,null,null,null,null,null,null,null,null,null,null,null,null,null,null,null,null,null,null,null,null,null,null,null,null,null,null,null,null,null,null,null,null,null,null,null,null,null,null,null,null,null,null,null,null,null,null,null,null,null,null,null,null,null,null,null,null,null,null,null,null,null,null,null,null,null,null,null,null,null,null,null,null,null,null,null,null,null,null,null,null,null,null,null,null,null,null,null,null,null,null,null,null,null,null,null,null,null,null,null,null,null,null,null,null,null,null,null,null,null,null,null,null,null,null,null,null,null,null,null,null,null,null,null,null,null,null,null,null,null,null,null,null,null,null,{"$f":"IF(data_pp_combined!$C106=0, \"\", OFFSET(data_pp_post!FT$1, data_pp_combined!$B106-1, 0))","v":""},{"$f":"IF(data_pp_combined!$C106=0, \"\", OFFSET(data_pp_post!FU$1, data_pp_combined!$B106-1, 0))","v":""},{"$f":"IF(data_pp_pre!FV106=\"\", \"\", data_pp_pre!FV106)","v":""},""]
[null,null,null,null,null,null,null,null,null,null,null,null,null,null,null,null,null,null,null,null,null,null,null,null,null,null,null,null,null,null,null,null,null,null,null,null,null,null,null,null,null,null,null,null,null,null,null,null,null,null,null,null,null,null,null,null,null,null,null,null,null,null,null,null,null,null,null,null,null,null,null,null,null,null,null,null,null,null,null,null,null,null,null,null,null,null,null,null,null,null,null,null,null,null,null,null,null,null,null,null,null,null,null,null,null,null,null,null,null,null,null,null,null,null,null,null,null,null,null,null,null,null,null,null,null,null,null,null,null,null,null,null,null,null,null,null,null,null,null,null,null,null,null,null,null,null,null,null,null,null,null,null,null,null,null,null,null,null,null,null,null,null,null,null,null,null,null,null,null,null,null,null,null,null,null,null,null,null,null,{"$f":"IF(data_pp_combined!$C107=0, \"\", OFFSET(data_pp_post!FT$1, data_pp_combined!$B107-1, 0))","v":""},{"$f":"IF(data_pp_combined!$C107=0, \"\", OFFSET(data_pp_post!FU$1, data_pp_combined!$B107-1, 0))","v":""},{"$f":"IF(data_pp_pre!FV107=\"\", \"\", data_pp_pre!FV107)","v":""},""]
[null,null,null,null,null,null,null,null,null,null,null,null,null,null,null,null,null,null,null,null,null,null,null,null,null,null,null,null,null,null,null,null,null,null,null,null,null,null,null,null,null,null,null,null,null,null,null,null,null,null,null,null,null,null,null,null,null,null,null,null,null,null,null,null,null,null,null,null,null,null,null,null,null,null,null,null,null,null,null,null,null,null,null,null,null,null,null,null,null,null,null,null,null,null,null,null,null,null,null,null,null,null,null,null,null,null,null,null,null,null,null,null,null,null,null,null,null,null,null,null,null,null,null,null,null,null,null,null,null,null,null,null,null,null,null,null,null,null,null,null,null,null,null,null,null,null,null,null,null,null,null,null,null,null,null,null,null,null,null,null,null,null,null,null,null,null,null,null,null,null,null,null,null,null,null,null,null,null,null,{"$f":"IF(data_pp_combined!$C108=0, \"\", OFFSET(data_pp_post!FT$1, data_pp_combined!$B108-1, 0))","v":""},{"$f":"IF(data_pp_combined!$C108=0, \"\", OFFSET(data_pp_post!FU$1, data_pp_combined!$B108-1, 0))","v":""},{"$f":"IF(data_pp_pre!FV108=\"\", \"\", data_pp_pre!FV108)","v":""},""]
[null,null,null,null,null,null,null,null,null,null,null,null,null,null,null,null,null,null,null,null,null,null,null,null,null,null,null,null,null,null,null,null,null,null,null,null,null,null,null,null,null,null,null,null,null,null,null,null,null,null,null,null,null,null,null,null,null,null,null,null,null,null,null,null,null,null,null,null,null,null,null,null,null,null,null,null,null,null,null,null,null,null,null,null,null,null,null,null,null,null,null,null,null,null,null,null,null,null,null,null,null,null,null,null,null,null,null,null,null,null,null,null,null,null,null,null,null,null,null,null,null,null,null,null,null,null,null,null,null,null,null,null,null,null,null,null,null,null,null,null,null,null,null,null,null,null,null,null,null,null,null,null,null,null,null,null,null,null,null,null,null,null,null,null,null,null,null,null,null,null,null,null,null,null,null,null,null,null,null,{"$f":"IF(data_pp_combined!$C109=0, \"\", OFFSET(data_pp_post!FT$1, data_pp_combined!$B109-1, 0))","v":""},{"$f":"IF(data_pp_combined!$C109=0, \"\", OFFSET(data_pp_post!FU$1, data_pp_combined!$B109-1, 0))","v":""},{"$f":"IF(data_pp_pre!FV109=\"\", \"\", data_pp_pre!FV109)","v":""},""]
[null,null,null,null,null,null,null,null,null,null,null,null,null,null,null,null,null,null,null,null,null,null,null,null,null,null,null,null,null,null,null,null,null,null,null,null,null,null,null,null,null,null,null,null,null,null,null,null,null,null,null,null,null,null,null,null,null,null,null,null,null,null,null,null,null,null,null,null,null,null,null,null,null,null,null,null,null,null,null,null,null,null,null,null,null,null,null,null,null,null,null,null,null,null,null,null,null,null,null,null,null,null,null,null,null,null,null,null,null,null,null,null,null,null,null,null,null,null,null,null,null,null,null,null,null,null,null,null,null,null,null,null,null,null,null,null,null,null,null,null,null,null,null,null,null,null,null,null,null,null,null,null,null,null,null,null,null,null,null,null,null,null,null,null,null,null,null,null,null,null,null,null,null,null,null,null,null,null,null,{"$f":"IF(data_pp_combined!$C110=0, \"\", OFFSET(data_pp_post!FT$1, data_pp_combined!$B110-1, 0))","v":""},{"$f":"IF(data_pp_combined!$C110=0, \"\", OFFSET(data_pp_post!FU$1, data_pp_combined!$B110-1, 0))","v":""},{"$f":"IF(data_pp_pre!FV110=\"\", \"\", data_pp_pre!FV110)","v":""},""]
[null,null,null,null,null,null,null,null,null,null,null,null,null,null,null,null,null,null,null,null,null,null,null,null,null,null,null,null,null,null,null,null,null,null,null,null,null,null,null,null,null,null,null,null,null,null,null,null,null,null,null,null,null,null,null,null,null,null,null,null,null,null,null,null,null,null,null,null,null,null,null,null,null,null,null,null,null,null,null,null,null,null,null,null,null,null,null,null,null,null,null,null,null,null,null,null,null,null,null,null,null,null,null,null,null,null,null,null,null,null,null,null,null,null,null,null,null,null,null,null,null,null,null,null,null,null,null,null,null,null,null,null,null,null,null,null,null,null,null,null,null,null,null,null,null,null,null,null,null,null,null,null,null,null,null,null,null,null,null,null,null,null,null,null,null,null,null,null,null,null,null,null,null,null,null,null,null,null,null,{"$f":"IF(data_pp_combined!$C111=0, \"\", OFFSET(data_pp_post!FT$1, data_pp_combined!$B111-1, 0))","v":""},{"$f":"IF(data_pp_combined!$C111=0, \"\", OFFSET(data_pp_post!FU$1, data_pp_combined!$B111-1, 0))","v":""},{"$f":"IF(data_pp_pre!FV111=\"\", \"\", data_pp_pre!FV111)","v":""},""]
[null,null,null,null,null,null,null,null,null,null,null,null,null,null,null,null,null,null,null,null,null,null,null,null,null,null,null,null,null,null,null,null,null,null,null,null,null,null,null,null,null,null,null,null,null,null,null,null,null,null,null,null,null,null,null,null,null,null,null,null,null,null,null,null,null,null,null,null,null,null,null,null,null,null,null,null,null,null,null,null,null,null,null,null,null,null,null,null,null,null,null,null,null,null,null,null,null,null,null,null,null,null,null,null,null,null,null,null,null,null,null,null,null,null,null,null,null,null,null,null,null,null,null,null,null,null,null,null,null,null,null,null,null,null,null,null,null,null,null,null,null,null,null,null,null,null,null,null,null,null,null,null,null,null,null,null,null,null,null,null,null,null,null,null,null,null,null,null,null,null,null,null,null,null,null,null,null,null,null,{"$f":"IF(data_pp_combined!$C112=0, \"\", OFFSET(data_pp_post!FT$1, data_pp_combined!$B112-1, 0))","v":""},{"$f":"IF(data_pp_combined!$C112=0, \"\", OFFSET(data_pp_post!FU$1, data_pp_combined!$B112-1, 0))","v":""},{"$f":"IF(data_pp_pre!FV112=\"\", \"\", data_pp_pre!FV112)","v":""},""]
[null,null,null,null,null,null,null,null,null,null,null,null,null,null,null,null,null,null,null,null,null,null,null,null,null,null,null,null,null,null,null,null,null,null,null,null,null,null,null,null,null,null,null,null,null,null,null,null,null,null,null,null,null,null,null,null,null,null,null,null,null,null,null,null,null,null,null,null,null,null,null,null,null,null,null,null,null,null,null,null,null,null,null,null,null,null,null,null,null,null,null,null,null,null,null,null,null,null,null,null,null,null,null,null,null,null,null,null,null,null,null,null,null,null,null,null,null,null,null,null,null,null,null,null,null,null,null,null,null,null,null,null,null,null,null,null,null,null,null,null,null,null,null,null,null,null,null,null,null,null,null,null,null,null,null,null,null,null,null,null,null,null,null,null,null,null,null,null,null,null,null,null,null,null,null,null,null,null,null,{"$f":"IF(data_pp_combined!$C113=0, \"\", OFFSET(data_pp_post!FT$1, data_pp_combined!$B113-1, 0))","v":""},{"$f":"IF(data_pp_combined!$C113=0, \"\", OFFSET(data_pp_post!FU$1, data_pp_combined!$B113-1, 0))","v":""},{"$f":"IF(data_pp_pre!FV113=\"\", \"\", data_pp_pre!FV113)","v":""},""]
[null,null,null,null,null,null,null,null,null,null,null,null,null,null,null,null,null,null,null,null,null,null,null,null,null,null,null,null,null,null,null,null,null,null,null,null,null,null,null,null,null,null,null,null,null,null,null,null,null,null,null,null,null,null,null,null,null,null,null,null,null,null,null,null,null,null,null,null,null,null,null,null,null,null,null,null,null,null,null,null,null,null,null,null,null,null,null,null,null,null,null,null,null,null,null,null,null,null,null,null,null,null,null,null,null,null,null,null,null,null,null,null,null,null,null,null,null,null,null,null,null,null,null,null,null,null,null,null,null,null,null,null,null,null,null,null,null,null,null,null,null,null,null,null,null,null,null,null,null,null,null,null,null,null,null,null,null,null,null,null,null,null,null,null,null,null,null,null,null,null,null,null,null,null,null,null,null,null,null,{"$f":"IF(data_pp_combined!$C114=0, \"\", OFFSET(data_pp_post!FT$1, data_pp_combined!$B114-1, 0))","v":""},{"$f":"IF(data_pp_combined!$C114=0, \"\", OFFSET(data_pp_post!FU$1, data_pp_combined!$B114-1, 0))","v":""},{"$f":"IF(data_pp_pre!FV114=\"\", \"\", data_pp_pre!FV114)","v":""},""]
[null,null,null,null,null,null,null,null,null,null,null,null,null,null,null,null,null,null,null,null,null,null,null,null,null,null,null,null,null,null,null,null,null,null,null,null,null,null,null,null,null,null,null,null,null,null,null,null,null,null,null,null,null,null,null,null,null,null,null,null,null,null,null,null,null,null,null,null,null,null,null,null,null,null,null,null,null,null,null,null,null,null,null,null,null,null,null,null,null,null,null,null,null,null,null,null,null,null,null,null,null,null,null,null,null,null,null,null,null,null,null,null,null,null,null,null,null,null,null,null,null,null,null,null,null,null,null,null,null,null,null,null,null,null,null,null,null,null,null,null,null,null,null,null,null,null,null,null,null,null,null,null,null,null,null,null,null,null,null,null,null,null,null,null,null,null,null,null,null,null,null,null,null,null,null,null,null,null,null,{"$f":"IF(data_pp_combined!$C115=0, \"\", OFFSET(data_pp_post!FT$1, data_pp_combined!$B115-1, 0))","v":""},{"$f":"IF(data_pp_combined!$C115=0, \"\", OFFSET(data_pp_post!FU$1, data_pp_combined!$B115-1, 0))","v":""},{"$f":"IF(data_pp_pre!FV115=\"\", \"\", data_pp_pre!FV115)","v":""},""]
[null,null,null,null,null,null,null,null,null,null,null,null,null,null,null,null,null,null,null,null,null,null,null,null,null,null,null,null,null,null,null,null,null,null,null,null,null,null,null,null,null,null,null,null,null,null,null,null,null,null,null,null,null,null,null,null,null,null,null,null,null,null,null,null,null,null,null,null,null,null,null,null,null,null,null,null,null,null,null,null,null,null,null,null,null,null,null,null,null,null,null,null,null,null,null,null,null,null,null,null,null,null,null,null,null,null,null,null,null,null,null,null,null,null,null,null,null,null,null,null,null,null,null,null,null,null,null,null,null,null,null,null,null,null,null,null,null,null,null,null,null,null,null,null,null,null,null,null,null,null,null,null,null,null,null,null,null,null,null,null,null,null,null,null,null,null,null,null,null,null,null,null,null,null,null,null,null,null,null,{"$f":"IF(data_pp_combined!$C116=0, \"\", OFFSET(data_pp_post!FT$1, data_pp_combined!$B116-1, 0))","v":""},{"$f":"IF(data_pp_combined!$C116=0, \"\", OFFSET(data_pp_post!FU$1, data_pp_combined!$B116-1, 0))","v":""},{"$f":"IF(data_pp_pre!FV116=\"\", \"\", data_pp_pre!FV116)","v":""},""]
[null,null,null,null,null,null,null,null,null,null,null,null,null,null,null,null,null,null,null,null,null,null,null,null,null,null,null,null,null,null,null,null,null,null,null,null,null,null,null,null,null,null,null,null,null,null,null,null,null,null,null,null,null,null,null,null,null,null,null,null,null,null,null,null,null,null,null,null,null,null,null,null,null,null,null,null,null,null,null,null,null,null,null,null,null,null,null,null,null,null,null,null,null,null,null,null,null,null,null,null,null,null,null,null,null,null,null,null,null,null,null,null,null,null,null,null,null,null,null,null,null,null,null,null,null,null,null,null,null,null,null,null,null,null,null,null,null,null,null,null,null,null,null,null,null,null,null,null,null,null,null,null,null,null,null,null,null,null,null,null,null,null,null,null,null,null,null,null,null,null,null,null,null,null,null,null,null,null,null,{"$f":"IF(data_pp_combined!$C117=0, \"\", OFFSET(data_pp_post!FT$1, data_pp_combined!$B117-1, 0))","v":""},{"$f":"IF(data_pp_combined!$C117=0, \"\", OFFSET(data_pp_post!FU$1, data_pp_combined!$B117-1, 0))","v":""},{"$f":"IF(data_pp_pre!FV117=\"\", \"\", data_pp_pre!FV117)","v":""},""]
[null,null,null,null,null,null,null,null,null,null,null,null,null,null,null,null,null,null,null,null,null,null,null,null,null,null,null,null,null,null,null,null,null,null,null,null,null,null,null,null,null,null,null,null,null,null,null,null,null,null,null,null,null,null,null,null,null,null,null,null,null,null,null,null,null,null,null,null,null,null,null,null,null,null,null,null,null,null,null,null,null,null,null,null,null,null,null,null,null,null,null,null,null,null,null,null,null,null,null,null,null,null,null,null,null,null,null,null,null,null,null,null,null,null,null,null,null,null,null,null,null,null,null,null,null,null,null,null,null,null,null,null,null,null,null,null,null,null,null,null,null,null,null,null,null,null,null,null,null,null,null,null,null,null,null,null,null,null,null,null,null,null,null,null,null,null,null,null,null,null,null,null,null,null,null,null,null,null,null,{"$f":"IF(data_pp_combined!$C118=0, \"\", OFFSET(data_pp_post!FT$1, data_pp_combined!$B118-1, 0))","v":""},{"$f":"IF(data_pp_combined!$C118=0, \"\", OFFSET(data_pp_post!FU$1, data_pp_combined!$B118-1, 0))","v":""},{"$f":"IF(data_pp_pre!FV118=\"\", \"\", data_pp_pre!FV118)","v":""},""]
[null,null,null,null,null,null,null,null,null,null,null,null,null,null,null,null,null,null,null,null,null,null,null,null,null,null,null,null,null,null,null,null,null,null,null,null,null,null,null,null,null,null,null,null,null,null,null,null,null,null,null,null,null,null,null,null,null,null,null,null,null,null,null,null,null,null,null,null,null,null,null,null,null,null,null,null,null,null,null,null,null,null,null,null,null,null,null,null,null,null,null,null,null,null,null,null,null,null,null,null,null,null,null,null,null,null,null,null,null,null,null,null,null,null,null,null,null,null,null,null,null,null,null,null,null,null,null,null,null,null,null,null,null,null,null,null,null,null,null,null,null,null,null,null,null,null,null,null,null,null,null,null,null,null,null,null,null,null,null,null,null,null,null,null,null,null,null,null,null,null,null,null,null,null,null,null,null,null,null,{"$f":"IF(data_pp_combined!$C119=0, \"\", OFFSET(data_pp_post!FT$1, data_pp_combined!$B119-1, 0))","v":""},{"$f":"IF(data_pp_combined!$C119=0, \"\", OFFSET(data_pp_post!FU$1, data_pp_combined!$B119-1, 0))","v":""},{"$f":"IF(data_pp_pre!FV119=\"\", \"\", data_pp_pre!FV119)","v":""},""]
[null,null,null,null,null,null,null,null,null,null,null,null,null,null,null,null,null,null,null,null,null,null,null,null,null,null,null,null,null,null,null,null,null,null,null,null,null,null,null,null,null,null,null,null,null,null,null,null,null,null,null,null,null,null,null,null,null,null,null,null,null,null,null,null,null,null,null,null,null,null,null,null,null,null,null,null,null,null,null,null,null,null,null,null,null,null,null,null,null,null,null,null,null,null,null,null,null,null,null,null,null,null,null,null,null,null,null,null,null,null,null,null,null,null,null,null,null,null,null,null,null,null,null,null,null,null,null,null,null,null,null,null,null,null,null,null,null,null,null,null,null,null,null,null,null,null,null,null,null,null,null,null,null,null,null,null,null,null,null,null,null,null,null,null,null,null,null,null,null,null,null,null,null,null,null,null,null,null,null,{"$f":"IF(data_pp_combined!$C120=0, \"\", OFFSET(data_pp_post!FT$1, data_pp_combined!$B120-1, 0))","v":""},{"$f":"IF(data_pp_combined!$C120=0, \"\", OFFSET(data_pp_post!FU$1, data_pp_combined!$B120-1, 0))","v":""},{"$f":"IF(data_pp_pre!FV120=\"\", \"\", data_pp_pre!FV120)","v":""},""]
[null,null,null,null,null,null,null,null,null,null,null,null,null,null,null,null,null,null,null,null,null,null,null,null,null,null,null,null,null,null,null,null,null,null,null,null,null,null,null,null,null,null,null,null,null,null,null,null,null,null,null,null,null,null,null,null,null,null,null,null,null,null,null,null,null,null,null,null,null,null,null,null,null,null,null,null,null,null,null,null,null,null,null,null,null,null,null,null,null,null,null,null,null,null,null,null,null,null,null,null,null,null,null,null,null,null,null,null,null,null,null,null,null,null,null,null,null,null,null,null,null,null,null,null,null,null,null,null,null,null,null,null,null,null,null,null,null,null,null,null,null,null,null,null,null,null,null,null,null,null,null,null,null,null,null,null,null,null,null,null,null,null,null,null,null,null,null,null,null,null,null,null,null,null,null,null,null,null,null,{"$f":"IF(data_pp_combined!$C121=0, \"\", OFFSET(data_pp_post!FT$1, data_pp_combined!$B121-1, 0))","v":""},{"$f":"IF(data_pp_combined!$C121=0, \"\", OFFSET(data_pp_post!FU$1, data_pp_combined!$B121-1, 0))","v":""},{"$f":"IF(data_pp_pre!FV121=\"\", \"\", data_pp_pre!FV121)","v":""},""]
[null,null,null,null,null,null,null,null,null,null,null,null,null,null,null,null,null,null,null,null,null,null,null,null,null,null,null,null,null,null,null,null,null,null,null,null,null,null,null,null,null,null,null,null,null,null,null,null,null,null,null,null,null,null,null,null,null,null,null,null,null,null,null,null,null,null,null,null,null,null,null,null,null,null,null,null,null,null,null,null,null,null,null,null,null,null,null,null,null,null,null,null,null,null,null,null,null,null,null,null,null,null,null,null,null,null,null,null,null,null,null,null,null,null,null,null,null,null,null,null,null,null,null,null,null,null,null,null,null,null,null,null,null,null,null,null,null,null,null,null,null,null,null,null,null,null,null,null,null,null,null,null,null,null,null,null,null,null,null,null,null,null,null,null,null,null,null,null,null,null,null,null,null,null,null,null,null,null,null,{"$f":"IF(data_pp_combined!$C122=0, \"\", OFFSET(data_pp_post!FT$1, data_pp_combined!$B122-1, 0))","v":""},{"$f":"IF(data_pp_combined!$C122=0, \"\", OFFSET(data_pp_post!FU$1, data_pp_combined!$B122-1, 0))","v":""},{"$f":"IF(data_pp_pre!FV122=\"\", \"\", data_pp_pre!FV122)","v":""},""]
[null,null,null,null,null,null,null,null,null,null,null,null,null,null,null,null,null,null,null,null,null,null,null,null,null,null,null,null,null,null,null,null,null,null,null,null,null,null,null,null,null,null,null,null,null,null,null,null,null,null,null,null,null,null,null,null,null,null,null,null,null,null,null,null,null,null,null,null,null,null,null,null,null,null,null,null,null,null,null,null,null,null,null,null,null,null,null,null,null,null,null,null,null,null,null,null,null,null,null,null,null,null,null,null,null,null,null,null,null,null,null,null,null,null,null,null,null,null,null,null,null,null,null,null,null,null,null,null,null,null,null,null,null,null,null,null,null,null,null,null,null,null,null,null,null,null,null,null,null,null,null,null,null,null,null,null,null,null,null,null,null,null,null,null,null,null,null,null,null,null,null,null,null,null,null,null,null,null,null,{"$f":"IF(data_pp_combined!$C123=0, \"\", OFFSET(data_pp_post!FT$1, data_pp_combined!$B123-1, 0))","v":""},{"$f":"IF(data_pp_combined!$C123=0, \"\", OFFSET(data_pp_post!FU$1, data_pp_combined!$B123-1, 0))","v":""},{"$f":"IF(data_pp_pre!FV123=\"\", \"\", data_pp_pre!FV123)","v":""},""]
[null,null,null,null,null,null,null,null,null,null,null,null,null,null,null,null,null,null,null,null,null,null,null,null,null,null,null,null,null,null,null,null,null,null,null,null,null,null,null,null,null,null,null,null,null,null,null,null,null,null,null,null,null,null,null,null,null,null,null,null,null,null,null,null,null,null,null,null,null,null,null,null,null,null,null,null,null,null,null,null,null,null,null,null,null,null,null,null,null,null,null,null,null,null,null,null,null,null,null,null,null,null,null,null,null,null,null,null,null,null,null,null,null,null,null,null,null,null,null,null,null,null,null,null,null,null,null,null,null,null,null,null,null,null,null,null,null,null,null,null,null,null,null,null,null,null,null,null,null,null,null,null,null,null,null,null,null,null,null,null,null,null,null,null,null,null,null,null,null,null,null,null,null,null,null,null,null,null,null,{"$f":"IF(data_pp_combined!$C124=0, \"\", OFFSET(data_pp_post!FT$1, data_pp_combined!$B124-1, 0))","v":""},{"$f":"IF(data_pp_combined!$C124=0, \"\", OFFSET(data_pp_post!FU$1, data_pp_combined!$B124-1, 0))","v":""},{"$f":"IF(data_pp_pre!FV124=\"\", \"\", data_pp_pre!FV124)","v":""},""]
[null,null,null,null,null,null,null,null,null,null,null,null,null,null,null,null,null,null,null,null,null,null,null,null,null,null,null,null,null,null,null,null,null,null,null,null,null,null,null,null,null,null,null,null,null,null,null,null,null,null,null,null,null,null,null,null,null,null,null,null,null,null,null,null,null,null,null,null,null,null,null,null,null,null,null,null,null,null,null,null,null,null,null,null,null,null,null,null,null,null,null,null,null,null,null,null,null,null,null,null,null,null,null,null,null,null,null,null,null,null,null,null,null,null,null,null,null,null,null,null,null,null,null,null,null,null,null,null,null,null,null,null,null,null,null,null,null,null,null,null,null,null,null,null,null,null,null,null,null,null,null,null,null,null,null,null,null,null,null,null,null,null,null,null,null,null,null,null,null,null,null,null,null,null,null,null,null,null,null,{"$f":"IF(data_pp_combined!$C125=0, \"\", OFFSET(data_pp_post!FT$1, data_pp_combined!$B125-1, 0))","v":""},{"$f":"IF(data_pp_combined!$C125=0, \"\", OFFSET(data_pp_post!FU$1, data_pp_combined!$B125-1, 0))","v":""},{"$f":"IF(data_pp_pre!FV125=\"\", \"\", data_pp_pre!FV125)","v":""},""]
[null,null,null,null,null,null,null,null,null,null,null,null,null,null,null,null,null,null,null,null,null,null,null,null,null,null,null,null,null,null,null,null,null,null,null,null,null,null,null,null,null,null,null,null,null,null,null,null,null,null,null,null,null,null,null,null,null,null,null,null,null,null,null,null,null,null,null,null,null,null,null,null,null,null,null,null,null,null,null,null,null,null,null,null,null,null,null,null,null,null,null,null,null,null,null,null,null,null,null,null,null,null,null,null,null,null,null,null,null,null,null,null,null,null,null,null,null,null,null,null,null,null,null,null,null,null,null,null,null,null,null,null,null,null,null,null,null,null,null,null,null,null,null,null,null,null,null,null,null,null,null,null,null,null,null,null,null,null,null,null,null,null,null,null,null,null,null,null,null,null,null,null,null,null,null,null,null,null,null,{"$f":"IF(data_pp_combined!$C141=0, \"\", OFFSET(data_pp_post!FT$1, data_pp_combined!$B141-1, 0))","v":""},{"$f":"IF(data_pp_combined!$C141=0, \"\", OFFSET(data_pp_post!FU$1, data_pp_combined!$B141-1, 0))","v":""},{"$f":"IF(data_pp_pre!FV141=\"\", \"\", data_pp_pre!FV141)","v":""},""]
[null,null,null,null,null,null,null,null,null,null,null,null,null,null,null,null,null,null,null,null,null,null,null,null,null,null,null,null,null,null,null,null,null,null,null,null,null,null,null,null,null,null,null,null,null,null,null,null,null,null,null,null,null,null,null,null,null,null,null,null,null,null,null,null,null,null,null,null,null,null,null,null,null,null,null,null,null,null,null,null,null,null,null,null,null,null,null,null,null,null,null,null,null,null,null,null,null,null,null,null,null,null,null,null,null,null,null,null,null,null,null,null,null,null,null,null,null,null,null,null,null,null,null,null,null,null,null,null,null,null,null,null,null,null,null,null,null,null,null,null,null,null,null,null,null,null,null,null,null,null,null,null,null,null,null,null,null,null,null,null,null,null,null,null,null,null,null,null,null,null,null,null,null,null,null,null,null,null,null,{"$f":"IF(data_pp_combined!$C145=0, \"\", OFFSET(data_pp_post!FT$1, data_pp_combined!$B145-1, 0))","v":""},{"$f":"IF(data_pp_combined!$C145=0, \"\", OFFSET(data_pp_post!FU$1, data_pp_combined!$B145-1, 0))","v":""},{"$f":"IF(data_pp_pre!FV145=\"\", \"\", data_pp_pre!FV145)","v":""},""]
[null,null,null,null,null,null,null,null,null,null,null,null,null,null,null,null,null,null,null,null,null,null,null,null,null,null,null,null,null,null,null,null,null,null,null,null,null,null,null,null,null,null,null,null,null,null,null,null,null,null,null,null,null,null,null,null,null,null,null,null,null,null,null,null,null,null,null,null,null,null,null,null,null,null,null,null,null,null,null,null,null,null,null,null,null,null,null,null,null,null,null,null,null,null,null,null,null,null,null,null,null,null,null,null,null,null,null,null,null,null,null,null,null,null,null,null,null,null,null,null,null,null,null,null,null,null,null,null,null,null,null,null,null,null,null,null,null,null,null,null,null,null,null,null,null,null,null,null,null,null,null,null,null,null,null,null,null,null,null,null,null,null,null,null,null,null,null,null,null,null,null,null,null,null,null,null,null,null,null,{"$f":"IF(data_pp_combined!$C164=0, \"\", OFFSET(data_pp_post!FT$1, data_pp_combined!$B164-1, 0))","v":""},{"$f":"IF(data_pp_combined!$C164=0, \"\", OFFSET(data_pp_post!FU$1, data_pp_combined!$B164-1, 0))","v":""},{"$f":"IF(data_pp_pre!FV164=\"\", \"\", data_pp_pre!FV164)","v":""},""]
[null,null,null,null,null,null,null,null,null,null,null,null,null,null,null,null,null,null,null,null,null,null,null,null,null,null,null,null,null,null,null,null,null,null,null,null,null,null,null,null,null,null,null,null,null,null,null,null,null,null,null,null,null,null,null,null,null,null,null,null,null,null,null,null,null,null,null,null,null,null,null,null,null,null,null,null,null,null,null,null,null,null,null,null,null,null,null,null,null,null,null,null,null,null,null,null,null,null,null,null,null,null,null,null,null,null,null,null,null,null,null,null,null,null,null,null,null,null,null,null,null,null,null,null,null,null,null,null,null,null,null,null,null,null,null,null,null,null,null,null,null,null,null,null,null,null,null,null,null,null,null,null,null,null,null,null,null,null,null,null,null,null,null,null,null,null,null,null,null,null,null,null,null,null,null,null,null,null,null,{"$f":"IF(data_pp_combined!$C189=0, \"\", OFFSET(data_pp_post!FT$1, data_pp_combined!$B189-1, 0))","v":""},{"$f":"IF(data_pp_combined!$C189=0, \"\", OFFSET(data_pp_post!FU$1, data_pp_combined!$B189-1, 0))","v":""},{"$f":"IF(data_pp_pre!FV189=\"\", \"\", data_pp_pre!FV189)","v":""},""]
[null,null,null,null,null,null,null,null,null,null,null,null,null,null,null,null,null,null,null,null,null,null,null,null,null,null,null,null,null,null,null,null,null,null,null,null,null,null,null,null,null,null,null,null,null,null,null,null,null,null,null,null,null,null,null,null,null,null,null,null,null,null,null,null,null,null,null,null,null,null,null,null,null,null,null,null,null,null,null,null,null,null,null,null,null,null,null,null,null,null,null,null,null,null,null,null,null,null,null,null,null,null,null,null,null,null,null,null,null,null,null,null,null,null,null,null,null,null,null,null,null,null,null,null,null,null,null,null,null,null,null,null,null,null,null,null,null,null,null,null,null,null,null,null,null,null,null,null,null,null,null,null,null,null,null,null,null,null,null,null,null,null,null,null,null,null,null,null,null,null,null,null,null,null,null,null,null,null,null,{"$f":"IF(data_pp_combined!$C218=0, \"\", OFFSET(data_pp_post!FT$1, data_pp_combined!$B218-1, 0))","v":""},{"$f":"IF(data_pp_combined!$C218=0, \"\", OFFSET(data_pp_post!FU$1, data_pp_combined!$B218-1, 0))","v":""},{"$f":"IF(data_pp_pre!FV218=\"\", \"\", data_pp_pre!FV218)","v":""},""]
[null,null,null,null,null,null,null,null,null,null,null,null,null,null,null,null,null,null,null,null,null,null,null,null,null,null,null,null,null,null,null,null,null,null,null,null,null,null,null,null,null,null,null,null,null,null,null,null,null,null,null,null,null,null,null,null,null,null,null,null,null,null,null,null,null,null,null,null,null,null,null,null,null,null,null,null,null,null,null,null,null,null,null,null,null,null,null,null,null,null,null,null,null,null,null,null,null,null,null,null,null,null,null,null,null,null,null,null,null,null,null,null,null,null,null,null,null,null,null,null,null,null,null,null,null,null,null,null,null,null,null,null,null,null,null,null,null,null,null,null,null,null,null,null,null,null,null,null,null,null,null,null,null,null,null,null,null,null,null,null,null,null,null,null,null,null,null,null,null,null,null,null,null,null,null,null,null,null,null,{"$f":"IF(data_pp_combined!$C226=0, \"\", OFFSET(data_pp_post!FT$1, data_pp_combined!$B226-1, 0))","v":""},{"$f":"IF(data_pp_combined!$C226=0, \"\", OFFSET(data_pp_post!FU$1, data_pp_combined!$B226-1, 0))","v":""},{"$f":"IF(data_pp_pre!FV226=\"\", \"\", data_pp_pre!FV226)","v":""},""]
[null,null,null,null,null,null,null,null,null,null,null,null,null,null,null,null,null,null,null,null,null,null,null,null,null,null,null,null,null,null,null,null,null,null,null,null,null,null,null,null,null,null,null,null,null,null,null,null,null,null,null,null,null,null,null,null,null,null,null,null,null,null,null,null,null,null,null,null,null,null,null,null,null,null,null,null,null,null,null,null,null,null,null,null,null,null,null,null,null,null,null,null,null,null,null,null,null,null,null,null,null,null,null,null,null,null,null,null,null,null,null,null,null,null,null,null,null,null,null,null,null,null,null,null,null,null,null,null,null,null,null,null,null,null,null,null,null,null,null,null,null,null,null,null,null,null,null,null,null,null,null,null,null,null,null,null,null,null,null,null,null,null,null,null,null,null,null,null,null,null,null,null,null,null,null,null,null,null,null,{"$f":"IF(data_pp_combined!$C251=0, \"\", OFFSET(data_pp_post!FT$1, data_pp_combined!$B251-1, 0))","v":""},{"$f":"IF(data_pp_combined!$C251=0, \"\", OFFSET(data_pp_post!FU$1, data_pp_combined!$B251-1, 0))","v":""},{"$f":"IF(data_pp_pre!FV251=\"\", \"\", data_pp_pre!FV251)","v":""},""]
[null,null,null,null,null,null,null,null,null,null,null,null,null,null,null,null,null,null,null,null,null,null,null,null,null,null,null,null,null,null,null,null,null,null,null,null,null,null,null,null,null,null,null,null,null,null,null,null,null,null,null,null,null,null,null,null,null,null,null,null,null,null,null,null,null,null,null,null,null,null,null,null,null,null,null,null,null,null,null,null,null,null,null,null,null,null,null,null,null,null,null,null,null,null,null,null,null,null,null,null,null,null,null,null,null,null,null,null,null,null,null,null,null,null,null,null,null,null,null,null,null,null,null,null,null,null,null,null,null,null,null,null,null,null,null,null,null,null,null,null,null,null,null,null,null,null,null,null,null,null,null,null,null,null,null,null,null,null,null,null,null,null,null,null,null,null,null,null,null,null,null,null,null,null,null,null,null,null,null,{"$f":"IF(data_pp_combined!$C270=0, \"\", OFFSET(data_pp_post!FT$1, data_pp_combined!$B270-1, 0))","v":""},{"$f":"IF(data_pp_combined!$C270=0, \"\", OFFSET(data_pp_post!FU$1, data_pp_combined!$B270-1, 0))","v":""},{"$f":"IF(data_pp_pre!FV270=\"\", \"\", data_pp_pre!FV270)","v":""},""]
[null,null,null,null,null,null,null,null,null,null,null,null,null,null,null,null,null,null,null,null,null,null,null,null,null,null,null,null,null,null,null,null,null,null,null,null,null,null,null,null,null,null,null,null,null,null,null,null,null,null,null,null,null,null,null,null,null,null,null,null,null,null,null,null,null,null,null,null,null,null,null,null,null,null,null,null,null,null,null,null,null,null,null,null,null,null,null,null,null,null,null,null,null,null,null,null,null,null,null,null,null,null,null,null,null,null,null,null,null,null,null,null,null,null,null,null,null,null,null,null,null,null,null,null,null,null,null,null,null,null,null,null,null,null,null,null,null,null,null,null,null,null,null,null,null,null,null,null,null,null,null,null,null,null,null,null,null,null,null,null,null,null,null,null,null,null,null,null,null,null,null,null,null,null,null,null,null,null,null,{"$f":"IF(data_pp_combined!$C277=0, \"\", OFFSET(data_pp_post!FT$1, data_pp_combined!$B277-1, 0))","v":""},{"$f":"IF(data_pp_combined!$C277=0, \"\", OFFSET(data_pp_post!FU$1, data_pp_combined!$B277-1, 0))","v":""},{"$f":"IF(data_pp_pre!FV277=\"\", \"\", data_pp_pre!FV277)","v":""},""]
[null,null,null,null,null,null,null,null,null,null,null,null,null,null,null,null,null,null,null,null,null,null,null,null,null,null,null,null,null,null,null,null,null,null,null,null,null,null,null,null,null,null,null,null,null,null,null,null,null,null,null,null,null,null,null,null,null,null,null,null,null,null,null,null,null,null,null,null,null,null,null,null,null,null,null,null,null,null,null,null,null,null,null,null,null,null,null,null,null,null,null,null,null,null,null,null,null,null,null,null,null,null,null,null,null,null,null,null,null,null,null,null,null,null,null,null,null,null,null,null,null,null,null,null,null,null,null,null,null,null,null,null,null,null,null,null,null,null,null,null,null,null,null,null,null,null,null,null,null,null,null,null,null,null,null,null,null,null,null,null,null,null,null,null,null,null,null,null,null,null,null,null,null,null,null,null,null,null,null,{"$f":"IF(data_pp_combined!$C294=0, \"\", OFFSET(data_pp_post!FT$1, data_pp_combined!$B294-1, 0))","v":""},{"$f":"IF(data_pp_combined!$C294=0, \"\", OFFSET(data_pp_post!FU$1, data_pp_combined!$B294-1, 0))","v":""},{"$f":"IF(data_pp_pre!FV294=\"\", \"\", data_pp_pre!FV294)","v":""},""]
[null,null,null,null,null,null,null,null,null,null,null,null,null,null,null,null,null,null,null,null,null,null,null,null,null,null,null,null,null,null,null,null,null,null,null,null,null,null,null,null,null,null,null,null,null,null,null,null,null,null,null,null,null,null,null,null,null,null,null,null,null,null,null,null,null,null,null,null,null,null,null,null,null,null,null,null,null,null,null,null,null,null,null,null,null,null,null,null,null,null,null,null,null,null,null,null,null,null,null,null,null,null,null,null,null,null,null,null,null,null,null,null,null,null,null,null,null,null,null,null,null,null,null,null,null,null,null,null,null,null,null,null,null,null,null,null,null,null,null,null,null,null,null,null,null,null,null,null,null,null,null,null,null,null,null,null,null,null,null,null,null,null,null,null,null,null,null,null,null,null,null,null,null,null,null,null,null,null,null,{"$f":"IF(data_pp_combined!$C313=0, \"\", OFFSET(data_pp_post!FT$1, data_pp_combined!$B313-1, 0))","v":""},{"$f":"IF(data_pp_combined!$C313=0, \"\", OFFSET(data_pp_post!FU$1, data_pp_combined!$B313-1, 0))","v":""},{"$f":"IF(data_pp_pre!FV313=\"\", \"\", data_pp_pre!FV313)","v":""},""]
[null,null,null,null,null,null,null,null,null,null,null,null,null,null,null,null,null,null,null,null,null,null,null,null,null,null,null,null,null,null,null,null,null,null,null,null,null,null,null,null,null,null,null,null,null,null,null,null,null,null,null,null,null,null,null,null,null,null,null,null,null,null,null,null,null,null,null,null,null,null,null,null,null,null,null,null,null,null,null,null,null,null,null,null,null,null,null,null,null,null,null,null,null,null,null,null,null,null,null,null,null,null,null,null,null,null,null,null,null,null,null,null,null,null,null,null,null,null,null,null,null,null,null,null,null,null,null,null,null,null,null,null,null,null,null,null,null,null,null,null,null,null,null,null,null,null,null,null,null,null,null,null,null,null,null,null,null,null,null,null,null,null,null,null,null,null,null,null,null,null,null,null,null,null,null,null,null,null,null,{"$f":"IF(data_pp_combined!$C338=0, \"\", OFFSET(data_pp_post!FT$1, data_pp_combined!$B338-1, 0))","v":""},{"$f":"IF(data_pp_combined!$C338=0, \"\", OFFSET(data_pp_post!FU$1, data_pp_combined!$B338-1, 0))","v":""},{"$f":"IF(data_pp_pre!FV338=\"\", \"\", data_pp_pre!FV338)","v":""},""]
[null,null,null,null,null,null,null,null,null,null,null,null,null,null,null,null,null,null,null,null,null,null,null,null,null,null,null,null,null,null,null,null,null,null,null,null,null,null,null,null,null,null,null,null,null,null,null,null,null,null,null,null,null,null,null,null,null,null,null,null,null,null,null,null,null,null,null,null,null,null,null,null,null,null,null,null,null,null,null,null,null,null,null,null,null,null,null,null,null,null,null,null,null,null,null,null,null,null,null,null,null,null,null,null,null,null,null,null,null,null,null,null,null,null,null,null,null,null,null,null,null,null,null,null,null,null,null,null,null,null,null,null,null,null,null,null,null,null,null,null,null,null,null,null,null,null,null,null,null,null,null,null,null,null,null,null,null,null,null,null,null,null,null,null,null,null,null,null,null,null,null,null,null,null,null,null,null,null,null,{"$f":"IF(data_pp_combined!$C368=0, \"\", OFFSET(data_pp_post!FT$1, data_pp_combined!$B368-1, 0))","v":""},{"$f":"IF(data_pp_combined!$C368=0, \"\", OFFSET(data_pp_post!FU$1, data_pp_combined!$B368-1, 0))","v":""},{"$f":"IF(data_pp_pre!FV368=\"\", \"\", data_pp_pre!FV368)","v":""},""]
[null,null,null,null,null,null,null,null,null,null,null,null,null,null,null,null,null,null,null,null,null,null,null,null,null,null,null,null,null,null,null,null,null,null,null,null,null,null,null,null,null,null,null,null,null,null,null,null,null,null,null,null,null,null,null,null,null,null,null,null,null,null,null,null,null,null,null,null,null,null,null,null,null,null,null,null,null,null,null,null,null,null,null,null,null,null,null,null,null,null,null,null,null,null,null,null,null,null,null,null,null,null,null,null,null,null,null,null,null,null,null,null,null,null,null,null,null,null,null,null,null,null,null,null,null,null,null,null,null,null,null,null,null,null,null,null,null,null,null,null,null,null,null,null,null,null,null,null,null,null,null,null,null,null,null,null,null,null,null,null,null,null,null,null,null,null,null,null,null,null,null,null,null,null,null,null,null,null,null,{"$f":"IF(data_pp_combined!$C375=0, \"\", OFFSET(data_pp_post!FT$1, data_pp_combined!$B375-1, 0))","v":""},{"$f":"IF(data_pp_combined!$C375=0, \"\", OFFSET(data_pp_post!FU$1, data_pp_combined!$B375-1, 0))","v":""},{"$f":"IF(data_pp_pre!FV375=\"\", \"\", data_pp_pre!FV375)","v":""},""]
[null,null,null,null,null,null,null,null,null,null,null,null,null,null,null,null,null,null,null,null,null,null,null,null,null,null,null,null,null,null,null,null,null,null,null,null,null,null,null,null,null,null,null,null,null,null,null,null,null,null,null,null,null,null,null,null,null,null,null,null,null,null,null,null,null,null,null,null,null,null,null,null,null,null,null,null,null,null,null,null,null,null,null,null,null,null,null,null,null,null,null,null,null,null,null,null,null,null,null,null,null,null,null,null,null,null,null,null,null,null,null,null,null,null,null,null,null,null,null,null,null,null,null,null,null,null,null,null,null,null,null,null,null,null,null,null,null,null,null,null,null,null,null,null,null,null,null,null,null,null,null,null,null,null,null,null,null,null,null,null,null,null,null,null,null,null,null,null,null,null,null,null,null,null,null,null,null,null,null,{"$f":"IF(data_pp_combined!$C400=0, \"\", OFFSET(data_pp_post!FT$1, data_pp_combined!$B400-1, 0))","v":""},{"$f":"IF(data_pp_combined!$C400=0, \"\", OFFSET(data_pp_post!FU$1, data_pp_combined!$B400-1, 0))","v":""},{"$f":"IF(data_pp_pre!FV400=\"\", \"\", data_pp_pre!FV400)","v":""},""]
[null,null,null,null,null,null,null,null,null,null,null,null,null,null,null,null,null,null,null,null,null,null,null,null,null,null,null,null,null,null,null,null,null,null,null,null,null,null,null,null,null,null,null,null,null,null,null,null,null,null,null,null,null,null,null,null,null,null,null,null,null,null,null,null,null,null,null,null,null,null,null,null,null,null,null,null,null,null,null,null,null,null,null,null,null,null,null,null,null,null,null,null,null,null,null,null,null,null,null,null,null,null,null,null,null,null,null,null,null,null,null,null,null,null,null,null,null,null,null,null,null,null,null,null,null,null,null,null,null,null,null,null,null,null,null,null,null,null,null,null,null,null,null,null,null,null,null,null,null,null,null,null,null,null,null,null,null,null,null,null,null,null,null,null,null,null,null,null,null,null,null,null,null,null,null,null,null,null,null,{"$f":"IF(data_pp_combined!$C419=0, \"\", OFFSET(data_pp_post!FT$1, data_pp_combined!$B419-1, 0))","v":""},{"$f":"IF(data_pp_combined!$C419=0, \"\", OFFSET(data_pp_post!FU$1, data_pp_combined!$B419-1, 0))","v":""},{"$f":"IF(data_pp_pre!FV419=\"\", \"\", data_pp_pre!FV419)","v":""},""]
[null,null,null,null,null,null,null,null,null,null,null,null,null,null,null,null,null,null,null,null,null,null,null,null,null,null,null,null,null,null,null,null,null,null,null,null,null,null,null,null,null,null,null,null,null,null,null,null,null,null,null,null,null,null,null,null,null,null,null,null,null,null,null,null,null,null,null,null,null,null,null,null,null,null,null,null,null,null,null,null,null,null,null,null,null,null,null,null,null,null,null,null,null,null,null,null,null,null,null,null,null,null,null,null,null,null,null,null,null,null,null,null,null,null,null,null,null,null,null,null,null,null,null,null,null,null,null,null,null,null,null,null,null,null,null,null,null,null,null,null,null,null,null,null,null,null,null,null,null,null,null,null,null,null,null,null,null,null,null,null,null,null,null,null,null,null,null,null,null,null,null,null,null,null,null,null,null,null,null,{"$f":"IF(data_pp_combined!$C427=0, \"\", OFFSET(data_pp_post!FT$1, data_pp_combined!$B427-1, 0))","v":""},{"$f":"IF(data_pp_combined!$C427=0, \"\", OFFSET(data_pp_post!FU$1, data_pp_combined!$B427-1, 0))","v":""},{"$f":"IF(data_pp_pre!FV427=\"\", \"\", data_pp_pre!FV427)","v":""},""]
[null,null,null,null,null,null,null,null,null,null,null,null,null,null,null,null,null,null,null,null,null,null,null,null,null,null,null,null,null,null,null,null,null,null,null,null,null,null,null,null,null,null,null,null,null,null,null,null,null,null,null,null,null,null,null,null,null,null,null,null,null,null,null,null,null,null,null,null,null,null,null,null,null,null,null,null,null,null,null,null,null,null,null,null,null,null,null,null,null,null,null,null,null,null,null,null,null,null,null,null,null,null,null,null,null,null,null,null,null,null,null,null,null,null,null,null,null,null,null,null,null,null,null,null,null,null,null,null,null,null,null,null,null,null,null,null,null,null,null,null,null,null,null,null,null,null,null,null,null,null,null,null,null,null,null,null,null,null,null,null,null,null,null,null,null,null,null,null,null,null,null,null,null,null,null,null,null,null,null,{"$f":"IF(data_pp_combined!$C462=0, \"\", OFFSET(data_pp_post!FT$1, data_pp_combined!$B462-1, 0))","v":""},{"$f":"IF(data_pp_combined!$C462=0, \"\", OFFSET(data_pp_post!FU$1, data_pp_combined!$B462-1, 0))","v":""},{"$f":"IF(data_pp_pre!FV462=\"\", \"\", data_pp_pre!FV462)","v":""},""]
[null,null,null,null,null,null,null,null,null,null,null,null,null,null,null,null,null,null,null,null,null,null,null,null,null,null,null,null,null,null,null,null,null,null,null,null,null,null,null,null,null,null,null,null,null,null,null,null,null,null,null,null,null,null,null,null,null,null,null,null,null,null,null,null,null,null,null,null,null,null,null,null,null,null,null,null,null,null,null,null,null,null,null,null,null,null,null,null,null,null,null,null,null,null,null,null,null,null,null,null,null,null,null,null,null,null,null,null,null,null,null,null,null,null,null,null,null,null,null,null,null,null,null,null,null,null,null,null,null,null,null,null,null,null,null,null,null,null,null,null,null,null,null,null,null,null,null,null,null,null,null,null,null,null,null,null,null,null,null,null,null,null,null,null,null,null,null,null,null,null,null,null,null,null,null,null,null,null,null,{"$f":"IF(data_pp_combined!$C481=0, \"\", OFFSET(data_pp_post!FT$1, data_pp_combined!$B481-1, 0))","v":""},{"$f":"IF(data_pp_combined!$C481=0, \"\", OFFSET(data_pp_post!FU$1, data_pp_combined!$B481-1, 0))","v":""},{"$f":"IF(data_pp_pre!FV481=\"\", \"\", data_pp_pre!FV481)","v":""},""]
[null,null,null,null,null,null,null,null,null,null,null,null,null,null,null,null,null,null,null,null,null,null,null,null,null,null,null,null,null,null,null,null,null,null,null,null,null,null,null,null,null,null,null,null,null,null,null,null,null,null,null,null,null,null,null,null,null,null,null,null,null,null,null,null,null,null,null,null,null,null,null,null,null,null,null,null,null,null,null,null,null,null,null,null,null,null,null,null,null,null,null,null,null,null,null,null,null,null,null,null,null,null,null,null,null,null,null,null,null,null,null,null,null,null,null,null,null,null,null,null,null,null,null,null,null,null,null,null,null,null,null,null,null,null,null,null,null,null,null,null,null,null,null,null,null,null,null,null,null,null,null,null,null,null,null,null,null,null,null,null,null,null,null,null,null,null,null,null,null,null,null,null,null,null,null,null,null,null,null,{"$f":"IF(data_pp_combined!$C487=0, \"\", OFFSET(data_pp_post!FT$1, data_pp_combined!$B487-1, 0))","v":""},{"$f":"IF(data_pp_combined!$C487=0, \"\", OFFSET(data_pp_post!FU$1, data_pp_combined!$B487-1, 0))","v":""},{"$f":"IF(data_pp_pre!FV487=\"\", \"\", data_pp_pre!FV487)","v":""},""]
[null,null,null,null,null,null,null,null,null,null,null,null,null,null,null,null,null,null,null,null,null,null,null,null,null,null,null,null,null,null,null,null,null,null,null,null,null,null,null,null,null,null,null,null,null,null,null,null,null,null,null,null,null,null,null,null,null,null,null,null,null,null,null,null,null,null,null,null,null,null,null,null,null,null,null,null,null,null,null,null,null,null,null,null,null,null,null,null,null,null,null,null,null,null,null,null,null,null,null,null,null,null,null,null,null,null,null,null,null,null,null,null,null,null,null,null,null,null,null,null,null,null,null,null,null,null,null,null,null,null,null,null,null,null,null,null,null,null,null,null,null,null,null,null,null,null,null,null,null,null,null,null,null,null,null,null,null,null,null,null,null,null,null,null,null,null,null,null,null,null,null,null,null,null,null,null,null,null,null,{"$f":"IF(data_pp_combined!$C518=0, \"\", OFFSET(data_pp_post!FT$1, data_pp_combined!$B518-1, 0))","v":""},{"$f":"IF(data_pp_combined!$C518=0, \"\", OFFSET(data_pp_post!FU$1, data_pp_combined!$B518-1, 0))","v":""},{"$f":"IF(data_pp_pre!FV518=\"\", \"\", data_pp_pre!FV518)","v":""},""]
[null,null,null,null,null,null,null,null,null,null,null,null,null,null,null,null,null,null,null,null,null,null,null,null,null,null,null,null,null,null,null,null,null,null,null,null,null,null,null,null,null,null,null,null,null,null,null,null,null,null,null,null,null,null,null,null,null,null,null,null,null,null,null,null,null,null,null,null,null,null,null,null,null,null,null,null,null,null,null,null,null,null,null,null,null,null,null,null,null,null,null,null,null,null,null,null,null,null,null,null,null,null,null,null,null,null,null,null,null,null,null,null,null,null,null,null,null,null,null,null,null,null,null,null,null,null,null,null,null,null,null,null,null,null,null,null,null,null,null,null,null,null,null,null,null,null,null,null,null,null,null,null,null,null,null,null,null,null,null,null,null,null,null,null,null,null,null,null,null,null,null,null,null,null,null,null,null,null,null,{"$f":"IF(data_pp_combined!$C530=0, \"\", OFFSET(data_pp_post!FT$1, data_pp_combined!$B530-1, 0))","v":""},{"$f":"IF(data_pp_combined!$C530=0, \"\", OFFSET(data_pp_post!FU$1, data_pp_combined!$B530-1, 0))","v":""},{"$f":"IF(data_pp_pre!FV530=\"\", \"\", data_pp_pre!FV530)","v":""},""]
[null,null,null,null,null,null,null,null,null,null,null,null,null,null,null,null,null,null,null,null,null,null,null,null,null,null,null,null,null,null,null,null,null,null,null,null,null,null,null,null,null,null,null,null,null,null,null,null,null,null,null,null,null,null,null,null,null,null,null,null,null,null,null,null,null,null,null,null,null,null,null,null,null,null,null,null,null,null,null,null,null,null,null,null,null,null,null,null,null,null,null,null,null,null,null,null,null,null,null,null,null,null,null,null,null,null,null,null,null,null,null,null,null,null,null,null,null,null,null,null,null,null,null,null,null,null,null,null,null,null,null,null,null,null,null,null,null,null,null,null,null,null,null,null,null,null,null,null,null,null,null,null,null,null,null,null,null,null,null,null,null,null,null,null,null,null,null,null,null,null,null,null,null,null,null,null,null,null,null,{"$f":"IF(data_pp_combined!$C549=0, \"\", OFFSET(data_pp_post!FT$1, data_pp_combined!$B549-1, 0))","v":""},{"$f":"IF(data_pp_combined!$C549=0, \"\", OFFSET(data_pp_post!FU$1, data_pp_combined!$B549-1, 0))","v":""},{"$f":"IF(data_pp_pre!FV549=\"\", \"\", data_pp_pre!FV549)","v":""},""]
[null,null,null,null,null,null,null,null,null,null,null,null,null,null,null,null,null,null,null,null,null,null,null,null,null,null,null,null,null,null,null,null,null,null,null,null,null,null,null,null,null,null,null,null,null,null,null,null,null,null,null,null,null,null,null,null,null,null,null,null,null,null,null,null,null,null,null,null,null,null,null,null,null,null,null,null,null,null,null,null,null,null,null,null,null,null,null,null,null,null,null,null,null,null,null,null,null,null,null,null,null,null,null,null,null,null,null,null,null,null,null,null,null,null,null,null,null,null,null,null,null,null,null,null,null,null,null,null,null,null,null,null,null,null,null,null,null,null,null,null,null,null,null,null,null,null,null,null,null,null,null,null,null,null,null,null,null,null,null,null,null,null,null,null,null,null,null,null,null,null,null,null,null,null,null,null,null,null,null,{"$f":"IF(data_pp_combined!$C568=0, \"\", OFFSET(data_pp_post!FT$1, data_pp_combined!$B568-1, 0))","v":""},{"$f":"IF(data_pp_combined!$C568=0, \"\", OFFSET(data_pp_post!FU$1, data_pp_combined!$B568-1, 0))","v":""},{"$f":"IF(data_pp_pre!FV568=\"\", \"\", data_pp_pre!FV568)","v":""},""]
[null,null,null,null,null,null,null,null,null,null,null,null,null,null,null,null,null,null,null,null,null,null,null,null,null,null,null,null,null,null,null,null,null,null,null,null,null,null,null,null,null,null,null,null,null,null,null,null,null,null,null,null,null,null,null,null,null,null,null,null,null,null,null,null,null,null,null,null,null,null,null,null,null,null,null,null,null,null,null,null,null,null,null,null,null,null,null,null,null,null,null,null,null,null,null,null,null,null,null,null,null,null,null,null,null,null,null,null,null,null,null,null,null,null,null,null,null,null,null,null,null,null,null,null,null,null,null,null,null,null,null,null,null,null,null,null,null,null,null,null,null,null,null,null,null,null,null,null,null,null,null,null,null,null,null,null,null,null,null,null,null,null,null,null,null,null,null,null,null,null,null,null,null,null,null,null,null,null,null,{"$f":"IF(data_pp_combined!$C593=0, \"\", OFFSET(data_pp_post!FT$1, data_pp_combined!$B593-1, 0))","v":""},{"$f":"IF(data_pp_combined!$C593=0, \"\", OFFSET(data_pp_post!FU$1, data_pp_combined!$B593-1, 0))","v":""},{"$f":"IF(data_pp_pre!FV593=\"\", \"\", data_pp_pre!FV593)","v":""},""]
[null,null,null,null,null,null,null,null,null,null,null,null,null,null,null,null,null,null,null,null,null,null,null,null,null,null,null,null,null,null,null,null,null,null,null,null,null,null,null,null,null,null,null,null,null,null,null,null,null,null,null,null,null,null,null,null,null,null,null,null,null,null,null,null,null,null,null,null,null,null,null,null,null,null,null,null,null,null,null,null,null,null,null,null,null,null,null,null,null,null,null,null,null,null,null,null,null,null,null,null,null,null,null,null,null,null,null,null,null,null,null,null,null,null,null,null,null,null,null,null,null,null,null,null,null,null,null,null,null,null,null,null,null,null,null,null,null,null,null,null,null,null,null,null,null,null,null,null,null,null,null,null,null,null,null,null,null,null,null,null,null,null,null,null,null,null,null,null,null,null,null,null,null,null,null,null,null,null,null,{"$f":"IF(data_pp_combined!$C599=0, \"\", OFFSET(data_pp_post!FT$1, data_pp_combined!$B599-1, 0))","v":""},{"$f":"IF(data_pp_combined!$C599=0, \"\", OFFSET(data_pp_post!FU$1, data_pp_combined!$B599-1, 0))","v":""},{"$f":"IF(data_pp_pre!FV599=\"\", \"\", data_pp_pre!FV599)","v":""},""]
[null,null,null,null,null,null,null,null,null,null,null,null,null,null,null,null,null,null,null,null,null,null,null,null,null,null,null,null,null,null,null,null,null,null,null,null,null,null,null,null,null,null,null,null,null,null,null,null,null,null,null,null,null,null,null,null,null,null,null,null,null,null,null,null,null,null,null,null,null,null,null,null,null,null,null,null,null,null,null,null,null,null,null,null,null,null,null,null,null,null,null,null,null,null,null,null,null,null,null,null,null,null,null,null,null,null,null,null,null,null,null,null,null,null,null,null,null,null,null,null,null,null,null,null,null,null,null,null,null,null,null,null,null,null,null,null,null,null,null,null,null,null,null,null,null,null,null,null,null,null,null,null,null,null,null,null,null,null,null,null,null,null,null,null,null,null,null,null,null,null,null,null,null,null,null,null,null,null,null,{"$f":"IF(data_pp_combined!$C630=0, \"\", OFFSET(data_pp_post!FT$1, data_pp_combined!$B630-1, 0))","v":""},{"$f":"IF(data_pp_combined!$C630=0, \"\", OFFSET(data_pp_post!FU$1, data_pp_combined!$B630-1, 0))","v":""},{"$f":"IF(data_pp_pre!FV630=\"\", \"\", data_pp_pre!FV630)","v":""},""]
[null,null,null,null,null,null,null,null,null,null,null,null,null,null,null,null,null,null,null,null,null,null,null,null,null,null,null,null,null,null,null,null,null,null,null,null,null,null,null,null,null,null,null,null,null,null,null,null,null,null,null,null,null,null,null,null,null,null,null,null,null,null,null,null,null,null,null,null,null,null,null,null,null,null,null,null,null,null,null,null,null,null,null,null,null,null,null,null,null,null,null,null,null,null,null,null,null,null,null,null,null,null,null,null,null,null,null,null,null,null,null,null,null,null,null,null,null,null,null,null,null,null,null,null,null,null,null,null,null,null,null,null,null,null,null,null,null,null,null,null,null,null,null,null,null,null,null,null,null,null,null,null,null,null,null,null,null,null,null,null,null,null,null,null,null,null,null,null,null,null,null,null,null,null,null,null,null,null,null,{"$f":"IF(data_pp_combined!$C636=0, \"\", OFFSET(data_pp_post!FT$1, data_pp_combined!$B636-1, 0))","v":""},{"$f":"IF(data_pp_combined!$C636=0, \"\", OFFSET(data_pp_post!FU$1, data_pp_combined!$B636-1, 0))","v":""},{"$f":"IF(data_pp_pre!FV636=\"\", \"\", data_pp_pre!FV636)","v":""},""]
[null,null,null,null,null,null,null,null,null,null,null,null,null,null,null,null,null,null,null,null,null,null,null,null,null,null,null,null,null,null,null,null,null,null,null,null,null,null,null,null,null,null,null,null,null,null,null,null,null,null,null,null,null,null,null,null,null,null,null,null,null,null,null,null,null,null,null,null,null,null,null,null,null,null,null,null,null,null,null,null,null,null,null,null,null,null,null,null,null,null,null,null,null,null,null,null,null,null,null,null,null,null,null,null,null,null,null,null,null,null,null,null,null,null,null,null,null,null,null,null,null,null,null,null,null,null,null,null,null,null,null,null,null,null,null,null,null,null,null,null,null,null,null,null,null,null,null,null,null,null,null,null,null,null,null,null,null,null,null,null,null,null,null,null,null,null,null,null,null,null,null,null,null,null,null,null,null,null,null,{"$f":"IF(data_pp_combined!$C655=0, \"\", OFFSET(data_pp_post!FT$1, data_pp_combined!$B655-1, 0))","v":""},{"$f":"IF(data_pp_combined!$C655=0, \"\", OFFSET(data_pp_post!FU$1, data_pp_combined!$B655-1, 0))","v":""},{"$f":"IF(data_pp_pre!FV655=\"\", \"\", data_pp_pre!FV655)","v":""},""]
[null,null,null,null,null,null,null,null,null,null,null,null,null,null,null,null,null,null,null,null,null,null,null,null,null,null,null,null,null,null,null,null,null,null,null,null,null,null,null,null,null,null,null,null,null,null,null,null,null,null,null,null,null,null,null,null,null,null,null,null,null,null,null,null,null,null,null,null,null,null,null,null,null,null,null,null,null,null,null,null,null,null,null,null,null,null,null,null,null,null,null,null,null,null,null,null,null,null,null,null,null,null,null,null,null,null,null,null,null,null,null,null,null,null,null,null,null,null,null,null,null,null,null,null,null,null,null,null,null,null,null,null,null,null,null,null,null,null,null,null,null,null,null,null,null,null,null,null,null,null,null,null,null,null,null,null,null,null,null,null,null,null,null,null,null,null,null,null,null,null,null,null,null,null,null,null,null,null,null,{"$f":"IF(data_pp_combined!$C676=0, \"\", OFFSET(data_pp_post!FT$1, data_pp_combined!$B676-1, 0))","v":""},{"$f":"IF(data_pp_combined!$C676=0, \"\", OFFSET(data_pp_post!FU$1, data_pp_combined!$B676-1, 0))","v":""},{"$f":"IF(data_pp_pre!FV676=\"\", \"\", data_pp_pre!FV676)","v":""},""]
[null,null,null,null,null,null,null,null,null,null,null,null,null,null,null,null,null,null,null,null,null,null,null,null,null,null,null,null,null,null,null,null,null,null,null,null,null,null,null,null,null,null,null,null,null,null,null,null,null,null,null,null,null,null,null,null,null,null,null,null,null,null,null,null,null,null,null,null,null,null,null,null,null,null,null,null,null,null,null,null,null,null,null,null,null,null,null,null,null,null,null,null,null,null,null,null,null,null,null,null,null,null,null,null,null,null,null,null,null,null,null,null,null,null,null,null,null,null,null,null,null,null,null,null,null,null,null,null,null,null,null,null,null,null,null,null,null,null,null,null,null,null,null,null,null,null,null,null,null,null,null,null,null,null,null,null,null,null,null,null,null,null,null,null,null,null,null,null,null,null,null,null,null,null,null,null,null,null,null,{"$f":"IF(data_pp_combined!$C698=0, \"\", OFFSET(data_pp_post!FT$1, data_pp_combined!$B698-1, 0))","v":""},{"$f":"IF(data_pp_combined!$C698=0, \"\", OFFSET(data_pp_post!FU$1, data_pp_combined!$B698-1, 0))","v":""},{"$f":"IF(data_pp_pre!FV698=\"\", \"\", data_pp_pre!FV698)","v":""},""]
[null,null,null,null,null,null,null,null,null,null,null,null,null,null,null,null,null,null,null,null,null,null,null,null,null,null,null,null,null,null,null,null,null,null,null,null,null,null,null,null,null,null,null,null,null,null,null,null,null,null,null,null,null,null,null,null,null,null,null,null,null,null,null,null,null,null,null,null,null,null,null,null,null,null,null,null,null,null,null,null,null,null,null,null,null,null,null,null,null,null,null,null,null,null,null,null,null,null,null,null,null,null,null,null,null,null,null,null,null,null,null,null,null,null,null,null,null,null,null,null,null,null,null,null,null,null,null,null,null,null,null,null,null,null,null,null,null,null,null,null,null,null,null,null,null,null,null,null,null,null,null,null,null,null,null,null,null,null,null,null,null,null,null,null,null,null,null,null,null,null,null,null,null,null,null,null,null,null,null,{"$f":"IF(data_pp_combined!$C717=0, \"\", OFFSET(data_pp_post!FT$1, data_pp_combined!$B717-1, 0))","v":""},{"$f":"IF(data_pp_combined!$C717=0, \"\", OFFSET(data_pp_post!FU$1, data_pp_combined!$B717-1, 0))","v":""},{"$f":"IF(data_pp_pre!FV717=\"\", \"\", data_pp_pre!FV717)","v":""},""]
[null,null,null,null,null,null,null,null,null,null,null,null,null,null,null,null,null,null,null,null,null,null,null,null,null,null,null,null,null,null,null,null,null,null,null,null,null,null,null,null,null,null,null,null,null,null,null,null,null,null,null,null,null,null,null,null,null,null,null,null,null,null,null,null,null,null,null,null,null,null,null,null,null,null,null,null,null,null,null,null,null,null,null,null,null,null,null,null,null,null,null,null,null,null,null,null,null,null,null,null,null,null,null,null,null,null,null,null,null,null,null,null,null,null,null,null,null,null,null,null,null,null,null,null,null,null,null,null,null,null,null,null,null,null,null,null,null,null,null,null,null,null,null,null,null,null,null,null,null,null,null,null,null,null,null,null,null,null,null,null,null,null,null,null,null,null,null,null,null,null,null,null,null,null,null,null,null,null,null,{"$f":"IF(data_pp_combined!$C742=0, \"\", OFFSET(data_pp_post!FT$1, data_pp_combined!$B742-1, 0))","v":""},{"$f":"IF(data_pp_combined!$C742=0, \"\", OFFSET(data_pp_post!FU$1, data_pp_combined!$B742-1, 0))","v":""},{"$f":"IF(data_pp_pre!FV742=\"\", \"\", data_pp_pre!FV742)","v":""},""]
[null,null,null,null,null,null,null,null,null,null,null,null,null,null,null,null,null,null,null,null,null,null,null,null,null,null,null,null,null,null,null,null,null,null,null,null,null,null,null,null,null,null,null,null,null,null,null,null,null,null,null,null,null,null,null,null,null,null,null,null,null,null,null,null,null,null,null,null,null,null,null,null,null,null,null,null,null,null,null,null,null,null,null,null,null,null,null,null,null,null,null,null,null,null,null,null,null,null,null,null,null,null,null,null,null,null,null,null,null,null,null,null,null,null,null,null,null,null,null,null,null,null,null,null,null,null,null,null,null,null,null,null,null,null,null,null,null,null,null,null,null,null,null,null,null,null,null,null,null,null,null,null,null,null,null,null,null,null,null,null,null,null,null,null,null,null,null,null,null,null,null,null,null,null,null,null,null,null,null,{"$f":"IF(data_pp_combined!$C749=0, \"\", OFFSET(data_pp_post!FT$1, data_pp_combined!$B749-1, 0))","v":""},{"$f":"IF(data_pp_combined!$C749=0, \"\", OFFSET(data_pp_post!FU$1, data_pp_combined!$B749-1, 0))","v":""},{"$f":"IF(data_pp_pre!FV749=\"\", \"\", data_pp_pre!FV749)","v":""},""]
[null,null,null,null,null,null,null,null,null,null,null,null,null,null,null,null,null,null,null,null,null,null,null,null,null,null,null,null,null,null,null,null,null,null,null,null,null,null,null,null,null,null,null,null,null,null,null,null,null,null,null,null,null,null,null,null,null,null,null,null,null,null,null,null,null,null,null,null,null,null,null,null,null,null,null,null,null,null,null,null,null,null,null,null,null,null,null,null,null,null,null,null,null,null,null,null,null,null,null,null,null,null,null,null,null,null,null,null,null,null,null,null,null,null,null,null,null,null,null,null,null,null,null,null,null,null,null,null,null,null,null,null,null,null,null,null,null,null,null,null,null,null,null,null,null,null,null,null,null,null,null,null,null,null,null,null,null,null,null,null,null,null,null,null,null,null,null,null,null,null,null,null,null,null,null,null,null,null,null,{"$f":"IF(data_pp_combined!$C779=0, \"\", OFFSET(data_pp_post!FT$1, data_pp_combined!$B779-1, 0))","v":""},{"$f":"IF(data_pp_combined!$C779=0, \"\", OFFSET(data_pp_post!FU$1, data_pp_combined!$B779-1, 0))","v":""},{"$f":"IF(data_pp_pre!FV779=\"\", \"\", data_pp_pre!FV779)","v":""},""]
[null,null,null,null,null,null,null,null,null,null,null,null,null,null,null,null,null,null,null,null,null,null,null,null,null,null,null,null,null,null,null,null,null,null,null,null,null,null,null,null,null,null,null,null,null,null,null,null,null,null,null,null,null,null,null,null,null,null,null,null,null,null,null,null,null,null,null,null,null,null,null,null,null,null,null,null,null,null,null,null,null,null,null,null,null,null,null,null,null,null,null,null,null,null,null,null,null,null,null,null,null,null,null,null,null,null,null,null,null,null,null,null,null,null,null,null,null,null,null,null,null,null,null,null,null,null,null,null,null,null,null,null,null,null,null,null,null,null,null,null,null,null,null,null,null,null,null,null,null,null,null,null,null,null,null,null,null,null,null,null,null,null,null,null,null,null,null,null,null,null,null,null,null,null,null,null,null,null,null,{"$f":"IF(data_pp_combined!$C785=0, \"\", OFFSET(data_pp_post!FT$1, data_pp_combined!$B785-1, 0))","v":""},{"$f":"IF(data_pp_combined!$C785=0, \"\", OFFSET(data_pp_post!FU$1, data_pp_combined!$B785-1, 0))","v":""},{"$f":"IF(data_pp_pre!FV785=\"\", \"\", data_pp_pre!FV785)","v":""},""]
[null,null,null,null,null,null,null,null,null,null,null,null,null,null,null,null,null,null,null,null,null,null,null,null,null,null,null,null,null,null,null,null,null,null,null,null,null,null,null,null,null,null,null,null,null,null,null,null,null,null,null,null,null,null,null,null,null,null,null,null,null,null,null,null,null,null,null,null,null,null,null,null,null,null,null,null,null,null,null,null,null,null,null,null,null,null,null,null,null,null,null,null,null,null,null,null,null,null,null,null,null,null,null,null,null,null,null,null,null,null,null,null,null,null,null,null,null,null,null,null,null,null,null,null,null,null,null,null,null,null,null,null,null,null,null,null,null,null,null,null,null,null,null,null,null,null,null,null,null,null,null,null,null,null,null,null,null,null,null,null,null,null,null,null,null,null,null,null,null,null,null,null,null,null,null,null,null,null,null,{"$f":"IF(data_pp_combined!$C804=0, \"\", OFFSET(data_pp_post!FT$1, data_pp_combined!$B804-1, 0))","v":""},{"$f":"IF(data_pp_combined!$C804=0, \"\", OFFSET(data_pp_post!FU$1, data_pp_combined!$B804-1, 0))","v":""},{"$f":"IF(data_pp_pre!FV804=\"\", \"\", data_pp_pre!FV804)","v":""},""]
[null,null,null,null,null,null,null,null,null,null,null,null,null,null,null,null,null,null,null,null,null,null,null,null,null,null,null,null,null,null,null,null,null,null,null,null,null,null,null,null,null,null,null,null,null,null,null,null,null,null,null,null,null,null,null,null,null,null,null,null,null,null,null,null,null,null,null,null,null,null,null,null,null,null,null,null,null,null,null,null,null,null,null,null,null,null,null,null,null,null,null,null,null,null,null,null,null,null,null,null,null,null,null,null,null,null,null,null,null,null,null,null,null,null,null,null,null,null,null,null,null,null,null,null,null,null,null,null,null,null,null,null,null,null,null,null,null,null,null,null,null,null,null,null,null,null,null,null,null,null,null,null,null,null,null,null,null,null,null,null,null,null,null,null,null,null,null,null,null,null,null,null,null,null,null,null,null,null,null,{"$f":"IF(data_pp_combined!$C826=0, \"\", OFFSET(data_pp_post!FT$1, data_pp_combined!$B826-1, 0))","v":""},{"$f":"IF(data_pp_combined!$C826=0, \"\", OFFSET(data_pp_post!FU$1, data_pp_combined!$B826-1, 0))","v":""},{"$f":"IF(data_pp_pre!FV826=\"\", \"\", data_pp_pre!FV826)","v":""},""]
[null,null,null,null,null,null,null,null,null,null,null,null,null,null,null,null,null,null,null,null,null,null,null,null,null,null,null,null,null,null,null,null,null,null,null,null,null,null,null,null,null,null,null,null,null,null,null,null,null,null,null,null,null,null,null,null,null,null,null,null,null,null,null,null,null,null,null,null,null,null,null,null,null,null,null,null,null,null,null,null,null,null,null,null,null,null,null,null,null,null,null,null,null,null,null,null,null,null,null,null,null,null,null,null,null,null,null,null,null,null,null,null,null,null,null,null,null,null,null,null,null,null,null,null,null,null,null,null,null,null,null,null,null,null,null,null,null,null,null,null,null,null,null,null,null,null,null,null,null,null,null,null,null,null,null,null,null,null,null,null,null,null,null,null,null,null,null,null,null,null,null,null,null,null,null,null,null,null,null,{"$f":"IF(data_pp_combined!$C847=0, \"\", OFFSET(data_pp_post!FT$1, data_pp_combined!$B847-1, 0))","v":""},{"$f":"IF(data_pp_combined!$C847=0, \"\", OFFSET(data_pp_post!FU$1, data_pp_combined!$B847-1, 0))","v":""},{"$f":"IF(data_pp_pre!FV847=\"\", \"\", data_pp_pre!FV847)","v":""},""]
[null,null,null,null,null,null,null,null,null,null,null,null,null,null,null,null,null,null,null,null,null,null,null,null,null,null,null,null,null,null,null,null,null,null,null,null,null,null,null,null,null,null,null,null,null,null,null,null,null,null,null,null,null,null,null,null,null,null,null,null,null,null,null,null,null,null,null,null,null,null,null,null,null,null,null,null,null,null,null,null,null,null,null,null,null,null,null,null,null,null,null,null,null,null,null,null,null,null,null,null,null,null,null,null,null,null,null,null,null,null,null,null,null,null,null,null,null,null,null,null,null,null,null,null,null,null,null,null,null,null,null,null,null,null,null,null,null,null,null,null,null,null,null,null,null,null,null,null,null,null,null,null,null,null,null,null,null,null,null,null,null,null,null,null,null,null,null,null,null,null,null,null,null,null,null,null,null,null,null,{"$f":"IF(data_pp_combined!$C866=0, \"\", OFFSET(data_pp_post!FT$1, data_pp_combined!$B866-1, 0))","v":""},{"$f":"IF(data_pp_combined!$C866=0, \"\", OFFSET(data_pp_post!FU$1, data_pp_combined!$B866-1, 0))","v":""},{"$f":"IF(data_pp_pre!FV866=\"\", \"\", data_pp_pre!FV866)","v":""},""]
[null,null,null,null,null,null,null,null,null,null,null,null,null,null,null,null,null,null,null,null,null,null,null,null,null,null,null,null,null,null,null,null,null,null,null,null,null,null,null,null,null,null,null,null,null,null,null,null,null,null,null,null,null,null,null,null,null,null,null,null,null,null,null,null,null,null,null,null,null,null,null,null,null,null,null,null,null,null,null,null,null,null,null,null,null,null,null,null,null,null,null,null,null,null,null,null,null,null,null,null,null,null,null,null,null,null,null,null,null,null,null,null,null,null,null,null,null,null,null,null,null,null,null,null,null,null,null,null,null,null,null,null,null,null,null,null,null,null,null,null,null,null,null,null,null,null,null,null,null,null,null,null,null,null,null,null,null,null,null,null,null,null,null,null,null,null,null,null,null,null,null,null,null,null,null,null,null,null,null,{"$f":"IF(data_pp_combined!$C891=0, \"\", OFFSET(data_pp_post!FT$1, data_pp_combined!$B891-1, 0))","v":""},{"$f":"IF(data_pp_combined!$C891=0, \"\", OFFSET(data_pp_post!FU$1, data_pp_combined!$B891-1, 0))","v":""},{"$f":"IF(data_pp_pre!FV891=\"\", \"\", data_pp_pre!FV891)","v":""},""]
[null,null,null,null,null,null,null,null,null,null,null,null,null,null,null,null,null,null,null,null,null,null,null,null,null,null,null,null,null,null,null,null,null,null,null,null,null,null,null,null,null,null,null,null,null,null,null,null,null,null,null,null,null,null,null,null,null,null,null,null,null,null,null,null,null,null,null,null,null,null,null,null,null,null,null,null,null,null,null,null,null,null,null,null,null,null,null,null,null,null,null,null,null,null,null,null,null,null,null,null,null,null,null,null,null,null,null,null,null,null,null,null,null,null,null,null,null,null,null,null,null,null,null,null,null,null,null,null,null,null,null,null,null,null,null,null,null,null,null,null,null,null,null,null,null,null,null,null,null,null,null,null,null,null,null,null,null,null,null,null,null,null,null,null,null,null,null,null,null,null,null,null,null,null,null,null,null,null,null,{"$f":"IF(data_pp_combined!$C899=0, \"\", OFFSET(data_pp_post!FT$1, data_pp_combined!$B899-1, 0))","v":""},{"$f":"IF(data_pp_combined!$C899=0, \"\", OFFSET(data_pp_post!FU$1, data_pp_combined!$B899-1, 0))","v":""},{"$f":"IF(data_pp_pre!FV899=\"\", \"\", data_pp_pre!FV899)","v":""},{"$f":"FZ899","v":""}]
[null,null,null,null,null,null,null,null,null,null,null,null,null,null,null,null,null,null,null,null,null,null,null,null,null,null,null,null,null,null,null,null,null,null,null,null,null,null,null,null,null,null,null,null,null,null,null,null,null,null,null,null,null,null,null,null,null,null,null,null,null,null,null,null,null,null,null,null,null,null,null,null,null,null,null,null,null,null,null,null,null,null,null,null,null,null,null,null,null,null,null,null,null,null,null,null,null,null,null,null,null,null,null,null,null,null,null,null,null,null,null,null,null,null,null,null,null,null,null,null,null,null,null,null,null,null,null,null,null,null,null,null,null,null,null,null,null,null,null,null,null,null,null,null,null,null,null,null,null,null,null,null,null,null,null,null,null,null,null,null,null,null,null,null,null,null,null,null,null,null,null,null,null,null,null,null,null,null,null,{"$f":"IF(data_pp_combined!$C915=0, \"\", OFFSET(data_pp_post!FT$1, data_pp_combined!$B915-1, 0))","v":""},{"$f":"IF(data_pp_combined!$C915=0, \"\", OFFSET(data_pp_post!FU$1, data_pp_combined!$B915-1, 0))","v":""},{"$f":"IF(data_pp_pre!FV915=\"\", \"\", data_pp_pre!FV915)","v":""},""]
[null,null,null,null,null,null,null,null,null,null,null,null,null,null,null,null,null,null,null,null,null,null,null,null,null,null,null,null,null,null,null,null,null,null,null,null,null,null,null,null,null,null,null,null,null,null,null,null,null,null,null,null,null,null,null,null,null,null,null,null,null,null,null,null,null,null,null,null,null,null,null,null,null,null,null,null,null,null,null,null,null,null,null,null,null,null,null,null,null,null,null,null,null,null,null,null,null,null,null,null,null,null,null,null,null,null,null,null,null,null,null,null,null,null,null,null,null,null,null,null,null,null,null,null,null,null,null,null,null,null,null,null,null,null,null,null,null,null,null,null,null,null,null,null,null,null,null,null,null,null,null,null,null,null,null,null,null,null,null,null,null,null,null,null,null,null,null,null,null,null,null,null,null,null,null,null,null,null,null,{"$f":"IF(data_pp_combined!$C934=0, \"\", OFFSET(data_pp_post!FT$1, data_pp_combined!$B934-1, 0))","v":""},{"$f":"IF(data_pp_combined!$C934=0, \"\", OFFSET(data_pp_post!FU$1, data_pp_combined!$B934-1, 0))","v":""},{"$f":"IF(data_pp_pre!FV934=\"\", \"\", data_pp_pre!FV934)","v":""},""]
[null,null,null,null,null,null,null,null,null,null,null,null,null,null,null,null,null,null,null,null,null,null,null,null,null,null,null,null,null,null,null,null,null,null,null,null,null,null,null,null,null,null,null,null,null,null,null,null,null,null,null,null,null,null,null,null,null,null,null,null,null,null,null,null,null,null,null,null,null,null,null,null,null,null,null,null,null,null,null,null,null,null,null,null,null,null,null,null,null,null,null,null,null,null,null,null,null,null,null,null,null,null,null,null,null,null,null,null,null,null,null,null,null,null,null,null,null,null,null,null,null,null,null,null,null,null,null,null,null,null,null,null,null,null,null,null,null,null,null,null,null,null,null,null,null,null,null,null,null,null,null,null,null,null,null,null,null,null,null,null,null,null,null,null,null,null,null,null,null,null,null,null,null,null,null,null,null,null,null,{"$f":"IF(data_pp_combined!$C953=0, \"\", OFFSET(data_pp_post!FT$1, data_pp_combined!$B953-1, 0))","v":""},{"$f":"IF(data_pp_combined!$C953=0, \"\", OFFSET(data_pp_post!FU$1, data_pp_combined!$B953-1, 0))","v":""},{"$f":"IF(data_pp_pre!FV953=\"\", \"\", data_pp_pre!FV953)","v":""},""]
[null,null,null,null,null,null,null,null,null,null,null,null,null,null,null,null,null,null,null,null,null,null,null,null,null,null,null,null,null,null,null,null,null,null,null,null,null,null,null,null,null,null,null,null,null,null,null,null,null,null,null,null,null,null,null,null,null,null,null,null,null,null,null,null,null,null,null,null,null,null,null,null,null,null,null,null,null,null,null,null,null,null,null,null,null,null,null,null,null,null,null,null,null,null,null,null,null,null,null,null,null,null,null,null,null,null,null,null,null,null,null,null,null,null,null,null,null,null,null,null,null,null,null,null,null,null,null,null,null,null,null,null,null,null,null,null,null,null,null,null,null,null,null,null,null,null,null,null,null,null,null,null,null,null,null,null,null,null,null,null,null,null,null,null,null,null,null,null,null,null,null,null,null,null,null,null,null,null,null,{"$f":"IF(data_pp_combined!$C976=0, \"\", OFFSET(data_pp_post!FT$1, data_pp_combined!$B976-1, 0))","v":""},{"$f":"IF(data_pp_combined!$C976=0, \"\", OFFSET(data_pp_post!FU$1, data_pp_combined!$B976-1, 0))","v":""},{"$f":"IF(data_pp_pre!FV976=\"\", \"\", data_pp_pre!FV976)","v":""},""]
[null,null,null,null,null,null,null,null,null,null,null,null,null,null,null,null,null,null,null,null,null,null,null,null,null,null,null,null,null,null,null,null,null,null,null,null,null,null,null,null,null,null,null,null,null,null,null,null,null,null,null,null,null,null,null,null,null,null,null,null,null,null,null,null,null,null,null,null,null,null,null,null,null,null,null,null,null,null,null,null,null,null,null,null,null,null,null,null,null,null,null,null,null,null,null,null,null,null,null,null,null,null,null,null,null,null,null,null,null,null,null,null,null,null,null,null,null,null,null,null,null,null,null,null,null,null,null,null,null,null,null,null,null,null,null,null,null,null,null,null,null,null,null,null,null,null,null,null,null,null,null,null,null,null,null,null,null,null,null,null,null,null,null,null,null,null,null,null,null,null,null,null,null,null,null,null,null,null,null,{"$f":"IF(data_pp_combined!$C996=0, \"\", OFFSET(data_pp_post!FT$1, data_pp_combined!$B996-1, 0))","v":""},{"$f":"IF(data_pp_combined!$C996=0, \"\", OFFSET(data_pp_post!FU$1, data_pp_combined!$B996-1, 0))","v":""},{"$f":"IF(data_pp_pre!FV996=\"\", \"\", data_pp_pre!FV996)","v":""},""]
[null,null,null,null,null,null,null,null,null,null,null,null,null,null,null,null,null,null,null,null,null,null,null,null,null,null,null,null,null,null,null,null,null,null,null,null,null,null,null,null,null,null,null,null,null,null,null,null,null,null,null,null,null,null,null,null,null,null,null,null,null,null,null,null,null,null,null,null,null,null,null,null,null,null,null,null,null,null,null,null,null,null,null,null,null,null,null,null,null,null,null,null,null,null,null,null,null,null,null,null,null,null,null,null,null,null,null,null,null,null,null,null,null,null,null,null,null,null,null,null,null,null,null,null,null,null,null,null,null,null,null,null,null,null,null,null,null,null,null,null,null,null,null,null,null,null,null,null,null,null,null,null,null,null,null,null,null,null,null,null,null,null,null,null,null,null,null,null,null,null,null,null,null,null,null,null,null,null,null,{"$f":"IF(data_pp_combined!$C1015=0, \"\", OFFSET(data_pp_post!FT$1, data_pp_combined!$B1015-1, 0))","v":""},{"$f":"IF(data_pp_combined!$C1015=0, \"\", OFFSET(data_pp_post!FU$1, data_pp_combined!$B1015-1, 0))","v":""},{"$f":"IF(data_pp_pre!FV1015=\"\", \"\", data_pp_pre!FV1015)","v":""},""]
[null,null,null,null,null,null,null,null,null,null,null,null,null,null,null,null,null,null,null,null,null,null,null,null,null,null,null,null,null,null,null,null,null,null,null,null,null,null,null,null,null,null,null,null,null,null,null,null,null,null,null,null,null,null,null,null,null,null,null,null,null,null,null,null,null,null,null,null,null,null,null,null,null,null,null,null,null,null,null,null,null,null,null,null,null,null,null,null,null,null,null,null,null,null,null,null,null,null,null,null,null,null,null,null,null,null,null,null,null,null,null,null,null,null,null,null,null,null,null,null,null,null,null,null,null,null,null,null,null,null,null,null,null,null,null,null,null,null,null,null,null,null,null,null,null,null,null,null,null,null,null,null,null,null,null,null,null,null,null,null,null,null,null,null,null,null,null,null,null,null,null,null,null,null,null,null,null,null,null,{"$f":"IF(data_pp_combined!$C1040=0, \"\", OFFSET(data_pp_post!FT$1, data_pp_combined!$B1040-1, 0))","v":""},{"$f":"IF(data_pp_combined!$C1040=0, \"\", OFFSET(data_pp_post!FU$1, data_pp_combined!$B1040-1, 0))","v":""},{"$f":"IF(data_pp_pre!FV1040=\"\", \"\", data_pp_pre!FV1040)","v":""},""]
[null,null,null,null,null,null,null,null,null,null,null,null,null,null,null,null,null,null,null,null,null,null,null,null,null,null,null,null,null,null,null,null,null,null,null,null,null,null,null,null,null,null,null,null,null,null,null,null,null,null,null,null,null,null,null,null,null,null,null,null,null,null,null,null,null,null,null,null,null,null,null,null,null,null,null,null,null,null,null,null,null,null,null,null,null,null,null,null,null,null,null,null,null,null,null,null,null,null,null,null,null,null,null,null,null,null,null,null,null,null,null,null,null,null,null,null,null,null,null,null,null,null,null,null,null,null,null,null,null,null,null,null,null,null,null,null,null,null,null,null,null,null,null,null,null,null,null,null,null,null,null,null,null,null,null,null,null,null,null,null,null,null,null,null,null,null,null,null,null,null,null,null,null,null,null,null,null,null,null,{"$f":"IF(data_pp_combined!$C1059=0, \"\", OFFSET(data_pp_post!FT$1, data_pp_combined!$B1059-1, 0))","v":""},{"$f":"IF(data_pp_combined!$C1059=0, \"\", OFFSET(data_pp_post!FU$1, data_pp_combined!$B1059-1, 0))","v":""},{"$f":"IF(data_pp_pre!FV1059=\"\", \"\", data_pp_pre!FV1059)","v":""},""]
[null,null,null,null,null,null,null,null,null,null,null,null,null,null,null,null,null,null,null,null,null,null,null,null,null,null,null,null,null,null,null,null,null,null,null,null,null,null,null,null,null,null,null,null,null,null,null,null,null,null,null,null,null,null,null,null,null,null,null,null,null,null,null,null,null,null,null,null,null,null,null,null,null,null,null,null,null,null,null,null,null,null,null,null,null,null,null,null,null,null,null,null,null,null,null,null,null,null,null,null,null,null,null,null,null,null,null,null,null,null,null,null,null,null,null,null,null,null,null,null,null,null,null,null,null,null,null,null,null,null,null,null,null,null,null,null,null,null,null,null,null,null,null,null,null,null,null,null,null,null,null,null,null,null,null,null,null,null,null,null,null,null,null,null,null,null,null,null,null,null,null,null,null,null,null,null,null,null,null,{"$f":"IF(data_pp_combined!$C1075=0, \"\", OFFSET(data_pp_post!FT$1, data_pp_combined!$B1075-1, 0))","v":""},{"$f":"IF(data_pp_combined!$C1075=0, \"\", OFFSET(data_pp_post!FU$1, data_pp_combined!$B1075-1, 0))","v":""},{"$f":"IF(data_pp_pre!FV1075=\"\", \"\", data_pp_pre!FV1075)","v":""},""]
[null,null,null,null,null,null,null,null,null,null,null,null,null,null,null,null,null,null,null,null,null,null,null,null,null,null,null,null,null,null,null,null,null,null,null,null,null,null,null,null,null,null,null,null,null,null,null,null,null,null,null,null,null,null,null,null,null,null,null,null,null,null,null,null,null,null,null,null,null,null,null,null,null,null,null,null,null,null,null,null,null,null,null,null,null,null,null,null,null,null,null,null,null,null,null,null,null,null,null,null,null,null,null,null,null,null,null,null,null,null,null,null,null,null,null,null,null,null,null,null,null,null,null,null,null,null,null,null,null,null,null,null,null,null,null,null,null,null,null,null,null,null,null,null,null,null,null,null,null,null,null,null,null,null,null,null,null,null,null,null,null,null,null,null,null,null,null,null,null,null,null,null,null,null,null,null,null,null,null,{"$f":"IF(data_pp_combined!$C1083=0, \"\", OFFSET(data_pp_post!FT$1, data_pp_combined!$B1083-1, 0))","v":""},{"$f":"IF(data_pp_combined!$C1083=0, \"\", OFFSET(data_pp_post!FU$1, data_pp_combined!$B1083-1, 0))","v":""},{"$f":"IF(data_pp_pre!FV1083=\"\", \"\", data_pp_pre!FV1083)","v":""},""]
[null,null,null,null,null,null,null,null,null,null,null,null,null,null,null,null,null,null,null,null,null,null,null,null,null,null,null,null,null,null,null,null,null,null,null,null,null,null,null,null,null,null,null,null,null,null,null,null,null,null,null,null,null,null,null,null,null,null,null,null,null,null,null,null,null,null,null,null,null,null,null,null,null,null,null,null,null,null,null,null,null,null,null,null,null,null,null,null,null,null,null,null,null,null,null,null,null,null,null,null,null,null,null,null,null,null,null,null,null,null,null,null,null,null,null,null,null,null,null,null,null,null,null,null,null,null,null,null,null,null,null,null,null,null,null,null,null,null,null,null,null,null,null,null,null,null,null,null,null,null,null,null,null,null,null,null,null,null,null,null,null,null,null,null,null,null,null,null,null,null,null,null,null,null,null,null,null,null,null,{"$f":"IF(data_pp_combined!$C1102=0, \"\", OFFSET(data_pp_post!FT$1, data_pp_combined!$B1102-1, 0))","v":""},{"$f":"IF(data_pp_combined!$C1102=0, \"\", OFFSET(data_pp_post!FU$1, data_pp_combined!$B1102-1, 0))","v":""},{"$f":"IF(data_pp_pre!FV1102=\"\", \"\", data_pp_pre!FV1102)","v":""},""]
[null,null,null,null,null,null,null,null,null,null,null,null,null,null,null,null,null,null,null,null,null,null,null,null,null,null,null,null,null,null,null,null,null,null,null,null,null,null,null,null,null,null,null,null,null,null,null,null,null,null,null,null,null,null,null,null,null,null,null,null,null,null,null,null,null,null,null,null,null,null,null,null,null,null,null,null,null,null,null,null,null,null,null,null,null,null,null,null,null,null,null,null,null,null,null,null,null,null,null,null,null,null,null,null,null,null,null,null,null,null,null,null,null,null,null,null,null,null,null,null,null,null,null,null,null,null,null,null,null,null,null,null,null,null,null,null,null,null,null,null,null,null,null,null,null,null,null,null,null,null,null,null,null,null,null,null,null,null,null,null,null,null,null,null,null,null,null,null,null,null,null,null,null,null,null,null,null,null,null,{"$f":"IF(data_pp_combined!$C1127=0, \"\", OFFSET(data_pp_post!FT$1, data_pp_combined!$B1127-1, 0))","v":""},{"$f":"IF(data_pp_combined!$C1127=0, \"\", OFFSET(data_pp_post!FU$1, data_pp_combined!$B1127-1, 0))","v":""},{"$f":"IF(data_pp_pre!FV1127=\"\", \"\", data_pp_pre!FV1127)","v":""},""]
[null,null,null,null,null,null,null,null,null,null,null,null,null,null,null,null,null,null,null,null,null,null,null,null,null,null,null,null,null,null,null,null,null,null,null,null,null,null,null,null,null,null,null,null,null,null,null,null,null,null,null,null,null,null,null,null,null,null,null,null,null,null,null,null,null,null,null,null,null,null,null,null,null,null,null,null,null,null,null,null,null,null,null,null,null,null,null,null,null,null,null,null,null,null,null,null,null,null,null,null,null,null,null,null,null,null,null,null,null,null,null,null,null,null,null,null,null,null,null,null,null,null,null,null,null,null,null,null,null,null,null,null,null,null,null,null,null,null,null,null,null,null,null,null,null,null,null,null,null,null,null,null,null,null,null,null,null,null,null,null,null,null,null,null,null,null,null,null,null,null,null,null,null,null,null,null,null,null,null,{"$f":"IF(data_pp_combined!$C1148=0, \"\", OFFSET(data_pp_post!FT$1, data_pp_combined!$B1148-1, 0))","v":""},{"$f":"IF(data_pp_combined!$C1148=0, \"\", OFFSET(data_pp_post!FU$1, data_pp_combined!$B1148-1, 0))","v":""},{"$f":"IF(data_pp_pre!FV1148=\"\", \"\", data_pp_pre!FV1148)","v":""},""]
[null,null,null,null,null,null,null,null,null,null,null,null,null,null,null,null,null,null,null,null,null,null,null,null,null,null,null,null,null,null,null,null,null,null,null,null,null,null,null,null,null,null,null,null,null,null,null,null,null,null,null,null,null,null,null,null,null,null,null,null,null,null,null,null,null,null,null,null,null,null,null,null,null,null,null,null,null,null,null,null,null,null,null,null,null,null,null,null,null,null,null,null,null,null,null,null,null,null,null,null,null,null,null,null,null,null,null,null,null,null,null,null,null,null,null,null,null,null,null,null,null,null,null,null,null,null,null,null,null,null,null,null,null,null,null,null,null,null,null,null,null,null,null,null,null,null,null,null,null,null,null,null,null,null,null,null,null,null,null,null,null,null,null,null,null,null,null,null,null,null,null,null,null,null,null,null,null,null,null,{"$f":"IF(data_pp_combined!$C1170=0, \"\", OFFSET(data_pp_post!FT$1, data_pp_combined!$B1170-1, 0))","v":""},{"$f":"IF(data_pp_combined!$C1170=0, \"\", OFFSET(data_pp_post!FU$1, data_pp_combined!$B1170-1, 0))","v":""},{"$f":"IF(data_pp_pre!FV1170=\"\", \"\", data_pp_pre!FV1170)","v":""},""]
[null,null,null,null,null,null,null,null,null,null,null,null,null,null,null,null,null,null,null,null,null,null,null,null,null,null,null,null,null,null,null,null,null,null,null,null,null,null,null,null,null,null,null,null,null,null,null,null,null,null,null,null,null,null,null,null,null,null,null,null,null,null,null,null,null,null,null,null,null,null,null,null,null,null,null,null,null,null,null,null,null,null,null,null,null,null,null,null,null,null,null,null,null,null,null,null,null,null,null,null,null,null,null,null,null,null,null,null,null,null,null,null,null,null,null,null,null,null,null,null,null,null,null,null,null,null,null,null,null,null,null,null,null,null,null,null,null,null,null,null,null,null,null,null,null,null,null,null,null,null,null,null,null,null,null,null,null,null,null,null,null,null,null,null,null,null,null,null,null,null,null,null,null,null,null,null,null,null,null,{"$f":"IF(data_pp_combined!$C1189=0, \"\", OFFSET(data_pp_post!FT$1, data_pp_combined!$B1189-1, 0))","v":""},{"$f":"IF(data_pp_combined!$C1189=0, \"\", OFFSET(data_pp_post!FU$1, data_pp_combined!$B1189-1, 0))","v":""},{"$f":"IF(data_pp_pre!FV1189=\"\", \"\", data_pp_pre!FV1189)","v":""},""]
[null,null,null,null,null,null,null,null,null,null,null,null,null,null,null,null,null,null,null,null,null,null,null,null,null,null,null,null,null,null,null,null,null,null,null,null,null,null,null,null,null,null,null,null,null,null,null,null,null,null,null,null,null,null,null,null,null,null,null,null,null,null,null,null,null,null,null,null,null,null,null,null,null,null,null,null,null,null,null,null,null,null,null,null,null,null,null,null,null,null,null,null,null,null,null,null,null,null,null,null,null,null,null,null,null,null,null,null,null,null,null,null,null,null,null,null,null,null,null,null,null,null,null,null,null,null,null,null,null,null,null,null,null,null,null,null,null,null,null,null,null,null,null,null,null,null,null,null,null,null,null,null,null,null,null,null,null,null,null,null,null,null,null,null,null,null,null,null,null,null,null,null,null,null,null,null,null,null,null,{"$f":"IF(data_pp_combined!$C1208=0, \"\", OFFSET(data_pp_post!FT$1, data_pp_combined!$B1208-1, 0))","v":""},{"$f":"IF(data_pp_combined!$C1208=0, \"\", OFFSET(data_pp_post!FU$1, data_pp_combined!$B1208-1, 0))","v":""},{"$f":"IF(data_pp_pre!FV1208=\"\", \"\", data_pp_pre!FV1208)","v":""},""]
[null,null,null,null,null,null,null,null,null,null,null,null,null,null,null,null,null,null,null,null,null,null,null,null,null,null,null,null,null,null,null,null,null,null,null,null,null,null,null,null,null,null,null,null,null,null,null,null,null,null,null,null,null,null,null,null,null,null,null,null,null,null,null,null,null,null,null,null,null,null,null,null,null,null,null,null,null,null,null,null,null,null,null,null,null,null,null,null,null,null,null,null,null,null,null,null,null,null,null,null,null,null,null,null,null,null,null,null,null,null,null,null,null,null,null,null,null,null,null,null,null,null,null,null,null,null,null,null,null,null,null,null,null,null,null,null,null,null,null,null,null,null,null,null,null,null,null,null,null,null,null,null,null,null,null,null,null,null,null,null,null,null,null,null,null,null,null,null,null,null,null,null,null,null,null,null,null,null,null,{"$f":"IF(data_pp_combined!$C1225=0, \"\", OFFSET(data_pp_post!FT$1, data_pp_combined!$B1225-1, 0))","v":""},{"$f":"IF(data_pp_combined!$C1225=0, \"\", OFFSET(data_pp_post!FU$1, data_pp_combined!$B1225-1, 0))","v":""},{"$f":"IF(data_pp_pre!FV1225=\"\", \"\", data_pp_pre!FV1225)","v":""},""]
[null,null,null,null,null,null,null,null,null,null,null,null,null,null,null,null,null,null,null,null,null,null,null,null,null,null,null,null,null,null,null,null,null,null,null,null,null,null,null,null,null,null,null,null,null,null,null,null,null,null,null,null,null,null,null,null,null,null,null,null,null,null,null,null,null,null,null,null,null,null,null,null,null,null,null,null,null,null,null,null,null,null,null,null,null,null,null,null,null,null,null,null,null,null,null,null,null,null,null,null,null,null,null,null,null,null,null,null,null,null,null,null,null,null,null,null,null,null,null,null,null,null,null,null,null,null,null,null,null,null,null,null,null,null,null,null,null,null,null,null,null,null,null,null,null,null,null,null,null,null,null,null,null,null,null,null,null,null,null,null,null,null,null,null,null,null,null,null,null,null,null,null,null,null,null,null,null,null,null,{"$f":"IF(data_pp_combined!$C1232=0, \"\", OFFSET(data_pp_post!FT$1, data_pp_combined!$B1232-1, 0))","v":""},{"$f":"IF(data_pp_combined!$C1232=0, \"\", OFFSET(data_pp_post!FU$1, data_pp_combined!$B1232-1, 0))","v":""},{"$f":"IF(data_pp_pre!FV1232=\"\", \"\", data_pp_pre!FV1232)","v":""},""]
[null,null,null,null,null,null,null,null,null,null,null,null,null,null,null,null,null,null,null,null,null,null,null,null,null,null,null,null,null,null,null,null,null,null,null,null,null,null,null,null,null,null,null,null,null,null,null,null,null,null,null,null,null,null,null,null,null,null,null,null,null,null,null,null,null,null,null,null,null,null,null,null,null,null,null,null,null,null,null,null,null,null,null,null,null,null,null,null,null,null,null,null,null,null,null,null,null,null,null,null,null,null,null,null,null,null,null,null,null,null,null,null,null,null,null,null,null,null,null,null,null,null,null,null,null,null,null,null,null,null,null,null,null,null,null,null,null,null,null,null,null,null,null,null,null,null,null,null,null,null,null,null,null,null,null,null,null,null,null,null,null,null,null,null,null,null,null,null,null,null,null,null,null,null,null,null,null,null,null,{"$f":"IF(data_pp_combined!$C1251=0, \"\", OFFSET(data_pp_post!FT$1, data_pp_combined!$B1251-1, 0))","v":""},{"$f":"IF(data_pp_combined!$C1251=0, \"\", OFFSET(data_pp_post!FU$1, data_pp_combined!$B1251-1, 0))","v":""},{"$f":"IF(data_pp_pre!FV1251=\"\", \"\", data_pp_pre!FV1251)","v":""},""]
[null,null,null,null,null,null,null,null,null,null,null,null,null,null,null,null,null,null,null,null,null,null,null,null,null,null,null,null,null,null,null,null,null,null,null,null,null,null,null,null,null,null,null,null,null,null,null,null,null,null,null,null,null,null,null,null,null,null,null,null,null,null,null,null,null,null,null,null,null,null,null,null,null,null,null,null,null,null,null,null,null,null,null,null,null,null,null,null,null,null,null,null,null,null,null,null,null,null,null,null,null,null,null,null,null,null,null,null,null,null,null,null,null,null,null,null,null,null,null,null,null,null,null,null,null,null,null,null,null,null,null,null,null,null,null,null,null,null,null,null,null,null,null,null,null,null,null,null,null,null,null,null,null,null,null,null,null,null,null,null,null,null,null,null,null,null,null,null,null,null,null,null,null,null,null,null,null,null,null,{"$f":"IF(data_pp_combined!$C1276=0, \"\", OFFSET(data_pp_post!FT$1, data_pp_combined!$B1276-1, 0))","v":""},{"$f":"IF(data_pp_combined!$C1276=0, \"\", OFFSET(data_pp_post!FU$1, data_pp_combined!$B1276-1, 0))","v":""},{"$f":"IF(data_pp_pre!FV1276=\"\", \"\", data_pp_pre!FV1276)","v":""},""]
[null,null,null,null,null,null,null,null,null,null,null,null,null,null,null,null,null,null,null,null,null,null,null,null,null,null,null,null,null,null,null,null,null,null,null,null,null,null,null,null,null,null,null,null,null,null,null,null,null,null,null,null,null,null,null,null,null,null,null,null,null,null,null,null,null,null,null,null,null,null,null,null,null,null,null,null,null,null,null,null,null,null,null,null,null,null,null,null,null,null,null,null,null,null,null,null,null,null,null,null,null,null,null,null,null,null,null,null,null,null,null,null,null,null,null,null,null,null,null,null,null,null,null,null,null,null,null,null,null,null,null,null,null,null,null,null,null,null,null,null,null,null,null,null,null,null,null,null,null,null,null,null,null,null,null,null,null,null,null,null,null,null,null,null,null,null,null,null,null,null,null,null,null,null,null,null,null,null,null,{"$f":"IF(data_pp_combined!$C1298=0, \"\", OFFSET(data_pp_post!FT$1, data_pp_combined!$B1298-1, 0))","v":""},{"$f":"IF(data_pp_combined!$C1298=0, \"\", OFFSET(data_pp_post!FU$1, data_pp_combined!$B1298-1, 0))","v":""},{"$f":"IF(data_pp_pre!FV1298=\"\", \"\", data_pp_pre!FV1298)","v":""},""]
[null,null,null,null,null,null,null,null,null,null,null,null,null,null,null,null,null,null,null,null,null,null,null,null,null,null,null,null,null,null,null,null,null,null,null,null,null,null,null,null,null,null,null,null,null,null,null,null,null,null,null,null,null,null,null,null,null,null,null,null,null,null,null,null,null,null,null,null,null,null,null,null,null,null,null,null,null,null,null,null,null,null,null,null,null,null,null,null,null,null,null,null,null,null,null,null,null,null,null,null,null,null,null,null,null,null,null,null,null,null,null,null,null,null,null,null,null,null,null,null,null,null,null,null,null,null,null,null,null,null,null,null,null,null,null,null,null,null,null,null,null,null,null,null,null,null,null,null,null,null,null,null,null,null,null,null,null,null,null,null,null,null,null,null,null,null,null,null,null,null,null,null,null,null,null,null,null,null,null,{"$f":"IF(data_pp_combined!$C1319=0, \"\", OFFSET(data_pp_post!FT$1, data_pp_combined!$B1319-1, 0))","v":""},{"$f":"IF(data_pp_combined!$C1319=0, \"\", OFFSET(data_pp_post!FU$1, data_pp_combined!$B1319-1, 0))","v":""},{"$f":"IF(data_pp_pre!FV1319=\"\", \"\", data_pp_pre!FV1319)","v":""},""]
[null,null,null,null,null,null,null,null,null,null,null,null,null,null,null,null,null,null,null,null,null,null,null,null,null,null,null,null,null,null,null,null,null,null,null,null,null,null,null,null,null,null,null,null,null,null,null,null,null,null,null,null,null,null,null,null,null,null,null,null,null,null,null,null,null,null,null,null,null,null,null,null,null,null,null,null,null,null,null,null,null,null,null,null,null,null,null,null,null,null,null,null,null,null,null,null,null,null,null,null,null,null,null,null,null,null,null,null,null,null,null,null,null,null,null,null,null,null,null,null,null,null,null,null,null,null,null,null,null,null,null,null,null,null,null,null,null,null,null,null,null,null,null,null,null,null,null,null,null,null,null,null,null,null,null,null,null,null,null,null,null,null,null,null,null,null,null,null,null,null,null,null,null,null,null,null,null,null,null,{"$f":"IF(data_pp_combined!$C1338=0, \"\", OFFSET(data_pp_post!FT$1, data_pp_combined!$B1338-1, 0))","v":""},{"$f":"IF(data_pp_combined!$C1338=0, \"\", OFFSET(data_pp_post!FU$1, data_pp_combined!$B1338-1, 0))","v":""},{"$f":"IF(data_pp_pre!FV1338=\"\", \"\", data_pp_pre!FV1338)","v":""},""]
[null,null,null,null,null,null,null,null,null,null,null,null,null,null,null,null,null,null,null,null,null,null,null,null,null,null,null,null,null,null,null,null,null,null,null,null,null,null,null,null,null,null,null,null,null,null,null,null,null,null,null,null,null,null,null,null,null,null,null,null,null,null,null,null,null,null,null,null,null,null,null,null,null,null,null,null,null,null,null,null,null,null,null,null,null,null,null,null,null,null,null,null,null,null,null,null,null,null,null,null,null,null,null,null,null,null,null,null,null,null,null,null,null,null,null,null,null,null,null,null,null,null,null,null,null,null,null,null,null,null,null,null,null,null,null,null,null,null,null,null,null,null,null,null,null,null,null,null,null,null,null,null,null,null,null,null,null,null,null,null,null,null,null,null,null,null,null,null,null,null,null,null,null,null,null,null,null,null,null,{"$f":"IF(data_pp_combined!$C1357=0, \"\", OFFSET(data_pp_post!FT$1, data_pp_combined!$B1357-1, 0))","v":""},{"$f":"IF(data_pp_combined!$C1357=0, \"\", OFFSET(data_pp_post!FU$1, data_pp_combined!$B1357-1, 0))","v":""},{"$f":"IF(data_pp_pre!FV1357=\"\", \"\", data_pp_pre!FV1357)","v":""},""]
[null,null,null,null,null,null,null,null,null,null,null,null,null,null,null,null,null,null,null,null,null,null,null,null,null,null,null,null,null,null,null,null,null,null,null,null,null,null,null,null,null,null,null,null,null,null,null,null,null,null,null,null,null,null,null,null,null,null,null,null,null,null,null,null,null,null,null,null,null,null,null,null,null,null,null,null,null,null,null,null,null,null,null,null,null,null,null,null,null,null,null,null,null,null,null,null,null,null,null,null,null,null,null,null,null,null,null,null,null,null,null,null,null,null,null,null,null,null,null,null,null,null,null,null,null,null,null,null,null,null,null,null,null,null,null,null,null,null,null,null,null,null,null,null,null,null,null,null,null,null,null,null,null,null,null,null,null,null,null,null,null,null,null,null,null,null,null,null,null,null,null,null,null,null,null,null,null,null,null,{"$f":"IF(data_pp_combined!$C1375=0, \"\", OFFSET(data_pp_post!FT$1, data_pp_combined!$B1375-1, 0))","v":""},{"$f":"IF(data_pp_combined!$C1375=0, \"\", OFFSET(data_pp_post!FU$1, data_pp_combined!$B1375-1, 0))","v":""},{"$f":"IF(data_pp_pre!FV1375=\"\", \"\", data_pp_pre!FV1375)","v":""},""]
[null,null,null,null,null,null,null,null,null,null,null,null,null,null,null,null,null,null,null,null,null,null,null,null,null,null,null,null,null,null,null,null,null,null,null,null,null,null,null,null,null,null,null,null,null,null,null,null,null,null,null,null,null,null,null,null,null,null,null,null,null,null,null,null,null,null,null,null,null,null,null,null,null,null,null,null,null,null,null,null,null,null,null,null,null,null,null,null,null,null,null,null,null,null,null,null,null,null,null,null,null,null,null,null,null,null,null,null,null,null,null,null,null,null,null,null,null,null,null,null,null,null,null,null,null,null,null,null,null,null,null,null,null,null,null,null,null,null,null,null,null,null,null,null,null,null,null,null,null,null,null,null,null,null,null,null,null,null,null,null,null,null,null,null,null,null,null,null,null,null,null,null,null,null,null,null,null,null,null,{"$f":"IF(data_pp_combined!$C1400=0, \"\", OFFSET(data_pp_post!FT$1, data_pp_combined!$B1400-1, 0))","v":""},{"$f":"IF(data_pp_combined!$C1400=0, \"\", OFFSET(data_pp_post!FU$1, data_pp_combined!$B1400-1, 0))","v":""},{"$f":"IF(data_pp_pre!FV1400=\"\", \"\", data_pp_pre!FV1400)","v":""},""]
[null,null,null,null,null,null,null,null,null,null,null,null,null,null,null,null,null,null,null,null,null,null,null,null,null,null,null,null,null,null,null,null,null,null,null,null,null,null,null,null,null,null,null,null,null,null,null,null,null,null,null,null,null,null,null,null,null,null,null,null,null,null,null,null,null,null,null,null,null,null,null,null,null,null,null,null,null,null,null,null,null,null,null,null,null,null,null,null,null,null,null,null,null,null,null,null,null,null,null,null,null,null,null,null,null,null,null,null,null,null,null,null,null,null,null,null,null,null,null,null,null,null,null,null,null,null,null,null,null,null,null,null,null,null,null,null,null,null,null,null,null,null,null,null,null,null,null,null,null,null,null,null,null,null,null,null,null,null,null,null,null,null,null,null,null,null,null,null,null,null,null,null,null,null,null,null,null,null,null,{"$f":"IF(data_pp_combined!$C1419=0, \"\", OFFSET(data_pp_post!FT$1, data_pp_combined!$B1419-1, 0))","v":""},{"$f":"IF(data_pp_combined!$C1419=0, \"\", OFFSET(data_pp_post!FU$1, data_pp_combined!$B1419-1, 0))","v":""},{"$f":"IF(data_pp_pre!FV1419=\"\", \"\", data_pp_pre!FV1419)","v":""},""]
[null,null,null,null,null,null,null,null,null,null,null,null,null,null,null,null,null,null,null,null,null,null,null,null,null,null,null,null,null,null,null,null,null,null,null,null,null,null,null,null,null,null,null,null,null,null,null,null,null,null,null,null,null,null,null,null,null,null,null,null,null,null,null,null,null,null,null,null,null,null,null,null,null,null,null,null,null,null,null,null,null,null,null,null,null,null,null,null,null,null,null,null,null,null,null,null,null,null,null,null,null,null,null,null,null,null,null,null,null,null,null,null,null,null,null,null,null,null,null,null,null,null,null,null,null,null,null,null,null,null,null,null,null,null,null,null,null,null,null,null,null,null,null,null,null,null,null,null,null,null,null,null,null,null,null,null,null,null,null,null,null,null,null,null,null,null,null,null,null,null,null,null,null,null,null,null,null,null,null,{"$f":"IF(data_pp_combined!$C1425=0, \"\", OFFSET(data_pp_post!FT$1, data_pp_combined!$B1425-1, 0))","v":""},{"$f":"IF(data_pp_combined!$C1425=0, \"\", OFFSET(data_pp_post!FU$1, data_pp_combined!$B1425-1, 0))","v":""},{"$f":"IF(data_pp_pre!FV1425=\"\", \"\", data_pp_pre!FV1425)","v":""},""]
[null,null,null,null,null,null,null,null,null,null,null,null,null,null,null,null,null,null,null,null,null,null,null,null,null,null,null,null,null,null,null,null,null,null,null,null,null,null,null,null,null,null,null,null,null,null,null,null,null,null,null,null,null,null,null,null,null,null,null,null,null,null,null,null,null,null,null,null,null,null,null,null,null,null,null,null,null,null,null,null,null,null,null,null,null,null,null,null,null,null,null,null,null,null,null,null,null,null,null,null,null,null,null,null,null,null,null,null,null,null,null,null,null,null,null,null,null,null,null,null,null,null,null,null,null,null,null,null,null,null,null,null,null,null,null,null,null,null,null,null,null,null,null,null,null,null,null,null,null,null,null,null,null,null,null,null,null,null,null,null,null,null,null,null,null,null,null,null,null,null,null,null,null,null,null,null,null,null,null,{"$f":"IF(data_pp_combined!$C1448=0, \"\", OFFSET(data_pp_post!FT$1, data_pp_combined!$B1448-1, 0))","v":""},{"$f":"IF(data_pp_combined!$C1448=0, \"\", OFFSET(data_pp_post!FU$1, data_pp_combined!$B1448-1, 0))","v":""},{"$f":"IF(data_pp_pre!FV1448=\"\", \"\", data_pp_pre!FV1448)","v":""},""]
[null,null,null,null,null,null,null,null,null,null,null,null,null,null,null,null,null,null,null,null,null,null,null,null,null,null,null,null,null,null,null,null,null,null,null,null,null,null,null,null,null,null,null,null,null,null,null,null,null,null,null,null,null,null,null,null,null,null,null,null,null,null,null,null,null,null,null,null,null,null,null,null,null,null,null,null,null,null,null,null,null,null,null,null,null,null,null,null,null,null,null,null,null,null,null,null,null,null,null,null,null,null,null,null,null,null,null,null,null,null,null,null,null,null,null,null,null,null,null,null,null,null,null,null,null,null,null,null,null,null,null,null,null,null,null,null,null,null,null,null,null,null,null,null,null,null,null,null,null,null,null,null,null,null,null,null,null,null,null,null,null,null,null,null,null,null,null,null,null,null,null,null,null,null,null,null,null,null,null,{"$f":"IF(data_pp_combined!$C1468=0, \"\", OFFSET(data_pp_post!FT$1, data_pp_combined!$B1468-1, 0))","v":""},{"$f":"IF(data_pp_combined!$C1468=0, \"\", OFFSET(data_pp_post!FU$1, data_pp_combined!$B1468-1, 0))","v":""},{"$f":"IF(data_pp_pre!FV1468=\"\", \"\", data_pp_pre!FV1468)","v":""},""]
[null,null,null,null,null,null,null,null,null,null,null,null,null,null,null,null,null,null,null,null,null,null,null,null,null,null,null,null,null,null,null,null,null,null,null,null,null,null,null,null,null,null,null,null,null,null,null,null,null,null,null,null,null,null,null,null,null,null,null,null,null,null,null,null,null,null,null,null,null,null,null,null,null,null,null,null,null,null,null,null,null,null,null,null,null,null,null,null,null,null,null,null,null,null,null,null,null,null,null,null,null,null,null,null,null,null,null,null,null,null,null,null,null,null,null,null,null,null,null,null,null,null,null,null,null,null,null,null,null,null,null,null,null,null,null,null,null,null,null,null,null,null,null,null,null,null,null,null,null,null,null,null,null,null,null,null,null,null,null,null,null,null,null,null,null,null,null,null,null,null,null,null,null,null,null,null,null,null,null,{"$f":"IF(data_pp_combined!$C1487=0, \"\", OFFSET(data_pp_post!FT$1, data_pp_combined!$B1487-1, 0))","v":""},{"$f":"IF(data_pp_combined!$C1487=0, \"\", OFFSET(data_pp_post!FU$1, data_pp_combined!$B1487-1, 0))","v":""},{"$f":"IF(data_pp_pre!FV1487=\"\", \"\", data_pp_pre!FV1487)","v":""},""]
[null,null,null,null,null,null,null,null,null,null,null,null,null,null,null,null,null,null,null,null,null,null,null,null,null,null,null,null,null,null,null,null,null,null,null,null,null,null,null,null,null,null,null,null,null,null,null,null,null,null,null,null,null,null,null,null,null,null,null,null,null,null,null,null,null,null,null,null,null,null,null,null,null,null,null,null,null,null,null,null,null,null,null,null,null,null,null,null,null,null,null,null,null,null,null,null,null,null,null,null,null,null,null,null,null,null,null,null,null,null,null,null,null,null,null,null,null,null,null,null,null,null,null,null,null,null,null,null,null,null,null,null,null,null,null,null,null,null,null,null,null,null,null,null,null,null,null,null,null,null,null,null,null,null,null,null,null,null,null,null,null,null,null,null,null,null,null,null,null,null,null,null,null,null,null,null,null,null,null,{"$f":"IF(data_pp_combined!$C1506=0, \"\", OFFSET(data_pp_post!FT$1, data_pp_combined!$B1506-1, 0))","v":""},{"$f":"IF(data_pp_combined!$C1506=0, \"\", OFFSET(data_pp_post!FU$1, data_pp_combined!$B1506-1, 0))","v":""},{"$f":"IF(data_pp_pre!FV1506=\"\", \"\", data_pp_pre!FV1506)","v":""},""]
[null,null,null,null,null,null,null,null,null,null,null,null,null,null,null,null,null,null,null,null,null,null,null,null,null,null,null,null,null,null,null,null,null,null,null,null,null,null,null,null,null,null,null,null,null,null,null,null,null,null,null,null,null,null,null,null,null,null,null,null,null,null,null,null,null,null,null,null,null,null,null,null,null,null,null,null,null,null,null,null,null,null,null,null,null,null,null,null,null,null,null,null,null,null,null,null,null,null,null,null,null,null,null,null,null,null,null,null,null,null,null,null,null,null,null,null,null,null,null,null,null,null,null,null,null,null,null,null,null,null,null,null,null,null,null,null,null,null,null,null,null,null,null,null,null,null,null,null,null,null,null,null,null,null,null,null,null,null,null,null,null,null,null,null,null,null,null,null,null,null,null,null,null,null,null,null,null,null,null,{"$f":"IF(data_pp_combined!$C1531=0, \"\", OFFSET(data_pp_post!FT$1, data_pp_combined!$B1531-1, 0))","v":""},{"$f":"IF(data_pp_combined!$C1531=0, \"\", OFFSET(data_pp_post!FU$1, data_pp_combined!$B1531-1, 0))","v":""},{"$f":"IF(data_pp_pre!FV1531=\"\", \"\", data_pp_pre!FV1531)","v":""},""]
[null,null,null,null,null,null,null,null,null,null,null,null,null,null,null,null,null,null,null,null,null,null,null,null,null,null,null,null,null,null,null,null,null,null,null,null,null,null,null,null,null,null,null,null,null,null,null,null,null,null,null,null,null,null,null,null,null,null,null,null,null,null,null,null,null,null,null,null,null,null,null,null,null,null,null,null,null,null,null,null,null,null,null,null,null,null,null,null,null,null,null,null,null,null,null,null,null,null,null,null,null,null,null,null,null,null,null,null,null,null,null,null,null,null,null,null,null,null,null,null,null,null,null,null,null,null,null,null,null,null,null,null,null,null,null,null,null,null,null,null,null,null,null,null,null,null,null,null,null,null,null,null,null,null,null,null,null,null,null,null,null,null,null,null,null,null,null,null,null,null,null,null,null,null,null,null,null,null,null,{"$f":"IF(data_pp_combined!$C1547=0, \"\", OFFSET(data_pp_post!FT$1, data_pp_combined!$B1547-1, 0))","v":""},{"$f":"IF(data_pp_combined!$C1547=0, \"\", OFFSET(data_pp_post!FU$1, data_pp_combined!$B1547-1, 0))","v":""},{"$f":"IF(data_pp_pre!FV1547=\"\", \"\", data_pp_pre!FV1547)","v":""},""]
[null,null,null,null,null,null,null,null,null,null,null,null,null,null,null,null,null,null,null,null,null,null,null,null,null,null,null,null,null,null,null,null,null,null,null,null,null,null,null,null,null,null,null,null,null,null,null,null,null,null,null,null,null,null,null,null,null,null,null,null,null,null,null,null,null,null,null,null,null,null,null,null,null,null,null,null,null,null,null,null,null,null,null,null,null,null,null,null,null,null,null,null,null,null,null,null,null,null,null,null,null,null,null,null,null,null,null,null,null,null,null,null,null,null,null,null,null,null,null,null,null,null,null,null,null,null,null,null,null,null,null,null,null,null,null,null,null,null,null,null,null,null,null,null,null,null,null,null,null,null,null,null,null,null,null,null,null,null,null,null,null,null,null,null,null,null,null,null,null,null,null,null,null,null,null,null,null,null,null,{"$f":"IF(data_pp_combined!$C1555=0, \"\", OFFSET(data_pp_post!FT$1, data_pp_combined!$B1555-1, 0))","v":""},{"$f":"IF(data_pp_combined!$C1555=0, \"\", OFFSET(data_pp_post!FU$1, data_pp_combined!$B1555-1, 0))","v":""},{"$f":"IF(data_pp_pre!FV1555=\"\", \"\", data_pp_pre!FV1555)","v":""},""]
[null,null,null,null,null,null,null,null,null,null,null,null,null,null,null,null,null,null,null,null,null,null,null,null,null,null,null,null,null,null,null,null,null,null,null,null,null,null,null,null,null,null,null,null,null,null,null,null,null,null,null,null,null,null,null,null,null,null,null,null,null,null,null,null,null,null,null,null,null,null,null,null,null,null,null,null,null,null,null,null,null,null,null,null,null,null,null,null,null,null,null,null,null,null,null,null,null,null,null,null,null,null,null,null,null,null,null,null,null,null,null,null,null,null,null,null,null,null,null,null,null,null,null,null,null,null,null,null,null,null,null,null,null,null,null,null,null,null,null,null,null,null,null,null,null,null,null,null,null,null,null,null,null,null,null,null,null,null,null,null,null,null,null,null,null,null,null,null,null,null,null,null,null,null,null,null,null,null,null,{"$f":"IF(data_pp_combined!$C1574=0, \"\", OFFSET(data_pp_post!FT$1, data_pp_combined!$B1574-1, 0))","v":""},{"$f":"IF(data_pp_combined!$C1574=0, \"\", OFFSET(data_pp_post!FU$1, data_pp_combined!$B1574-1, 0))","v":""},{"$f":"IF(data_pp_pre!FV1574=\"\", \"\", data_pp_pre!FV1574)","v":""},""]
[null,null,null,null,null,null,null,null,null,null,null,null,null,null,null,null,null,null,null,null,null,null,null,null,null,null,null,null,null,null,null,null,null,null,null,null,null,null,null,null,null,null,null,null,null,null,null,null,null,null,null,null,null,null,null,null,null,null,null,null,null,null,null,null,null,null,null,null,null,null,null,null,null,null,null,null,null,null,null,null,null,null,null,null,null,null,null,null,null,null,null,null,null,null,null,null,null,null,null,null,null,null,null,null,null,null,null,null,null,null,null,null,null,null,null,null,null,null,null,null,null,null,null,null,null,null,null,null,null,null,null,null,null,null,null,null,null,null,null,null,null,null,null,null,null,null,null,null,null,null,null,null,null,null,null,null,null,null,null,null,null,null,null,null,null,null,null,null,null,null,null,null,null,null,null,null,null,null,null,{"$f":"IF(data_pp_combined!$C1593=0, \"\", OFFSET(data_pp_post!FT$1, data_pp_combined!$B1593-1, 0))","v":""},{"$f":"IF(data_pp_combined!$C1593=0, \"\", OFFSET(data_pp_post!FU$1, data_pp_combined!$B1593-1, 0))","v":""},{"$f":"IF(data_pp_pre!FV1593=\"\", \"\", data_pp_pre!FV1593)","v":""},""]
[null,null,null,null,null,null,null,null,null,null,null,null,null,null,null,null,null,null,null,null,null,null,null,null,null,null,null,null,null,null,null,null,null,null,null,null,null,null,null,null,null,null,null,null,null,null,null,null,null,null,null,null,null,null,null,null,null,null,null,null,null,null,null,null,null,null,null,null,null,null,null,null,null,null,null,null,null,null,null,null,null,null,null,null,null,null,null,null,null,null,null,null,null,null,null,null,null,null,null,null,null,null,null,null,null,null,null,null,null,null,null,null,null,null,null,null,null,null,null,null,null,null,null,null,null,null,null,null,null,null,null,null,null,null,null,null,null,null,null,null,null,null,null,null,null,null,null,null,null,null,null,null,null,null,null,null,null,null,null,null,null,null,null,null,null,null,null,null,null,null,null,null,null,null,null,null,null,null,null,{"$f":"IF(data_pp_combined!$C1624=0, \"\", OFFSET(data_pp_post!FT$1, data_pp_combined!$B1624-1, 0))","v":""},{"$f":"IF(data_pp_combined!$C1624=0, \"\", OFFSET(data_pp_post!FU$1, data_pp_combined!$B1624-1, 0))","v":""},{"$f":"IF(data_pp_pre!FV1624=\"\", \"\", data_pp_pre!FV1624)","v":""},""]
[null,null,null,null,null,null,null,null,null,null,null,null,null,null,null,null,null,null,null,null,null,null,null,null,null,null,null,null,null,null,null,null,null,null,null,null,null,null,null,null,null,null,null,null,null,null,null,null,null,null,null,null,null,null,null,null,null,null,null,null,null,null,null,null,null,null,null,null,null,null,null,null,null,null,null,null,null,null,null,null,null,null,null,null,null,null,null,null,null,null,null,null,null,null,null,null,null,null,null,null,null,null,null,null,null,null,null,null,null,null,null,null,null,null,null,null,null,null,null,null,null,null,null,null,null,null,null,null,null,null,null,null,null,null,null,null,null,null,null,null,null,null,null,null,null,null,null,null,null,null,null,null,null,null,null,null,null,null,null,null,null,null,null,null,null,null,null,null,null,null,null,null,null,null,null,null,null,null,null,{"$f":"IF(data_pp_combined!$C1636=0, \"\", OFFSET(data_pp_post!FT$1, data_pp_combined!$B1636-1, 0))","v":""},{"$f":"IF(data_pp_combined!$C1636=0, \"\", OFFSET(data_pp_post!FU$1, data_pp_combined!$B1636-1, 0))","v":""},{"$f":"IF(data_pp_pre!FV1636=\"\", \"\", data_pp_pre!FV1636)","v":""},""]
[null,null,null,null,null,null,null,null,null,null,null,null,null,null,null,null,null,null,null,null,null,null,null,null,null,null,null,null,null,null,null,null,null,null,null,null,null,null,null,null,null,null,null,null,null,null,null,null,null,null,null,null,null,null,null,null,null,null,null,null,null,null,null,null,null,null,null,null,null,null,null,null,null,null,null,null,null,null,null,null,null,null,null,null,null,null,null,null,null,null,null,null,null,null,null,null,null,null,null,null,null,null,null,null,null,null,null,null,null,null,null,null,null,null,null,null,null,null,null,null,null,null,null,null,null,null,null,null,null,null,null,null,null,null,null,null,null,null,null,null,null,null,null,null,null,null,null,null,null,null,null,null,null,null,null,null,null,null,null,null,null,null,null,null,null,null,null,null,null,null,null,null,null,null,null,null,null,null,null,{"$f":"IF(data_pp_combined!$C1655=0, \"\", OFFSET(data_pp_post!FT$1, data_pp_combined!$B1655-1, 0))","v":""},{"$f":"IF(data_pp_combined!$C1655=0, \"\", OFFSET(data_pp_post!FU$1, data_pp_combined!$B1655-1, 0))","v":""},{"$f":"IF(data_pp_pre!FV1655=\"\", \"\", data_pp_pre!FV1655)","v":""},""]
[null,null,null,null,null,null,null,null,null,null,null,null,null,null,null,null,null,null,null,null,null,null,null,null,null,null,null,null,null,null,null,null,null,null,null,null,null,null,null,null,null,null,null,null,null,null,null,null,null,null,null,null,null,null,null,null,null,null,null,null,null,null,null,null,null,null,null,null,null,null,null,null,null,null,null,null,null,null,null,null,null,null,null,null,null,null,null,null,null,null,null,null,null,null,null,null,null,null,null,null,null,null,null,null,null,null,null,null,null,null,null,null,null,null,null,null,null,null,null,null,null,null,null,null,null,null,null,null,null,null,null,null,null,null,null,null,null,null,null,null,null,null,null,null,null,null,null,null,null,null,null,null,null,null,null,null,null,null,null,null,null,null,null,null,null,null,null,null,null,null,null,null,null,null,null,null,null,null,null,{"$f":"IF(data_pp_combined!$C1680=0, \"\", OFFSET(data_pp_post!FT$1, data_pp_combined!$B1680-1, 0))","v":""},{"$f":"IF(data_pp_combined!$C1680=0, \"\", OFFSET(data_pp_post!FU$1, data_pp_combined!$B1680-1, 0))","v":""},{"$f":"IF(data_pp_pre!FV1680=\"\", \"\", data_pp_pre!FV1680)","v":""},""]
[null,null,null,null,null,null,null,null,null,null,null,null,null,null,null,null,null,null,null,null,null,null,null,null,null,null,null,null,null,null,null,null,null,null,null,null,null,null,null,null,null,null,null,null,null,null,null,null,null,null,null,null,null,null,null,null,null,null,null,null,null,null,null,null,null,null,null,null,null,null,null,null,null,null,null,null,null,null,null,null,null,null,null,null,null,null,null,null,null,null,null,null,null,null,null,null,null,null,null,null,null,null,null,null,null,null,null,null,null,null,null,null,null,null,null,null,null,null,null,null,null,null,null,null,null,null,null,null,null,null,null,null,null,null,null,null,null,null,null,null,null,null,null,null,null,null,null,null,null,null,null,null,null,null,null,null,null,null,null,null,null,null,null,null,null,null,null,null,null,null,null,null,null,null,null,null,null,null,null,{"$f":"IF(data_pp_combined!$C1697=0, \"\", OFFSET(data_pp_post!FT$1, data_pp_combined!$B1697-1, 0))","v":""},{"$f":"IF(data_pp_combined!$C1697=0, \"\", OFFSET(data_pp_post!FU$1, data_pp_combined!$B1697-1, 0))","v":""},{"$f":"IF(data_pp_pre!FV1697=\"\", \"\", data_pp_pre!FV1697)","v":""},""]
[null,null,null,null,null,null,null,null,null,null,null,null,null,null,null,null,null,null,null,null,null,null,null,null,null,null,null,null,null,null,null,null,null,null,null,null,null,null,null,null,null,null,null,null,null,null,null,null,null,null,null,null,null,null,null,null,null,null,null,null,null,null,null,null,null,null,null,null,null,null,null,null,null,null,null,null,null,null,null,null,null,null,null,null,null,null,null,null,null,null,null,null,null,null,null,null,null,null,null,null,null,null,null,null,null,null,null,null,null,null,null,null,null,null,null,null,null,null,null,null,null,null,null,null,null,null,null,null,null,null,null,null,null,null,null,null,null,null,null,null,null,null,null,null,null,null,null,null,null,null,null,null,null,null,null,null,null,null,null,null,null,null,null,null,null,null,null,null,null,null,null,null,null,null,null,null,null,null,null,{"$f":"IF(data_pp_combined!$C1704=0, \"\", OFFSET(data_pp_post!FT$1, data_pp_combined!$B1704-1, 0))","v":""},{"$f":"IF(data_pp_combined!$C1704=0, \"\", OFFSET(data_pp_post!FU$1, data_pp_combined!$B1704-1, 0))","v":""},{"$f":"IF(data_pp_pre!FV1704=\"\", \"\", data_pp_pre!FV1704)","v":""},""]
[null,null,null,null,null,null,null,null,null,null,null,null,null,null,null,null,null,null,null,null,null,null,null,null,null,null,null,null,null,null,null,null,null,null,null,null,null,null,null,null,null,null,null,null,null,null,null,null,null,null,null,null,null,null,null,null,null,null,null,null,null,null,null,null,null,null,null,null,null,null,null,null,null,null,null,null,null,null,null,null,null,null,null,null,null,null,null,null,null,null,null,null,null,null,null,null,null,null,null,null,null,null,null,null,null,null,null,null,null,null,null,null,null,null,null,null,null,null,null,null,null,null,null,null,null,null,null,null,null,null,null,null,null,null,null,null,null,null,null,null,null,null,null,null,null,null,null,null,null,null,null,null,null,null,null,null,null,null,null,null,null,null,null,null,null,null,null,null,null,null,null,null,null,null,null,null,null,null,null,{"$f":"IF(data_pp_combined!$C1723=0, \"\", OFFSET(data_pp_post!FT$1, data_pp_combined!$B1723-1, 0))","v":""},{"$f":"IF(data_pp_combined!$C1723=0, \"\", OFFSET(data_pp_post!FU$1, data_pp_combined!$B1723-1, 0))","v":""},{"$f":"IF(data_pp_pre!FV1723=\"\", \"\", data_pp_pre!FV1723)","v":""},""]
[null,null,null,null,null,null,null,null,null,null,null,null,null,null,null,null,null,null,null,null,null,null,null,null,null,null,null,null,null,null,null,null,null,null,null,null,null,null,null,null,null,null,null,null,null,null,null,null,null,null,null,null,null,null,null,null,null,null,null,null,null,null,null,null,null,null,null,null,null,null,null,null,null,null,null,null,null,null,null,null,null,null,null,null,null,null,null,null,null,null,null,null,null,null,null,null,null,null,null,null,null,null,null,null,null,null,null,null,null,null,null,null,null,null,null,null,null,null,null,null,null,null,null,null,null,null,null,null,null,null,null,null,null,null,null,null,null,null,null,null,null,null,null,null,null,null,null,null,null,null,null,null,null,null,null,null,null,null,null,null,null,null,null,null,null,null,null,null,null,null,null,null,null,null,null,null,null,null,null,{"$f":"IF(data_pp_combined!$C1742=0, \"\", OFFSET(data_pp_post!FT$1, data_pp_combined!$B1742-1, 0))","v":""},{"$f":"IF(data_pp_combined!$C1742=0, \"\", OFFSET(data_pp_post!FU$1, data_pp_combined!$B1742-1, 0))","v":""},{"$f":"IF(data_pp_pre!FV1742=\"\", \"\", data_pp_pre!FV1742)","v":""},""]
[null,null,null,null,null,null,null,null,null,null,null,null,null,null,null,null,null,null,null,null,null,null,null,null,null,null,null,null,null,null,null,null,null,null,null,null,null,null,null,null,null,null,null,null,null,null,null,null,null,null,null,null,null,null,null,null,null,null,null,null,null,null,null,null,null,null,null,null,null,null,null,null,null,null,null,null,null,null,null,null,null,null,null,null,null,null,null,null,null,null,null,null,null,null,null,null,null,null,null,null,null,null,null,null,null,null,null,null,null,null,null,null,null,null,null,null,null,null,null,null,null,null,null,null,null,null,null,null,null,null,null,null,null,null,null,null,null,null,null,null,null,null,null,null,null,null,null,null,null,null,null,null,null,null,null,null,null,null,null,null,null,null,null,null,null,null,null,null,null,null,null,null,null,null,null,null,null,null,null,{"$f":"IF(data_pp_combined!$C1774=0, \"\", OFFSET(data_pp_post!FT$1, data_pp_combined!$B1774-1, 0))","v":""},{"$f":"IF(data_pp_combined!$C1774=0, \"\", OFFSET(data_pp_post!FU$1, data_pp_combined!$B1774-1, 0))","v":""},{"$f":"IF(data_pp_pre!FV1774=\"\", \"\", data_pp_pre!FV1774)","v":""},""]
[null,null,null,null,null,null,null,null,null,null,null,null,null,null,null,null,null,null,null,null,null,null,null,null,null,null,null,null,null,null,null,null,null,null,null,null,null,null,null,null,null,null,null,null,null,null,null,null,null,null,null,null,null,null,null,null,null,null,null,null,null,null,null,null,null,null,null,null,null,null,null,null,null,null,null,null,null,null,null,null,null,null,null,null,null,null,null,null,null,null,null,null,null,null,null,null,null,null,null,null,null,null,null,null,null,null,null,null,null,null,null,null,null,null,null,null,null,null,null,null,null,null,null,null,null,null,null,null,null,null,null,null,null,null,null,null,null,null,null,null,null,null,null,null,null,null,null,null,null,null,null,null,null,null,null,null,null,null,null,null,null,null,null,null,null,null,null,null,null,null,null,null,null,null,null,null,null,null,null,{"$f":"IF(data_pp_combined!$C1785=0, \"\", OFFSET(data_pp_post!FT$1, data_pp_combined!$B1785-1, 0))","v":""},{"$f":"IF(data_pp_combined!$C1785=0, \"\", OFFSET(data_pp_post!FU$1, data_pp_combined!$B1785-1, 0))","v":""},{"$f":"IF(data_pp_pre!FV1785=\"\", \"\", data_pp_pre!FV1785)","v":""},""]
[null,null,null,null,null,null,null,null,null,null,null,null,null,null,null,null,null,null,null,null,null,null,null,null,null,null,null,null,null,null,null,null,null,null,null,null,null,null,null,null,null,null,null,null,null,null,null,null,null,null,null,null,null,null,null,null,null,null,null,null,null,null,null,null,null,null,null,null,null,null,null,null,null,null,null,null,null,null,null,null,null,null,null,null,null,null,null,null,null,null,null,null,null,null,null,null,null,null,null,null,null,null,null,null,null,null,null,null,null,null,null,null,null,null,null,null,null,null,null,null,null,null,null,null,null,null,null,null,null,null,null,null,null,null,null,null,null,null,null,null,null,null,null,null,null,null,null,null,null,null,null,null,null,null,null,null,null,null,null,null,null,null,null,null,null,null,null,null,null,null,null,null,null,null,null,null,null,null,null,{"$f":"IF(data_pp_combined!$C1804=0, \"\", OFFSET(data_pp_post!FT$1, data_pp_combined!$B1804-1, 0))","v":""},{"$f":"IF(data_pp_combined!$C1804=0, \"\", OFFSET(data_pp_post!FU$1, data_pp_combined!$B1804-1, 0))","v":""},{"$f":"IF(data_pp_pre!FV1804=\"\", \"\", data_pp_pre!FV1804)","v":""},""]
[null,null,null,null,null,null,null,null,null,null,null,null,null,null,null,null,null,null,null,null,null,null,null,null,null,null,null,null,null,null,null,null,null,null,null,null,null,null,null,null,null,null,null,null,null,null,null,null,null,null,null,null,null,null,null,null,null,null,null,null,null,null,null,null,null,null,null,null,null,null,null,null,null,null,null,null,null,null,null,null,null,null,null,null,null,null,null,null,null,null,null,null,null,null,null,null,null,null,null,null,null,null,null,null,null,null,null,null,null,null,null,null,null,null,null,null,null,null,null,null,null,null,null,null,null,null,null,null,null,null,null,null,null,null,null,null,null,null,null,null,null,null,null,null,null,null,null,null,null,null,null,null,null,null,null,null,null,null,null,null,null,null,null,null,null,null,null,null,null,null,null,null,null,null,null,null,null,null,null,{"$f":"IF(data_pp_combined!$C1829=0, \"\", OFFSET(data_pp_post!FT$1, data_pp_combined!$B1829-1, 0))","v":""},{"$f":"IF(data_pp_combined!$C1829=0, \"\", OFFSET(data_pp_post!FU$1, data_pp_combined!$B1829-1, 0))","v":""},{"$f":"IF(data_pp_pre!FV1829=\"\", \"\", data_pp_pre!FV1829)","v":""},""]
[null,null,null,null,null,null,null,null,null,null,null,null,null,null,null,null,null,null,null,null,null,null,null,null,null,null,null,null,null,null,null,null,null,null,null,null,null,null,null,null,null,null,null,null,null,null,null,null,null,null,null,null,null,null,null,null,null,null,null,null,null,null,null,null,null,null,null,null,null,null,null,null,null,null,null,null,null,null,null,null,null,null,null,null,null,null,null,null,null,null,null,null,null,null,null,null,null,null,null,null,null,null,null,null,null,null,null,null,null,null,null,null,null,null,null,null,null,null,null,null,null,null,null,null,null,null,null,null,null,null,null,null,null,null,null,null,null,null,null,null,null,null,null,null,null,null,null,null,null,null,null,null,null,null,null,null,null,null,null,null,null,null,null,null,null,null,null,null,null,null,null,null,null,null,null,null,null,null,null,{"$f":"IF(data_pp_combined!$C1847=0, \"\", OFFSET(data_pp_post!FT$1, data_pp_combined!$B1847-1, 0))","v":""},{"$f":"IF(data_pp_combined!$C1847=0, \"\", OFFSET(data_pp_post!FU$1, data_pp_combined!$B1847-1, 0))","v":""},{"$f":"IF(data_pp_pre!FV1847=\"\", \"\", data_pp_pre!FV1847)","v":""},""]
[null,null,null,null,null,null,null,null,null,null,null,null,null,null,null,null,null,null,null,null,null,null,null,null,null,null,null,null,null,null,null,null,null,null,null,null,null,null,null,null,null,null,null,null,null,null,null,null,null,null,null,null,null,null,null,null,null,null,null,null,null,null,null,null,null,null,null,null,null,null,null,null,null,null,null,null,null,null,null,null,null,null,null,null,null,null,null,null,null,null,null,null,null,null,null,null,null,null,null,null,null,null,null,null,null,null,null,null,null,null,null,null,null,null,null,null,null,null,null,null,null,null,null,null,null,null,null,null,null,null,null,null,null,null,null,null,null,null,null,null,null,null,null,null,null,null,null,null,null,null,null,null,null,null,null,null,null,null,null,null,null,null,null,null,null,null,null,null,null,null,null,null,null,null,null,null,null,null,null,{"$f":"IF(data_pp_combined!$C1853=0, \"\", OFFSET(data_pp_post!FT$1, data_pp_combined!$B1853-1, 0))","v":""},{"$f":"IF(data_pp_combined!$C1853=0, \"\", OFFSET(data_pp_post!FU$1, data_pp_combined!$B1853-1, 0))","v":""},{"$f":"IF(data_pp_pre!FV1853=\"\", \"\", data_pp_pre!FV1853)","v":""},""]
[null,null,null,null,null,null,null,null,null,null,null,null,null,null,null,null,null,null,null,null,null,null,null,null,null,null,null,null,null,null,null,null,null,null,null,null,null,null,null,null,null,null,null,null,null,null,null,null,null,null,null,null,null,null,null,null,null,null,null,null,null,null,null,null,null,null,null,null,null,null,null,null,null,null,null,null,null,null,null,null,null,null,null,null,null,null,null,null,null,null,null,null,null,null,null,null,null,null,null,null,null,null,null,null,null,null,null,null,null,null,null,null,null,null,null,null,null,null,null,null,null,null,null,null,null,null,null,null,null,null,null,null,null,null,null,null,null,null,null,null,null,null,null,null,null,null,null,null,null,null,null,null,null,null,null,null,null,null,null,null,null,null,null,null,null,null,null,null,null,null,null,null,null,null,null,null,null,null,null,{"$f":"IF(data_pp_combined!$C1872=0, \"\", OFFSET(data_pp_post!FT$1, data_pp_combined!$B1872-1, 0))","v":""},{"$f":"IF(data_pp_combined!$C1872=0, \"\", OFFSET(data_pp_post!FU$1, data_pp_combined!$B1872-1, 0))","v":""},{"$f":"IF(data_pp_pre!FV1872=\"\", \"\", data_pp_pre!FV1872)","v":""},""]
[null,null,null,null,null,null,null,null,null,null,null,null,null,null,null,null,null,null,null,null,null,null,null,null,null,null,null,null,null,null,null,null,null,null,null,null,null,null,null,null,null,null,null,null,null,null,null,null,null,null,null,null,null,null,null,null,null,null,null,null,null,null,null,null,null,null,null,null,null,null,null,null,null,null,null,null,null,null,null,null,null,null,null,null,null,null,null,null,null,null,null,null,null,null,null,null,null,null,null,null,null,null,null,null,null,null,null,null,null,null,null,null,null,null,null,null,null,null,null,null,null,null,null,null,null,null,null,null,null,null,null,null,null,null,null,null,null,null,null,null,null,null,null,null,null,null,null,null,null,null,null,null,null,null,null,null,null,null,null,null,null,null,null,null,null,null,null,null,null,null,null,null,null,null,null,null,null,null,null,{"$f":"IF(data_pp_combined!$C1891=0, \"\", OFFSET(data_pp_post!FT$1, data_pp_combined!$B1891-1, 0))","v":""},{"$f":"IF(data_pp_combined!$C1891=0, \"\", OFFSET(data_pp_post!FU$1, data_pp_combined!$B1891-1, 0))","v":""},{"$f":"IF(data_pp_pre!FV1891=\"\", \"\", data_pp_pre!FV1891)","v":""},""]
[null,null,null,null,null,null,null,null,null,null,null,null,null,null,null,null,null,null,null,null,null,null,null,null,null,null,null,null,null,null,null,null,null,null,null,null,null,null,null,null,null,null,null,null,null,null,null,null,null,null,null,null,null,null,null,null,null,null,null,null,null,null,null,null,null,null,null,null,null,null,null,null,null,null,null,null,null,null,null,null,null,null,null,null,null,null,null,null,null,null,null,null,null,null,null,null,null,null,null,null,null,null,null,null,null,null,null,null,null,null,null,null,null,null,null,null,null,null,null,null,null,null,null,null,null,null,null,null,null,null,null,null,null,null,null,null,null,null,null,null,null,null,null,null,null,null,null,null,null,null,null,null,null,null,null,null,null,null,null,null,null,null,null,null,null,null,null,null,null,null,null,null,null,null,null,null,null,null,null,{"$f":"IF(data_pp_combined!$C1924=0, \"\", OFFSET(data_pp_post!FT$1, data_pp_combined!$B1924-1, 0))","v":""},{"$f":"IF(data_pp_combined!$C1924=0, \"\", OFFSET(data_pp_post!FU$1, data_pp_combined!$B1924-1, 0))","v":""},{"$f":"IF(data_pp_pre!FV1924=\"\", \"\", data_pp_pre!FV1924)","v":""},""]
[null,null,null,null,null,null,null,null,null,null,null,null,null,null,null,null,null,null,null,null,null,null,null,null,null,null,null,null,null,null,null,null,null,null,null,null,null,null,null,null,null,null,null,null,null,null,null,null,null,null,null,null,null,null,null,null,null,null,null,null,null,null,null,null,null,null,null,null,null,null,null,null,null,null,null,null,null,null,null,null,null,null,null,null,null,null,null,null,null,null,null,null,null,null,null,null,null,null,null,null,null,null,null,null,null,null,null,null,null,null,null,null,null,null,null,null,null,null,null,null,null,null,null,null,null,null,null,null,null,null,null,null,null,null,null,null,null,null,null,null,null,null,null,null,null,null,null,null,null,null,null,null,null,null,null,null,null,null,null,null,null,null,null,null,null,null,null,null,null,null,null,null,null,null,null,null,null,null,null,{"$f":"IF(data_pp_combined!$C1934=0, \"\", OFFSET(data_pp_post!FT$1, data_pp_combined!$B1934-1, 0))","v":""},{"$f":"IF(data_pp_combined!$C1934=0, \"\", OFFSET(data_pp_post!FU$1, data_pp_combined!$B1934-1, 0))","v":""},{"$f":"IF(data_pp_pre!FV1934=\"\", \"\", data_pp_pre!FV1934)","v":""},""]
[null,null,null,null,null,null,null,null,null,null,null,null,null,null,null,null,null,null,null,null,null,null,null,null,null,null,null,null,null,null,null,null,null,null,null,null,null,null,null,null,null,null,null,null,null,null,null,null,null,null,null,null,null,null,null,null,null,null,null,null,null,null,null,null,null,null,null,null,null,null,null,null,null,null,null,null,null,null,null,null,null,null,null,null,null,null,null,null,null,null,null,null,null,null,null,null,null,null,null,null,null,null,null,null,null,null,null,null,null,null,null,null,null,null,null,null,null,null,null,null,null,null,null,null,null,null,null,null,null,null,null,null,null,null,null,null,null,null,null,null,null,null,null,null,null,null,null,null,null,null,null,null,null,null,null,null,null,null,null,null,null,null,null,null,null,null,null,null,null,null,null,null,null,null,null,null,null,null,null,{"$f":"IF(data_pp_combined!$C1959=0, \"\", OFFSET(data_pp_post!FT$1, data_pp_combined!$B1959-1, 0))","v":""},{"$f":"IF(data_pp_combined!$C1959=0, \"\", OFFSET(data_pp_post!FU$1, data_pp_combined!$B1959-1, 0))","v":""},{"$f":"IF(data_pp_pre!FV1959=\"\", \"\", data_pp_pre!FV1959)","v":""},""]
[null,null,null,null,null,null,null,null,null,null,null,null,null,null,null,null,null,null,null,null,null,null,null,null,null,null,null,null,null,null,null,null,null,null,null,null,null,null,null,null,null,null,null,null,null,null,null,null,null,null,null,null,null,null,null,null,null,null,null,null,null,null,null,null,null,null,null,null,null,null,null,null,null,null,null,null,null,null,null,null,null,null,null,null,null,null,null,null,null,null,null,null,null,null,null,null,null,null,null,null,null,null,null,null,null,null,null,null,null,null,null,null,null,null,null,null,null,null,null,null,null,null,null,null,null,null,null,null,null,null,null,null,null,null,null,null,null,null,null,null,null,null,null,null,null,null,null,null,null,null,null,null,null,null,null,null,null,null,null,null,null,null,null,null,null,null,null,null,null,null,null,null,null,null,null,null,null,null,null,{"$f":"IF(data_pp_combined!$C1978=0, \"\", OFFSET(data_pp_post!FT$1, data_pp_combined!$B1978-1, 0))","v":""},{"$f":"IF(data_pp_combined!$C1978=0, \"\", OFFSET(data_pp_post!FU$1, data_pp_combined!$B1978-1, 0))","v":""},{"$f":"IF(data_pp_pre!FV1978=\"\", \"\", data_pp_pre!FV1978)","v":""},""]
[null,null,null,null,null,null,null,null,null,null,null,null,null,null,null,null,null,null,null,null,null,null,null,null,null,null,null,null,null,null,null,null,null,null,null,null,null,null,null,null,null,null,null,null,null,null,null,null,null,null,null,null,null,null,null,null,null,null,null,null,null,null,null,null,null,null,null,null,null,null,null,null,null,null,null,null,null,null,null,null,null,null,null,null,null,null,null,null,null,null,null,null,null,null,null,null,null,null,null,null,null,null,null,null,null,null,null,null,null,null,null,null,null,null,null,null,null,null,null,null,null,null,null,null,null,null,null,null,null,null,null,null,null,null,null,null,null,null,null,null,null,null,null,null,null,null,null,null,null,null,null,null,null,null,null,null,null,null,null,null,null,null,null,null,null,null,null,null,null,null,null,null,null,null,null,null,null,null,null,{"$f":"IF(data_pp_combined!$C1997=0, \"\", OFFSET(data_pp_post!FT$1, data_pp_combined!$B1997-1, 0))","v":""},{"$f":"IF(data_pp_combined!$C1997=0, \"\", OFFSET(data_pp_post!FU$1, data_pp_combined!$B1997-1, 0))","v":""},{"$f":"IF(data_pp_pre!FV1997=\"\", \"\", data_pp_pre!FV1997)","v":""},""]
[null,null,null,null,null,null,null,null,null,null,null,null,null,null,null,null,null,null,null,null,null,null,null,null,null,null,null,null,null,null,null,null,null,null,null,null,null,null,null,null,null,null,null,null,null,null,null,null,null,null,null,null,null,null,null,null,null,null,null,null,null,null,null,null,null,null,null,null,null,null,null,null,null,null,null,null,null,null,null,null,null,null,null,null,null,null,null,null,null,null,null,null,null,null,null,null,null,null,null,null,null,null,null,null,null,null,null,null,null,null,null,null,null,null,null,null,null,null,null,null,null,null,null,null,null,null,null,null,null,null,null,null,null,null,null,null,null,null,null,null,null,null,null,null,null,null,null,null,null,null,null,null,null,null,null,null,null,null,null,null,null,null,null,null,null,null,null,null,null,null,null,null,null,null,null,null,null,null,null,{"$f":"IF(data_pp_combined!$C2005=0, \"\", OFFSET(data_pp_post!FT$1, data_pp_combined!$B2005-1, 0))","v":""},{"$f":"IF(data_pp_combined!$C2005=0, \"\", OFFSET(data_pp_post!FU$1, data_pp_combined!$B2005-1, 0))","v":""},{"$f":"IF(data_pp_pre!FV2005=\"\", \"\", data_pp_pre!FV2005)","v":""},""]
[null,null,null,null,null,null,null,null,null,null,null,null,null,null,null,null,null,null,null,null,null,null,null,null,null,null,null,null,null,null,null,null,null,null,null,null,null,null,null,null,null,null,null,null,null,null,null,null,null,null,null,null,null,null,null,null,null,null,null,null,null,null,null,null,null,null,null,null,null,null,null,null,null,null,null,null,null,null,null,null,null,null,null,null,null,null,null,null,null,null,null,null,null,null,null,null,null,null,null,null,null,null,null,null,null,null,null,null,null,null,null,null,null,null,null,null,null,null,null,null,null,null,null,null,null,null,null,null,null,null,null,null,null,null,null,null,null,null,null,null,null,null,null,null,null,null,null,null,null,null,null,null,null,null,null,null,null,null,null,null,null,null,null,null,null,null,null,null,null,null,null,null,null,null,null,null,null,null,null,{"$f":"IF(data_pp_combined!$C2021=0, \"\", OFFSET(data_pp_post!FT$1, data_pp_combined!$B2021-1, 0))","v":""},{"$f":"IF(data_pp_combined!$C2021=0, \"\", OFFSET(data_pp_post!FU$1, data_pp_combined!$B2021-1, 0))","v":""},{"$f":"IF(data_pp_pre!FV2021=\"\", \"\", data_pp_pre!FV2021)","v":""},""]
[null,null,null,null,null,null,null,null,null,null,null,null,null,null,null,null,null,null,null,null,null,null,null,null,null,null,null,null,null,null,null,null,null,null,null,null,null,null,null,null,null,null,null,null,null,null,null,null,null,null,null,null,null,null,null,null,null,null,null,null,null,null,null,null,null,null,null,null,null,null,null,null,null,null,null,null,null,null,null,null,null,null,null,null,null,null,null,null,null,null,null,null,null,null,null,null,null,null,null,null,null,null,null,null,null,null,null,null,null,null,null,null,null,null,null,null,null,null,null,null,null,null,null,null,null,null,null,null,null,null,null,null,null,null,null,null,null,null,null,null,null,null,null,null,null,null,null,null,null,null,null,null,null,null,null,null,null,null,null,null,null,null,null,null,null,null,null,null,null,null,null,null,null,null,null,null,null,null,null,{"$f":"IF(data_pp_combined!$C2040=0, \"\", OFFSET(data_pp_post!FT$1, data_pp_combined!$B2040-1, 0))","v":""},{"$f":"IF(data_pp_combined!$C2040=0, \"\", OFFSET(data_pp_post!FU$1, data_pp_combined!$B2040-1, 0))","v":""},{"$f":"IF(data_pp_pre!FV2040=\"\", \"\", data_pp_pre!FV2040)","v":""},""]
[null,null,null,null,null,null,null,null,null,null,null,null,null,null,null,null,null,null,null,null,null,null,null,null,null,null,null,null,null,null,null,null,null,null,null,null,null,null,null,null,null,null,null,null,null,null,null,null,null,null,null,null,null,null,null,null,null,null,null,null,null,null,null,null,null,null,null,null,null,null,null,null,null,null,null,null,null,null,null,null,null,null,null,null,null,null,null,null,null,null,null,null,null,null,null,null,null,null,null,null,null,null,null,null,null,null,null,null,null,null,null,null,null,null,null,null,null,null,null,null,null,null,null,null,null,null,null,null,null,null,null,null,null,null,null,null,null,null,null,null,null,null,null,null,null,null,null,null,null,null,null,null,null,null,null,null,null,null,null,null,null,null,null,null,null,null,null,null,null,null,null,null,null,null,null,null,null,null,null,{"$f":"IF(data_pp_combined!$C2065=0, \"\", OFFSET(data_pp_post!FT$1, data_pp_combined!$B2065-1, 0))","v":""},{"$f":"IF(data_pp_combined!$C2065=0, \"\", OFFSET(data_pp_post!FU$1, data_pp_combined!$B2065-1, 0))","v":""},{"$f":"IF(data_pp_pre!FV2065=\"\", \"\", data_pp_pre!FV2065)","v":""},""]
[null,null,null,null,null,null,null,null,null,null,null,null,null,null,null,null,null,null,null,null,null,null,null,null,null,null,null,null,null,null,null,null,null,null,null,null,null,null,null,null,null,null,null,null,null,null,null,null,null,null,null,null,null,null,null,null,null,null,null,null,null,null,null,null,null,null,null,null,null,null,null,null,null,null,null,null,null,null,null,null,null,null,null,null,null,null,null,null,null,null,null,null,null,null,null,null,null,null,null,null,null,null,null,null,null,null,null,null,null,null,null,null,null,null,null,null,null,null,null,null,null,null,null,null,null,null,null,null,null,null,null,null,null,null,null,null,null,null,null,null,null,null,null,null,null,null,null,null,null,null,null,null,null,null,null,null,null,null,null,null,null,null,null,null,null,null,null,null,null,null,null,null,null,null,null,null,null,null,null,{"$f":"IF(data_pp_combined!$C2078=0, \"\", OFFSET(data_pp_post!FT$1, data_pp_combined!$B2078-1, 0))","v":""},{"$f":"IF(data_pp_combined!$C2078=0, \"\", OFFSET(data_pp_post!FU$1, data_pp_combined!$B2078-1, 0))","v":""},{"$f":"IF(data_pp_pre!FV2078=\"\", \"\", data_pp_pre!FV2078)","v":""},""]
[null,null,null,null,null,null,null,null,null,null,null,null,null,null,null,null,null,null,null,null,null,null,null,null,null,null,null,null,null,null,null,null,null,null,null,null,null,null,null,null,null,null,null,null,null,null,null,null,null,null,null,null,null,null,null,null,null,null,null,null,null,null,null,null,null,null,null,null,null,null,null,null,null,null,null,null,null,null,null,null,null,null,null,null,null,null,null,null,null,null,null,null,null,null,null,null,null,null,null,null,null,null,null,null,null,null,null,null,null,null,null,null,null,null,null,null,null,null,null,null,null,null,null,null,null,null,null,null,null,null,null,null,null,null,null,null,null,null,null,null,null,null,null,null,null,null,null,null,null,null,null,null,null,null,null,null,null,null,null,null,null,null,null,null,null,null,null,null,null,null,null,null,null,null,null,null,null,null,null,{"$f":"IF(data_pp_combined!$C2108=0, \"\", OFFSET(data_pp_post!FT$1, data_pp_combined!$B2108-1, 0))","v":""},{"$f":"IF(data_pp_combined!$C2108=0, \"\", OFFSET(data_pp_post!FU$1, data_pp_combined!$B2108-1, 0))","v":""},{"$f":"IF(data_pp_pre!FV2108=\"\", \"\", data_pp_pre!FV2108)","v":""},""]
[null,null,null,null,null,null,null,null,null,null,null,null,null,null,null,null,null,null,null,null,null,null,null,null,null,null,null,null,null,null,null,null,null,null,null,null,null,null,null,null,null,null,null,null,null,null,null,null,null,null,null,null,null,null,null,null,null,null,null,null,null,null,null,null,null,null,null,null,null,null,null,null,null,null,null,null,null,null,null,null,null,null,null,null,null,null,null,null,null,null,null,null,null,null,null,null,null,null,null,null,null,null,null,null,null,null,null,null,null,null,null,null,null,null,null,null,null,null,null,null,null,null,null,null,null,null,null,null,null,null,null,null,null,null,null,null,null,null,null,null,null,null,null,null,null,null,null,null,null,null,null,null,null,null,null,null,null,null,null,null,null,null,null,null,null,null,null,null,null,null,null,null,null,null,null,null,null,null,null,{"$f":"IF(data_pp_combined!$C2127=0, \"\", OFFSET(data_pp_post!FT$1, data_pp_combined!$B2127-1, 0))","v":""},{"$f":"IF(data_pp_combined!$C2127=0, \"\", OFFSET(data_pp_post!FU$1, data_pp_combined!$B2127-1, 0))","v":""},{"$f":"IF(data_pp_pre!FV2127=\"\", \"\", data_pp_pre!FV2127)","v":""},""]
[null,null,null,null,null,null,null,null,null,null,null,null,null,null,null,null,null,null,null,null,null,null,null,null,null,null,null,null,null,null,null,null,null,null,null,null,null,null,null,null,null,null,null,null,null,null,null,null,null,null,null,null,null,null,null,null,null,null,null,null,null,null,null,null,null,null,null,null,null,null,null,null,null,null,null,null,null,null,null,null,null,null,null,null,null,null,null,null,null,null,null,null,null,null,null,null,null,null,null,null,null,null,null,null,null,null,null,null,null,null,null,null,null,null,null,null,null,null,null,null,null,null,null,null,null,null,null,null,null,null,null,null,null,null,null,null,null,null,null,null,null,null,null,null,null,null,null,null,null,null,null,null,null,null,null,null,null,null,null,null,null,null,null,null,null,null,null,null,null,null,null,null,null,null,null,null,null,null,null,{"$f":"IF(data_pp_combined!$C2146=0, \"\", OFFSET(data_pp_post!FT$1, data_pp_combined!$B2146-1, 0))","v":""},{"$f":"IF(data_pp_combined!$C2146=0, \"\", OFFSET(data_pp_post!FU$1, data_pp_combined!$B2146-1, 0))","v":""},{"$f":"IF(data_pp_pre!FV2146=\"\", \"\", data_pp_pre!FV2146)","v":""},""]
[null,null,null,null,null,null,null,null,null,null,null,null,null,null,null,null,null,null,null,null,null,null,null,null,null,null,null,null,null,null,null,null,null,null,null,null,null,null,null,null,null,null,null,null,null,null,null,null,null,null,null,null,null,null,null,null,null,null,null,null,null,null,null,null,null,null,null,null,null,null,null,null,null,null,null,null,null,null,null,null,null,null,null,null,null,null,null,null,null,null,null,null,null,null,null,null,null,null,null,null,null,null,null,null,null,null,null,null,null,null,null,null,null,null,null,null,null,null,null,null,null,null,null,null,null,null,null,null,null,null,null,null,null,null,null,null,null,null,null,null,null,null,null,null,null,null,null,null,null,null,null,null,null,null,null,null,null,null,null,null,null,null,null,null,null,null,null,null,null,null,null,null,null,null,null,null,null,null,null,{"$f":"IF(data_pp_combined!$C2155=0, \"\", OFFSET(data_pp_post!FT$1, data_pp_combined!$B2155-1, 0))","v":""},{"$f":"IF(data_pp_combined!$C2155=0, \"\", OFFSET(data_pp_post!FU$1, data_pp_combined!$B2155-1, 0))","v":""},{"$f":"IF(data_pp_pre!FV2155=\"\", \"\", data_pp_pre!FV2155)","v":""},""]
[null,null,null,null,null,null,null,null,null,null,null,null,null,null,null,null,null,null,null,null,null,null,null,null,null,null,null,null,null,null,null,null,null,null,null,null,null,null,null,null,null,null,null,null,null,null,null,null,null,null,null,null,null,null,null,null,null,null,null,null,null,null,null,null,null,null,null,null,null,null,null,null,null,null,null,null,null,null,null,null,null,null,null,null,null,null,null,null,null,null,null,null,null,null,null,null,null,null,null,null,null,null,null,null,null,null,null,null,null,null,null,null,null,null,null,null,null,null,null,null,null,null,null,null,null,null,null,null,null,null,null,null,null,null,null,null,null,null,null,null,null,null,null,null,null,null,null,null,null,null,null,null,null,null,null,null,null,null,null,null,null,null,null,null,null,null,null,null,null,null,null,null,null,null,null,null,null,null,null,{"$f":"IF(data_pp_combined!$C2170=0, \"\", OFFSET(data_pp_post!FT$1, data_pp_combined!$B2170-1, 0))","v":""},{"$f":"IF(data_pp_combined!$C2170=0, \"\", OFFSET(data_pp_post!FU$1, data_pp_combined!$B2170-1, 0))","v":""},{"$f":"IF(data_pp_pre!FV2170=\"\", \"\", data_pp_pre!FV2170)","v":""},""]
[null,null,null,null,null,null,null,null,null,null,null,null,null,null,null,null,null,null,null,null,null,null,null,null,null,null,null,null,null,null,null,null,null,null,null,null,null,null,null,null,null,null,null,null,null,null,null,null,null,null,null,null,null,null,null,null,null,null,null,null,null,null,null,null,null,null,null,null,null,null,null,null,null,null,null,null,null,null,null,null,null,null,null,null,null,null,null,null,null,null,null,null,null,null,null,null,null,null,null,null,null,null,null,null,null,null,null,null,null,null,null,null,null,null,null,null,null,null,null,null,null,null,null,null,null,null,null,null,null,null,null,null,null,null,null,null,null,null,null,null,null,null,null,null,null,null,null,null,null,null,null,null,null,null,null,null,null,null,null,null,null,null,null,null,null,null,null,null,null,null,null,null,null,null,null,null,null,null,null,{"$f":"IF(data_pp_combined!$C2195=0, \"\", OFFSET(data_pp_post!FT$1, data_pp_combined!$B2195-1, 0))","v":""},{"$f":"IF(data_pp_combined!$C2195=0, \"\", OFFSET(data_pp_post!FU$1, data_pp_combined!$B2195-1, 0))","v":""},{"$f":"IF(data_pp_pre!FV2195=\"\", \"\", data_pp_pre!FV2195)","v":""},""]
[null,null,null,null,null,null,null,null,null,null,null,null,null,null,null,null,null,null,null,null,null,null,null,null,null,null,null,null,null,null,null,null,null,null,null,null,null,null,null,null,null,null,null,null,null,null,null,null,null,null,null,null,null,null,null,null,null,null,null,null,null,null,null,null,null,null,null,null,null,null,null,null,null,null,null,null,null,null,null,null,null,null,null,null,null,null,null,null,null,null,null,null,null,null,null,null,null,null,null,null,null,null,null,null,null,null,null,null,null,null,null,null,null,null,null,null,null,null,null,null,null,null,null,null,null,null,null,null,null,null,null,null,null,null,null,null,null,null,null,null,null,null,null,null,null,null,null,null,null,null,null,null,null,null,null,null,null,null,null,null,null,null,null,null,null,null,null,null,null,null,null,null,null,null,null,null,null,null,null,{"$f":"IF(data_pp_combined!$C2214=0, \"\", OFFSET(data_pp_post!FT$1, data_pp_combined!$B2214-1, 0))","v":""},{"$f":"IF(data_pp_combined!$C2214=0, \"\", OFFSET(data_pp_post!FU$1, data_pp_combined!$B2214-1, 0))","v":""},{"$f":"IF(data_pp_pre!FV2214=\"\", \"\", data_pp_pre!FV2214)","v":""},""]
[null,null,null,null,null,null,null,null,null,null,null,null,null,null,null,null,null,null,null,null,null,null,null,null,null,null,null,null,null,null,null,null,null,null,null,null,null,null,null,null,null,null,null,null,null,null,null,null,null,null,null,null,null,null,null,null,null,null,null,null,null,null,null,null,null,null,null,null,null,null,null,null,null,null,null,null,null,null,null,null,null,null,null,null,null,null,null,null,null,null,null,null,null,null,null,null,null,null,null,null,null,null,null,null,null,null,null,null,null,null,null,null,null,null,null,null,null,null,null,null,null,null,null,null,null,null,null,null,null,null,null,null,null,null,null,null,null,null,null,null,null,null,null,null,null,null,null,null,null,null,null,null,null,null,null,null,null,null,null,null,null,null,null,null,null,null,null,null,null,null,null,null,null,null,null,null,null,null,null,{"$f":"IF(data_pp_combined!$C2228=0, \"\", OFFSET(data_pp_post!FT$1, data_pp_combined!$B2228-1, 0))","v":""},{"$f":"IF(data_pp_combined!$C2228=0, \"\", OFFSET(data_pp_post!FU$1, data_pp_combined!$B2228-1, 0))","v":""},{"$f":"IF(data_pp_pre!FV2228=\"\", \"\", data_pp_pre!FV2228)","v":""},""]
[null,null,null,null,null,null,null,null,null,null,null,null,null,null,null,null,null,null,null,null,null,null,null,null,null,null,null,null,null,null,null,null,null,null,null,null,null,null,null,null,null,null,null,null,null,null,null,null,null,null,null,null,null,null,null,null,null,null,null,null,null,null,null,null,null,null,null,null,null,null,null,null,null,null,null,null,null,null,null,null,null,null,null,null,null,null,null,null,null,null,null,null,null,null,null,null,null,null,null,null,null,null,null,null,null,null,null,null,null,null,null,null,null,null,null,null,null,null,null,null,null,null,null,null,null,null,null,null,null,null,null,null,null,null,null,null,null,null,null,null,null,null,null,null,null,null,null,null,null,null,null,null,null,null,null,null,null,null,null,null,null,null,null,null,null,null,null,null,null,null,null,null,null,null,null,null,null,null,null,{"$f":"IF(data_pp_combined!$C2257=0, \"\", OFFSET(data_pp_post!FT$1, data_pp_combined!$B2257-1, 0))","v":""},{"$f":"IF(data_pp_combined!$C2257=0, \"\", OFFSET(data_pp_post!FU$1, data_pp_combined!$B2257-1, 0))","v":""},{"$f":"IF(data_pp_pre!FV2257=\"\", \"\", data_pp_pre!FV2257)","v":""},""]
[null,null,null,null,null,null,null,null,null,null,null,null,null,null,null,null,null,null,null,null,null,null,null,null,null,null,null,null,null,null,null,null,null,null,null,null,null,null,null,null,null,null,null,null,null,null,null,null,null,null,null,null,null,null,null,null,null,null,null,null,null,null,null,null,null,null,null,null,null,null,null,null,null,null,null,null,null,null,null,null,null,null,null,null,null,null,null,null,null,null,null,null,null,null,null,null,null,null,null,null,null,null,null,null,null,null,null,null,null,null,null,null,null,null,null,null,null,null,null,null,null,null,null,null,null,null,null,null,null,null,null,null,null,null,null,null,null,null,null,null,null,null,null,null,null,null,null,null,null,null,null,null,null,null,null,null,null,null,null,null,null,null,null,null,null,null,null,null,null,null,null,null,null,null,null,null,null,null,null,{"$f":"IF(data_pp_combined!$C2276=0, \"\", OFFSET(data_pp_post!FT$1, data_pp_combined!$B2276-1, 0))","v":""},{"$f":"IF(data_pp_combined!$C2276=0, \"\", OFFSET(data_pp_post!FU$1, data_pp_combined!$B2276-1, 0))","v":""},{"$f":"IF(data_pp_pre!FV2276=\"\", \"\", data_pp_pre!FV2276)","v":""},""]
[null,null,null,null,null,null,null,null,null,null,null,null,null,null,null,null,null,null,null,null,null,null,null,null,null,null,null,null,null,null,null,null,null,null,null,null,null,null,null,null,null,null,null,null,null,null,null,null,null,null,null,null,null,null,null,null,null,null,null,null,null,null,null,null,null,null,null,null,null,null,null,null,null,null,null,null,null,null,null,null,null,null,null,null,null,null,null,null,null,null,null,null,null,null,null,null,null,null,null,null,null,null,null,null,null,null,null,null,null,null,null,null,null,null,null,null,null,null,null,null,null,null,null,null,null,null,null,null,null,null,null,null,null,null,null,null,null,null,null,null,null,null,null,null,null,null,null,null,null,null,null,null,null,null,null,null,null,null,null,null,null,null,null,null,null,null,null,null,null,null,null,null,null,null,null,null,null,null,null,{"$f":"IF(data_pp_combined!$C2295=0, \"\", OFFSET(data_pp_post!FT$1, data_pp_combined!$B2295-1, 0))","v":""},{"$f":"IF(data_pp_combined!$C2295=0, \"\", OFFSET(data_pp_post!FU$1, data_pp_combined!$B2295-1, 0))","v":""},{"$f":"IF(data_pp_pre!FV2295=\"\", \"\", data_pp_pre!FV2295)","v":""},""]
[null,null,null,null,null,null,null,null,null,null,null,null,null,null,null,null,null,null,null,null,null,null,null,null,null,null,null,null,null,null,null,null,null,null,null,null,null,null,null,null,null,null,null,null,null,null,null,null,null,null,null,null,null,null,null,null,null,null,null,null,null,null,null,null,null,null,null,null,null,null,null,null,null,null,null,null,null,null,null,null,null,null,null,null,null,null,null,null,null,null,null,null,null,null,null,null,null,null,null,null,null,null,null,null,null,null,null,null,null,null,null,null,null,null,null,null,null,null,null,null,null,null,null,null,null,null,null,null,null,null,null,null,null,null,null,null,null,null,null,null,null,null,null,null,null,null,null,null,null,null,null,null,null,null,null,null,null,null,null,null,null,null,null,null,null,null,null,null,null,null,null,null,null,null,null,null,null,null,null,{"$f":"IF(data_pp_combined!$C2305=0, \"\", OFFSET(data_pp_post!FT$1, data_pp_combined!$B2305-1, 0))","v":""},{"$f":"IF(data_pp_combined!$C2305=0, \"\", OFFSET(data_pp_post!FU$1, data_pp_combined!$B2305-1, 0))","v":""},{"$f":"IF(data_pp_pre!FV2305=\"\", \"\", data_pp_pre!FV2305)","v":""},""]
[null,null,null,null,null,null,null,null,null,null,null,null,null,null,null,null,null,null,null,null,null,null,null,null,null,null,null,null,null,null,null,null,null,null,null,null,null,null,null,null,null,null,null,null,null,null,null,null,null,null,null,null,null,null,null,null,null,null,null,null,null,null,null,null,null,null,null,null,null,null,null,null,null,null,null,null,null,null,null,null,null,null,null,null,null,null,null,null,null,null,null,null,null,null,null,null,null,null,null,null,null,null,null,null,null,null,null,null,null,null,null,null,null,null,null,null,null,null,null,null,null,null,null,null,null,null,null,null,null,null,null,null,null,null,null,null,null,null,null,null,null,null,null,null,null,null,null,null,null,null,null,null,null,null,null,null,null,null,null,null,null,null,null,null,null,null,null,null,null,null,null,null,null,null,null,null,null,null,null,{"$f":"IF(data_pp_combined!$C2338=0, \"\", OFFSET(data_pp_post!FT$1, data_pp_combined!$B2338-1, 0))","v":""},{"$f":"IF(data_pp_combined!$C2338=0, \"\", OFFSET(data_pp_post!FU$1, data_pp_combined!$B2338-1, 0))","v":""},{"$f":"IF(data_pp_pre!FV2338=\"\", \"\", data_pp_pre!FV2338)","v":""},""]
[null,null,null,null,null,null,null,null,null,null,null,null,null,null,null,null,null,null,null,null,null,null,null,null,null,null,null,null,null,null,null,null,null,null,null,null,null,null,null,null,null,null,null,null,null,null,null,null,null,null,null,null,null,null,null,null,null,null,null,null,null,null,null,null,null,null,null,null,null,null,null,null,null,null,null,null,null,null,null,null,null,null,null,null,null,null,null,null,null,null,null,null,null,null,null,null,null,null,null,null,null,null,null,null,null,null,null,null,null,null,null,null,null,null,null,null,null,null,null,null,null,null,null,null,null,null,null,null,null,null,null,null,null,null,null,null,null,null,null,null,null,null,null,null,null,null,null,null,null,null,null,null,null,null,null,null,null,null,null,null,null,null,null,null,null,null,null,null,null,null,null,null,null,null,null,null,null,null,null,{"$f":"IF(data_pp_combined!$C2344=0, \"\", OFFSET(data_pp_post!FT$1, data_pp_combined!$B2344-1, 0))","v":""},{"$f":"IF(data_pp_combined!$C2344=0, \"\", OFFSET(data_pp_post!FU$1, data_pp_combined!$B2344-1, 0))","v":""},{"$f":"IF(data_pp_pre!FV2344=\"\", \"\", data_pp_pre!FV2344)","v":""},""]
[null,null,null,null,null,null,null,null,null,null,null,null,null,null,null,null,null,null,null,null,null,null,null,null,null,null,null,null,null,null,null,null,null,null,null,null,null,null,null,null,null,null,null,null,null,null,null,null,null,null,null,null,null,null,null,null,null,null,null,null,null,null,null,null,null,null,null,null,null,null,null,null,null,null,null,null,null,null,null,null,null,null,null,null,null,null,null,null,null,null,null,null,null,null,null,null,null,null,null,null,null,null,null,null,null,null,null,null,null,null,null,null,null,null,null,null,null,null,null,null,null,null,null,null,null,null,null,null,null,null,null,null,null,null,null,null,null,null,null,null,null,null,null,null,null,null,null,null,null,null,null,null,null,null,null,null,null,null,null,null,null,null,null,null,null,null,null,null,null,null,null,null,null,null,null,null,null,null,null,{"$f":"IF(data_pp_combined!$C2363=0, \"\", OFFSET(data_pp_post!FT$1, data_pp_combined!$B2363-1, 0))","v":""},{"$f":"IF(data_pp_combined!$C2363=0, \"\", OFFSET(data_pp_post!FU$1, data_pp_combined!$B2363-1, 0))","v":""},{"$f":"IF(data_pp_pre!FV2363=\"\", \"\", data_pp_pre!FV2363)","v":""},""]
[null,null,null,null,null,null,null,null,null,null,null,null,null,null,null,null,null,null,null,null,null,null,null,null,null,null,null,null,null,null,null,null,null,null,null,null,null,null,null,null,null,null,null,null,null,null,null,null,null,null,null,null,null,null,null,null,null,null,null,null,null,null,null,null,null,null,null,null,null,null,null,null,null,null,null,null,null,null,null,null,null,null,null,null,null,null,null,null,null,null,null,null,null,null,null,null,null,null,null,null,null,null,null,null,null,null,null,null,null,null,null,null,null,null,null,null,null,null,null,null,null,null,null,null,null,null,null,null,null,null,null,null,null,null,null,null,null,null,null,null,null,null,null,null,null,null,null,null,null,null,null,null,null,null,null,null,null,null,null,null,null,null,null,null,null,null,null,null,null,null,null,null,null,null,null,null,null,null,null,{"$f":"IF(data_pp_combined!$C2378=0, \"\", OFFSET(data_pp_post!FT$1, data_pp_combined!$B2378-1, 0))","v":""},{"$f":"IF(data_pp_combined!$C2378=0, \"\", OFFSET(data_pp_post!FU$1, data_pp_combined!$B2378-1, 0))","v":""},{"$f":"IF(data_pp_pre!FV2378=\"\", \"\", data_pp_pre!FV2378)","v":""},""]
[null,null,null,null,null,null,null,null,null,null,null,null,null,null,null,null,null,null,null,null,null,null,null,null,null,null,null,null,null,null,null,null,null,null,null,null,null,null,null,null,null,null,null,null,null,null,null,null,null,null,null,null,null,null,null,null,null,null,null,null,null,null,null,null,null,null,null,null,null,null,null,null,null,null,null,null,null,null,null,null,null,null,null,null,null,null,null,null,null,null,null,null,null,null,null,null,null,null,null,null,null,null,null,null,null,null,null,null,null,null,null,null,null,null,null,null,null,null,null,null,null,null,null,null,null,null,null,null,null,null,null,null,null,null,null,null,null,null,null,null,null,null,null,null,null,null,null,null,null,null,null,null,null,null,null,null,null,null,null,null,null,null,null,null,null,null,null,null,null,null,null,null,null,null,null,null,null,null,null,{"$f":"IF(data_pp_combined!$C2406=0, \"\", OFFSET(data_pp_post!FT$1, data_pp_combined!$B2406-1, 0))","v":""},{"$f":"IF(data_pp_combined!$C2406=0, \"\", OFFSET(data_pp_post!FU$1, data_pp_combined!$B2406-1, 0))","v":""},{"$f":"IF(data_pp_pre!FV2406=\"\", \"\", data_pp_pre!FV2406)","v":""},""]
[null,null,null,null,null,null,null,null,null,null,null,null,null,null,null,null,null,null,null,null,null,null,null,null,null,null,null,null,null,null,null,null,null,null,null,null,null,null,null,null,null,null,null,null,null,null,null,null,null,null,null,null,null,null,null,null,null,null,null,null,null,null,null,null,null,null,null,null,null,null,null,null,null,null,null,null,null,null,null,null,null,null,null,null,null,null,null,null,null,null,null,null,null,null,null,null,null,null,null,null,null,null,null,null,null,null,null,null,null,null,null,null,null,null,null,null,null,null,null,null,null,null,null,null,null,null,null,null,null,null,null,null,null,null,null,null,null,null,null,null,null,null,null,null,null,null,null,null,null,null,null,null,null,null,null,null,null,null,null,null,null,null,null,null,null,null,null,null,null,null,null,null,null,null,null,null,null,null,null,{"$f":"IF(data_pp_combined!$C2425=0, \"\", OFFSET(data_pp_post!FT$1, data_pp_combined!$B2425-1, 0))","v":""},{"$f":"IF(data_pp_combined!$C2425=0, \"\", OFFSET(data_pp_post!FU$1, data_pp_combined!$B2425-1, 0))","v":""},{"$f":"IF(data_pp_pre!FV2425=\"\", \"\", data_pp_pre!FV2425)","v":""},""]
[null,null,null,null,null,null,null,null,null,null,null,null,null,null,null,null,null,null,null,null,null,null,null,null,null,null,null,null,null,null,null,null,null,null,null,null,null,null,null,null,null,null,null,null,null,null,null,null,null,null,null,null,null,null,null,null,null,null,null,null,null,null,null,null,null,null,null,null,null,null,null,null,null,null,null,null,null,null,null,null,null,null,null,null,null,null,null,null,null,null,null,null,null,null,null,null,null,null,null,null,null,null,null,null,null,null,null,null,null,null,null,null,null,null,null,null,null,null,null,null,null,null,null,null,null,null,null,null,null,null,null,null,null,null,null,null,null,null,null,null,null,null,null,null,null,null,null,null,null,null,null,null,null,null,null,null,null,null,null,null,null,null,null,null,null,null,null,null,null,null,null,null,null,null,null,null,null,null,null,{"$f":"IF(data_pp_combined!$C2444=0, \"\", OFFSET(data_pp_post!FT$1, data_pp_combined!$B2444-1, 0))","v":""},{"$f":"IF(data_pp_combined!$C2444=0, \"\", OFFSET(data_pp_post!FU$1, data_pp_combined!$B2444-1, 0))","v":""},{"$f":"IF(data_pp_pre!FV2444=\"\", \"\", data_pp_pre!FV2444)","v":""},""]
[null,null,null,null,null,null,null,null,null,null,null,null,null,null,null,null,null,null,null,null,null,null,null,null,null,null,null,null,null,null,null,null,null,null,null,null,null,null,null,null,null,null,null,null,null,null,null,null,null,null,null,null,null,null,null,null,null,null,null,null,null,null,null,null,null,null,null,null,null,null,null,null,null,null,null,null,null,null,null,null,null,null,null,null,null,null,null,null,null,null,null,null,null,null,null,null,null,null,null,null,null,null,null,null,null,null,null,null,null,null,null,null,null,null,null,null,null,null,null,null,null,null,null,null,null,null,null,null,null,null,null,null,null,null,null,null,null,null,null,null,null,null,null,null,null,null,null,null,null,null,null,null,null,null,null,null,null,null,null,null,null,null,null,null,null,null,null,null,null,null,null,null,null,null,null,null,null,null,null,{"$f":"IF(data_pp_combined!$C2469=0, \"\", OFFSET(data_pp_post!FT$1, data_pp_combined!$B2469-1, 0))","v":""},{"$f":"IF(data_pp_combined!$C2469=0, \"\", OFFSET(data_pp_post!FU$1, data_pp_combined!$B2469-1, 0))","v":""},{"$f":"IF(data_pp_pre!FV2469=\"\", \"\", data_pp_pre!FV2469)","v":""},""]
[null,null,null,null,null,null,null,null,null,null,null,null,null,null,null,null,null,null,null,null,null,null,null,null,null,null,null,null,null,null,null,null,null,null,null,null,null,null,null,null,null,null,null,null,null,null,null,null,null,null,null,null,null,null,null,null,null,null,null,null,null,null,null,null,null,null,null,null,null,null,null,null,null,null,null,null,null,null,null,null,null,null,null,null,null,null,null,null,null,null,null,null,null,null,null,null,null,null,null,null,null,null,null,null,null,null,null,null,null,null,null,null,null,null,null,null,null,null,null,null,null,null,null,null,null,null,null,null,null,null,null,null,null,null,null,null,null,null,null,null,null,null,null,null,null,null,null,null,null,null,null,null,null,null,null,null,null,null,null,null,null,null,null,null,null,null,null,null,null,null,null,null,null,null,null,null,null,null,null,{"$f":"IF(data_pp_combined!$C2471=0, \"\", OFFSET(data_pp_post!FT$1, data_pp_combined!$B2471-1, 0))","v":""},{"$f":"IF(data_pp_combined!$C2471=0, \"\", OFFSET(data_pp_post!FU$1, data_pp_combined!$B2471-1, 0))","v":""},{"$f":"IF(data_pp_pre!FV2471=\"\", \"\", data_pp_pre!FV2471)","v":""},""]
[null,null,null,null,null,null,null,null,null,null,null,null,null,null,null,null,null,null,null,null,null,null,null,null,null,null,null,null,null,null,null,null,null,null,null,null,null,null,null,null,null,null,null,null,null,null,null,null,null,null,null,null,null,null,null,null,null,null,null,null,null,null,null,null,null,null,null,null,null,null,null,null,null,null,null,null,null,null,null,null,null,null,null,null,null,null,null,null,null,null,null,null,null,null,null,null,null,null,null,null,null,null,null,null,null,null,null,null,null,null,null,null,null,null,null,null,null,null,null,null,null,null,null,null,null,null,null,null,null,null,null,null,null,null,null,null,null,null,null,null,null,null,null,null,null,null,null,null,null,null,null,null,null,null,null,null,null,null,null,null,null,null,null,null,null,null,null,null,null,null,null,null,null,null,null,null,null,null,null,{"$f":"IF(data_pp_combined!$C2472=0, \"\", OFFSET(data_pp_post!FT$1, data_pp_combined!$B2472-1, 0))","v":""},{"$f":"IF(data_pp_combined!$C2472=0, \"\", OFFSET(data_pp_post!FU$1, data_pp_combined!$B2472-1, 0))","v":""},{"$f":"IF(data_pp_pre!FV2472=\"\", \"\", data_pp_pre!FV2472)","v":""},""]
[null,null,null,null,null,null,null,null,null,null,null,null,null,null,null,null,null,null,null,null,null,null,null,null,null,null,null,null,null,null,null,null,null,null,null,null,null,null,null,null,null,null,null,null,null,null,null,null,null,null,null,null,null,null,null,null,null,null,null,null,null,null,null,null,null,null,null,null,null,null,null,null,null,null,null,null,null,null,null,null,null,null,null,null,null,null,null,null,null,null,null,null,null,null,null,null,null,null,null,null,null,null,null,null,null,null,null,null,null,null,null,null,null,null,null,null,null,null,null,null,null,null,null,null,null,null,null,null,null,null,null,null,null,null,null,null,null,null,null,null,null,null,null,null,null,null,null,null,null,null,null,null,null,null,null,null,null,null,null,null,null,null,null,null,null,null,null,null,null,null,null,null,null,null,null,null,null,null,null,{"$f":"IF(data_pp_combined!$C2473=0, \"\", OFFSET(data_pp_post!FT$1, data_pp_combined!$B2473-1, 0))","v":""},{"$f":"IF(data_pp_combined!$C2473=0, \"\", OFFSET(data_pp_post!FU$1, data_pp_combined!$B2473-1, 0))","v":""},{"$f":"IF(data_pp_pre!FV2473=\"\", \"\", data_pp_pre!FV2473)","v":""},""]
[null,null,null,null,null,null,null,null,null,null,null,null,null,null,null,null,null,null,null,null,null,null,null,null,null,null,null,null,null,null,null,null,null,null,null,null,null,null,null,null,null,null,null,null,null,null,null,null,null,null,null,null,null,null,null,null,null,null,null,null,null,null,null,null,null,null,null,null,null,null,null,null,null,null,null,null,null,null,null,null,null,null,null,null,null,null,null,null,null,null,null,null,null,null,null,null,null,null,null,null,null,null,null,null,null,null,null,null,null,null,null,null,null,null,null,null,null,null,null,null,null,null,null,null,null,null,null,null,null,null,null,null,null,null,null,null,null,null,null,null,null,null,null,null,null,null,null,null,null,null,null,null,null,null,null,null,null,null,null,null,null,null,null,null,null,null,null,null,null,null,null,null,null,null,null,null,null,null,null,{"$f":"IF(data_pp_combined!$C2474=0, \"\", OFFSET(data_pp_post!FT$1, data_pp_combined!$B2474-1, 0))","v":""},{"$f":"IF(data_pp_combined!$C2474=0, \"\", OFFSET(data_pp_post!FU$1, data_pp_combined!$B2474-1, 0))","v":""},{"$f":"IF(data_pp_pre!FV2474=\"\", \"\", data_pp_pre!FV2474)","v":""},""]
[null,null,null,null,null,null,null,null,null,null,null,null,null,null,null,null,null,null,null,null,null,null,null,null,null,null,null,null,null,null,null,null,null,null,null,null,null,null,null,null,null,null,null,null,null,null,null,null,null,null,null,null,null,null,null,null,null,null,null,null,null,null,null,null,null,null,null,null,null,null,null,null,null,null,null,null,null,null,null,null,null,null,null,null,null,null,null,null,null,null,null,null,null,null,null,null,null,null,null,null,null,null,null,null,null,null,null,null,null,null,null,null,null,null,null,null,null,null,null,null,null,null,null,null,null,null,null,null,null,null,null,null,null,null,null,null,null,null,null,null,null,null,null,null,null,null,null,null,null,null,null,null,null,null,null,null,null,null,null,null,null,null,null,null,null,null,null,null,null,null,null,null,null,null,null,null,null,null,null,{"$f":"IF(data_pp_combined!$C2475=0, \"\", OFFSET(data_pp_post!FT$1, data_pp_combined!$B2475-1, 0))","v":""},{"$f":"IF(data_pp_combined!$C2475=0, \"\", OFFSET(data_pp_post!FU$1, data_pp_combined!$B2475-1, 0))","v":""},{"$f":"IF(data_pp_pre!FV2475=\"\", \"\", data_pp_pre!FV2475)","v":""},""]
[null,null,null,null,null,null,null,null,null,null,null,null,null,null,null,null,null,null,null,null,null,null,null,null,null,null,null,null,null,null,null,null,null,null,null,null,null,null,null,null,null,null,null,null,null,null,null,null,null,null,null,null,null,null,null,null,null,null,null,null,null,null,null,null,null,null,null,null,null,null,null,null,null,null,null,null,null,null,null,null,null,null,null,null,null,null,null,null,null,null,null,null,null,null,null,null,null,null,null,null,null,null,null,null,null,null,null,null,null,null,null,null,null,null,null,null,null,null,null,null,null,null,null,null,null,null,null,null,null,null,null,null,null,null,null,null,null,null,null,null,null,null,null,null,null,null,null,null,null,null,null,null,null,null,null,null,null,null,null,null,null,null,null,null,null,null,null,null,null,null,null,null,null,null,null,null,null,null,null,{"$f":"IF(data_pp_combined!$C2476=0, \"\", OFFSET(data_pp_post!FT$1, data_pp_combined!$B2476-1, 0))","v":""},{"$f":"IF(data_pp_combined!$C2476=0, \"\", OFFSET(data_pp_post!FU$1, data_pp_combined!$B2476-1, 0))","v":""},{"$f":"IF(data_pp_pre!FV2476=\"\", \"\", data_pp_pre!FV2476)","v":""},""]
[null,null,null,null,null,null,null,null,null,null,null,null,null,null,null,null,null,null,null,null,null,null,null,null,null,null,null,null,null,null,null,null,null,null,null,null,null,null,null,null,null,null,null,null,null,null,null,null,null,null,null,null,null,null,null,null,null,null,null,null,null,null,null,null,null,null,null,null,null,null,null,null,null,null,null,null,null,null,null,null,null,null,null,null,null,null,null,null,null,null,null,null,null,null,null,null,null,null,null,null,null,null,null,null,null,null,null,null,null,null,null,null,null,null,null,null,null,null,null,null,null,null,null,null,null,null,null,null,null,null,null,null,null,null,null,null,null,null,null,null,null,null,null,null,null,null,null,null,null,null,null,null,null,null,null,null,null,null,null,null,null,null,null,null,null,null,null,null,null,null,null,null,null,null,null,null,null,null,null,{"$f":"IF(data_pp_combined!$C2477=0, \"\", OFFSET(data_pp_post!FT$1, data_pp_combined!$B2477-1, 0))","v":""},{"$f":"IF(data_pp_combined!$C2477=0, \"\", OFFSET(data_pp_post!FU$1, data_pp_combined!$B2477-1, 0))","v":""},{"$f":"IF(data_pp_pre!FV2477=\"\", \"\", data_pp_pre!FV2477)","v":""},""]
[null,null,null,null,null,null,null,null,null,null,null,null,null,null,null,null,null,null,null,null,null,null,null,null,null,null,null,null,null,null,null,null,null,null,null,null,null,null,null,null,null,null,null,null,null,null,null,null,null,null,null,null,null,null,null,null,null,null,null,null,null,null,null,null,null,null,null,null,null,null,null,null,null,null,null,null,null,null,null,null,null,null,null,null,null,null,null,null,null,null,null,null,null,null,null,null,null,null,null,null,null,null,null,null,null,null,null,null,null,null,null,null,null,null,null,null,null,null,null,null,null,null,null,null,null,null,null,null,null,null,null,null,null,null,null,null,null,null,null,null,null,null,null,null,null,null,null,null,null,null,null,null,null,null,null,null,null,null,null,null,null,null,null,null,null,null,null,null,null,null,null,null,null,null,null,null,null,null,null,{"$f":"IF(data_pp_combined!$C2478=0, \"\", OFFSET(data_pp_post!FT$1, data_pp_combined!$B2478-1, 0))","v":""},{"$f":"IF(data_pp_combined!$C2478=0, \"\", OFFSET(data_pp_post!FU$1, data_pp_combined!$B2478-1, 0))","v":""},{"$f":"IF(data_pp_pre!FV2478=\"\", \"\", data_pp_pre!FV2478)","v":""},""]
[null,null,null,null,null,null,null,null,null,null,null,null,null,null,null,null,null,null,null,null,null,null,null,null,null,null,null,null,null,null,null,null,null,null,null,null,null,null,null,null,null,null,null,null,null,null,null,null,null,null,null,null,null,null,null,null,null,null,null,null,null,null,null,null,null,null,null,null,null,null,null,null,null,null,null,null,null,null,null,null,null,null,null,null,null,null,null,null,null,null,null,null,null,null,null,null,null,null,null,null,null,null,null,null,null,null,null,null,null,null,null,null,null,null,null,null,null,null,null,null,null,null,null,null,null,null,null,null,null,null,null,null,null,null,null,null,null,null,null,null,null,null,null,null,null,null,null,null,null,null,null,null,null,null,null,null,null,null,null,null,null,null,null,null,null,null,null,null,null,null,null,null,null,null,null,null,null,null,null,{"$f":"IF(data_pp_combined!$C2479=0, \"\", OFFSET(data_pp_post!FT$1, data_pp_combined!$B2479-1, 0))","v":""},{"$f":"IF(data_pp_combined!$C2479=0, \"\", OFFSET(data_pp_post!FU$1, data_pp_combined!$B2479-1, 0))","v":""},{"$f":"IF(data_pp_pre!FV2479=\"\", \"\", data_pp_pre!FV2479)","v":""},""]
[null,null,null,null,null,null,null,null,null,null,null,null,null,null,null,null,null,null,null,null,null,null,null,null,null,null,null,null,null,null,null,null,null,null,null,null,null,null,null,null,null,null,null,null,null,null,null,null,null,null,null,null,null,null,null,null,null,null,null,null,null,null,null,null,null,null,null,null,null,null,null,null,null,null,null,null,null,null,null,null,null,null,null,null,null,null,null,null,null,null,null,null,null,null,null,null,null,null,null,null,null,null,null,null,null,null,null,null,null,null,null,null,null,null,null,null,null,null,null,null,null,null,null,null,null,null,null,null,null,null,null,null,null,null,null,null,null,null,null,null,null,null,null,null,null,null,null,null,null,null,null,null,null,null,null,null,null,null,null,null,null,null,null,null,null,null,null,null,null,null,null,null,null,null,null,null,null,null,null,{"$f":"IF(data_pp_combined!$C2480=0, \"\", OFFSET(data_pp_post!FT$1, data_pp_combined!$B2480-1, 0))","v":""},{"$f":"IF(data_pp_combined!$C2480=0, \"\", OFFSET(data_pp_post!FU$1, data_pp_combined!$B2480-1, 0))","v":""},{"$f":"IF(data_pp_pre!FV2480=\"\", \"\", data_pp_pre!FV2480)","v":""},""]
[null,null,null,null,null,null,null,null,null,null,null,null,null,null,null,null,null,null,null,null,null,null,null,null,null,null,null,null,null,null,null,null,null,null,null,null,null,null,null,null,null,null,null,null,null,null,null,null,null,null,null,null,null,null,null,null,null,null,null,null,null,null,null,null,null,null,null,null,null,null,null,null,null,null,null,null,null,null,null,null,null,null,null,null,null,null,null,null,null,null,null,null,null,null,null,null,null,null,null,null,null,null,null,null,null,null,null,null,null,null,null,null,null,null,null,null,null,null,null,null,null,null,null,null,null,null,null,null,null,null,null,null,null,null,null,null,null,null,null,null,null,null,null,null,null,null,null,null,null,null,null,null,null,null,null,null,null,null,null,null,null,null,null,null,null,null,null,null,null,null,null,null,null,null,null,null,null,null,null,{"$f":"IF(data_pp_combined!$C2481=0, \"\", OFFSET(data_pp_post!FT$1, data_pp_combined!$B2481-1, 0))","v":""},{"$f":"IF(data_pp_combined!$C2481=0, \"\", OFFSET(data_pp_post!FU$1, data_pp_combined!$B2481-1, 0))","v":""},{"$f":"IF(data_pp_pre!FV2481=\"\", \"\", data_pp_pre!FV2481)","v":""},""]
[null,null,null,null,null,null,null,null,null,null,null,null,null,null,null,null,null,null,null,null,null,null,null,null,null,null,null,null,null,null,null,null,null,null,null,null,null,null,null,null,null,null,null,null,null,null,null,null,null,null,null,null,null,null,null,null,null,null,null,null,null,null,null,null,null,null,null,null,null,null,null,null,null,null,null,null,null,null,null,null,null,null,null,null,null,null,null,null,null,null,null,null,null,null,null,null,null,null,null,null,null,null,null,null,null,null,null,null,null,null,null,null,null,null,null,null,null,null,null,null,null,null,null,null,null,null,null,null,null,null,null,null,null,null,null,null,null,null,null,null,null,null,null,null,null,null,null,null,null,null,null,null,null,null,null,null,null,null,null,null,null,null,null,null,null,null,null,null,null,null,null,null,null,null,null,null,null,null,null,{"$f":"IF(data_pp_combined!$C2482=0, \"\", OFFSET(data_pp_post!FT$1, data_pp_combined!$B2482-1, 0))","v":""},{"$f":"IF(data_pp_combined!$C2482=0, \"\", OFFSET(data_pp_post!FU$1, data_pp_combined!$B2482-1, 0))","v":""},{"$f":"IF(data_pp_pre!FV2482=\"\", \"\", data_pp_pre!FV2482)","v":""},""]
[null,null,null,null,null,null,null,null,null,null,null,null,null,null,null,null,null,null,null,null,null,null,null,null,null,null,null,null,null,null,null,null,null,null,null,null,null,null,null,null,null,null,null,null,null,null,null,null,null,null,null,null,null,null,null,null,null,null,null,null,null,null,null,null,null,null,null,null,null,null,null,null,null,null,null,null,null,null,null,null,null,null,null,null,null,null,null,null,null,null,null,null,null,null,null,null,null,null,null,null,null,null,null,null,null,null,null,null,null,null,null,null,null,null,null,null,null,null,null,null,null,null,null,null,null,null,null,null,null,null,null,null,null,null,null,null,null,null,null,null,null,null,null,null,null,null,null,null,null,null,null,null,null,null,null,null,null,null,null,null,null,null,null,null,null,null,null,null,null,null,null,null,null,null,null,null,null,null,null,{"$f":"IF(data_pp_combined!$C2483=0, \"\", OFFSET(data_pp_post!FT$1, data_pp_combined!$B2483-1, 0))","v":""},{"$f":"IF(data_pp_combined!$C2483=0, \"\", OFFSET(data_pp_post!FU$1, data_pp_combined!$B2483-1, 0))","v":""},{"$f":"IF(data_pp_pre!FV2483=\"\", \"\", data_pp_pre!FV2483)","v":""},""]
[null,null,null,null,null,null,null,null,null,null,null,null,null,null,null,null,null,null,null,null,null,null,null,null,null,null,null,null,null,null,null,null,null,null,null,null,null,null,null,null,null,null,null,null,null,null,null,null,null,null,null,null,null,null,null,null,null,null,null,null,null,null,null,null,null,null,null,null,null,null,null,null,null,null,null,null,null,null,null,null,null,null,null,null,null,null,null,null,null,null,null,null,null,null,null,null,null,null,null,null,null,null,null,null,null,null,null,null,null,null,null,null,null,null,null,null,null,null,null,null,null,null,null,null,null,null,null,null,null,null,null,null,null,null,null,null,null,null,null,null,null,null,null,null,null,null,null,null,null,null,null,null,null,null,null,null,null,null,null,null,null,null,null,null,null,null,null,null,null,null,null,null,null,null,null,null,null,null,null,{"$f":"IF(data_pp_combined!$C2484=0, \"\", OFFSET(data_pp_post!FT$1, data_pp_combined!$B2484-1, 0))","v":""},{"$f":"IF(data_pp_combined!$C2484=0, \"\", OFFSET(data_pp_post!FU$1, data_pp_combined!$B2484-1, 0))","v":""},{"$f":"IF(data_pp_pre!FV2484=\"\", \"\", data_pp_pre!FV2484)","v":""},""]
[null,null,null,null,null,null,null,null,null,null,null,null,null,null,null,null,null,null,null,null,null,null,null,null,null,null,null,null,null,null,null,null,null,null,null,null,null,null,null,null,null,null,null,null,null,null,null,null,null,null,null,null,null,null,null,null,null,null,null,null,null,null,null,null,null,null,null,null,null,null,null,null,null,null,null,null,null,null,null,null,null,null,null,null,null,null,null,null,null,null,null,null,null,null,null,null,null,null,null,null,null,null,null,null,null,null,null,null,null,null,null,null,null,null,null,null,null,null,null,null,null,null,null,null,null,null,null,null,null,null,null,null,null,null,null,null,null,null,null,null,null,null,null,null,null,null,null,null,null,null,null,null,null,null,null,null,null,null,null,null,null,null,null,null,null,null,null,null,null,null,null,null,null,null,null,null,null,null,null,{"$f":"IF(data_pp_combined!$C2485=0, \"\", OFFSET(data_pp_post!FT$1, data_pp_combined!$B2485-1, 0))","v":""},{"$f":"IF(data_pp_combined!$C2485=0, \"\", OFFSET(data_pp_post!FU$1, data_pp_combined!$B2485-1, 0))","v":""},{"$f":"IF(data_pp_pre!FV2485=\"\", \"\", data_pp_pre!FV2485)","v":""},""]
[null,null,null,null,null,null,null,null,null,null,null,null,null,null,null,null,null,null,null,null,null,null,null,null,null,null,null,null,null,null,null,null,null,null,null,null,null,null,null,null,null,null,null,null,null,null,null,null,null,null,null,null,null,null,null,null,null,null,null,null,null,null,null,null,null,null,null,null,null,null,null,null,null,null,null,null,null,null,null,null,null,null,null,null,null,null,null,null,null,null,null,null,null,null,null,null,null,null,null,null,null,null,null,null,null,null,null,null,null,null,null,null,null,null,null,null,null,null,null,null,null,null,null,null,null,null,null,null,null,null,null,null,null,null,null,null,null,null,null,null,null,null,null,null,null,null,null,null,null,null,null,null,null,null,null,null,null,null,null,null,null,null,null,null,null,null,null,null,null,null,null,null,null,null,null,null,null,null,null,{"$f":"IF(data_pp_combined!$C2486=0, \"\", OFFSET(data_pp_post!FT$1, data_pp_combined!$B2486-1, 0))","v":""},{"$f":"IF(data_pp_combined!$C2486=0, \"\", OFFSET(data_pp_post!FU$1, data_pp_combined!$B2486-1, 0))","v":""},{"$f":"IF(data_pp_pre!FV2486=\"\", \"\", data_pp_pre!FV2486)","v":""},""]
[null,null,null,null,null,null,null,null,null,null,null,null,null,null,null,null,null,null,null,null,null,null,null,null,null,null,null,null,null,null,null,null,null,null,null,null,null,null,null,null,null,null,null,null,null,null,null,null,null,null,null,null,null,null,null,null,null,null,null,null,null,null,null,null,null,null,null,null,null,null,null,null,null,null,null,null,null,null,null,null,null,null,null,null,null,null,null,null,null,null,null,null,null,null,null,null,null,null,null,null,null,null,null,null,null,null,null,null,null,null,null,null,null,null,null,null,null,null,null,null,null,null,null,null,null,null,null,null,null,null,null,null,null,null,null,null,null,null,null,null,null,null,null,null,null,null,null,null,null,null,null,null,null,null,null,null,null,null,null,null,null,null,null,null,null,null,null,null,null,null,null,null,null,null,null,null,null,null,null,{"$f":"IF(data_pp_combined!$C2487=0, \"\", OFFSET(data_pp_post!FT$1, data_pp_combined!$B2487-1, 0))","v":""},{"$f":"IF(data_pp_combined!$C2487=0, \"\", OFFSET(data_pp_post!FU$1, data_pp_combined!$B2487-1, 0))","v":""},{"$f":"IF(data_pp_pre!FV2487=\"\", \"\", data_pp_pre!FV2487)","v":""},""]
[null,null,null,null,null,null,null,null,null,null,null,null,null,null,null,null,null,null,null,null,null,null,null,null,null,null,null,null,null,null,null,null,null,null,null,null,null,null,null,null,null,null,null,null,null,null,null,null,null,null,null,null,null,null,null,null,null,null,null,null,null,null,null,null,null,null,null,null,null,null,null,null,null,null,null,null,null,null,null,null,null,null,null,null,null,null,null,null,null,null,null,null,null,null,null,null,null,null,null,null,null,null,null,null,null,null,null,null,null,null,null,null,null,null,null,null,null,null,null,null,null,null,null,null,null,null,null,null,null,null,null,null,null,null,null,null,null,null,null,null,null,null,null,null,null,null,null,null,null,null,null,null,null,null,null,null,null,null,null,null,null,null,null,null,null,null,null,null,null,null,null,null,null,null,null,null,null,null,null,{"$f":"IF(data_pp_combined!$C2488=0, \"\", OFFSET(data_pp_post!FT$1, data_pp_combined!$B2488-1, 0))","v":""},{"$f":"IF(data_pp_combined!$C2488=0, \"\", OFFSET(data_pp_post!FU$1, data_pp_combined!$B2488-1, 0))","v":""},{"$f":"IF(data_pp_pre!FV2488=\"\", \"\", data_pp_pre!FV2488)","v":""},""]
[null,null,null,null,null,null,null,null,null,null,null,null,null,null,null,null,null,null,null,null,null,null,null,null,null,null,null,null,null,null,null,null,null,null,null,null,null,null,null,null,null,null,null,null,null,null,null,null,null,null,null,null,null,null,null,null,null,null,null,null,null,null,null,null,null,null,null,null,null,null,null,null,null,null,null,null,null,null,null,null,null,null,null,null,null,null,null,null,null,null,null,null,null,null,null,null,null,null,null,null,null,null,null,null,null,null,null,null,null,null,null,null,null,null,null,null,null,null,null,null,null,null,null,null,null,null,null,null,null,null,null,null,null,null,null,null,null,null,null,null,null,null,null,null,null,null,null,null,null,null,null,null,null,null,null,null,null,null,null,null,null,null,null,null,null,null,null,null,null,null,null,null,null,null,null,null,null,null,null,{"$f":"IF(data_pp_combined!$C2489=0, \"\", OFFSET(data_pp_post!FT$1, data_pp_combined!$B2489-1, 0))","v":""},{"$f":"IF(data_pp_combined!$C2489=0, \"\", OFFSET(data_pp_post!FU$1, data_pp_combined!$B2489-1, 0))","v":""},{"$f":"IF(data_pp_pre!FV2489=\"\", \"\", data_pp_pre!FV2489)","v":""},""]
[null,null,null,null,null,null,null,null,null,null,null,null,null,null,null,null,null,null,null,null,null,null,null,null,null,null,null,null,null,null,null,null,null,null,null,null,null,null,null,null,null,null,null,null,null,null,null,null,null,null,null,null,null,null,null,null,null,null,null,null,null,null,null,null,null,null,null,null,null,null,null,null,null,null,null,null,null,null,null,null,null,null,null,null,null,null,null,null,null,null,null,null,null,null,null,null,null,null,null,null,null,null,null,null,null,null,null,null,null,null,null,null,null,null,null,null,null,null,null,null,null,null,null,null,null,null,null,null,null,null,null,null,null,null,null,null,null,null,null,null,null,null,null,null,null,null,null,null,null,null,null,null,null,null,null,null,null,null,null,null,null,null,null,null,null,null,null,null,null,null,null,null,null,null,null,null,null,null,null,{"$f":"IF(data_pp_combined!$C2490=0, \"\", OFFSET(data_pp_post!FT$1, data_pp_combined!$B2490-1, 0))","v":""},{"$f":"IF(data_pp_combined!$C2490=0, \"\", OFFSET(data_pp_post!FU$1, data_pp_combined!$B2490-1, 0))","v":""},{"$f":"IF(data_pp_pre!FV2490=\"\", \"\", data_pp_pre!FV2490)","v":""},""]
[null,null,null,null,null,null,null,null,null,null,null,null,null,null,null,null,null,null,null,null,null,null,null,null,null,null,null,null,null,null,null,null,null,null,null,null,null,null,null,null,null,null,null,null,null,null,null,null,null,null,null,null,null,null,null,null,null,null,null,null,null,null,null,null,null,null,null,null,null,null,null,null,null,null,null,null,null,null,null,null,null,null,null,null,null,null,null,null,null,null,null,null,null,null,null,null,null,null,null,null,null,null,null,null,null,null,null,null,null,null,null,null,null,null,null,null,null,null,null,null,null,null,null,null,null,null,null,null,null,null,null,null,null,null,null,null,null,null,null,null,null,null,null,null,null,null,null,null,null,null,null,null,null,null,null,null,null,null,null,null,null,null,null,null,null,null,null,null,null,null,null,null,null,null,null,null,null,null,null,{"$f":"IF(data_pp_combined!$C2491=0, \"\", OFFSET(data_pp_post!FT$1, data_pp_combined!$B2491-1, 0))","v":""},{"$f":"IF(data_pp_combined!$C2491=0, \"\", OFFSET(data_pp_post!FU$1, data_pp_combined!$B2491-1, 0))","v":""},{"$f":"IF(data_pp_pre!FV2491=\"\", \"\", data_pp_pre!FV2491)","v":""},""]
[null,null,null,null,null,null,null,null,null,null,null,null,null,null,null,null,null,null,null,null,null,null,null,null,null,null,null,null,null,null,null,null,null,null,null,null,null,null,null,null,null,null,null,null,null,null,null,null,null,null,null,null,null,null,null,null,null,null,null,null,null,null,null,null,null,null,null,null,null,null,null,null,null,null,null,null,null,null,null,null,null,null,null,null,null,null,null,null,null,null,null,null,null,null,null,null,null,null,null,null,null,null,null,null,null,null,null,null,null,null,null,null,null,null,null,null,null,null,null,null,null,null,null,null,null,null,null,null,null,null,null,null,null,null,null,null,null,null,null,null,null,null,null,null,null,null,null,null,null,null,null,null,null,null,null,null,null,null,null,null,null,null,null,null,null,null,null,null,null,null,null,null,null,null,null,null,null,null,null,{"$f":"IF(data_pp_combined!$C2492=0, \"\", OFFSET(data_pp_post!FT$1, data_pp_combined!$B2492-1, 0))","v":""},{"$f":"IF(data_pp_combined!$C2492=0, \"\", OFFSET(data_pp_post!FU$1, data_pp_combined!$B2492-1, 0))","v":""},{"$f":"IF(data_pp_pre!FV2492=\"\", \"\", data_pp_pre!FV2492)","v":""},""]
[null,null,null,null,null,null,null,null,null,null,null,null,null,null,null,null,null,null,null,null,null,null,null,null,null,null,null,null,null,null,null,null,null,null,null,null,null,null,null,null,null,null,null,null,null,null,null,null,null,null,null,null,null,null,null,null,null,null,null,null,null,null,null,null,null,null,null,null,null,null,null,null,null,null,null,null,null,null,null,null,null,null,null,null,null,null,null,null,null,null,null,null,null,null,null,null,null,null,null,null,null,null,null,null,null,null,null,null,null,null,null,null,null,null,null,null,null,null,null,null,null,null,null,null,null,null,null,null,null,null,null,null,null,null,null,null,null,null,null,null,null,null,null,null,null,null,null,null,null,null,null,null,null,null,null,null,null,null,null,null,null,null,null,null,null,null,null,null,null,null,null,null,null,null,null,null,null,null,null,{"$f":"IF(data_pp_combined!$C2493=0, \"\", OFFSET(data_pp_post!FT$1, data_pp_combined!$B2493-1, 0))","v":""},{"$f":"IF(data_pp_combined!$C2493=0, \"\", OFFSET(data_pp_post!FU$1, data_pp_combined!$B2493-1, 0))","v":""},{"$f":"IF(data_pp_pre!FV2493=\"\", \"\", data_pp_pre!FV2493)","v":""},""]
[null,null,null,null,null,null,null,null,null,null,null,null,null,null,null,null,null,null,null,null,null,null,null,null,null,null,null,null,null,null,null,null,null,null,null,null,null,null,null,null,null,null,null,null,null,null,null,null,null,null,null,null,null,null,null,null,null,null,null,null,null,null,null,null,null,null,null,null,null,null,null,null,null,null,null,null,null,null,null,null,null,null,null,null,null,null,null,null,null,null,null,null,null,null,null,null,null,null,null,null,null,null,null,null,null,null,null,null,null,null,null,null,null,null,null,null,null,null,null,null,null,null,null,null,null,null,null,null,null,null,null,null,null,null,null,null,null,null,null,null,null,null,null,null,null,null,null,null,null,null,null,null,null,null,null,null,null,null,null,null,null,null,null,null,null,null,null,null,null,null,null,null,null,null,null,null,null,null,null,{"$f":"IF(data_pp_combined!$C2494=0, \"\", OFFSET(data_pp_post!FT$1, data_pp_combined!$B2494-1, 0))","v":""},{"$f":"IF(data_pp_combined!$C2494=0, \"\", OFFSET(data_pp_post!FU$1, data_pp_combined!$B2494-1, 0))","v":""},{"$f":"IF(data_pp_pre!FV2494=\"\", \"\", data_pp_pre!FV2494)","v":""},""]
[null,null,null,null,null,null,null,null,null,null,null,null,null,null,null,null,null,null,null,null,null,null,null,null,null,null,null,null,null,null,null,null,null,null,null,null,null,null,null,null,null,null,null,null,null,null,null,null,null,null,null,null,null,null,null,null,null,null,null,null,null,null,null,null,null,null,null,null,null,null,null,null,null,null,null,null,null,null,null,null,null,null,null,null,null,null,null,null,null,null,null,null,null,null,null,null,null,null,null,null,null,null,null,null,null,null,null,null,null,null,null,null,null,null,null,null,null,null,null,null,null,null,null,null,null,null,null,null,null,null,null,null,null,null,null,null,null,null,null,null,null,null,null,null,null,null,null,null,null,null,null,null,null,null,null,null,null,null,null,null,null,null,null,null,null,null,null,null,null,null,null,null,null,null,null,null,null,null,null,{"$f":"IF(data_pp_combined!$C2495=0, \"\", OFFSET(data_pp_post!FT$1, data_pp_combined!$B2495-1, 0))","v":""},{"$f":"IF(data_pp_combined!$C2495=0, \"\", OFFSET(data_pp_post!FU$1, data_pp_combined!$B2495-1, 0))","v":""},{"$f":"IF(data_pp_pre!FV2495=\"\", \"\", data_pp_pre!FV2495)","v":""},""]
[null,null,null,null,null,null,null,null,null,null,null,null,null,null,null,null,null,null,null,null,null,null,null,null,null,null,null,null,null,null,null,null,null,null,null,null,null,null,null,null,null,null,null,null,null,null,null,null,null,null,null,null,null,null,null,null,null,null,null,null,null,null,null,null,null,null,null,null,null,null,null,null,null,null,null,null,null,null,null,null,null,null,null,null,null,null,null,null,null,null,null,null,null,null,null,null,null,null,null,null,null,null,null,null,null,null,null,null,null,null,null,null,null,null,null,null,null,null,null,null,null,null,null,null,null,null,null,null,null,null,null,null,null,null,null,null,null,null,null,null,null,null,null,null,null,null,null,null,null,null,null,null,null,null,null,null,null,null,null,null,null,null,null,null,null,null,null,null,null,null,null,null,null,null,null,null,null,null,null,{"$f":"IF(data_pp_combined!$C2496=0, \"\", OFFSET(data_pp_post!FT$1, data_pp_combined!$B2496-1, 0))","v":""},{"$f":"IF(data_pp_combined!$C2496=0, \"\", OFFSET(data_pp_post!FU$1, data_pp_combined!$B2496-1, 0))","v":""},{"$f":"IF(data_pp_pre!FV2496=\"\", \"\", data_pp_pre!FV2496)","v":""},""]
[null,null,null,null,null,null,null,null,null,null,null,null,null,null,null,null,null,null,null,null,null,null,null,null,null,null,null,null,null,null,null,null,null,null,null,null,null,null,null,null,null,null,null,null,null,null,null,null,null,null,null,null,null,null,null,null,null,null,null,null,null,null,null,null,null,null,null,null,null,null,null,null,null,null,null,null,null,null,null,null,null,null,null,null,null,null,null,null,null,null,null,null,null,null,null,null,null,null,null,null,null,null,null,null,null,null,null,null,null,null,null,null,null,null,null,null,null,null,null,null,null,null,null,null,null,null,null,null,null,null,null,null,null,null,null,null,null,null,null,null,null,null,null,null,null,null,null,null,null,null,null,null,null,null,null,null,null,null,null,null,null,null,null,null,null,null,null,null,null,null,null,null,null,null,null,null,null,null,null,{"$f":"IF(data_pp_combined!$C2497=0, \"\", OFFSET(data_pp_post!FT$1, data_pp_combined!$B2497-1, 0))","v":""},{"$f":"IF(data_pp_combined!$C2497=0, \"\", OFFSET(data_pp_post!FU$1, data_pp_combined!$B2497-1, 0))","v":""},{"$f":"IF(data_pp_pre!FV2497=\"\", \"\", data_pp_pre!FV2497)","v":""},""]
[null,null,null,null,null,null,null,null,null,null,null,null,null,null,null,null,null,null,null,null,null,null,null,null,null,null,null,null,null,null,null,null,null,null,null,null,null,null,null,null,null,null,null,null,null,null,null,null,null,null,null,null,null,null,null,null,null,null,null,null,null,null,null,null,null,null,null,null,null,null,null,null,null,null,null,null,null,null,null,null,null,null,null,null,null,null,null,null,null,null,null,null,null,null,null,null,null,null,null,null,null,null,null,null,null,null,null,null,null,null,null,null,null,null,null,null,null,null,null,null,null,null,null,null,null,null,null,null,null,null,null,null,null,null,null,null,null,null,null,null,null,null,null,null,null,null,null,null,null,null,null,null,null,null,null,null,null,null,null,null,null,null,null,null,null,null,null,null,null,null,null,null,null,null,null,null,null,null,null,{"$f":"IF(data_pp_combined!$C2498=0, \"\", OFFSET(data_pp_post!FT$1, data_pp_combined!$B2498-1, 0))","v":""},{"$f":"IF(data_pp_combined!$C2498=0, \"\", OFFSET(data_pp_post!FU$1, data_pp_combined!$B2498-1, 0))","v":""},{"$f":"IF(data_pp_pre!FV2498=\"\", \"\", data_pp_pre!FV2498)","v":""},""]
[null,null,null,null,null,null,null,null,null,null,null,null,null,null,null,null,null,null,null,null,null,null,null,null,null,null,null,null,null,null,null,null,null,null,null,null,null,null,null,null,null,null,null,null,null,null,null,null,null,null,null,null,null,null,null,null,null,null,null,null,null,null,null,null,null,null,null,null,null,null,null,null,null,null,null,null,null,null,null,null,null,null,null,null,null,null,null,null,null,null,null,null,null,null,null,null,null,null,null,null,null,null,null,null,null,null,null,null,null,null,null,null,null,null,null,null,null,null,null,null,null,null,null,null,null,null,null,null,null,null,null,null,null,null,null,null,null,null,null,null,null,null,null,null,null,null,null,null,null,null,null,null,null,null,null,null,null,null,null,null,null,null,null,null,null,null,null,null,null,null,null,null,null,null,null,null,null,null,null,{"$f":"IF(data_pp_combined!$C2499=0, \"\", OFFSET(data_pp_post!FT$1, data_pp_combined!$B2499-1, 0))","v":""},{"$f":"IF(data_pp_combined!$C2499=0, \"\", OFFSET(data_pp_post!FU$1, data_pp_combined!$B2499-1, 0))","v":""},{"$f":"IF(data_pp_pre!FV2499=\"\", \"\", data_pp_pre!FV2499)","v":""},{"$f":"FZ2499","v":""}]
[null,null,null,null,null,null,null,null,null,null,null,null,null,null,null,null,null,null,null,null,null,null,null,null,null,null,null,null,null,null,null,null,null,null,null,null,null,null,null,null,null,null,null,null,null,null,null,null,null,null,null,null,null,null,null,null,null,null,null,null,null,null,null,null,null,null,null,null,null,null,null,null,null,null,null,null,null,null,null,null,null,null,null,null,null,null,null,null,null,null,null,null,null,null,null,null,null,null,null,null,null,null,null,null,null,null,null,null,null,null,null,null,null,null,null,null,null,null,null,null,null,null,null,null,null,null,null,null,null,null,null,null,null,null,null,null,null,null,null,null,null,null,null,null,null,null,null,null,null,null,null,null,null,null,null,null,null,null,null,null,null,null,null,null,null,null,null,null,null,null,null,null,null,null,null,null,null,null,null,{"$f":"IF(data_pp_combined!$C2500=0, \"\", OFFSET(data_pp_post!FT$1, data_pp_combined!$B2500-1, 0))","v":""},{"$f":"IF(data_pp_combined!$C2500=0, \"\", OFFSET(data_pp_post!FU$1, data_pp_combined!$B2500-1, 0))","v":""},{"$f":"IF(data_pp_pre!FV2500=\"\", \"\", data_pp_pre!FV2500)","v":""},""]
[null,null,null,null,null,null,null,null,null,null,null,null,null,null,null,null,null,null,null,null,null,null,null,null,null,null,null,null,null,null,null,null,null,null,null,null,null,null,null,null,null,null,null,null,null,null,null,null,null,null,null,null,null,null,null,null,null,null,null,null,null,null,null,null,null,null,null,null,null,null,null,null,null,null,null,null,null,null,null,null,null,null,null,null,null,null,null,null,null,null,null,null,null,null,null,null,null,null,null,null,null,null,null,null,null,null,null,null,null,null,null,null,null,null,null,null,null,null,null,null,null,null,null,null,null,null,null,null,null,null,null,null,null,null,null,null,null,null,null,null,null,null,null,null,null,null,null,null,null,null,null,null,null,null,null,null,null,null,null,null,null,null,null,null,null,null,null,null,null,null,null,null,null,null,null,null,null,null,null,{"$f":"IF(data_pp_combined!$C2501=0, \"\", OFFSET(data_pp_post!FT$1, data_pp_combined!$B2501-1, 0))","v":""},{"$f":"IF(data_pp_combined!$C2501=0, \"\", OFFSET(data_pp_post!FU$1, data_pp_combined!$B2501-1, 0))","v":""},{"$f":"IF(data_pp_pre!FV2501=\"\", \"\", data_pp_pre!FV2501)","v":""},""]

{"sheet":"4b_pp_post_misc","index":28,"n_rows":115,"n_cols":5,"rows_kept":115,"cut":false,"hidden":true,"merged":[]}
[{"$f":"'Step 4B PP Post'!#REF!","v":{"$error":"#REF!"}},{"$f":"'Step 4B PP Post'!#REF!","v":{"$error":"#REF!"}},{"$f":"IF(AND(A1=1, B1=0), 1, 0)","v":{"$error":"#REF!"}},null,{"$f":"IF(SUM(C:C)=0, 0, 1)","v":{"$error":"#REF!"}}]
[{"$f":"'Step 4B PP Post'!#REF!","v":{"$error":"#REF!"}},{"$f":"'Step 4B PP Post'!#REF!","v":{"$error":"#REF!"}},{"$f":"IF(AND(A2=1, B2=0), 1, 0)","v":{"$error":"#REF!"}}]
[{"$f":"'Step 4B PP Post'!#REF!","v":{"$error":"#REF!"}},{"$f":"'Step 4B PP Post'!#REF!","v":{"$error":"#REF!"}},{"$error":"#REF!"}]
[{"$f":"'Step 4B PP Post'!#REF!","v":{"$error":"#REF!"}},{"$f":"'Step 4B PP Post'!#REF!","v":{"$error":"#REF!"}},{"$error":"#REF!"}]
[{"$f":"'Step 4B PP Post'!#REF!","v":{"$error":"#REF!"}},{"$f":"'Step 4B PP Post'!#REF!","v":{"$error":"#REF!"}},{"$error":"#REF!"}]
[{"$f":"'Step 4B PP Post'!#REF!","v":{"$error":"#REF!"}},{"$f":"'Step 4B PP Post'!#REF!","v":{"$error":"#REF!"}},{"$error":"#REF!"}]
[{"$f":"'Step 4B PP Post'!#REF!","v":{"$error":"#REF!"}},{"$f":"'Step 4B PP Post'!#REF!","v":{"$error":"#REF!"}},{"$error":"#REF!"}]
[{"$f":"'Step 4B PP Post'!#REF!","v":{"$error":"#REF!"}},{"$f":"'Step 4B PP Post'!#REF!","v":{"$error":"#REF!"}},{"$error":"#REF!"}]
[{"$f":"'Step 4B PP Post'!#REF!","v":{"$error":"#REF!"}},{"$f":"'Step 4B PP Post'!#REF!","v":{"$error":"#REF!"}},{"$error":"#REF!"}]
[{"$f":"'Step 4B PP Post'!#REF!","v":{"$error":"#REF!"}},{"$f":"'Step 4B PP Post'!#REF!","v":{"$error":"#REF!"}},{"$error":"#REF!"}]
[{"$f":"'Step 4B PP Post'!#REF!","v":{"$error":"#REF!"}},{"$f":"'Step 4B PP Post'!#REF!","v":{"$error":"#REF!"}},{"$error":"#REF!"}]
[{"$f":"'Step 4B PP Post'!#REF!","v":{"$error":"#REF!"}},{"$f":"'Step 4B PP Post'!#REF!","v":{"$error":"#REF!"}},{"$error":"#REF!"}]
[{"$f":"'Step 4B PP Post'!#REF!","v":{"$error":"#REF!"}},{"$f":"'Step 4B PP Post'!#REF!","v":{"$error":"#REF!"}},{"$error":"#REF!"}]
[{"$f":"'Step 4B PP Post'!#REF!","v":{"$error":"#REF!"}},{"$f":"'Step 4B PP Post'!#REF!","v":{"$error":"#REF!"}},{"$error":"#REF!"}]
[{"$f":"'Step 4B PP Post'!#REF!","v":{"$error":"#REF!"}},{"$f":"'Step 4B PP Post'!#REF!","v":{"$error":"#REF!"}},{"$error":"#REF!"}]
[{"$f":"'Step 4B PP Post'!#REF!","v":{"$error":"#REF!"}},{"$f":"'Step 4B PP Post'!#REF!","v":{"$error":"#REF!"}},{"$error":"#REF!"}]
[{"$f":"'Step 4B PP Post'!#REF!","v":{"$error":"#REF!"}},{"$f":"'Step 4B PP Post'!#REF!","v":{"$error":"#REF!"}},{"$error":"#REF!"}]
[{"$f":"'Step 4B PP Post'!#REF!","v":{"$error":"#REF!"}},{"$f":"'Step 4B PP Post'!#REF!","v":{"$error":"#REF!"}},{"$error":"#REF!"}]
[{"$f":"'Step 4B PP Post'!#REF!","v":{"$error":"#REF!"}},{"$f":"'Step 4B PP Post'!#REF!","v":{"$error":"#REF!"}},{"$error":"#REF!"}]
[{"$f":"'Step 4B PP Post'!#REF!","v":{"$error":"#REF!"}},{"$f":"'Step 4B PP Post'!#REF!","v":{"$error":"#REF!"}},{"$error":"#REF!"}]
[{"$f":"'Step 4B PP Post'!#REF!","v":{"$error":"#REF!"}},{"$f":"'Step 4B PP Post'!#REF!","v":{"$error":"#REF!"}},{"$error":"#REF!"}]
[{"$f":"'Step 4B PP Post'!#REF!","v":{"$error":"#REF!"}},{"$f":"'Step 4B PP Post'!#REF!","v":{"$error":"#REF!"}},{"$error":"#REF!"}]
[{"$f":"'Step 4B PP Post'!#REF!","v":{"$error":"#REF!"}},{"$f":"'Step 4B PP Post'!#REF!","v":{"$error":"#REF!"}},{"$error":"#REF!"}]
[{"$f":"'Step 4B PP Post'!#REF!","v":{"$error":"#REF!"}},{"$f":"'Step 4B PP Post'!#REF!","v":{"$error":"#REF!"}},{"$error":"#REF!"}]
[{"$f":"'Step 4B PP Post'!#REF!","v":{"$error":"#REF!"}},{"$f":"'Step 4B PP Post'!#REF!","v":{"$error":"#REF!"}},{"$error":"#REF!"}]
[{"$f":"'Step 4B PP Post'!#REF!","v":{"$error":"#REF!"}},{"$f":"'Step 4B PP Post'!#REF!","v":{"$error":"#REF!"}},{"$error":"#REF!"}]
[{"$f":"'Step 4B PP Post'!#REF!","v":{"$error":"#REF!"}},{"$f":"'Step 4B PP Post'!#REF!","v":{"$error":"#REF!"}},{"$error":"#REF!"}]
[{"$f":"'Step 4B PP Post'!#REF!","v":{"$error":"#REF!"}},{"$f":"'Step 4B PP Post'!#REF!","v":{"$error":"#REF!"}},{"$error":"#REF!"}]
[{"$f":"'Step 4B PP Post'!#REF!","v":{"$error":"#REF!"}},{"$f":"'Step 4B PP Post'!#REF!","v":{"$error":"#REF!"}},{"$error":"#REF!"}]
[{"$f":"'Step 4B PP Post'!#REF!","v":{"$error":"#REF!"}},{"$f":"'Step 4B PP Post'!#REF!","v":{"$error":"#REF!"}},{"$error":"#REF!"}]
[{"$f":"'Step 4B PP Post'!#REF!","v":{"$error":"#REF!"}},{"$f":"'Step 4B PP Post'!#REF!","v":{"$error":"#REF!"}},{"$error":"#REF!"}]
[{"$f":"'Step 4B PP Post'!#REF!","v":{"$error":"#REF!"}},{"$f":"'Step 4B PP Post'!#REF!","v":{"$error":"#REF!"}},{"$error":"#REF!"}]
[{"$f":"'Step 4B PP Post'!#REF!","v":{"$error":"#REF!"}},{"$f":"'Step 4B PP Post'!#REF!","v":{"$error":"#REF!"}},{"$error":"#REF!"}]
[{"$f":"'Step 4B PP Post'!#REF!","v":{"$error":"#REF!"}},{"$f":"'Step 4B PP Post'!#REF!","v":{"$error":"#REF!"}},{"$error":"#REF!"}]
[{"$f":"'Step 4B PP Post'!#REF!","v":{"$error":"#REF!"}},{"$f":"'Step 4B PP Post'!#REF!","v":{"$error":"#REF!"}},{"$error":"#REF!"}]
[{"$f":"'Step 4B PP Post'!#REF!","v":{"$error":"#REF!"}},{"$f":"'Step 4B PP Post'!#REF!","v":{"$error":"#REF!"}},{"$error":"#REF!"}]
[{"$f":"'Step 4B PP Post'!#REF!","v":{"$error":"#REF!"}},{"$f":"'Step 4B PP Post'!#REF!","v":{"$error":"#REF!"}},{"$error":"#REF!"}]
[{"$f":"'Step 4B PP Post'!#REF!","v":{"$error":"#REF!"}},{"$f":"'Step 4B PP Post'!#REF!","v":{"$error":"#REF!"}},{"$error":"#REF!"}]
[{"$f":"'Step 4B PP Post'!#REF!","v":{"$error":"#REF!"}},{"$f":"'Step 4B PP Post'!#REF!","v":{"$error":"#REF!"}},{"$error":"#REF!"}]
[{"$f":"'Step 4B PP Post'!#REF!","v":{"$error":"#REF!"}},{"$f":"'Step 4B PP Post'!#REF!","v":{"$error":"#REF!"}},{"$error":"#REF!"}]
[{"$f":"'Step 4B PP Post'!#REF!","v":{"$error":"#REF!"}},{"$f":"'Step 4B PP Post'!#REF!","v":{"$error":"#REF!"}},{"$error":"#REF!"}]
[{"$f":"'Step 4B PP Post'!#REF!","v":{"$error":"#REF!"}},{"$f":"'Step 4B PP Post'!#REF!","v":{"$error":"#REF!"}},{"$error":"#REF!"}]
[{"$f":"'Step 4B PP Post'!#REF!","v":{"$error":"#REF!"}},{"$f":"'Step 4B PP Post'!#REF!","v":{"$error":"#REF!"}},{"$error":"#REF!"}]
[{"$f":"'Step 4B PP Post'!#REF!","v":{"$error":"#REF!"}},{"$f":"'Step 4B PP Post'!#REF!","v":{"$error":"#REF!"}},{"$error":"#REF!"}]
[{"$f":"'Step 4B PP Post'!#REF!","v":{"$error":"#REF!"}},{"$f":"'Step 4B PP Post'!#REF!","v":{"$error":"#REF!"}},{"$error":"#REF!"}]
[{"$f":"'Step 4B PP Post'!#REF!","v":{"$error":"#REF!"}},{"$f":"'Step 4B PP Post'!#REF!","v":{"$error":"#REF!"}},{"$error":"#REF!"}]
[{"$f":"'Step 4B PP Post'!#REF!","v":{"$error":"#REF!"}},{"$f":"'Step 4B PP Post'!#REF!","v":{"$error":"#REF!"}},{"$error":"#REF!"}]
[{"$f":"'Step 4B PP Post'!#REF!","v":{"$error":"#REF!"}},{"$f":"'Step 4B PP Post'!#REF!","v":{"$error":"#REF!"}},{"$error":"#REF!"}]
[{"$f":"'Step 4B PP Post'!#REF!","v":{"$error":"#REF!"}},{"$f":"'Step 4B PP Post'!#REF!","v":{"$error":"#REF!"}},{"$error":"#REF!"}]
[{"$f":"'Step 4B PP Post'!#REF!","v":{"$error":"#REF!"}},{"$f":"'Step 4B PP Post'!#REF!","v":{"$error":"#REF!"}},{"$error":"#REF!"}]
[{"$f":"'Step 4B PP Post'!#REF!","v":{"$error":"#REF!"}},{"$f":"'Step 4B PP Post'!#REF!","v":{"$error":"#REF!"}},{"$error":"#REF!"}]
[{"$f":"'Step 4B PP Post'!#REF!","v":{"$error":"#REF!"}},{"$f":"'Step 4B PP Post'!#REF!","v":{"$error":"#REF!"}},{"$error":"#REF!"}]
[{"$f":"'Step 4B PP Post'!#REF!","v":{"$error":"#REF!"}},{"$f":"'Step 4B PP Post'!#REF!","v":{"$error":"#REF!"}},{"$error":"#REF!"}]
[{"$f":"'Step 4B PP Post'!#REF!","v":{"$error":"#REF!"}},{"$f":"'Step 4B PP Post'!#REF!","v":{"$error":"#REF!"}},{"$error":"#REF!"}]
[{"$f":"'Step 4B PP Post'!#REF!","v":{"$error":"#REF!"}},{"$f":"'Step 4B PP Post'!#REF!","v":{"$error":"#REF!"}},{"$error":"#REF!"}]
[{"$f":"'Step 4B PP Post'!#REF!","v":{"$error":"#REF!"}},{"$f":"'Step 4B PP Post'!#REF!","v":{"$error":"#REF!"}},{"$error":"#REF!"}]
[{"$f":"'Step 4B PP Post'!#REF!","v":{"$error":"#REF!"}},{"$f":"'Step 4B PP Post'!#REF!","v":{"$error":"#REF!"}},{"$error":"#REF!"}]
[{"$f":"'Step 4B PP Post'!#REF!","v":{"$error":"#REF!"}},{"$f":"'Step 4B PP Post'!#REF!","v":{"$error":"#REF!"}},{"$error":"#REF!"}]
[{"$f":"'Step 4B PP Post'!#REF!","v":{"$error":"#REF!"}},{"$f":"'Step 4B PP Post'!#REF!","v":{"$error":"#REF!"}},{"$error":"#REF!"}]
[{"$f":"'Step 4B PP Post'!#REF!","v":{"$error":"#REF!"}},{"$f":"'Step 4B PP Post'!#REF!","v":{"$error":"#REF!"}},{"$error":"#REF!"}]
[{"$f":"'Step 4B PP Post'!#REF!","v":{"$error":"#REF!"}},{"$f":"'Step 4B PP Post'!#REF!","v":{"$error":"#REF!"}},{"$error":"#REF!"}]
[{"$f":"'Step 4B PP Post'!#REF!","v":{"$error":"#REF!"}},{"$f":"'Step 4B PP Post'!#REF!","v":{"$error":"#REF!"}},{"$error":"#REF!"}]
[{"$f":"'Step 4B PP Post'!#REF!","v":{"$error":"#REF!"}},{"$f":"'Step 4B PP Post'!#REF!","v":{"$error":"#REF!"}},{"$error":"#REF!"}]
[{"$f":"'Step 4B PP Post'!#REF!","v":{"$error":"#REF!"}},{"$f":"'Step 4B PP Post'!#REF!","v":{"$error":"#REF!"}},{"$error":"#REF!"}]
[{"$f":"'Step 4B PP Post'!#REF!","v":{"$error":"#REF!"}},{"$f":"'Step 4B PP Post'!#REF!","v":{"$error":"#REF!"}},{"$error":"#REF!"}]
[{"$f":"'Step 4B PP Post'!#REF!","v":{"$error":"#REF!"}},{"$f":"'Step 4B PP Post'!#REF!","v":{"$error":"#REF!"}},{"$f":"IF(AND(A66=1, B66=0), 1, 0)","v":{"$error":"#REF!"}}]
[{"$f":"'Step 4B PP Post'!#REF!","v":{"$error":"#REF!"}},{"$f":"'Step 4B PP Post'!#REF!","v":{"$error":"#REF!"}},{"$error":"#REF!"}]
[{"$f":"'Step 4B PP Post'!#REF!","v":{"$error":"#REF!"}},{"$f":"'Step 4B PP Post'!#REF!","v":{"$error":"#REF!"}},{"$error":"#REF!"}]
[{"$f":"'Step 4B PP Post'!#REF!","v":{"$error":"#REF!"}},{"$f":"'Step 4B PP Post'!#REF!","v":{"$error":"#REF!"}},{"$error":"#REF!"}]
[{"$f":"'Step 4B PP Post'!#REF!","v":{"$error":"#REF!"}},{"$f":"'Step 4B PP Post'!#REF!","v":{"$error":"#REF!"}},{"$error":"#REF!"}]
[{"$f":"'Step 4B PP Post'!#REF!","v":{"$error":"#REF!"}},{"$f":"'Step 4B PP Post'!#REF!","v":{"$error":"#REF!"}},{"$error":"#REF!"}]
[{"$f":"'Step 4B PP Post'!#REF!","v":{"$error":"#REF!"}},{"$f":"'Step 4B PP Post'!#REF!","v":{"$error":"#REF!"}},{"$error":"#REF!"}]
[{"$f":"'Step 4B PP Post'!#REF!","v":{"$error":"#REF!"}},{"$f":"'Step 4B PP Post'!#REF!","v":{"$error":"#REF!"}},{"$error":"#REF!"}]
[{"$f":"'Step 4B PP Post'!#REF!","v":{"$error":"#REF!"}},{"$f":"'Step 4B PP Post'!#REF!","v":{"$error":"#REF!"}},{"$error":"#REF!"}]
[{"$f":"'Step 4B PP Post'!#REF!","v":{"$error":"#REF!"}},{"$f":"'Step 4B PP Post'!#REF!","v":{"$error":"#REF!"}},{"$error":"#REF!"}]
[{"$f":"'Step 4B PP Post'!#REF!","v":{"$error":"#REF!"}},{"$f":"'Step 4B PP Post'!#REF!","v":{"$error":"#REF!"}},{"$error":"#REF!"}]
[{"$f":"'Step 4B PP Post'!#REF!","v":{"$error":"#REF!"}},{"$f":"'Step 4B PP Post'!#REF!","v":{"$error":"#REF!"}},{"$error":"#REF!"}]
[{"$f":"'Step 4B PP Post'!#REF!","v":{"$error":"#REF!"}},{"$f":"'Step 4B PP Post'!#REF!","v":{"$error":"#REF!"}},{"$error":"#REF!"}]
[{"$f":"'Step 4B PP Post'!#REF!","v":{"$error":"#REF!"}},{"$f":"'Step 4B PP Post'!#REF!","v":{"$error":"#REF!"}},{"$error":"#REF!"}]
[{"$f":"'Step 4B PP Post'!#REF!","v":{"$error":"#REF!"}},{"$f":"'Step 4B PP Post'!#REF!","v":{"$error":"#REF!"}},{"$error":"#REF!"}]
[{"$f":"'Step 4B PP Post'!#REF!","v":{"$error":"#REF!"}},{"$f":"'Step 4B PP Post'!#REF!","v":{"$error":"#REF!"}},{"$error":"#REF!"}]
[{"$f":"'Step 4B PP Post'!#REF!","v":{"$error":"#REF!"}},{"$f":"'Step 4B PP Post'!#REF!","v":{"$error":"#REF!"}},{"$error":"#REF!"}]
[{"$f":"'Step 4B PP Post'!#REF!","v":{"$error":"#REF!"}},{"$f":"'Step 4B PP Post'!#REF!","v":{"$error":"#REF!"}},{"$error":"#REF!"}]
[{"$f":"'Step 4B PP Post'!#REF!","v":{"$error":"#REF!"}},{"$f":"'Step 4B PP Post'!#REF!","v":{"$error":"#REF!"}},{"$error":"#REF!"}]
[{"$f":"'Step 4B PP Post'!#REF!","v":{"$error":"#REF!"}},{"$f":"'Step 4B PP Post'!#REF!","v":{"$error":"#REF!"}},{"$error":"#REF!"}]
[{"$f":"'Step 4B PP Post'!#REF!","v":{"$error":"#REF!"}},{"$f":"'Step 4B PP Post'!#REF!","v":{"$error":"#REF!"}},{"$error":"#REF!"}]
[{"$f":"'Step 4B PP Post'!#REF!","v":{"$error":"#REF!"}},{"$f":"'Step 4B PP Post'!#REF!","v":{"$error":"#REF!"}},{"$error":"#REF!"}]
[{"$f":"'Step 4B PP Post'!#REF!","v":{"$error":"#REF!"}},{"$f":"'Step 4B PP Post'!#REF!","v":{"$error":"#REF!"}},{"$error":"#REF!"}]
[{"$f":"'Step 4B PP Post'!#REF!","v":{"$error":"#REF!"}},{"$f":"'Step 4B PP Post'!#REF!","v":{"$error":"#REF!"}},{"$error":"#REF!"}]
[{"$f":"'Step 4B PP Post'!#REF!","v":{"$error":"#REF!"}},{"$f":"'Step 4B PP Post'!#REF!","v":{"$error":"#REF!"}},{"$error":"#REF!"}]
[{"$f":"'Step 4B PP Post'!#REF!","v":{"$error":"#REF!"}},{"$f":"'Step 4B PP Post'!#REF!","v":{"$error":"#REF!"}},{"$error":"#REF!"}]
[{"$f":"'Step 4B PP Post'!#REF!","v":{"$error":"#REF!"}},{"$f":"'Step 4B PP Post'!#REF!","v":{"$error":"#REF!"}},{"$error":"#REF!"}]
[{"$f":"'Step 4B PP Post'!#REF!","v":{"$error":"#REF!"}},{"$f":"'Step 4B PP Post'!#REF!","v":{"$error":"#REF!"}},{"$error":"#REF!"}]
[{"$f":"'Step 4B PP Post'!#REF!","v":{"$error":"#REF!"}},{"$f":"'Step 4B PP Post'!#REF!","v":{"$error":"#REF!"}},{"$error":"#REF!"}]
[{"$f":"'Step 4B PP Post'!#REF!","v":{"$error":"#REF!"}},{"$f":"'Step 4B PP Post'!#REF!","v":{"$error":"#REF!"}},{"$error":"#REF!"}]
[{"$f":"'Step 4B PP Post'!#REF!","v":{"$error":"#REF!"}},{"$f":"'Step 4B PP Post'!#REF!","v":{"$error":"#REF!"}},{"$error":"#REF!"}]
[{"$f":"'Step 4B PP Post'!#REF!","v":{"$error":"#REF!"}},{"$f":"'Step 4B PP Post'!#REF!","v":{"$error":"#REF!"}},{"$error":"#REF!"}]
[{"$f":"'Step 4B PP Post'!#REF!","v":{"$error":"#REF!"}},{"$f":"'Step 4B PP Post'!#REF!","v":{"$error":"#REF!"}},{"$error":"#REF!"}]
[{"$f":"'Step 4B PP Post'!#REF!","v":{"$error":"#REF!"}},{"$f":"'Step 4B PP Post'!#REF!","v":{"$error":"#REF!"}},{"$error":"#REF!"}]
[{"$f":"'Step 4B PP Post'!#REF!","v":{"$error":"#REF!"}},{"$f":"'Step 4B PP Post'!#REF!","v":{"$error":"#REF!"}},{"$error":"#REF!"}]
[{"$f":"'Step 4B PP Post'!#REF!","v":{"$error":"#REF!"}},{"$f":"'Step 4B PP Post'!#REF!","v":{"$error":"#REF!"}},{"$error":"#REF!"}]
[{"$f":"'Step 4B PP Post'!#REF!","v":{"$error":"#REF!"}},{"$f":"'Step 4B PP Post'!#REF!","v":{"$error":"#REF!"}},{"$error":"#REF!"}]
[{"$f":"'Step 4B PP Post'!#REF!","v":{"$error":"#REF!"}},{"$f":"'Step 4B PP Post'!#REF!","v":{"$error":"#REF!"}},{"$error":"#REF!"}]
[{"$f":"'Step 4B PP Post'!#REF!","v":{"$error":"#REF!"}},{"$f":"'Step 4B PP Post'!#REF!","v":{"$error":"#REF!"}},{"$error":"#REF!"}]
[{"$f":"'Step 4B PP Post'!#REF!","v":{"$error":"#REF!"}},{"$f":"'Step 4B PP Post'!#REF!","v":{"$error":"#REF!"}},{"$error":"#REF!"}]
[{"$f":"'Step 4B PP Post'!#REF!","v":{"$error":"#REF!"}},{"$f":"'Step 4B PP Post'!#REF!","v":{"$error":"#REF!"}},{"$error":"#REF!"}]
[{"$f":"'Step 4B PP Post'!#REF!","v":{"$error":"#REF!"}},{"$f":"'Step 4B PP Post'!#REF!","v":{"$error":"#REF!"}},{"$error":"#REF!"}]
[{"$f":"'Step 4B PP Post'!#REF!","v":{"$error":"#REF!"}},{"$f":"'Step 4B PP Post'!#REF!","v":{"$error":"#REF!"}},{"$error":"#REF!"}]
[{"$f":"'Step 4B PP Post'!#REF!","v":{"$error":"#REF!"}},{"$f":"'Step 4B PP Post'!#REF!","v":{"$error":"#REF!"}},{"$error":"#REF!"}]
[{"$f":"'Step 4B PP Post'!#REF!","v":{"$error":"#REF!"}},{"$f":"'Step 4B PP Post'!#REF!","v":{"$error":"#REF!"}},{"$error":"#REF!"}]
[{"$f":"'Step 4B PP Post'!#REF!","v":{"$error":"#REF!"}},{"$f":"'Step 4B PP Post'!#REF!","v":{"$error":"#REF!"}},{"$error":"#REF!"}]
[{"$f":"'Step 4B PP Post'!#REF!","v":{"$error":"#REF!"}},{"$f":"'Step 4B PP Post'!#REF!","v":{"$error":"#REF!"}},{"$error":"#REF!"}]
[{"$f":"'Step 4B PP Post'!#REF!","v":{"$error":"#REF!"}},{"$f":"'Step 4B PP Post'!#REF!","v":{"$error":"#REF!"}},{"$error":"#REF!"}]
[{"$f":"'Step 4B PP Post'!#REF!","v":{"$error":"#REF!"}},{"$f":"'Step 4B PP Post'!#REF!","v":{"$error":"#REF!"}},{"$error":"#REF!"}]
[{"$f":"'Step 4B PP Post'!#REF!","v":{"$error":"#REF!"}},{"$f":"'Step 4B PP Post'!#REF!","v":{"$error":"#REF!"}},{"$error":"#REF!"}]

{"sheet":"Step 4 CPP","index":29,"n_rows":1020,"n_cols":371,"rows_kept":139,"cut":true,"hidden":true,"merged":[],"bounds":{"rows_first":62,"rows_last":15,"rows_between":62,"halvings":5}}
[null,"Step 4: Data Entry"]
[]
[null,"Please key in the data from your survey on the right. You should input the numbers corresponding to the correct response as provided by the coding scheme.",null,null,null,null,null,null,null,null,null,null,null,null,null,null,null,null,null,null,null,null,null,null,null,null,null,null,null,null,null,null,null,null,null,null,null,null,null,null,null,null,null,null,null,null,null,null,null,null,null,null,null,null,null,null,null,null,null,null,null,null,null,null,null,null,null,null,null,null,null,null,null,null,null,null,null,null,null,null,null,null,null,null,null,null,null,null,null,null,null,null,null,null,null,null,null,null,null,null,null,null,null,null,null,null,null,null,null,null,null,null,null,null,null,null,null,null,null,null,null,null,null,null,null,null,null,null,null,null,null,null,null,null,null,null,null,null,null,null,null,null,null,null,null,null,null,null,null,null,null,null,null,null,null,null,null,null,null,null,null,null,null,null,null,"Coding Scheme","Coding Scheme",null,null,null,null,null,null,null,null,null,null,null,"Coding Scheme",null,"Coding Scheme",null,"Coding Scheme"]
[null,null,null,null,null,null,null,null,null,null,null,null,null,null,null,null,null,null,null,null,null,null,null,null,null,null,null,null,null,null,null,null,null,null,null,null,null,null,null,null,null,null,null,null,null,null,null,null,null,null,null,null,null,null,null,null,null,null,null,null,null,null,null,null,null,null,null,null,null,null,null,null,null,null,null,null,null,null,null,null,null,null,null,null,null,null,null,null,null,null,null,null,null,null,null,null,null,null,null,null,null,null,null,null,null,null,null,null,null,null,null,null,null,null,null,null,null,null,null,null,null,null,null,null,null,null,null,null,null,null,null,null,null,null,null,null,null,null,null,null,null,null,null,null,null,null,null,null,null,null,null,null,null,null,null,null,null,null,null,null,null,null,null,null,null,"1 - Too Slow","1 - Too Slow",null,null,null,null,null,null,null,null,null,null,null,"1 - Very Poor",null,"1 - Very Poor",null,"1 - Yes"]
[null,"Note that columns must be pasted individually.",null,null,null,null,null,null,null,null,null,null,null,null,null,null,null,null,null,null,null,null,null,null,null,null,null,null,null,null,null,null,null,null,null,null,null,null,null,null,null,null,null,null,null,null,null,null,null,null,null,null,null,null,null,null,null,null,null,null,null,null,null,null,null,null,null,null,null,null,null,null,null,null,null,null,null,null,null,null,null,null,null,null,null,null,null,null,null,null,null,null,null,null,null,null,null,null,null,null,null,null,null,null,null,null,null,null,null,null,null,null,null,null,null,null,null,null,null,null,null,null,null,null,null,null,null,null,null,null,null,null,null,null,null,null,null,null,null,null,null,null,null,null,null,null,null,null,null,null,null,null,null,null,null,null,null,null,null,null,null,null,null,null,null,"2 - Slow","2 - Slow",null,null,null,null,null,null,null,null,null,null,null,"2 - Poor",null,"2 - Poor",null,"2 - No"]
[null,"For questions on a 5-point likert scale of strongly disagree, disagree, neither agree nor disagree, agree, and strongly agree, please code 1,2,3,4,5 respectively. Use code 99 for blanks/NA. For other questions, the coding scheme is provided.",null,null,null,null,null,null,null,null,null,null,null,null,null,null,null,null,null,null,null,null,null,null,null,null,null,null,null,null,null,null,null,null,null,null,null,null,null,null,null,null,null,null,null,null,null,null,null,null,null,null,null,null,null,null,null,null,null,null,null,null,null,null,null,null,null,null,null,null,null,null,null,null,null,null,null,null,null,null,null,null,null,null,null,null,null,null,null,null,null,null,null,null,null,null,null,null,null,null,null,null,null,null,null,null,null,null,null,null,null,null,null,null,null,null,null,null,null,null,null,null,null,null,null,null,null,null,null,null,null,null,null,null,null,null,null,null,null,null,null,null,null,null,null,null,null,null,null,null,null,null,null,null,null,null,null,null,null,null,null,null,null,null,null,"3 - Just Right","3 - Just Right",null,null,null,null,null,null,null,null,null,null,null,"3 - Fair",null,"3 - Fair",null,"99 - 99 - NA/ Blank"]
[null,null,null,null,null,null,null,null,null,null,null,null,null,null,null,null,null,null,null,null,null,null,null,null,null,null,null,null,null,null,null,null,null,null,null,null,null,null,null,null,null,null,null,null,null,null,null,null,null,null,null,null,null,null,null,null,null,null,null,null,null,null,null,null,null,null,null,null,null,null,null,null,null,null,null,null,null,null,null,null,null,null,null,null,null,null,null,null,null,null,null,null,null,null,null,null,null,null,null,null,null,null,null,null,null,null,null,null,null,null,null,null,null,null,null,null,null,null,null,null,null,null,null,null,null,null,null,null,null,null,null,null,null,null,null,null,null,null,null,null,null,null,null,null,null,null,null,null,null,null,null,null,null,null,null,null,null,null,null,null,null,null,null,null,null,"4 - Long","4 - Fast",null,null,null,null,null,null,null,null,null,null,null,"4 - Good",null,"4 - Good"]
[null,null,null,null,null,null,null,null,null,null,null,null,null,null,null,null,null,null,null,null,null,null,null,null,null,null,null,null,null,null,null,null,null,null,null,null,null,null,null,null,null,null,null,null,null,null,null,null,null,null,null,null,null,null,null,null,null,null,null,null,null,null,null,null,null,null,null,null,null,null,null,null,null,null,null,null,null,null,null,null,null,null,null,null,null,null,null,null,null,null,null,null,null,null,null,null,null,null,null,null,null,null,null,null,null,null,null,null,null,null,null,null,null,null,null,null,null,null,null,null,null,null,null,null,null,null,null,null,null,null,null,null,null,null,null,null,null,null,null,null,null,null,null,null,null,null,null,null,null,null,null,null,null,null,null,null,null,null,null,null,null,null,null,null,null,"5 - Too Long","5 - Too Fast",null,null,null,null,null,null,null,null,null,null,null,"5 - Very Good",null,"5 - Very Good"]
[null,null,null,null,null,null,null,null,null,null,null,null,null,null,null,null,null,null,null,null,null,null,null,null,null,null,null,null,null,null,null,null,null,null,null,null,null,null,null,null,null,null,null,null,null,null,null,null,null,null,null,null,null,null,null,null,null,null,null,null,null,null,null,null,null,null,null,null,null,null,null,null,null,null,null,null,null,null,null,null,null,null,null,null,null,null,null,null,null,null,null,null,null,null,null,null,null,null,null,null,null,null,null,null,null,null,null,null,null,null,null,null,null,null,null,null,null,null,null,null,null,null,null,null,null,null,null,null,null,null,null,null,null,null,null,null,null,null,null,null,null,null,null,null,null,null,null,null,null,null,null,null,null,null,null,null,null,null,null,null,null,null,null,null,null,"99 - NA/ Blank","NA/ Blank",null,null,null,null,null,null,null,null,null,null,null,"99 - NA/ Blank",null,"99 - NA/ Blank"]
[]
[null,null,null,null,null,null,"overall use",0,0,{"$f":"IF('Step 3A'!$D$5=\"Combined Pre/Post Survey\", J14, J17)","v":0},{"$f":"IF('Step 3A'!$D$5=\"Combined Pre/Post Survey\", K14, K17)","v":0},{"$f":"IF('Step 3A'!$D$5=\"Combined Pre/Post Survey\", L14, L17)","v":0},{"$f":"IF('Step 3A'!$D$5=\"Combined Pre/Post Survey\", M14, M17)","v":0},{"$f":"IF('Step 3A'!$D$5=\"Combined Pre/Post Survey\", N14, N17)","v":0},{"$f":"IF('Step 3A'!$D$5=\"Combined Pre/Post Survey\", O14, O17)","v":0},{"$f":"IF('Step 3A'!$D$5=\"Combined Pre/Post Survey\", P14, P17)","v":0},{"$f":"IF('Step 3A'!$D$5=\"Combined Pre/Post Survey\", Q14, Q17)","v":0},{"$f":"IF('Step 3A'!$D$5=\"Combined Pre/Post Survey\", R14, R17)","v":0},{"$f":"IF('Step 3A'!$D$5=\"Combined Pre/Post Survey\", S14, S17)","v":0},{"$f":"IF('Step 3A'!$D$5=\"Combined Pre/Post Survey\", T14, T17)","v":0},{"$f":"IF('Step 3A'!$D$5=\"Combined Pre/Post Survey\", U14, U17)","v":0},{"$f":"IF('Step 3A'!$D$5=\"Combined Pre/Post Survey\", V14, V17)","v":0},{"$f":"IF('Step 3A'!$D$5=\"Combined Pre/Post Survey\", W14, W17)","v":0},{"$f":"IF('Step 3A'!$D$5=\"Combined Pre/Post Survey\", X14, X17)","v":0},{"$f":"IF('Step 3A'!$D$5=\"Combined Pre/Post Survey\", Y14, Y17)","v":0},{"$f":"IF('Step 3A'!$D$5=\"Combined Pre/Post Survey\", Z14, Z17)","v":0},{"$f":"IF('Step 3A'!$D$5=\"Combined Pre/Post Survey\", AA14, AA17)","v":0},{"$f":"IF('Step 3A'!$D$5=\"Combined Pre/Post Survey\", AB14, AB17)","v":0},{"$f":"IF('Step 3A'!$D$5=\"Combined Pre/Post Survey\", AC14, AC17)","v":0},{"$f":"IF('Step 3A'!$D$5=\"Combined Pre/Post Survey\", AD14, AD17)","v":0},{"$f":"IF('Step 3A'!$D$5=\"Combined Pre/Post Survey\", AE14, AE17)","v":0},{"$f":"IF('Step 3A'!$D$5=\"Combined Pre/Post Survey\", AF14, AF17)","v":0},{"$f":"IF('Step 3A'!$D$5=\"Combined Pre/Post Survey\", AG14, AG17)","v":0},{"$f":"IF('Step 3A'!$D$5=\"Combined Pre/Post Survey\", AH14, AH17)","v":0},{"$f":"IF('Step 3A'!$D$5=\"Combined Pre/Post Survey\", AI14, AI17)","v":0},{"$f":"IF('Step 3A'!$D$5=\"Combined Pre/Post Survey\", AJ14, AJ17)","v":0},{"$f":"IF('Step 3A'!$D$5=\"Combined Pre/Post Survey\", AK14, AK17)","v":0},{"$f":"IF('Step 3A'!$D$5=\"Combined Pre/Post Survey\", AL14, AL17)","v":0},{"$f":"IF('Step 3A'!$D$5=\"Combined Pre/Post Survey\", AM14, AM17)","v":0},{"$f":"IF('Step 3A'!$D$5=\"Combined Pre/Post Survey\", AN14, AN17)","v":0},{"$f":"IF('Step 3A'!$D$5=\"Combined Pre/Post Survey\", AO14, AO17)","v":0},{"$f":"IF('Step 3A'!$D$5=\"Combined Pre/Post Survey\", AP14, AP17)","v":0},{"$f":"IF('Step 3A'!$D$5=\"Combined Pre/Post Survey\", AQ14, AQ17)","v":0},{"$f":"IF('Step 3A'!$D$5=\"Combined Pre/Post Survey\", AR14, AR17)","v":0},{"$f":"IF('Step 3A'!$D$5=\"Combined Pre/Post Survey\", AS14, AS17)","v":0},{"$f":"IF('Step 3A'!$D$5=\"Combined Pre/Post Survey\", AT14, AT17)","v":0},{"$f":"IF('Step 3A'!$D$5=\"Combined Pre/Post Survey\", AU14, AU17)","v":0},{"$f":"IF('Step 3A'!$D$5=\"Combined Pre/Post Survey\", AV14, AV17)","v":0},{"$f":"IF('Step 3A'!$D$5=\"Combined Pre/Post Survey\", AW14, AW17)","v":0},{"$f":"IF('Step 3A'!$D$5=\"Combined Pre/Post Survey\", AX14, AX17)","v":0},{"$f":"IF('Step 3A'!$D$5=\"Combined Pre/Post Survey\", AY14, AY17)","v":0},{"$f":"IF('Step 3A'!$D$5=\"Combined Pre/Post Survey\", AZ14, AZ17)","v":0},{"$f":"IF('Step 3A'!$D$5=\"Combined Pre/Post Survey\", BA14, BA17)","v":0},{"$f":"IF('Step 3A'!$D$5=\"Combined Pre/Post Survey\", BB14, BB17)","v":0},{"$f":"IF('Step 3A'!$D$5=\"Combined Pre/Post Survey\", BC14, BC17)","v":0},{"$f":"IF('Step 3A'!$D$5=\"Combined Pre/Post Survey\", BD14, BD17)","v":0},{"$f":"IF('Step 3A'!$D$5=\"Combined Pre/Post Survey\", BE14, BE17)","v":0},{"$f":"IF('Step 3A'!$D$5=\"Combined Pre/Post Survey\", BF14, BF17)","v":0},{"$f":"IF('Step 3A'!$D$5=\"Combined Pre/Post Survey\", BG14, BG17)","v":0},{"$f":"IF('Step 3A'!$D$5=\"Combined Pre/Post Survey\", BH14, BH17)","v":0},{"$f":"IF('Step 3A'!$D$5=\"Combined Pre/Post Survey\", BI14, BI17)","v":0},{"$f":"IF('Step 3A'!$D$5=\"Combined Pre/Post Survey\", BJ14, BJ17)","v":0},{"$f":"IF('Step 3A'!$D$5=\"Combined Pre/Post Survey\", BK14, BK17)","v":0},{"$f":"IF('Step 3A'!$D$5=\"Combined Pre/Post Survey\", BL14, BL17)","v":0},{"$f":"IF('Step 3A'!$D$5=\"Combined Pre/Post Survey\", BM14, BM17)","v":0},{"$f":"IF('Step 3A'!$D$5=\"Combined Pre/Post Survey\", BN14, BN17)","v":0},{"$f":"IF('Step 3A'!$D$5=\"Combined Pre/Post Survey\", BO14, BO17)","v":0},{"$f":"IF('Step 3A'!$D$5=\"Combined Pre/Post Survey\", BP14, BP17)","v":0},{"$f":"IF('Step 3A'!$D$5=\"Combined Pre/Post Survey\", BQ14, BQ17)","v":0},{"$f":"IF('Step 3A'!$D$5=\"Combined Pre/Post Survey\", BR14, BR17)","v":0},{"$f":"IF('Step 3A'!$D$5=\"Combined Pre/Post Survey\", BS14, BS17)","v":0},{"$f":"IF('Step 3A'!$D$5=\"Combined Pre/Post Survey\", BT14, BT17)","v":0},{"$f":"IF('Step 3A'!$D$5=\"Combined Pre/Post Survey\", BU14, BU17)","v":0},{"$f":"IF('Step 3A'!$D$5=\"Combined Pre/Post Survey\", BV14, BV17)","v":0},{"$f":"IF('Step 3A'!$D$5=\"Combined Pre/Post Survey\", BW14, BW17)","v":0},{"$f":"IF('Step 3A'!$D$5=\"Combined Pre/Post Survey\", BX14, BX17)","v":0},{"$f":"IF('Step 3A'!$D$5=\"Combined Pre/Post Survey\", BY14, BY17)","v":0},{"$f":"IF('Step 3A'!$D$5=\"Combined Pre/Post Survey\", BZ14, BZ17)","v":0},{"$f":"IF('Step 3A'!$D$5=\"Combined Pre/Post Survey\", CA14, CA17)","v":0},{"$f":"IF('Step 3A'!$D$5=\"Combined Pre/Post Survey\", CB14, CB17)","v":0},{"$f":"IF('Step 3A'!$D$5=\"Combined Pre/Post Survey\", CC14, CC17)","v":0},{"$f":"IF('Step 3A'!$D$5=\"Combined Pre/Post Survey\", CD14, CD17)","v":0},{"$f":"IF('Step 3A'!$D$5=\"Combined Pre/Post Survey\", CE14, CE17)","v":0},{"$f":"IF('Step 3A'!$D$5=\"Combined Pre/Post Survey\", CF14, CF17)","v":0},{"$f":"IF('Step 3A'!$D$5=\"Combined Pre/Post Survey\", CG14, CG17)","v":0},{"$f":"IF('Step 3A'!$D$5=\"Combined Pre/Post Survey\", CH14, CH17)","v":0},{"$f":"IF('Step 3A'!$D$5=\"Combined Pre/Post Survey\", CI14, CI17)","v":0},{"$f":"IF('Step 3A'!$D$5=\"Combined Pre/Post Survey\", CJ14, CJ17)","v":0},{"$f":"IF('Step 3A'!$D$5=\"Combined Pre/Post Survey\", CK14, CK17)","v":0},{"$f":"IF('Step 3A'!$D$5=\"Combined Pre/Post Survey\", CL14, CL17)","v":0},{"$f":"IF('Step 3A'!$D$5=\"Combined Pre/Post Survey\", CM14, CM17)","v":0},{"$f":"IF('Step 3A'!$D$5=\"Combined Pre/Post Survey\", CN14, CN17)","v":0},{"$f":"IF('Step 3A'!$D$5=\"Combined Pre/Post Survey\", CO14, CO17)","v":0},{"$f":"IF('Step 3A'!$D$5=\"Combined Pre/Post Survey\", CP14, CP17)","v":0},{"$f":"IF('Step 3A'!$D$5=\"Combined Pre/Post Survey\", CQ14, CQ17)","v":0},{"$f":"IF('Step 3A'!$D$5=\"Combined Pre/Post Survey\", CR14, CR17)","v":0},{"$f":"IF('Step 3A'!$D$5=\"Combined Pre/Post Survey\", CS14, CS17)","v":0},{"$f":"IF('Step 3A'!$D$5=\"Combined Pre/Post Survey\", CT14, CT17)","v":0},{"$f":"IF('Step 3A'!$D$5=\"Combined Pre/Post Survey\", CU14, CU17)","v":0},{"$f":"IF('Step 3A'!$D$5=\"Combined Pre/Post Survey\", CV14, CV17)","v":0},{"$f":"IF('Step 3A'!$D$5=\"Combined Pre/Post Survey\", CW14, CW17)","v":0},{"$f":"IF('Step 3A'!$D$5=\"Combined Pre/Post Survey\", CX14, CX17)","v":0},{"$f":"IF('Step 3A'!$D$5=\"Combined Pre/Post Survey\", CY14, CY17)","v":0},{"$f":"IF('Step 3A'!$D$5=\"Combined Pre/Post Survey\", CZ14, CZ17)","v":0},{"$f":"IF('Step 3A'!$D$5=\"Combined Pre/Post Survey\", DA14, DA17)","v":0},{"$f":"IF('Step 3A'!$D$5=\"Combined Pre/Post Survey\", DB14, DB17)","v":0},{"$f":"IF('Step 3A'!$D$5=\"Combined Pre/Post Survey\", DC14, DC17)","v":0},{"$f":"IF('Step 3A'!$D$5=\"Combined Pre/Post Survey\", DD14, DD17)","v":0},{"$f":"IF('Step 3A'!$D$5=\"Combined Pre/Post Survey\", DE14, DE17)","v":0},{"$f":"IF('Step 3A'!$D$5=\"Combined Pre/Post Survey\", DF14, DF17)","v":0},{"$f":"IF('Step 3A'!$D$5=\"Combined Pre/Post Survey\", DG14, DG17)","v":0},{"$f":"IF('Step 3A'!$D$5=\"Combined Pre/Post Survey\", DH14, DH17)","v":0},{"$f":"IF('Step 3A'!$D$5=\"Combined Pre/Post Survey\", DI14, DI17)","v":0},{"$f":"IF('Step 3A'!$D$5=\"Combined Pre/Post Survey\", DJ14, DJ17)","v":0},{"$f":"IF('Step 3A'!$D$5=\"Combined Pre/Post Survey\", DK14, DK17)","v":0},{"$f":"IF('Step 3A'!$D$5=\"Combined Pre/Post Survey\", DL14, DL17)","v":0},{"$f":"IF('Step 3A'!$D$5=\"Combined Pre/Post Survey\", DM14, DM17)","v":0},{"$f":"IF('Step 3A'!$D$5=\"Combined Pre/Post Survey\", DN14, DN17)","v":0},{"$f":"IF('Step 3A'!$D$5=\"Combined Pre/Post Survey\", DO14, DO17)","v":0},{"$f":"IF('Step 3A'!$D$5=\"Combined Pre/Post Survey\", DP14, DP17)","v":0},{"$f":"IF('Step 3A'!$D$5=\"Combined Pre/Post Survey\", DQ14, DQ17)","v":0},{"$f":"IF('Step 3A'!$D$5=\"Combined Pre/Post Survey\", DR14, DR17)","v":0},{"$f":"IF('Step 3A'!$D$5=\"Combined Pre/Post Survey\", DS14, DS17)","v":0},{"$f":"IF('Step 3A'!$D$5=\"Combined Pre/Post Survey\", DT14, DT17)","v":0},{"$f":"IF('Step 3A'!$D$5=\"Combined Pre/Post Survey\", DU14, DU17)","v":0},{"$f":"IF('Step 3A'!$D$5=\"Combined Pre/Post Survey\", DV14, DV17)","v":0},{"$f":"IF('Step 3A'!$D$5=\"Combined Pre/Post Survey\", DW14, DW17)","v":0},{"$f":"IF('Step 3A'!$D$5=\"Combined Pre/Post Survey\", DX14, DX17)","v":0},{"$f":"IF('Step 3A'!$D$5=\"Combined Pre/Post Survey\", DY14, DY17)","v":0},{"$f":"IF('Step 3A'!$D$5=\"Combined Pre/Post Survey\", DZ14, DZ17)","v":0},{"$f":"IF('Step 3A'!$D$5=\"Combined Pre/Post Survey\", EA14, EA17)","v":0},{"$f":"IF('Step 3A'!$D$5=\"Combined Pre/Post Survey\", EB14, EB17)","v":0},{"$f":"IF('Step 3A'!$D$5=\"Combined Pre/Post Survey\", EC14, EC17)","v":0},{"$f":"IF('Step 3A'!$D$5=\"Combined Pre/Post Survey\", ED14, ED17)","v":0},{"$f":"IF('Step 3A'!$D$5=\"Combined Pre/Post Survey\", EE14, EE17)","v":0},{"$f":"IF('Step 3A'!$D$5=\"Combined Pre/Post Survey\", EF14, EF17)","v":0},{"$f":"IF('Step 3A'!$D$5=\"Combined Pre/Post Survey\", EG14, EG17)","v":0},{"$f":"IF('Step 3A'!$D$5=\"Combined Pre/Post Survey\", EH14, EH17)","v":0},{"$f":"IF('Step 3A'!$D$5=\"Combined Pre/Post Survey\", EI14, EI17)","v":0},{"$f":"IF('Step 3A'!$D$5=\"Combined Pre/Post Survey\", EJ14, EJ17)","v":0},{"$f":"IF('Step 3A'!$D$5=\"Combined Pre/Post Survey\", EK14, EK17)","v":0},{"$f":"IF('Step 3A'!$D$5=\"Combined Pre/Post Survey\", EL14, EL17)","v":0},{"$f":"IF('Step 3A'!$D$5=\"Combined Pre/Post Survey\", EM14, EM17)","v":0},{"$f":"IF('Step 3A'!$D$5=\"Combined Pre/Post Survey\", EN14, EN17)","v":0},{"$f":"IF('Step 3A'!$D$5=\"Combined Pre/Post Survey\", EO14, EO17)","v":0},{"$f":"IF('Step 3A'!$D$5=\"Combined Pre/Post Survey\", EP14, EP17)","v":0},{"$f":"IF('Step 3A'!$D$5=\"Combined Pre/Post Survey\", EQ14, EQ17)","v":0},{"$f":"IF('Step 3A'!$D$5=\"Combined Pre/Post Survey\", ER14, ER17)","v":0},{"$f":"IF('Step 3A'!$D$5=\"Combined Pre/Post Survey\", ES14, ES17)","v":0},{"$f":"IF('Step 3A'!$D$5=\"Combined Pre/Post Survey\", ET14, ET17)","v":0},{"$f":"IF('Step 3A'!$D$5=\"Combined Pre/Post Survey\", EU14, EU17)","v":0},{"$f":"IF('Step 3A'!$D$5=\"Combined Pre/Post Survey\", EV14, EV17)","v":0},{"$f":"IF('Step 3A'!$D$5=\"Combined Pre/Post Survey\", EW14, EW17)","v":0},{"$f":"IF('Step 3A'!$D$5=\"Combined Pre/Post Survey\", EX14, EX17)","v":0},{"$f":"IF('Step 3A'!$D$5=\"Combined Pre/Post Survey\", EY14, EY17)","v":0},{"$f":"IF('Step 3A'!$D$5=\"Combined Pre/Post Survey\", EZ14, EZ17)","v":0},{"$f":"IF('Step 3A'!$D$5=\"Combined Pre/Post Survey\", FA14, FA17)","v":0},{"$f":"IF('Step 3A'!$D$5=\"Combined Pre/Post Survey\", FB14, FB17)","v":0},{"$f":"IF('Step 3A'!$D$5=\"Combined Pre/Post Survey\", FC14, FC17)","v":0},{"$f":"IF('Step 3A'!$D$5=\"Combined Pre/Post Survey\", FD14, FD17)","v":0},{"$f":"IF('Step 3A'!$D$5=\"Combined Pre/Post Survey\", FE14, FE17)","v":0},{"$f":"IF('Step 3A'!$D$5=\"Combined Pre/Post Survey\", FF14, FF17)","v":0},{"$f":"IF('Step 3A'!$D$5=\"Combined Pre/Post Survey\", FG14, FG17)","v":0},{"$f":"IF('Step 3A'!$D$5=\"Combined Pre/Post Survey\", FH14, FH17)","v":0},{"$f":"IF('Step 3A'!$D$5=\"Combined Pre/Post Survey\", FI14, FI17)","v":0},{"$f":"IF('Step 3A'!$D$5=\"Combined Pre/Post Survey\", FJ14, FJ17)","v":0},{"$f":"IF('Step 3A'!$D$5=\"Combined Pre/Post Survey\", FK14, FK17)","v":0},{"$f":"IF('Step 3A'!$D$5=\"Combined Pre/Post Survey\", FL14, FL17)","v":0},{"$f":"IF('Step 3A'!$D$5=\"Combined Pre/Post Survey\", FM14, FM17)","v":0},{"$f":"IF('Step 3A'!$D$5=\"Combined Pre/Post Survey\", FN14, FN17)","v":0},{"$f":"IF('Step 3A'!$D$5=\"Combined Pre/Post Survey\", FO14, FO17)","v":0},{"$f":"IF('Step 3A'!$D$5=\"Combined Pre/Post Survey\", FP14, FP17)","v":0},{"$f":"IF('Step 3A'!$D$5=\"Combined Pre/Post Survey\", FQ14, FQ17)","v":0},{"$f":"IF('Step 3A'!$D$5=\"Combined Pre/Post Survey\", FR14, FR17)","v":0},{"$f":"IF('Step 3A'!$D$5=\"Combined Pre/Post Survey\", FS14, FS17)","v":0},{"$f":"IF('Step 3A'!$D$5=\"Combined Pre/Post Survey\", FT14, FT17)","v":0},{"$f":"IF('Step 3A'!$D$5=\"Combined Pre/Post Survey\", FU14, FU17)","v":0},{"$f":"IF('Step 3A'!$D$5=\"Combined Pre/Post Survey\", FV14, FV17)","v":0},{"$f":"IF('Step 3A'!$D$5=\"Combined Pre/Post Survey\", FW14, FW17)","v":0},{"$f":"IF('Step 3A'!$D$5=\"Combined Pre/Post Survey\", FX14, FX17)","v":0},{"$f":"IF('Step 3A'!$D$5=\"Combined Pre/Post Survey\", FY14, FY17)","v":0},{"$f":"IF('Step 3A'!$D$5=\"Combined Pre/Post Survey\", FZ14, FZ17)","v":0},{"$f":"IF('Step 3A'!$D$5=\"Combined Pre/Post Survey\", GA14, GA17)","v":0},{"$f":"IF('Step 3A'!$D$5=\"Combined Pre/Post Survey\", GB14, GB17)","v":0},{"$f":"IF('Step 3A'!$D$5=\"Combined Pre/Post Survey\", GC14, GC17)","v":1},{"$f":"IF('Step 3A'!$D$5=\"Combined Pre/Post Survey\", GD14, GD17)","v":1},0,0,0,0,0,0,0,0,0,0,0,0,0,0,0,0,0,0,0,0,0,0,0,0,0,0,0,0,0,0,0,0,0,0,0,0,0,0,0,0,0,0,0,0,0,0,0,0,0,0,0,0,0,0,0,0,0,0,0,0,0,0,0,0,0,0,0,0,0,0,0,0,0,0,0,0,0,0,0,0,0,0,0,0,0,0,0,0,0,0,0,0,0,0,0,0,0,0,0,0,0,0,0,0,0,0,0,0,0,0,0,0,0,0,0,0,0,0,0,0,0,0,0,0,0,0,0,0,0,0,0,0,0,0,0,0,0,0,0,0,0,0,0,0,0,0,0,0,0,0,0,0,0,0,0,0,0,0,0,0,0,0,0,0,0,0,0,0,0,0,0,0,0,0,0,0,0,0,0,0,0,0,0,0,0]
[null,null,null,null,null,null,"Offset",null,null,1,2,3,4,5,6,7,8,9,10,11,12,13,14,15,16,17,18,19,20,21,22,23,24,25,26,27,28,29,30,31,32,33,34,35,36,37,38,39,40,41,42,43,44,45,46,47,48,49,50,51,52,53,54,55,56,57,58,59,60,61,62,63,64,65,66,67,68,69,70,71,72,73,74,75,76,77,78,1,2,3,4,5,6,7,8,9,10,11,12,13,14,15,16,17,18,19,20,21,22,23,24,25,26,27,28,29,30,31,32,33,34,35,36,37,38,39,40,41,42,43,44,45,46,47,48,49,50,51,52,53,54,55,56,57,58,59,60,61,62,63,64,65,66,67,68,69,70,71,72,73,74,75,76,77,78,1,2,3,4,5,6,7,8,9,10,11,12,13,14,17,18,19,20,21,0,0]
[null,null,null,null,null,null,"CPP",null,null,1,1,1,1,1,1,1,1,1,1,1,1,1,1,1,1,1,1,1,1,1,1,1,1,1,1,1,1,1,1,1,1,1,1,1,1,1,1,1,1,1,1,1,1,1,1,1,1,1,1,1,1,1,1,1,1,1,1,1,1,1,1,1,1,1,1,1,1,1,1,1,1,1,1,1,1,1,1,1,1,1,1,1,1,1,1,1,1,1,1,1,1,1,1,1,1,1,1,1,1,1,1,1,1,1,1,1,1,1,1,1,1,1,1,1,1,1,1,1,1,1,1,1,1,1,1,1,1,1,1,1,1,1,1,1,1,1,1,1,1,1,1,1,1,1,1,1,1,1,1,1,1,1,1,1,1,1,1,1,1,1,1,1,1,1,1,1,1,1,1,1,1,1,1,1,0,0]
[null,null,null,null,null,null,"Use",null,null,{"$f":"OFFSET(CPP_nyf_base!$G$10, 'Step 4A PP Pre'!J12, 0)","v":0},{"$f":"OFFSET(CPP_nyf_base!$G$10, 'Step 4A PP Pre'!K12, 0)","v":0},{"$f":"OFFSET(CPP_nyf_base!$G$10, 'Step 4A PP Pre'!L12, 0)","v":0},{"$f":"OFFSET(CPP_nyf_base!$G$10, 'Step 4A PP Pre'!M12, 0)","v":0},{"$f":"OFFSET(CPP_nyf_base!$G$10, 'Step 4A PP Pre'!N12, 0)","v":0},{"$f":"OFFSET(CPP_nyf_base!$G$10, 'Step 4A PP Pre'!O12, 0)","v":0},{"$f":"OFFSET(CPP_nyf_base!$G$10, 'Step 4A PP Pre'!P12, 0)","v":0},{"$f":"OFFSET(CPP_nyf_base!$G$10, 'Step 4A PP Pre'!Q12, 0)","v":0},{"$f":"OFFSET(CPP_nyf_base!$G$10, 'Step 4A PP Pre'!R12, 0)","v":0},{"$f":"OFFSET(CPP_nyf_base!$G$10, 'Step 4A PP Pre'!S12, 0)","v":0},{"$f":"OFFSET(CPP_nyf_base!$G$10, 'Step 4A PP Pre'!T12, 0)","v":0},{"$f":"OFFSET(CPP_nyf_base!$G$10, 'Step 4A PP Pre'!U12, 0)","v":0},{"$f":"OFFSET(CPP_nyf_base!$G$10, 'Step 4A PP Pre'!V12, 0)","v":0},{"$f":"OFFSET(CPP_nyf_base!$G$10, 'Step 4A PP Pre'!W12, 0)","v":0},{"$f":"OFFSET(CPP_nyf_base!$G$10, 'Step 4A PP Pre'!X12, 0)","v":0},{"$f":"OFFSET(CPP_nyf_base!$G$10, 'Step 4A PP Pre'!Y12, 0)","v":0},{"$f":"OFFSET(CPP_nyf_base!$G$10, 'Step 4A PP Pre'!Z12, 0)","v":0},{"$f":"OFFSET(CPP_nyf_base!$G$10, 'Step 4A PP Pre'!AA12, 0)","v":0},{"$f":"OFFSET(CPP_nyf_base!$G$10, 'Step 4A PP Pre'!AB12, 0)","v":0},{"$f":"OFFSET(CPP_nyf_base!$G$10, 'Step 4A PP Pre'!AC12, 0)","v":0},{"$f":"OFFSET(CPP_nyf_base!$G$10, 'Step 4A PP Pre'!AD12, 0)","v":0},{"$f":"OFFSET(CPP_nyf_base!$G$10, 'Step 4A PP Pre'!AE12, 0)","v":0},{"$f":"OFFSET(CPP_nyf_base!$G$10, 'Step 4A PP Pre'!AF12, 0)","v":0},{"$f":"OFFSET(CPP_nyf_base!$G$10, 'Step 4A PP Pre'!AG12, 0)","v":0},{"$f":"OFFSET(CPP_nyf_base!$G$10, 'Step 4A PP Pre'!AH12, 0)","v":0},{"$f":"OFFSET(CPP_nyf_base!$G$10, 'Step 4A PP Pre'!AI12, 0)","v":0},{"$f":"OFFSET(CPP_nyf_base!$G$10, 'Step 4A PP Pre'!AJ12, 0)","v":0},{"$f":"OFFSET(CPP_nyf_base!$G$10, 'Step 4A PP Pre'!AK12, 0)","v":0},{"$f":"OFFSET(CPP_nyf_base!$G$10, 'Step 4A PP Pre'!AL12, 0)","v":0},{"$f":"OFFSET(CPP_nyf_base!$G$10, 'Step 4A PP Pre'!AM12, 0)","v":0},{"$f":"OFFSET(CPP_nyf_base!$G$10, 'Step 4A PP Pre'!AN12, 0)","v":0},{"$f":"OFFSET(CPP_nyf_base!$G$10, 'Step 4A PP Pre'!AO12, 0)","v":0},{"$f":"OFFSET(CPP_nyf_base!$G$10, 'Step 4A PP Pre'!AP12, 0)","v":0},{"$f":"OFFSET(CPP_nyf_base!$G$10, 'Step 4A PP Pre'!AQ12, 0)","v":0},{"$f":"OFFSET(CPP_nyf_base!$G$10, 'Step 4A PP Pre'!AR12, 0)","v":0},{"$f":"OFFSET(CPP_nyf_base!$G$10, 'Step 4A PP Pre'!AS12, 0)","v":0},{"$f":"OFFSET(CPP_nyf_base!$G$10, 'Step 4A PP Pre'!AT12, 0)","v":0},{"$f":"OFFSET(CPP_nyf_base!$G$10, 'Step 4A PP Pre'!AU12, 0)","v":0},{"$f":"OFFSET(CPP_nyf_base!$G$10, 'Step 4A PP Pre'!AV12, 0)","v":0},{"$f":"OFFSET(CPP_nyf_base!$G$10, 'Step 4A PP Pre'!AW12, 0)","v":0},{"$f":"OFFSET(CPP_nyf_base!$G$10, 'Step 4A PP Pre'!AX12, 0)","v":0},{"$f":"OFFSET(CPP_nyf_base!$G$10, 'Step 4A PP Pre'!AY12, 0)","v":0},{"$f":"OFFSET(CPP_nyf_base!$G$10, 'Step 4A PP Pre'!AZ12, 0)","v":0},{"$f":"OFFSET(CPP_nyf_base!$G$10, 'Step 4A PP Pre'!BA12, 0)","v":0},{"$f":"OFFSET(CPP_nyf_base!$G$10, 'Step 4A PP Pre'!BB12, 0)","v":0},{"$f":"OFFSET(CPP_nyf_base!$G$10, 'Step 4A PP Pre'!BC12, 0)","v":0},{"$f":"OFFSET(CPP_nyf_base!$G$10, 'Step 4A PP Pre'!BD12, 0)","v":0},{"$f":"OFFSET(CPP_nyf_base!$G$10, 'Step 4A PP Pre'!BE12, 0)","v":0},{"$f":"OFFSET(CPP_nyf_base!$G$10, 'Step 4A PP Pre'!BF12, 0)","v":0},{"$f":"OFFSET(CPP_nyf_base!$G$10, 'Step 4A PP Pre'!BG12, 0)","v":0},{"$f":"OFFSET(CPP_nyf_base!$G$10, 'Step 4A PP Pre'!BH12, 0)","v":0},{"$f":"OFFSET(CPP_nyf_base!$G$10, 'Step 4A PP Pre'!BI12, 0)","v":0},{"$f":"OFFSET(CPP_nyf_base!$G$10, 'Step 4A PP Pre'!BJ12, 0)","v":0},{"$f":"OFFSET(CPP_nyf_base!$G$10, 'Step 4A PP Pre'!BK12, 0)","v":0},{"$f":"OFFSET(CPP_nyf_base!$G$10, 'Step 4A PP Pre'!BL12, 0)","v":0},{"$f":"OFFSET(CPP_nyf_base!$G$10, 'Step 4A PP Pre'!BM12, 0)","v":0},{"$f":"OFFSET(CPP_nyf_base!$G$10, 'Step 4A PP Pre'!BN12, 0)","v":0},{"$f":"OFFSET(CPP_nyf_base!$G$10, 'Step 4A PP Pre'!BO12, 0)","v":0},{"$f":"OFFSET(CPP_nyf_base!$G$10, 'Step 4A PP Pre'!BP12, 0)","v":0},{"$f":"OFFSET(CPP_nyf_base!$G$10, 'Step 4A PP Pre'!BQ12, 0)","v":0},{"$f":"OFFSET(CPP_nyf_base!$G$10, 'Step 4A PP Pre'!BR12, 0)","v":0},{"$f":"OFFSET(CPP_nyf_base!$G$10, 'Step 4A PP Pre'!BS12, 0)","v":0},{"$f":"OFFSET(CPP_nyf_base!$G$10, 'Step 4A PP Pre'!BT12, 0)","v":0},{"$f":"OFFSET(CPP_nyf_base!$G$10, 'Step 4A PP Pre'!BU12, 0)","v":0},{"$f":"OFFSET(CPP_nyf_base!$G$10, 'Step 4A PP Pre'!BV12, 0)","v":0},{"$f":"OFFSET(CPP_nyf_base!$G$10, 'Step 4A PP Pre'!BW12, 0)","v":0},{"$f":"OFFSET(CPP_nyf_base!$G$10, 'Step 4A PP Pre'!BX12, 0)","v":0},{"$f":"OFFSET(CPP_nyf_base!$G$10, 'Step 4A PP Pre'!BY12, 0)","v":0},{"$f":"OFFSET(CPP_nyf_base!$G$10, 'Step 4A PP Pre'!BZ12, 0)","v":0},{"$f":"OFFSET(CPP_nyf_base!$G$10, 'Step 4A PP Pre'!CA12, 0)","v":0},{"$f":"OFFSET(CPP_nyf_base!$G$10, 'Step 4A PP Pre'!CB12, 0)","v":0},{"$f":"OFFSET(CPP_nyf_base!$G$10, 'Step 4A PP Pre'!CC12, 0)","v":0},{"$f":"OFFSET(CPP_nyf_base!$G$10, 'Step 4A PP Pre'!CD12, 0)","v":0},{"$f":"OFFSET(CPP_nyf_base!$G$10, 'Step 4A PP Pre'!CE12, 0)","v":0},{"$f":"OFFSET(CPP_nyf_base!$G$10, 'Step 4A PP Pre'!CF12, 0)","v":0},{"$f":"OFFSET(CPP_nyf_base!$G$10, 'Step 4A PP Pre'!CG12, 0)","v":0},{"$f":"OFFSET(CPP_nyf_base!$G$10, 'Step 4A PP Pre'!CH12, 0)","v":0},{"$f":"OFFSET(CPP_nyf_base!$G$10, 'Step 4A PP Pre'!CI12, 0)","v":0},{"$f":"OFFSET(CPP_nyf_base!$G$10, 'Step 4A PP Pre'!CJ12, 0)","v":0},{"$f":"OFFSET(CPP_nyf_base!$G$10, 'Step 4A PP Pre'!CK12, 0)","v":0},{"$f":"OFFSET(CPP_nyf_base!$G$10, 'Step 4A PP Pre'!CL12, 0)","v":0},{"$f":"OFFSET(CPP_nyf_base!$G$10, 'Step 4A PP Pre'!CM12, 0)","v":0},{"$f":"OFFSET(CPP_nyf_base!$G$10, 'Step 4A PP Pre'!CN12, 0)","v":0},{"$f":"OFFSET(CPP_nyf_base!$G$10, 'Step 4A PP Pre'!CO12, 0)","v":0},{"$f":"OFFSET(CPP_nyf_base!$G$10, 'Step 4A PP Pre'!CP12, 0)","v":0},{"$f":"OFFSET(CPP_nyf_base!$G$10, 'Step 4A PP Pre'!CQ12, 0)","v":0},{"$f":"OFFSET(CPP_nyf_base!$G$10, 'Step 4A PP Pre'!CR12, 0)","v":0},{"$f":"OFFSET(CPP_nyf_base!$G$10, 'Step 4A PP Pre'!CS12, 0)","v":0},{"$f":"OFFSET(CPP_nyf_base!$G$10, 'Step 4A PP Pre'!CT12, 0)","v":0},{"$f":"OFFSET(CPP_nyf_base!$G$10, 'Step 4A PP Pre'!CU12, 0)","v":0},{"$f":"OFFSET(CPP_nyf_base!$G$10, 'Step 4A PP Pre'!CV12, 0)","v":0},{"$f":"OFFSET(CPP_nyf_base!$G$10, 'Step 4A PP Pre'!CW12, 0)","v":0},{"$f":"OFFSET(CPP_nyf_base!$G$10, 'Step 4A PP Pre'!CX12, 0)","v":0},{"$f":"OFFSET(CPP_nyf_base!$G$10, 'Step 4A PP Pre'!CY12, 0)","v":0},{"$f":"OFFSET(CPP_nyf_base!$G$10, 'Step 4A PP Pre'!CZ12, 0)","v":0},{"$f":"OFFSET(CPP_nyf_base!$G$10, 'Step 4A PP Pre'!DA12, 0)","v":0},{"$f":"OFFSET(CPP_nyf_base!$G$10, 'Step 4A PP Pre'!DB12, 0)","v":0},{"$f":"OFFSET(CPP_nyf_base!$G$10, 'Step 4A PP Pre'!DC12, 0)","v":0},{"$f":"OFFSET(CPP_nyf_base!$G$10, 'Step 4A PP Pre'!DD12, 0)","v":0},{"$f":"OFFSET(CPP_nyf_base!$G$10, 'Step 4A PP Pre'!DE12, 0)","v":0},{"$f":"OFFSET(CPP_nyf_base!$G$10, 'Step 4A PP Pre'!DF12, 0)","v":0},{"$f":"OFFSET(CPP_nyf_base!$G$10, 'Step 4A PP Pre'!DG12, 0)","v":0},{"$f":"OFFSET(CPP_nyf_base!$G$10, 'Step 4A PP Pre'!DH12, 0)","v":0},{"$f":"OFFSET(CPP_nyf_base!$G$10, 'Step 4A PP Pre'!DI12, 0)","v":0},{"$f":"OFFSET(CPP_nyf_base!$G$10, 'Step 4A PP Pre'!DJ12, 0)","v":0},{"$f":"OFFSET(CPP_nyf_base!$G$10, 'Step 4A PP Pre'!DK12, 0)","v":0},{"$f":"OFFSET(CPP_nyf_base!$G$10, 'Step 4A PP Pre'!DL12, 0)","v":0},{"$f":"OFFSET(CPP_nyf_base!$G$10, 'Step 4A PP Pre'!DM12, 0)","v":0},{"$f":"OFFSET(CPP_nyf_base!$G$10, 'Step 4A PP Pre'!DN12, 0)","v":0},{"$f":"OFFSET(CPP_nyf_base!$G$10, 'Step 4A PP Pre'!DO12, 0)","v":0},{"$f":"OFFSET(CPP_nyf_base!$G$10, 'Step 4A PP Pre'!DP12, 0)","v":0},{"$f":"OFFSET(CPP_nyf_base!$G$10, 'Step 4A PP Pre'!DQ12, 0)","v":0},{"$f":"OFFSET(CPP_nyf_base!$G$10, 'Step 4A PP Pre'!DR12, 0)","v":0},{"$f":"OFFSET(CPP_nyf_base!$G$10, 'Step 4A PP Pre'!DS12, 0)","v":0},{"$f":"OFFSET(CPP_nyf_base!$G$10, 'Step 4A PP Pre'!DT12, 0)","v":0},{"$f":"OFFSET(CPP_nyf_base!$G$10, 'Step 4A PP Pre'!DU12, 0)","v":0},{"$f":"OFFSET(CPP_nyf_base!$G$10, 'Step 4A PP Pre'!DV12, 0)","v":0},{"$f":"OFFSET(CPP_nyf_base!$G$10, 'Step 4A PP Pre'!DW12, 0)","v":0},{"$f":"OFFSET(CPP_nyf_base!$G$10, 'Step 4A PP Pre'!DX12, 0)","v":0},{"$f":"OFFSET(CPP_nyf_base!$G$10, 'Step 4A PP Pre'!DY12, 0)","v":0},{"$f":"OFFSET(CPP_nyf_base!$G$10, 'Step 4A PP Pre'!DZ12, 0)","v":0},{"$f":"OFFSET(CPP_nyf_base!$G$10, 'Step 4A PP Pre'!EA12, 0)","v":0},{"$f":"OFFSET(CPP_nyf_base!$G$10, 'Step 4A PP Pre'!EB12, 0)","v":0},{"$f":"OFFSET(CPP_nyf_base!$G$10, 'Step 4A PP Pre'!EC12, 0)","v":0},{"$f":"OFFSET(CPP_nyf_base!$G$10, 'Step 4A PP Pre'!ED12, 0)","v":0},{"$f":"OFFSET(CPP_nyf_base!$G$10, 'Step 4A PP Pre'!EE12, 0)","v":0},{"$f":"OFFSET(CPP_nyf_base!$G$10, 'Step 4A PP Pre'!EF12, 0)","v":0},{"$f":"OFFSET(CPP_nyf_base!$G$10, 'Step 4A PP Pre'!EG12, 0)","v":0},{"$f":"OFFSET(CPP_nyf_base!$G$10, 'Step 4A PP Pre'!EH12, 0)","v":0},{"$f":"OFFSET(CPP_nyf_base!$G$10, 'Step 4A PP Pre'!EI12, 0)","v":0},{"$f":"OFFSET(CPP_nyf_base!$G$10, 'Step 4A PP Pre'!EJ12, 0)","v":0},{"$f":"OFFSET(CPP_nyf_base!$G$10, 'Step 4A PP Pre'!EK12, 0)","v":0},{"$f":"OFFSET(CPP_nyf_base!$G$10, 'Step 4A PP Pre'!EL12, 0)","v":0},{"$f":"OFFSET(CPP_nyf_base!$G$10, 'Step 4A PP Pre'!EM12, 0)","v":0},{"$f":"OFFSET(CPP_nyf_base!$G$10, 'Step 4A PP Pre'!EN12, 0)","v":0},{"$f":"OFFSET(CPP_nyf_base!$G$10, 'Step 4A PP Pre'!EO12, 0)","v":0},{"$f":"OFFSET(CPP_nyf_base!$G$10, 'Step 4A PP Pre'!EP12, 0)","v":0},{"$f":"OFFSET(CPP_nyf_base!$G$10, 'Step 4A PP Pre'!EQ12, 0)","v":0},{"$f":"OFFSET(CPP_nyf_base!$G$10, 'Step 4A PP Pre'!ER12, 0)","v":0},{"$f":"OFFSET(CPP_nyf_base!$G$10, 'Step 4A PP Pre'!ES12, 0)","v":0},{"$f":"OFFSET(CPP_nyf_base!$G$10, 'Step 4A PP Pre'!ET12, 0)","v":0},{"$f":"OFFSET(CPP_nyf_base!$G$10, 'Step 4A PP Pre'!EU12, 0)","v":0},{"$f":"OFFSET(CPP_nyf_base!$G$10, 'Step 4A PP Pre'!EV12, 0)","v":0},{"$f":"OFFSET(CPP_nyf_base!$G$10, 'Step 4A PP Pre'!EW12, 0)","v":0},{"$f":"OFFSET(CPP_nyf_base!$G$10, 'Step 4A PP Pre'!EX12, 0)","v":0},{"$f":"OFFSET(CPP_nyf_base!$G$10, 'Step 4A PP Pre'!EY12, 0)","v":0},{"$f":"OFFSET(CPP_nyf_base!$G$10, 'Step 4A PP Pre'!EZ12, 0)","v":0},{"$f":"OFFSET(CPP_nyf_base!$G$10, 'Step 4A PP Pre'!FA12, 0)","v":0},{"$f":"OFFSET(CPP_nyf_base!$G$10, 'Step 4A PP Pre'!FB12, 0)","v":0},{"$f":"OFFSET(CPP_nyf_base!$G$10, 'Step 4A PP Pre'!FC12, 0)","v":0},{"$f":"OFFSET(CPP_nyf_base!$G$10, 'Step 4A PP Pre'!FD12, 0)","v":0},{"$f":"OFFSET(CPP_nyf_base!$G$10, 'Step 4A PP Pre'!FE12, 0)","v":0},{"$f":"OFFSET(CPP_nyf_base!$G$10, 'Step 4A PP Pre'!FF12, 0)","v":0},{"$f":"OFFSET(CPP_nyf_base!$G$10, 'Step 4A PP Pre'!FG12, 0)","v":0},{"$f":"OFFSET(CPP_nyf_base!$G$10, 'Step 4A PP Pre'!FH12, 0)","v":0},{"$f":"OFFSET(CPP_nyf_base!$G$10, 'Step 4A PP Pre'!FI12, 0)","v":0},{"$f":"OFFSET(CPP_nyf_base!$G$93, 'Step 4A PP Pre'!FJ12, 0)","v":0},{"$f":"OFFSET(CPP_nyf_base!$G$93, 'Step 4A PP Pre'!FK12, 0)","v":0},{"$f":"OFFSET(CPP_nyf_base!$G$93, 'Step 4A PP Pre'!FL12, 0)","v":0},{"$f":"OFFSET(CPP_nyf_base!$G$93, 'Step 4A PP Pre'!FM12, 0)","v":0},{"$f":"OFFSET(CPP_nyf_base!$G$93, 'Step 4A PP Pre'!FN12, 0)","v":0},{"$f":"OFFSET(CPP_nyf_base!$G$93, 'Step 4A PP Pre'!FO12, 0)","v":0},{"$f":"OFFSET(CPP_nyf_base!$G$93, 'Step 4A PP Pre'!FP12, 0)","v":0},{"$f":"OFFSET(CPP_nyf_base!$G$93, 'Step 4A PP Pre'!FQ12, 0)","v":0},{"$f":"OFFSET(CPP_nyf_base!$G$93, 'Step 4A PP Pre'!FR12, 0)","v":0},{"$f":"OFFSET(CPP_nyf_base!$G$93, 'Step 4A PP Pre'!FS12, 0)","v":0},{"$f":"OFFSET(CPP_nyf_base!$G$93, 'Step 4A PP Pre'!FT12, 0)","v":0},{"$f":"OFFSET(CPP_nyf_base!$G$93, 'Step 4A PP Pre'!FU12, 0)","v":0},{"$f":"OFFSET(CPP_nyf_base!$G$93, 'Step 4A PP Pre'!FV12, 0)","v":0},{"$f":"OFFSET(CPP_nyf_base!$G$93, 'Step 4A PP Pre'!FW12, 0)","v":0},{"$f":"OFFSET(CPP_nyf_base!$G$93, 'Step 4A PP Pre'!FX12, 0)","v":0},{"$f":"OFFSET(CPP_nyf_base!$G$93, 'Step 4A PP Pre'!FY12, 0)","v":0},{"$f":"OFFSET(CPP_nyf_base!$G$93, 'Step 4A PP Pre'!FZ12, 0)","v":0},{"$f":"OFFSET(CPP_nyf_base!$G$93, 'Step 4A PP Pre'!GA12, 0)","v":0},{"$f":"OFFSET(CPP_nyf_base!$G$93, 'Step 4A PP Pre'!GB12, 0)","v":0},0,0]
[null,null,null,null,null,null,"PP",null,null,1,1,1,1,1,1,1,1,1,1,1,1,1,1,1,1,1,1,1,1,1,1,1,1,1,1,1,1,1,1,1,1,1,1,1,1,1,1,1,1,1,1,1,1,1,1,1,1,1,1,1,1,1,1,1,1,1,1,1,1,1,1,1,1,1,1,1,1,1,1,1,1,1,1,1,1,1,1,1,1,1,1,1,1,1,1,1,1,1,1,1,1,1,1,1,1,1,1,1,1,1,1,1,1,1,1,1,1,1,1,1,1,1,1,1,1,1,1,1,1,1,1,1,1,1,1,1,1,1,1,1,1,1,1,1,1,1,1,1,1,1,1,1,1,1,1,1,1,1,1,1,1,1,1,1,1,1,1,1,1,1,1,1,1,1,1,1,1,1,1,1,1,1,1,1,1,1]
[null,null,null,null,null,null,"Offset",null,null,1,2,3,4,5,6,7,8,9,10,11,12,13,14,15,16,17,18,19,20,21,22,23,24,25,26,27,28,29,30,31,32,33,34,35,36,37,38,39,40,41,42,43,44,45,46,47,48,49,50,51,52,53,54,55,56,57,58,59,60,61,62,63,64,65,66,67,68,69,70,71,72,73,74,75,76,77,78,{"$f":"J16","v":1},{"$f":"K16","v":2},3,4,5,6,7,8,9,10,11,12,13,14,15,16,17,{"$f":"AA16","v":18},19,20,21,22,23,24,25,26,27,28,29,30,31,32,33,{"$f":"AQ16","v":34},35,36,37,38,39,40,41,42,43,44,45,46,47,48,49,{"$f":"BG16","v":50},51,52,53,54,55,56,57,58,59,60,61,62,63,64,65,{"$f":"BW16","v":66},67,68,69,70,71,72,73,74,75,76,77,78,1,2,3,4,5,6,7,8,9,10,11,12,13,14,17,18,19,20,21,0,0]
[null,null,null,null,null,null,"Use",null,null,{"$f":"OFFSET(PP_nyf_base!$G$10, 'Step 4A PP Pre'!J16, 0)","v":0},{"$f":"OFFSET(PP_nyf_base!$G$10, 'Step 4A PP Pre'!K16, 0)","v":0},{"$f":"OFFSET(PP_nyf_base!$G$10, 'Step 4A PP Pre'!L16, 0)","v":0},{"$f":"OFFSET(PP_nyf_base!$G$10, 'Step 4A PP Pre'!M16, 0)","v":0},{"$f":"OFFSET(PP_nyf_base!$G$10, 'Step 4A PP Pre'!N16, 0)","v":0},{"$f":"OFFSET(PP_nyf_base!$G$10, 'Step 4A PP Pre'!O16, 0)","v":0},{"$f":"OFFSET(PP_nyf_base!$G$10, 'Step 4A PP Pre'!P16, 0)","v":0},{"$f":"OFFSET(PP_nyf_base!$G$10, 'Step 4A PP Pre'!Q16, 0)","v":0},{"$f":"OFFSET(PP_nyf_base!$G$10, 'Step 4A PP Pre'!R16, 0)","v":0},{"$f":"OFFSET(PP_nyf_base!$G$10, 'Step 4A PP Pre'!S16, 0)","v":0},{"$f":"OFFSET(PP_nyf_base!$G$10, 'Step 4A PP Pre'!T16, 0)","v":0},{"$f":"OFFSET(PP_nyf_base!$G$10, 'Step 4A PP Pre'!U16, 0)","v":0},{"$f":"OFFSET(PP_nyf_base!$G$10, 'Step 4A PP Pre'!V16, 0)","v":0},{"$f":"OFFSET(PP_nyf_base!$G$10, 'Step 4A PP Pre'!W16, 0)","v":0},{"$f":"OFFSET(PP_nyf_base!$G$10, 'Step 4A PP Pre'!X16, 0)","v":0},{"$f":"OFFSET(PP_nyf_base!$G$10, 'Step 4A PP Pre'!Y16, 0)","v":0},{"$f":"OFFSET(PP_nyf_base!$G$10, 'Step 4A PP Pre'!Z16, 0)","v":0},{"$f":"OFFSET(PP_nyf_base!$G$10, 'Step 4A PP Pre'!AA16, 0)","v":0},{"$f":"OFFSET(PP_nyf_base!$G$10, 'Step 4A PP Pre'!AB16, 0)","v":0},{"$f":"OFFSET(PP_nyf_base!$G$10, 'Step 4A PP Pre'!AC16, 0)","v":0},{"$f":"OFFSET(PP_nyf_base!$G$10, 'Step 4A PP Pre'!AD16, 0)","v":0},{"$f":"OFFSET(PP_nyf_base!$G$10, 'Step 4A PP Pre'!AE16, 0)","v":0},{"$f":"OFFSET(PP_nyf_base!$G$10, 'Step 4A PP Pre'!AF16, 0)","v":0},{"$f":"OFFSET(PP_nyf_base!$G$10, 'Step 4A PP Pre'!AG16, 0)","v":0},{"$f":"OFFSET(PP_nyf_base!$G$10, 'Step 4A PP Pre'!AH16, 0)","v":0},{"$f":"OFFSET(PP_nyf_base!$G$10, 'Step 4A PP Pre'!AI16, 0)","v":0},{"$f":"OFFSET(PP_nyf_base!$G$10, 'Step 4A PP Pre'!AJ16, 0)","v":0},{"$f":"OFFSET(PP_nyf_base!$G$10, 'Step 4A PP Pre'!AK16, 0)","v":0},{"$f":"OFFSET(PP_nyf_base!$G$10, 'Step 4A PP Pre'!AL16, 0)","v":0},{"$f":"OFFSET(PP_nyf_base!$G$10, 'Step 4A PP Pre'!AM16, 0)","v":0},{"$f":"OFFSET(PP_nyf_base!$G$10, 'Step 4A PP Pre'!AN16, 0)","v":0},{"$f":"OFFSET(PP_nyf_base!$G$10, 'Step 4A PP Pre'!AO16, 0)","v":0},{"$f":"OFFSET(PP_nyf_base!$G$10, 'Step 4A PP Pre'!AP16, 0)","v":0},{"$f":"OFFSET(PP_nyf_base!$G$10, 'Step 4A PP Pre'!AQ16, 0)","v":0},{"$f":"OFFSET(PP_nyf_base!$G$10, 'Step 4A PP Pre'!AR16, 0)","v":0},{"$f":"OFFSET(PP_nyf_base!$G$10, 'Step 4A PP Pre'!AS16, 0)","v":0},{"$f":"OFFSET(PP_nyf_base!$G$10, 'Step 4A PP Pre'!AT16, 0)","v":0},{"$f":"OFFSET(PP_nyf_base!$G$10, 'Step 4A PP Pre'!AU16, 0)","v":0},{"$f":"OFFSET(PP_nyf_base!$G$10, 'Step 4A PP Pre'!AV16, 0)","v":0},{"$f":"OFFSET(PP_nyf_base!$G$10, 'Step 4A PP Pre'!AW16, 0)","v":0},{"$f":"OFFSET(PP_nyf_base!$G$10, 'Step 4A PP Pre'!AX16, 0)","v":0},{"$f":"OFFSET(PP_nyf_base!$G$10, 'Step 4A PP Pre'!AY16, 0)","v":0},{"$f":"OFFSET(PP_nyf_base!$G$10, 'Step 4A PP Pre'!AZ16, 0)","v":0},{"$f":"OFFSET(PP_nyf_base!$G$10, 'Step 4A PP Pre'!BA16, 0)","v":0},{"$f":"OFFSET(PP_nyf_base!$G$10, 'Step 4A PP Pre'!BB16, 0)","v":0},{"$f":"OFFSET(PP_nyf_base!$G$10, 'Step 4A PP Pre'!BC16, 0)","v":0},{"$f":"OFFSET(PP_nyf_base!$G$10, 'Step 4A PP Pre'!BD16, 0)","v":0},{"$f":"OFFSET(PP_nyf_base!$G$10, 'Step 4A PP Pre'!BE16, 0)","v":0},{"$f":"OFFSET(PP_nyf_base!$G$10, 'Step 4A PP Pre'!BF16, 0)","v":0},{"$f":"OFFSET(PP_nyf_base!$G$10, 'Step 4A PP Pre'!BG16, 0)","v":0},{"$f":"OFFSET(PP_nyf_base!$G$10, 'Step 4A PP Pre'!BH16, 0)","v":0},{"$f":"OFFSET(PP_nyf_base!$G$10, 'Step 4A PP Pre'!BI16, 0)","v":0},{"$f":"OFFSET(PP_nyf_base!$G$10, 'Step 4A PP Pre'!BJ16, 0)","v":0},{"$f":"OFFSET(PP_nyf_base!$G$10, 'Step 4A PP Pre'!BK16, 0)","v":0},{"$f":"OFFSET(PP_nyf_base!$G$10, 'Step 4A PP Pre'!BL16, 0)","v":0},{"$f":"OFFSET(PP_nyf_base!$G$10, 'Step 4A PP Pre'!BM16, 0)","v":0},{"$f":"OFFSET(PP_nyf_base!$G$10, 'Step 4A PP Pre'!BN16, 0)","v":0},{"$f":"OFFSET(PP_nyf_base!$G$10, 'Step 4A PP Pre'!BO16, 0)","v":0},{"$f":"OFFSET(PP_nyf_base!$G$10, 'Step 4A PP Pre'!BP16, 0)","v":0},{"$f":"OFFSET(PP_nyf_base!$G$10, 'Step 4A PP Pre'!BQ16, 0)","v":0},{"$f":"OFFSET(PP_nyf_base!$G$10, 'Step 4A PP Pre'!BR16, 0)","v":0},{"$f":"OFFSET(PP_nyf_base!$G$10, 'Step 4A PP Pre'!BS16, 0)","v":0},{"$f":"OFFSET(PP_nyf_base!$G$10, 'Step 4A PP Pre'!BT16, 0)","v":0},{"$f":"OFFSET(PP_nyf_base!$G$10, 'Step 4A PP Pre'!BU16, 0)","v":0},{"$f":"OFFSET(PP_nyf_base!$G$10, 'Step 4A PP Pre'!BV16, 0)","v":0},{"$f":"OFFSET(PP_nyf_base!$G$10, 'Step 4A PP Pre'!BW16, 0)","v":0},{"$f":"OFFSET(PP_nyf_base!$G$10, 'Step 4A PP Pre'!BX16, 0)","v":0},{"$f":"OFFSET(PP_nyf_base!$G$10, 'Step 4A PP Pre'!BY16, 0)","v":0},{"$f":"OFFSET(PP_nyf_base!$G$10, 'Step 4A PP Pre'!BZ16, 0)","v":0},{"$f":"OFFSET(PP_nyf_base!$G$10, 'Step 4A PP Pre'!CA16, 0)","v":0},{"$f":"OFFSET(PP_nyf_base!$G$10, 'Step 4A PP Pre'!CB16, 0)","v":0},{"$f":"OFFSET(PP_nyf_base!$G$10, 'Step 4A PP Pre'!CC16, 0)","v":0},{"$f":"OFFSET(PP_nyf_base!$G$10, 'Step 4A PP Pre'!CD16, 0)","v":0},{"$f":"OFFSET(PP_nyf_base!$G$10, 'Step 4A PP Pre'!CE16, 0)","v":0},{"$f":"OFFSET(PP_nyf_base!$G$10, 'Step 4A PP Pre'!CF16, 0)","v":0},{"$f":"OFFSET(PP_nyf_base!$G$10, 'Step 4A PP Pre'!CG16, 0)","v":0},{"$f":"OFFSET(PP_nyf_base!$G$10, 'Step 4A PP Pre'!CH16, 0)","v":0},{"$f":"OFFSET(PP_nyf_base!$G$10, 'Step 4A PP Pre'!CI16, 0)","v":0},{"$f":"J17","v":0},0,0,0,0,0,0,0,0,0,0,0,0,0,0,0,0,0,0,0,0,0,0,0,0,0,0,0,0,0,0,0,0,0,0,0,0,0,0,0,0,0,0,0,0,0,0,0,0,0,0,0,0,0,0,0,0,0,0,0,0,0,0,0,0,0,0,0,0,0,0,0,0,0,0,0,0,0,{"$f":"OFFSET(PP_nyf_base!$G$94, 'Step 4A PP Pre'!FJ16, 0)","v":0},{"$f":"OFFSET(PP_nyf_base!$G$94, 'Step 4A PP Pre'!FK16, 0)","v":0},{"$f":"OFFSET(PP_nyf_base!$G$94, 'Step 4A PP Pre'!FL16, 0)","v":0},{"$f":"OFFSET(PP_nyf_base!$G$94, 'Step 4A PP Pre'!FM16, 0)","v":0},{"$f":"OFFSET(PP_nyf_base!$G$94, 'Step 4A PP Pre'!FN16, 0)","v":0},{"$f":"OFFSET(PP_nyf_base!$G$94, 'Step 4A PP Pre'!FO16, 0)","v":0},{"$f":"OFFSET(PP_nyf_base!$G$94, 'Step 4A PP Pre'!FP16, 0)","v":0},{"$f":"OFFSET(PP_nyf_base!$G$94, 'Step 4A PP Pre'!FQ16, 0)","v":0},{"$f":"OFFSET(PP_nyf_base!$G$94, 'Step 4A PP Pre'!FR16, 0)","v":0},{"$f":"OFFSET(PP_nyf_base!$G$94, 'Step 4A PP Pre'!FS16, 0)","v":0},{"$f":"OFFSET(PP_nyf_base!$G$94, 'Step 4A PP Pre'!FT16, 0)","v":0},{"$f":"OFFSET(PP_nyf_base!$G$94, 'Step 4A PP Pre'!FU16, 0)","v":0},{"$f":"OFFSET(PP_nyf_base!$G$94, 'Step 4A PP Pre'!FV16, 0)","v":0},{"$f":"OFFSET(PP_nyf_base!$G$94, 'Step 4A PP Pre'!FW16, 0)","v":0},{"$f":"OFFSET(PP_nyf_base!$G$94, 'Step 4A PP Pre'!FX16, 0)","v":0},{"$f":"OFFSET(PP_nyf_base!$G$94, 'Step 4A PP Pre'!FY16, 0)","v":0},{"$f":"OFFSET(PP_nyf_base!$G$94, 'Step 4A PP Pre'!FZ16, 0)","v":0},{"$f":"OFFSET(PP_nyf_base!$G$94, 'Step 4A PP Pre'!GA16, 0)","v":0},{"$f":"OFFSET(PP_nyf_base!$G$94, 'Step 4A PP Pre'!GB16, 0)","v":0},1,1]
[null,null,null,null,null,null,"Code",null,null,"Tena1","Tena2","Conf1","Conf2","Conf3","Conf4","Conf5","Proa1","Proa2","Grow1","Grow2","Care1","Care2","Care3","Cult1","Glob1","Glob2","Glob3","Glob4","Inno1","Crit1","Crit2","Crit3","Prob1","Prob2","Prob3","Prob4","Prob5","Team1","Team2","Team3","Team4","Team5","Team6","Stak1","Stak2","Stak3","Stak4","Proj1","Emot1","Emot2","Emot3","Emot4","Emot5","Fina1","Phys1","Phys2","Nati1","Nati_pers1","Nati_pers2","Nati_pers3","Nati_pers4","Publ1","Trus1","Trus2","Trus3","Trus4","Soci1","Soci2","Open1","Open2","Empa1","Abil_comm1","Abil_comm2","Civi_comm1","Civi_comm2","Civi_comm3","Civi_comm4","Civi_comm5","Civi_comm6","Civi_comm7","Civi_env1","Civi_env2","Civi_env3","Civi_env4","Civi_env5","Civi_env6","Abil_govt1","Tena1","Tena2","Conf1","Conf2","Conf3","Conf4","Conf5","Proa1","Proa2","Grow1","Grow2","Care1","Care2","Care3","Cult1","Glob1","Glob2","Glob3","Glob4","Inno1","Crit1","Crit2","Crit3","Prob1","Prob2","Prob3","Prob4","Prob5","Team1","Team2","Team3","Team4","Team5","Team6","Stak1","Stak2","Stak3","Stak4","Proj1","Emot1","Emot2","Emot3","Emot4","Emot5","Fina1","Phys1","Phys2","Nati1","Nati_pers1","Nati_pers2","Nati_pers3","Nati_pers4","Publ1","Trus1","Trus2","Trus3","Trus4","Soci1","Soci2","Open1","Open2","Empa1","Abil_comm1","Abil_comm2","Civi_comm1","Civi_comm2","Civi_comm3","Civi_comm4","Civi_comm5","Civi_comm6","Civi_comm7","Civi_env1","Civi_env2","Civi_env3","Civi_env4","Civi_env5","Civi_env6","Abil_govt1","Prog_imp1","Prog_imp2","Prog_imp3","Prog_imp4","Prog_imp5","Feed1","Feed2","Feed3","Feed4","Feed5","Feed6","Feed7","Feed8","Feed9","Over1","Over2","Over3","Over4","Over5","Nric_Pre","Nric_Post",null,null,null,null,null,null,null,null,null,null,null,null,null,null,null,null,null,null,null,null,null,null,null,null,null,null,null,null,null,null,null,null,null,null,null,null,null,null,null,null,null,null,null,null,null,null,null,null,null,null,null,null,null,null,null,null,null,null,null,null,null,null,null,null,null,null,null,null,null,null,null,null,null,null,null,null,null,null,null,null,null,null,null,null,null,null,null,null,null,null,null,null,null,null,null,null,null,null,null,null,null,null,null,null,null,null,null,null,null,null,null,null,null,null,null,null,null,null,null,null,null,null,null,null,null,null,null,null,null,null,null,null,null,null,null,null,null,null,null,null,null,null,null,null,null,null,null,null,null,null,null,null,null,null,null,null,null,null,null,null,null,null,null,null,null,null,null,null,null,null,null,null,null,null,null,null,null,null,null,null,null,null,"sub_count",{"$f":"SUM(NE21:NE1020)","v":0}]
[null,null,null,null,null,null,"Stage",null,null,"Pre","Pre","Pre","Pre","Pre","Pre","Pre","Pre","Pre","Pre","Pre","Pre","Pre","Pre","Pre","Pre","Pre","Pre","Pre","Pre","Pre","Pre","Pre","Pre","Pre","Pre","Pre","Pre","Pre","Pre","Pre","Pre","Pre","Pre","Pre","Pre","Pre","Pre","Pre","Pre","Pre","Pre","Pre","Pre","Pre","Pre","Pre","Pre","Pre","Pre","Pre","Pre","Pre","Pre","Pre","Pre","Pre","Pre","Pre","Pre","Pre","Pre","Pre","Pre","Pre","Pre","Pre","Pre","Pre","Pre","Pre","Pre","Pre","Pre","Pre","Pre","Pre","Pre","Post","Post","Post","Post","Post","Post","Post","Post","Post","Post","Post","Post","Post","Post","Post","Post","Post","Post","Post","Post","Post","Post","Post","Post","Post","Post","Post","Post","Post","Post","Post","Post","Post","Post","Post","Post","Post","Post","Post","Post","Post","Post","Post","Post","Post","Post","Post","Post","Post","Post","Post","Post","Post","Post","Post","Post","Post","Post","Post","Post","Post","Post","Post","Post","Post","Post","Post","Post","Post","Post","Post","Post","Post","Post","Post","Post","Post","Post","Post","Post","Post","Post","Post","Post","Post","Post","Post","Post","Post","Post","Post","Post","Post","Post","Post","Post","Post","Pre","Post"]
[null,null,null,null,null,null,"Input","Prog_name","Org_name","[Before]I am able to persevere in the face of challenges.","[Before]I do not give up even after experiencing failure. ","[Before]I feel that I have a number of good qualities.","[Before]I am able to do things as well as most other people. ","[Before]I believe I can achieve my goals.","[Before]I believe I have the ability to succeed in the things I want to do.","[Before]I am confident I can succeed when I try my best.","[Before]I seize the opportunity whenever I see one. ","[Before]I take initiative instead of waiting for things to happen.","[Before]I believe it is important to challenge myself to grow. ","[Before]Difficult times are an opportunity for me to learn and grow as a person.","[Before]I am aware of the skills that will help me to succeed in my career in future.","[Before]I am aware of the potential career pathways that I can take to achieve my goals.","[Before]I believe I can achieve my career goals. ","[Before]I am aware of differences between cultures.","[[BEFORE]] I am aware of issues affecting other countries","[[BEFORE]] I understand how changes around the world affect other countries.","[[BEFORE]] I understand the opportunities and challenges other countries have.","[[BEFORE]] I understand the difficulties in trying to solve global issues.","[[BEFORE]] I know of ways to come up with new ideas. ","[[BEFORE]] I am able to link different information together. ","[[BEFORE]] I think through issues from different angles.","[[BEFORE]] I analyse an issue thoroughly before coming to a conclusion.","[[BEFORE]] I know how to identify and solve problems.","[[BEFORE]] I am able to solve problems that I face.","[[BEFORE]] After I have tried to solve a problem, I examine why it did or did not work.","[[BEFORE]] When solving a problem, I compare the pros and cons of my solutions. ","[[BEFORE]] When faced with a problem, I try to find out the cause of the problem.","[[BEFORE]] I know how to work well in a team.","[[BEFORE]] I support others in the team.","[[BEFORE]] I communicate well with my team members.","[[BEFORE]] I work well in a team.","[[BEFORE]] I treat other members of my team as equal to myself.","[[BEFORE]] I am able to work with people who have different working styles from me.","[[BEFORE]] I know how to work well with my stakeholders.","[[BEFORE]] I seek to understand the needs of my stakeholders.","[[BEFORE]] I am able to establish common understanding and build trust with my stakeholders.","[[BEFORE]] I work well with my stakeholders.","[[BEFORE]] I understand the factors that are critical to the smooth running of an event or a project. ","[[BEFORE]] I know how to identify symptoms of mental and emotional distress. ","[[BEFORE]] I am able to support those struggling mentally and emotionally. ","[[BEFORE]] I know how I can manage negative thoughts and emotions. ","[[BEFORE]] I know where to seek help when I have distressing thoughts and emotions beyond my control. ","[[BEFORE]] If I have distressing thoughts and emotions beyond my control, I would seek help.","[[BEFORE]] I know the steps that I can take to meet my financial goals.","[[BEFORE]] I believe it is important to stay physically healthy. ","[[BEFORE]] I make a conscious effort to maintain a healthy lifestyle.","[[BEFORE]] I am proud to be a Singaporean. ","[[BEFORE]] I am aware of issues affecting Singapore.","[[BEFORE]] I understand how changes around the world affect Singapore and its future.","[[BEFORE]] I understand the opportunities and challenges that Singapore has.","[[BEFORE]] I understand the difficulties in trying to solve issues affecting Singapore's society.","[[BEFORE]] I am aware of policies and programmes that tackle issues affecting Singapore's society.","[[BEFORE]] I trust the government. ","[[BEFORE]] I feel that the government understands the concerns of Singaporeans like me.","[[BEFORE]] I feel that the government cares for the wellbeing of Singaporeans like me.","[[BEFORE]] I feel that the government values my views.","[[BEFORE]] I have people that I can talk with about my problems.","[[BEFORE]] I have people whom I can turn to for support. ","[[BEFORE]] I respect the opinions of others, even if I do not agree with it. ","[[BEFORE]] I respect the values and beliefs of people who are of a different background from me.","[[BEFORE]] I put myself in the shoes of others to understand how they feel.","[[BEFORE]] I believe that I can make a difference in the community.","[[BEFORE]] I believe I can help to shape society.","[[BEFORE]] I am aware of the needs in the community.","[[BEFORE]] I understand the ways that I can contribute to the community.","[[BEFORE]] I believe I have a role to play in improving the community.","[[BEFORE]] I feel a strong conviction to give back to the community.","[[BEFORE]] I actively participate in efforts that help to improve the community.","[[BEFORE]] I participate in discussions on national, community or social issues.","[[BEFORE]] I encourage my peers to participate in activities that help to improve the community.","[[BEFORE]] I am aware of the effects of my actions on the environment.","[[BEFORE]] I understand the ways that I can care for the environment.","[[BEFORE]] I feel responsible towards the environment.","[[BEFORE]] My efforts to care for the environment will make a difference.","[[BEFORE]] I actively participate in efforts to care for the environment.","[[BEFORE]] I encourage my peers to care for the environment.","[[BEFORE]] I believe that I can influence government decisions on issues. ","[[AFTER]] I am able to persevere in the face of challenges.","[[AFTER]] I do not give up even after experiencing failure. ","[[AFTER]] I feel that I have a number of good qualities.","[[AFTER]] I am able to do things as well as most other people. ","[[AFTER]] I believe I can achieve my goals.","[[AFTER]] I believe I have the ability to succeed in the things I want to do.","[[AFTER]] I am confident I can succeed when I try my best.","[[AFTER]] I seize the opportunity whenever I see one. ","[[AFTER]] I take initiative instead of waiting for things to happen.","[[AFTER]] I believe it is important to challenge myself to grow. ","[[AFTER]] Difficult times are an opportunity for me to learn and grow as a person.","[[AFTER]] I am aware of the skills that will help me to succeed in my career in future.","[[AFTER]] I am aware of the potential career pathways that I can take to achieve my goals.","[[AFTER]] I believe I can achieve my career goals. ","[[AFTER]] I am aware of differences between cultures.","[[AFTER]] I am aware of issues affecting other countries","[[AFTER]] I understand how changes around the world affect other countries.","[[AFTER]] I understand the opportunities and challenges other countries have.","[[AFTER]] I understand the difficulties in trying to solve global issues.","[[AFTER]] I know of ways to come up with new ideas. ","[[AFTER]] I am able to link different information together. ","[[AFTER]] I think through issues from different angles.","[[AFTER]] I analyse an issue thoroughly before coming to a conclusion.","[[AFTER]] I know how to identify and solve problems.","[[AFTER]] I am able to solve problems that I face.","[[AFTER]] After I have tried to solve a problem, I examine why it did or did not work.","[[AFTER]] When solving a problem, I compare the pros and cons of my solutions. ","[[AFTER]] When faced with a problem, I try to find out the cause of the problem.","[[AFTER]] I know how to work well in a team.","[[AFTER]] I support others in the team.","[[AFTER]] I communicate well with my team members.","[[AFTER]] I work well in a team.","[[AFTER]] I treat other members of my team as equal to myself.","[[AFTER]] I am able to work with people who have different working styles from me.","[[AFTER]] I know how to work well with my stakeholders.","[[AFTER]] I seek to understand the needs of my stakeholders.","[[AFTER]] I am able to establish common understanding and build trust with my stakeholders.","[[AFTER]] I work well with my stakeholders.","[[AFTER]] I understand the factors that are critical to the smooth running of an event or a project. ","[[AFTER]] I know how to identify symptoms of mental and emotional distress. ","[[AFTER]] I am able to support those struggling mentally and emotionally. ","[[AFTER]] I know how I can manage negative thoughts and emotions. ","[[AFTER]] I know where to seek help when I have distressing thoughts and emotions beyond my control. ","[[AFTER]] If I have distressing thoughts and emotions beyond my control, I would seek help.","[[AFTER]] I know the steps that I can take to meet my financial goals.","[[AFTER]] I believe it is important to stay physically healthy. ","[[AFTER]] I make a conscious effort to maintain a healthy lifestyle.","[[AFTER]] I am proud to be a Singaporean. ","[[AFTER]] I am aware of issues affecting Singapore.","[[AFTER]] I understand how changes around the world affect Singapore and its future.","[[AFTER]] I understand the opportunities and challenges that Singapore has.","[[AFTER]] I understand the difficulties in trying to solve issues affecting Singapore's society.","[[AFTER]] I am aware of policies and programmes that tackle issues affecting Singapore's society.","[[AFTER]] I trust the government. ","[[AFTER]] I feel that the government understands the concerns of Singaporeans like me.","[[AFTER]] I feel that the government cares for the wellbeing of Singaporeans like me.","[[AFTER]] I feel that the government values my views.","[[AFTER]] I have people that I can talk with about my problems.","[[AFTER]] I have people whom I can turn to for support. ","[[AFTER]] I respect the opinions of others, even if I do not agree with it. ","[[AFTER]] I respect the values and beliefs of people who are of a different background from me.","[[AFTER]] I put myself in the shoes of others to understand how they feel.","[[AFTER]] I believe that I can make a difference in the community.","[[AFTER]] I believe I can help to shape society.","[[AFTER]] I am aware of the needs in the community.","[[AFTER]] I understand the ways that I can contribute to the community.","[[AFTER]] I believe I have a role to play in improving the community.","[[AFTER]] I feel a strong conviction to give back to the community.","[[AFTER]] I actively participate in efforts that help to improve the community.","[[AFTER]] I participate in discussions on national, community or social issues.","[[AFTER]] I encourage my peers to participate in activities that help to improve the community.","[[AFTER]] I am aware of the effects of my actions on the environment.","[[AFTER]] I understand the ways that I can care for the environment.","[[AFTER]] I feel responsible towards the environment.","[[AFTER]] My efforts to care for the environment will make a difference.","[[AFTER]] I actively participate in efforts to care for the environment.","[[AFTER]] I encourage my peers to care for the environment.","[[AFTER]] I believe that I can influence government decisions on issues. ","What do you think of the duration of programme_name?","I feel that the pace of programme_name was…","The accommodation is of acceptable standard.","The meal(s) are of acceptable standard.","The facilities are of acceptable standard.","The mentor provided sufficient guidance. ","The mentor provided useful insights.","The mentor was able to facilitate learning through reflections and asking critical questions. ","The mentor provided useful feedback for my personal growth.","The mentor has the necessary knowledge and skills for the role.","The mentor was able to point me to useful resources.","The mentor is able to communicate well with the group.","The mentor was able to manage the group effectively","How would you rate the mentor as a whole?","Overall, I am satisfied with programme_name.","How would you rate programme_name as a whole? ","I would recommend programme_name to others. ","I would like to take part in other activities organised by organisation_name.","This programme has allowed me to expand my networks.","Please provide the last 5 characters of your NRIC","Please provide the last 5 characters of your NRIC",null,"VALIDATION","I am able to persevere in the face of challenges.","I do not give up even after experiencing failure. ","I feel that I have a number of good qualities.","I am able to do things as well as most other people. ","I believe I can achieve my goals.","I believe I have the ability to succeed in the things I want to do.","I am confident I can succeed when I try my best.","I seize the opportunity whenever I see one. ","I take initiative instead of waiting for things to happen.","I believe it is important to challenge myself to grow. ","Difficult times are an opportunity for me to learn and grow as a person.","I am aware of the skills that will help me to succeed in my career in future.","I am aware of the potential career pathways that I can take to achieve my goals.","I believe I can achieve my career goals. ","I am aware of differences between cultures.","I am aware of issues affecting other countries","I understand how changes around the world affect other countries.","I understand the opportunities and challenges other countries have.","I understand the difficulties in trying to solve global issues.","I know of ways to come up with new ideas. ","I am able to link different information together. ","I think through issues from different angles.","I analyse an issue thoroughly before coming to a conclusion.","I know how to identify and solve problems.","I am able to solve problems that I face.","After I have tried to solve a problem, I examine why it did or did not work.","When solving a problem, I compare the pros and cons of my solutions. ","When faced with a problem, I try to find out the cause of the problem.","I know how to work well in a team.","I support others in the team.","I communicate well with my team members.","I work well in a team.","I treat other members of my team as equal to myself.","I am able to work with people who have different working styles from me.","I know how to work well with my stakeholders.","I seek to understand the needs of my stakeholders.","I am able to establish common understanding and build trust with my stakeholders.","I work well with my stakeholders.","I understand the factors that are critical to the smooth running of an event or a project. ","I know how to identify symptoms of mental and emotional distress. ","I am able to support those struggling mentally and emotionally. ","I know how I can manage negative thoughts and emotions. ","I know where to seek help when I have distressing thoughts and emotions beyond my control. ","If I have distressing thoughts and emotions beyond my control, I would seek help.","I know the steps that I can take to meet my financial goals.","I believe it is important to stay physically healthy. ","I make a conscious effort to maintain a healthy lifestyle.","I am proud to be a Singaporean. ","I am aware of issues affecting Singapore.","I understand how changes around the world affect Singapore and its future.","I understand the opportunities and challenges that Singapore has.","I understand the difficulties in trying to solve issues affecting Singapore's society.","I am aware of policies and programmes that tackle issues affecting Singapore's society.","I trust the government. ","I feel that the government understands the concerns of Singaporeans like me.","I feel that the government cares for the wellbeing of Singaporeans like me.","I feel that the government values my views.","I have people that I can talk with about my problems.","I have people whom I can turn to for support. ","I respect the opinions of others, even if I do not agree with it. ","I respect the values and beliefs of people who are of a different background from me.","I put myself in the shoes of others to understand how they feel.","I believe that I can make a difference in the community.","I believe I can help to shape society.","I am aware of the needs in the community.","I understand the ways that I can contribute to the community.","I believe I have a role to play in improving the community.","I feel a strong conviction to give back to the community.","I actively participate in efforts that help to improve the community.","I participate in discussions on national, community or social issues.","I encourage my peers to participate in activities that help to improve the community.","I am aware of the effects of my actions on the environment.","I understand the ways that I can care for the environment.","I feel responsible towards the environment.","My efforts to care for the environment will make a difference.","I actively participate in efforts to care for the environment.","I encourage my peers to care for the environment.","I believe that I can influence government decisions on issues. ","I am able to persevere in the face of challenges.","I do not give up even after experiencing failure. ","I feel that I have a number of good qualities.","I am able to do things as well as most other people. ","I believe I can achieve my goals.","I believe I have the ability to succeed in the things I want to do.","I am confident I can succeed when I try my best.","I seize the opportunity whenever I see one. ","I take initiative instead of waiting for things to happen.","I believe it is important to challenge myself to grow. ","Difficult times are an opportunity for me to learn and grow as a person.","I am aware of the skills that will help me to succeed in my career in future.","I am aware of the potential career pathways that I can take to achieve my goals.","I believe I can achieve my career goals. ","I am aware of differences between cultures.","I am aware of issues affecting other countries","I understand how changes around the world affect other countries.","I understand the opportunities and challenges other countries have.","I understand the difficulties in trying to solve global issues.","I know of ways to come up with new ideas. ","I am able to link different information together. ","I think through issues from different angles.","I analyse an issue thoroughly before coming to a conclusion.","I know how to identify and solve problems.","I am able to solve problems that I face.","After I have tried to solve a problem, I examine why it did or did not work.","When solving a problem, I compare the pros and cons of my solutions. ","When faced with a problem, I try to find out the cause of the problem.","I know how to work well in a team.","I support others in the team.","I communicate well with my team members.","I work well in a team.","I treat other members of my team as equal to myself.","I am able to work with people who have different working styles from me.","I know how to work well with my stakeholders.","I seek to understand the needs of my stakeholders.","I am able to establish common understanding and build trust with my stakeholders.","I work well with my stakeholders.","I understand the factors that are critical to the smooth running of an event or a project. ","I know how to identify symptoms of mental and emotional distress. ","I am able to support those struggling mentally and emotionally. ","I know how I can manage negative thoughts and emotions. ","I know where to seek help when I have distressing thoughts and emotions beyond my control. ","If I have distressing thoughts and emotions beyond my control, I would seek help.","I know the steps that I can take to meet my financial goals.","I believe it is important to stay physically healthy. ","I make a conscious effort to maintain a healthy lifestyle.","I am proud to be a Singaporean. ","I am aware of issues affecting Singapore.","I understand how changes around the world affect Singapore and its future.","I understand the opportunities and challenges that Singapore has.","I understand the difficulties in trying to solve issues affecting Singapore's society.","I am aware of policies and programmes that tackle issues affecting Singapore's society.","I trust the government. ","I feel that the government understands the concerns of Singaporeans like me.","I feel that the government cares for the wellbeing of Singaporeans like me.","I feel that the government values my views.","I have people that I can talk with about my problems.","I have people whom I can turn to for support. ","I respect the opinions of others, even if I do not agree with it. ","I respect the values and beliefs of people who are of a different background from me.","I put myself in the shoes of others to understand how they feel.","I believe that I can make a difference in the community.","I believe I can help to shape society.","I am aware of the needs in the community.","I understand the ways that I can contribute to the community.","I believe I have a role to play in improving the community.","I feel a strong conviction to give back to the community.","I actively participate in efforts that help to improve the community.","I participate in discussions on national, community or social issues.","I encourage my peers to participate in activities that help to improve the community.","I am aware of the effects of my actions on the environment.","I understand the ways that I can care for the environment.","I feel responsible towards the environment.","My efforts to care for the environment will make a difference.","I actively participate in efforts to care for the environment.","I encourage my peers to care for the environment.","I believe that I can influence government decisions on issues. ","What do you think of the duration of programme_name?","I feel that the pace of programme_name was…","The accommodation is of acceptable standard.","The meal(s) are of acceptable standard.","The facilities are of acceptable standard.","The mentor provided sufficient guidance. ","The mentor provided useful insights.","The mentor was able to facilitate learning through reflections and asking critical questions. ","The mentor provided useful feedback for my personal growth.","The mentor has the necessary knowledge and skills for the role.","The mentor was able to point me to useful resources.","The mentor is able to communicate well with the group.","The mentor was able to manage the group effectively","How would you rate the mentor as a whole?","Overall, I am satisfied with programme_name.","How would you rate programme_name as a whole? ","I would recommend programme_name to others. ","I would like to take part in other activities organised by organisation_name.","This programme has allowed me to expand my networks.","Please provide the last 5 characters of your NRIC","Please provide the last 5 characters of your NRIC","Total Questions","Valid Responses","Difference","Submitted?","Error?",{"$f":"IF(COUNTIFS(NE21:NE1020, 1, ND21:ND1020, 0) = COUNTIF(NE21:NE1020, 1), 0, 1)","v":0}]
[null,null,null,null,null,null,1,{"$f":"IF(NE21=1, START!$B$17, \"\")","v":""},{"$f":"IF(NE21=1, START!$B$20, \"\")","v":""},null,null,null,null,null,null,null,null,null,null,null,null,null,null,null,null,null,null,null,null,null,null,null,null,null,null,null,null,null,null,null,null,null,null,null,null,null,null,null,null,null,null,null,null,null,null,null,null,null,null,null,null,null,null,null,null,null,null,null,null,null,null,null,null,null,null,null,null,null,null,null,null,null,null,null,null,null,null,null,null,null,null,null,null,null,null,null,null,null,null,null,null,null,null,null,null,null,null,null,null,null,null,null,null,null,null,null,null,null,null,null,null,null,null,null,null,null,null,null,null,null,null,null,null,null,null,null,null,null,null,null,null,null,null,null,null,null,null,null,null,null,null,null,null,null,null,null,null,null,null,null,null,null,null,null,null,null,null,null,null,null,null,null,null,null,null,null,null,null,null,null,null,null,null,null,null,null,null,1,{"$f":"IF(J21=\"\",\"\",IF(OR(J21=1,J21=2,J21=3,J21=4,J21=5,J21=99),1,0))","v":""},{"$f":"IF(K21=\"\",\"\",IF(OR(K21=1,K21=2,K21=3,K21=4,K21=5,K21=99),1,0))","v":""},"","","","","","","","","","","","","","","",{"$f":"IF(AA21=\"\",\"\",IF(OR(AA21=1,AA21=2,AA21=3,AA21=4,AA21=5,AA21=99),1,0))","v":""},"","","","","","","","","","","","","","","",{"$f":"IF(AQ21=\"\",\"\",IF(OR(AQ21=1,AQ21=2,AQ21=3,AQ21=4,AQ21=5,AQ21=99),1,0))","v":""},"","","","","","","","","","","","","","","",{"$f":"IF(BG21=\"\",\"\",IF(OR(BG21=1,BG21=2,BG21=3,BG21=4,BG21=5,BG21=99),1,0))","v":""},"","","","","","","","","","","","","","","",{"$f":"IF(BW21=\"\",\"\",IF(OR(BW21=1,BW21=2,BW21=3,BW21=4,BW21=5,BW21=99),1,0))","v":""},"","","","","","","","","","","","","","","",{"$f":"IF(CM21=\"\",\"\",IF(OR(CM21=1,CM21=2,CM21=3,CM21=4,CM21=5,CM21=99),1,0))","v":""},"","","","","","","","","","","","","","","",{"$f":"IF(DC21=\"\",\"\",IF(OR(DC21=1,DC21=2,DC21=3,DC21=4,DC21=5,DC21=99),1,0))","v":""},"","","","","","","","","","","","","","","",{"$f":"IF(DS21=\"\",\"\",IF(OR(DS21=1,DS21=2,DS21=3,DS21=4,DS21=5,DS21=99),1,0))","v":""},"","","","","","","","","","","","","","","",{"$f":"IF(EI21=\"\",\"\",IF(OR(EI21=1,EI21=2,EI21=3,EI21=4,EI21=5,EI21=99),1,0))","v":""},"","","","","","","","","","","","","","","","","","","","","","","","","","","","","","","","","","","","","","","","","","","",{"$f":"IF(GA21=\"\",\"\",IF(OR(GA21=1,GA21=2,GA21=99),1,0))","v":""},{"$f":"IF(GB21=\"\",\"\",IF(OR(GB21=1,GB21=2,GB21=3,GB21=4,GB21=5,GB21=99),1,0))","v":""},{"$f":"IF(GC21=\"\",\"\",IF(AND(LEN(GC21)=5),1,0))","v":""},{"$f":"IF(GD21=\"\",\"\",IF(AND(LEN(GD21)=5),1,0))","v":""},{"$f":"SUM($J$11:$GD$11)","v":2},{"$f":"SUM(GG21:NA21)","v":0},{"$f":"NC21-NB21","v":-2},{"$f":"IF(NC21>0, 1, 0)","v":0},{"$f":"IF(AND(NE21=1,ND21=0),0,IF(NE21=0,0,1))","v":0}]
[null,null,null,null,null,null,2,{"$f":"IF(NE22=1, START!$B$17, \"\")","v":""},{"$f":"IF(NE22=1, START!$B$20, \"\")","v":""},null,null,null,null,null,null,null,null,null,null,null,null,null,null,null,null,null,null,null,null,null,null,null,null,null,null,null,null,null,null,null,null,null,null,null,null,null,null,null,null,null,null,null,null,null,null,null,null,null,null,null,null,null,null,null,null,null,null,null,null,null,null,null,null,null,null,null,null,null,null,null,null,null,null,null,null,null,null,null,null,null,null,null,null,null,null,null,null,null,null,null,null,null,null,null,null,null,null,null,null,null,null,null,null,null,null,null,null,null,null,null,null,null,null,null,null,null,null,null,null,null,null,null,null,null,null,null,null,null,null,null,null,null,null,null,null,null,null,null,null,null,null,null,null,null,null,null,null,null,null,null,null,null,null,null,null,null,null,null,null,null,null,null,null,null,null,null,null,null,null,null,null,null,null,null,null,null,null,2,{"$f":"IF(J22=\"\",\"\",IF(OR(J22=1,J22=2,J22=3,J22=4,J22=5,J22=99),1,0))","v":""},"","","","","","","","","","","","","","","","","","","","","","","","","","","","","","","","","","","","","","","","","","","","","","","","","","","","","","","","","","","","","","","","","","","","","","","","","","","","","","","","","","","","","","","","","","","","","","","","","","","","","","","","","","","","","","","","","","","","","","","","","","","","","","","","",{"$f":"IF(EI22=\"\",\"\",IF(OR(EI22=1,EI22=2,EI22=3,EI22=4,EI22=5,EI22=99),1,0))","v":""},"","","","","","","","","","","","","","","",{"$f":"IF(EY22=\"\",\"\",IF(OR(EY22=1,EY22=2,EY22=3,EY22=4,EY22=5,EY22=99),1,0))","v":""},"","","","","","","","","","","","","","","",{"$f":"IF(FO22=\"\",\"\",IF(OR(FO22=1,FO22=2,FO22=3,FO22=4,FO22=5,FO22=99),1,0))","v":""},"","","","","","","","","","","",{"$f":"IF(GA22=\"\",\"\",IF(OR(GA22=1,GA22=2,GA22=99),1,0))","v":""},{"$f":"IF(GB22=\"\",\"\",IF(OR(GB22=1,GB22=2,GB22=3,GB22=4,GB22=5,GB22=99),1,0))","v":""},{"$f":"IF(GC22=\"\",\"\",IF(AND(LEN(GC22)=5),1,0))","v":""},"",{"$f":"SUM($J$11:$GD$11)","v":2},{"$f":"SUM(GG22:NA22)","v":0},{"$f":"NC22-NB22","v":-2},{"$f":"IF(NC22>0, 1, 0)","v":0},{"$f":"IF(AND(NE22=1,ND22=0),0,IF(NE22=0,0,1))","v":0}]
[null,null,null,null,null,null,3,{"$f":"IF(NE23=1, START!$B$17, \"\")","v":""},{"$f":"IF(NE23=1, START!$B$20, \"\")","v":""},null,null,null,null,null,null,null,null,null,null,null,null,null,null,null,null,null,null,null,null,null,null,null,null,null,null,null,null,null,null,null,null,null,null,null,null,null,null,null,null,null,null,null,null,null,null,null,null,null,null,null,null,null,null,null,null,null,null,null,null,null,null,null,null,null,null,null,null,null,null,null,null,null,null,null,null,null,null,null,null,null,null,null,null,null,null,null,null,null,null,null,null,null,null,null,null,null,null,null,null,null,null,null,null,null,null,null,null,null,null,null,null,null,null,null,null,null,null,null,null,null,null,null,null,null,null,null,null,null,null,null,null,null,null,null,null,null,null,null,null,null,null,null,null,null,null,null,null,null,null,null,null,null,null,null,null,null,null,null,null,null,null,null,null,null,null,null,null,null,null,null,null,null,null,null,null,null,null,3,"","","","","","","","","","","","","","","","","","","","","","","","","","","","","","","","","","","","","","","","","","","","","","","","","","","","","","","","","","","","","","","","","","","","","","","","","","","","","","","","","","","","","","","","","","","","","","","","","","","","","","","","","","","","","","","","","","","","","","","","","","","","","","","","","","","","","","","","","","","","","","","","","","","","","","","","","","","","","","","","","","","","","","","","","","","","","","","","","",2,0,-2,0,0]
[null,null,null,null,null,null,4,{"$f":"IF(NE24=1, START!$B$17, \"\")","v":""},{"$f":"IF(NE24=1, START!$B$20, \"\")","v":""},null,null,null,null,null,null,null,null,null,null,null,null,null,null,null,null,null,null,null,null,null,null,null,null,null,null,null,null,null,null,null,null,null,null,null,null,null,null,null,null,null,null,null,null,null,null,null,null,null,null,null,null,null,null,null,null,null,null,null,null,null,null,null,null,null,null,null,null,null,null,null,null,null,null,null,null,null,null,null,null,null,null,null,null,null,null,null,null,null,null,null,null,null,null,null,null,null,null,null,null,null,null,null,null,null,null,null,null,null,null,null,null,null,null,null,null,null,null,null,null,null,null,null,null,null,null,null,null,null,null,null,null,null,null,null,null,null,null,null,null,null,null,null,null,null,null,null,null,null,null,null,null,null,null,null,null,null,null,null,null,null,null,null,null,null,null,null,null,null,null,null,null,null,null,null,null,null,null,4,"","","","","","","","","","","","","","","","","","","","","","","","","","","","","","","","","","","","","","","","","","","","","","","","","","","","","","","","","","","","","","","","","","","","","","","","","","","","","","","","","","","","","","","","","","","","","","","","","","","","","","","","","","","","","","","","","","","","","","","","","","","","","","","","","","","","","","","","","","","","","","","","","","","","","","","","","","","","","","","","","","","","","","","","","","","","","","","","","",2,0,-2,0,0]
[null,null,null,null,null,null,5,{"$f":"IF(NE25=1, START!$B$17, \"\")","v":""},{"$f":"IF(NE25=1, START!$B$20, \"\")","v":""},null,null,null,null,null,null,null,null,null,null,null,null,null,null,null,null,null,null,null,null,null,null,null,null,null,null,null,null,null,null,null,null,null,null,null,null,null,null,null,null,null,null,null,null,null,null,null,null,null,null,null,null,null,null,null,null,null,null,null,null,null,null,null,null,null,null,null,null,null,null,null,null,null,null,null,null,null,null,null,null,null,null,null,null,null,null,null,null,null,null,null,null,null,null,null,null,null,null,null,null,null,null,null,null,null,null,null,null,null,null,null,null,null,null,null,null,null,null,null,null,null,null,null,null,null,null,null,null,null,null,null,null,null,null,null,null,null,null,null,null,null,null,null,null,null,null,null,null,null,null,null,null,null,null,null,null,null,null,null,null,null,null,null,null,null,null,null,null,null,null,null,null,null,null,null,null,null,null,5,"","","","","","","","","","","","","","","","","","","","","","","","","","","","","","","","","","","","","","","","","","","","","","","","","","","","","","","","","","","","","","","","","","","","","","","","","","","","","","","","","","","","","","","","","","","","","","","","","","","","","","","","","","","","","","","","","","","","","","","","","","","","","","","","","","","","","","","","","","","","","","","","","","","","","","","","","","","","","","","","","","","","","","","","","","","","","","","","","",2,0,-2,0,0]
[null,null,null,null,null,null,6,{"$f":"IF(NE26=1, START!$B$17, \"\")","v":""},{"$f":"IF(NE26=1, START!$B$20, \"\")","v":""},null,null,null,null,null,null,null,null,null,null,null,null,null,null,null,null,null,null,null,null,null,null,null,null,null,null,null,null,null,null,null,null,null,null,null,null,null,null,null,null,null,null,null,null,null,null,null,null,null,null,null,null,null,null,null,null,null,null,null,null,null,null,null,null,null,null,null,null,null,null,null,null,null,null,null,null,null,null,null,null,null,null,null,null,null,null,null,null,null,null,null,null,null,null,null,null,null,null,null,null,null,null,null,null,null,null,null,null,null,null,null,null,null,null,null,null,null,null,null,null,null,null,null,null,null,null,null,null,null,null,null,null,null,null,null,null,null,null,null,null,null,null,null,null,null,null,null,null,null,null,null,null,null,null,null,null,null,null,null,null,null,null,null,null,null,null,null,null,null,null,null,null,null,null,null,null,null,null,6,"","","","","","","","","","","","","","","","","","","","","","","","","","","","","","","","","","","","","","","","","","","","","","","","","","","","","","","","","","","","","","","","","","","","","","","","","","","","","","","","","","","","","","","","","","","","","","","","","","","","","","","","","","","","","","","","","","","","","","","","","","","","","","","","","","","","","","","","","","","","","","","","","","","","","","","","","","","","","","","","","","","","","","","","","","","","","","","","","",2,0,-2,0,0]
[null,null,null,null,null,null,7,{"$f":"IF(NE27=1, START!$B$17, \"\")","v":""},{"$f":"IF(NE27=1, START!$B$20, \"\")","v":""},null,null,null,null,null,null,null,null,null,null,null,null,null,null,null,null,null,null,null,null,null,null,null,null,null,null,null,null,null,null,null,null,null,null,null,null,null,null,null,null,null,null,null,null,null,null,null,null,null,null,null,null,null,null,null,null,null,null,null,null,null,null,null,null,null,null,null,null,null,null,null,null,null,null,null,null,null,null,null,null,null,null,null,null,null,null,null,null,null,null,null,null,null,null,null,null,null,null,null,null,null,null,null,null,null,null,null,null,null,null,null,null,null,null,null,null,null,null,null,null,null,null,null,null,null,null,null,null,null,null,null,null,null,null,null,null,null,null,null,null,null,null,null,null,null,null,null,null,null,null,null,null,null,null,null,null,null,null,null,null,null,null,null,null,null,null,null,null,null,null,null,null,null,null,null,null,null,null,7,"","","","","","","","","","","","","","","","","","","","","","","","","","","","","","","","","","","","","","","","","","","","","","","","","","","","","","","","","","","","","","","","","","","","","","","","","","","","","","","","","","","","","","","","","","","","","","","","","","","","","","","","","","","","","","","","","","","","","","","","","","","","","","","","","","","","","","","","","","","","","","","","","","","","","","","","","","","","","","","","","","","","","","","","","","","","","","","","","",2,0,-2,0,0]
[null,null,null,null,null,null,8,{"$f":"IF(NE28=1, START!$B$17, \"\")","v":""},{"$f":"IF(NE28=1, START!$B$20, \"\")","v":""},null,null,null,null,null,null,null,null,null,null,null,null,null,null,null,null,null,null,null,null,null,null,null,null,null,null,null,null,null,null,null,null,null,null,null,null,null,null,null,null,null,null,null,null,null,null,null,null,null,null,null,null,null,null,null,null,null,null,null,null,null,null,null,null,null,null,null,null,null,null,null,null,null,null,null,null,null,null,null,null,null,null,null,null,null,null,null,null,null,null,null,null,null,null,null,null,null,null,null,null,null,null,null,null,null,null,null,null,null,null,null,null,null,null,null,null,null,null,null,null,null,null,null,null,null,null,null,null,null,null,null,null,null,null,null,null,null,null,null,null,null,null,null,null,null,null,null,null,null,null,null,null,null,null,null,null,null,null,null,null,null,null,null,null,null,null,null,null,null,null,null,null,null,null,null,null,null,null,8,"","","","","","","","","","","","","","","","","","","","","","","","","","","","","","","","","","","","","","","","","","","","","","","","","","","","","","","","","","","","","","","","","","","","","","","","","","","","","","","","","","","","","","","","","","","","","","","","","","","","","","","","","","","","","","","","","","","","","","","","","","","","","","","","","","","","","","","","","","","","","","","","","","","","","","","","","","","","","","","","","","","","","","","","","","","","","","","","","",2,0,-2,0,0]
[null,null,null,null,null,null,9,{"$f":"IF(NE29=1, START!$B$17, \"\")","v":""},{"$f":"IF(NE29=1, START!$B$20, \"\")","v":""},null,null,null,null,null,null,null,null,null,null,null,null,null,null,null,null,null,null,null,null,null,null,null,null,null,null,null,null,null,null,null,null,null,null,null,null,null,null,null,null,null,null,null,null,null,null,null,null,null,null,null,null,null,null,null,null,null,null,null,null,null,null,null,null,null,null,null,null,null,null,null,null,null,null,null,null,null,null,null,null,null,null,null,null,null,null,null,null,null,null,null,null,null,null,null,null,null,null,null,null,null,null,null,null,null,null,null,null,null,null,null,null,null,null,null,null,null,null,null,null,null,null,null,null,null,null,null,null,null,null,null,null,null,null,null,null,null,null,null,null,null,null,null,null,null,null,null,null,null,null,null,null,null,null,null,null,null,null,null,null,null,null,null,null,null,null,null,null,null,null,null,null,null,null,null,null,null,null,9,"","","","","","","","","","","","","","","","","","","","","","","","","","","","","","","","","","","","","","","","","","","","","","","","","","","","","","","","","","","","","","","","","","","","","","","","","","","","","","","","","","","","","","","","","","","","","","","","","","","","","","","","","","","","","","","","","","","","","","","","","","","","","","","","","","","","","","","","","","","","","","","","","","","","","","","","","","","","","","","","","","","","","","","","","","","","","","","","","",2,0,-2,0,0]
[null,null,null,null,null,null,10,{"$f":"IF(NE30=1, START!$B$17, \"\")","v":""},{"$f":"IF(NE30=1, START!$B$20, \"\")","v":""},null,null,null,null,null,null,null,null,null,null,null,null,null,null,null,null,null,null,null,null,null,null,null,null,null,null,null,null,null,null,null,null,null,null,null,null,null,null,null,null,null,null,null,null,null,null,null,null,null,null,null,null,null,null,null,null,null,null,null,null,null,null,null,null,null,null,null,null,null,null,null,null,null,null,null,null,null,null,null,null,null,null,null,null,null,null,null,null,null,null,null,null,null,null,null,null,null,null,null,null,null,null,null,null,null,null,null,null,null,null,null,null,null,null,null,null,null,null,null,null,null,null,null,null,null,null,null,null,null,null,null,null,null,null,null,null,null,null,null,null,null,null,null,null,null,null,null,null,null,null,null,null,null,null,null,null,null,null,null,null,null,null,null,null,null,null,null,null,null,null,null,null,null,null,null,null,null,null,10,"","","","","","","","","","","","","","","","","","","","","","","","","","","","","","","","","","","","","","","","","","","","","","","","","","","","","","","","","","","","","","","","","","","","","","","","","","","","","","","","","","","","","","","","","","","","","","","","","","","","","","","","","","","","","","","","","","","","","","","","","","","","","","","","","","","","","","","","","","","","","","","","","","","","","","","","","","","","","","","","","","","","","","","","","","","","","","","","","",2,0,-2,0,0]
[null,null,null,null,null,null,11,{"$f":"IF(NE31=1, START!$B$17, \"\")","v":""},{"$f":"IF(NE31=1, START!$B$20, \"\")","v":""},null,null,null,null,null,null,null,null,null,null,null,null,null,null,null,null,null,null,null,null,null,null,null,null,null,null,null,null,null,null,null,null,null,null,null,null,null,null,null,null,null,null,null,null,null,null,null,null,null,null,null,null,null,null,null,null,null,null,null,null,null,null,null,null,null,null,null,null,null,null,null,null,null,null,null,null,null,null,null,null,null,null,null,null,null,null,null,null,null,null,null,null,null,null,null,null,null,null,null,null,null,null,null,null,null,null,null,null,null,null,null,null,null,null,null,null,null,null,null,null,null,null,null,null,null,null,null,null,null,null,null,null,null,null,null,null,null,null,null,null,null,null,null,null,null,null,null,null,null,null,null,null,null,null,null,null,null,null,null,null,null,null,null,null,null,null,null,null,null,null,null,null,null,null,null,null,null,null,11,"","","","","","","","","","","","","","","","","","","","","","","","","","","","","","","","","","","","","","","","","","","","","","","","","","","","","","","","","","","","","","","","","","","","","","","","","","","","","","","","","","","","","","","","","","","","","","","","","","","","","","","","","","","","","","","","","","","","","","","","","","","","","","","","","","","","","","","","","","","","","","","","","","","","","","","","","","","","","","","","","","","","","","","","","","","","","","","","","",2,0,-2,0,0]
[null,null,null,null,null,null,12,{"$f":"IF(NE32=1, START!$B$17, \"\")","v":""},{"$f":"IF(NE32=1, START!$B$20, \"\")","v":""},null,null,null,null,null,null,null,null,null,null,null,null,null,null,null,null,null,null,null,null,null,null,null,null,null,null,null,null,null,null,null,null,null,null,null,null,null,null,null,null,null,null,null,null,null,null,null,null,null,null,null,null,null,null,null,null,null,null,null,null,null,null,null,null,null,null,null,null,null,null,null,null,null,null,null,null,null,null,null,null,null,null,null,null,null,null,null,null,null,null,null,null,null,null,null,null,null,null,null,null,null,null,null,null,null,null,null,null,null,null,null,null,null,null,null,null,null,null,null,null,null,null,null,null,null,null,null,null,null,null,null,null,null,null,null,null,null,null,null,null,null,null,null,null,null,null,null,null,null,null,null,null,null,null,null,null,null,null,null,null,null,null,null,null,null,null,null,null,null,null,null,null,null,null,null,null,null,null,12,"","","","","","","","","","","","","","","","","","","","","","","","","","","","","","","","","","","","","","","","","","","","","","","","","","","","","","","","","","","","","","","","","","","","","","","","","","","","","","","","","","","","","","","","","","","","","","","","","","","","","","","","","","","","","","","","","","","","","","","","","","","","","","","","","","","","","","","","","","","","","","","","","","","","","","","","","","","","","","","","","","","","","","","","","","","","","","","","","",2,0,-2,0,0]
[null,null,null,null,null,null,13,{"$f":"IF(NE33=1, START!$B$17, \"\")","v":""},{"$f":"IF(NE33=1, START!$B$20, \"\")","v":""},null,null,null,null,null,null,null,null,null,null,null,null,null,null,null,null,null,null,null,null,null,null,null,null,null,null,null,null,null,null,null,null,null,null,null,null,null,null,null,null,null,null,null,null,null,null,null,null,null,null,null,null,null,null,null,null,null,null,null,null,null,null,null,null,null,null,null,null,null,null,null,null,null,null,null,null,null,null,null,null,null,null,null,null,null,null,null,null,null,null,null,null,null,null,null,null,null,null,null,null,null,null,null,null,null,null,null,null,null,null,null,null,null,null,null,null,null,null,null,null,null,null,null,null,null,null,null,null,null,null,null,null,null,null,null,null,null,null,null,null,null,null,null,null,null,null,null,null,null,null,null,null,null,null,null,null,null,null,null,null,null,null,null,null,null,null,null,null,null,null,null,null,null,null,null,null,null,null,13,"","","","","","","","","","","","","","","","","","","","","","","","","","","","","","","","","","","","","","","","","","","","","","","","","","","","","","","","","","","","","","","","","","","","","","","","","","","","","","","","","","","","","","","","","","","","","","","","","","","","","","","","","","","","","","","","","","","","","","","","","","","","","","","","","","","","","","","","","","","","","","","","","","","","","","","","","","","","","","","","","","","","","","","","","","","","","","","","","",2,0,-2,0,0]
[null,null,null,null,null,null,14,{"$f":"IF(NE34=1, START!$B$17, \"\")","v":""},{"$f":"IF(NE34=1, START!$B$20, \"\")","v":""},null,null,null,null,null,null,null,null,null,null,null,null,null,null,null,null,null,null,null,null,null,null,null,null,null,null,null,null,null,null,null,null,null,null,null,null,null,null,null,null,null,null,null,null,null,null,null,null,null,null,null,null,null,null,null,null,null,null,null,null,null,null,null,null,null,null,null,null,null,null,null,null,null,null,null,null,null,null,null,null,null,null,null,null,null,null,null,null,null,null,null,null,null,null,null,null,null,null,null,null,null,null,null,null,null,null,null,null,null,null,null,null,null,null,null,null,null,null,null,null,null,null,null,null,null,null,null,null,null,null,null,null,null,null,null,null,null,null,null,null,null,null,null,null,null,null,null,null,null,null,null,null,null,null,null,null,null,null,null,null,null,null,null,null,null,null,null,null,null,null,null,null,null,null,null,null,null,null,14,"","","","","","","","","","","","","","","","","","","","","","","","","","","","","","","","","","","","","","","","","","","","","","","","","","","","","","","","","","","","","","","","","","","","","","","","","","","","","","","","","","","","","","","","","","","","","","","","","","","","","","","","","","","","","","","","","","","","","","","","","","","","","","","","","","","","","","","","","","","","","","","","","","","","","","","","","","","","","","","","","","","","","","","","","","","","","","","","","",2,0,-2,0,0]
[null,null,null,null,null,null,15,{"$f":"IF(NE35=1, START!$B$17, \"\")","v":""},{"$f":"IF(NE35=1, START!$B$20, \"\")","v":""},null,null,null,null,null,null,null,null,null,null,null,null,null,null,null,null,null,null,null,null,null,null,null,null,null,null,null,null,null,null,null,null,null,null,null,null,null,null,null,null,null,null,null,null,null,null,null,null,null,null,null,null,null,null,null,null,null,null,null,null,null,null,null,null,null,null,null,null,null,null,null,null,null,null,null,null,null,null,null,null,null,null,null,null,null,null,null,null,null,null,null,null,null,null,null,null,null,null,null,null,null,null,null,null,null,null,null,null,null,null,null,null,null,null,null,null,null,null,null,null,null,null,null,null,null,null,null,null,null,null,null,null,null,null,null,null,null,null,null,null,null,null,null,null,null,null,null,null,null,null,null,null,null,null,null,null,null,null,null,null,null,null,null,null,null,null,null,null,null,null,null,null,null,null,null,null,null,null,15,"","","","","","","","","","","","","","","","","","","","","","","","","","","","","","","","","","","","","","","","","","","","","","","","","","","","","","","","","","","","","","","","","","","","","","","","","","","","","","","","","","","","","","","","","","","","","","","","","","","","","","","","","","","","","","","","","","","","","","","","","","","","","","","","","","","","","","","","","","","","","","","","","","","","","","","","","","","","","","","","","","","","","","","","","","","","","","","","","",2,0,-2,0,0]
[null,null,null,null,null,null,16,{"$f":"IF(NE36=1, START!$B$17, \"\")","v":""},{"$f":"IF(NE36=1, START!$B$20, \"\")","v":""},null,null,null,null,null,null,null,null,null,null,null,null,null,null,null,null,null,null,null,null,null,null,null,null,null,null,null,null,null,null,null,null,null,null,null,null,null,null,null,null,null,null,null,null,null,null,null,null,null,null,null,null,null,null,null,null,null,null,null,null,null,null,null,null,null,null,null,null,null,null,null,null,null,null,null,null,null,null,null,null,null,null,null,null,null,null,null,null,null,null,null,null,null,null,null,null,null,null,null,null,null,null,null,null,null,null,null,null,null,null,null,null,null,null,null,null,null,null,null,null,null,null,null,null,null,null,null,null,null,null,null,null,null,null,null,null,null,null,null,null,null,null,null,null,null,null,null,null,null,null,null,null,null,null,null,null,null,null,null,null,null,null,null,null,null,null,null,null,null,null,null,null,null,null,null,null,null,null,16,"","","","","","","","","","","","","","","","","","","","","","","","","","","","","","","","",{"$f":"IF(AP36=\"\",\"\",IF(OR(AP36=1,AP36=2,AP36=3,AP36=4,AP36=5,AP36=99),1,0))","v":""},"","","","","","","","","","","","","","","","","","","","","","","","","","","","","","","",{"$f":"IF(BV36=\"\",\"\",IF(OR(BV36=1,BV36=2,BV36=3,BV36=4,BV36=5,BV36=99),1,0))","v":""},"","","","","","","","","","","","","","","","","","","","","","","","","","","","","","","",{"$f":"IF(DB36=\"\",\"\",IF(OR(DB36=1,DB36=2,DB36=3,DB36=4,DB36=5,DB36=99),1,0))","v":""},"","","","","","","","","","","","","","","","","","","","","","","","","","","","","","","",{"$f":"IF(EH36=\"\",\"\",IF(OR(EH36=1,EH36=2,EH36=3,EH36=4,EH36=5,EH36=99),1,0))","v":""},"","","","","","","","","","","","","","","","","","","","","","","","","","","","","","","","","","","","","","","","","","","","","","","","",2,0,-2,0,0]
[null,null,null,null,null,null,17,{"$f":"IF(NE37=1, START!$B$17, \"\")","v":""},{"$f":"IF(NE37=1, START!$B$20, \"\")","v":""},null,null,null,null,null,null,null,null,null,null,null,null,null,null,null,null,null,null,null,null,null,null,null,null,null,null,null,null,null,null,null,null,null,null,null,null,null,null,null,null,null,null,null,null,null,null,null,null,null,null,null,null,null,null,null,null,null,null,null,null,null,null,null,null,null,null,null,null,null,null,null,null,null,null,null,null,null,null,null,null,null,null,null,null,null,null,null,null,null,null,null,null,null,null,null,null,null,null,null,null,null,null,null,null,null,null,null,null,null,null,null,null,null,null,null,null,null,null,null,null,null,null,null,null,null,null,null,null,null,null,null,null,null,null,null,null,null,null,null,null,null,null,null,null,null,null,null,null,null,null,null,null,null,null,null,null,null,null,null,null,null,null,null,null,null,null,null,null,null,null,null,null,null,null,null,null,null,null,17,"","","","","","","","","","","","","","","","",{"$f":"IF(Z37=\"\",\"\",IF(OR(Z37=1,Z37=2,Z37=3,Z37=4,Z37=5,Z37=99),1,0))","v":""},"","","","","","","","","","","","","","","","","","","","","","","","","","","","","","","",{"$f":"IF(BF37=\"\",\"\",IF(OR(BF37=1,BF37=2,BF37=3,BF37=4,BF37=5,BF37=99),1,0))","v":""},"","","","","","","","","","","","","","","","","","","","","","","","","","","","","","","",{"$f":"IF(CL37=\"\",\"\",IF(OR(CL37=1,CL37=2,CL37=3,CL37=4,CL37=5,CL37=99),1,0))","v":""},"","","","","","","","","","","","","","","","","","","","","","","","","","","","","","","",{"$f":"IF(DR37=\"\",\"\",IF(OR(DR37=1,DR37=2,DR37=3,DR37=4,DR37=5,DR37=99),1,0))","v":""},"","","","","","","","","","","","","","","","","","","","","","","","","","","","","","","",{"$f":"IF(EX37=\"\",\"\",IF(OR(EX37=1,EX37=2,EX37=3,EX37=4,EX37=5,EX37=99),1,0))","v":""},"","","","","","","","","","","","","","","",{"$f":"IF(FN37=\"\",\"\",IF(OR(FN37=1,FN37=2,FN37=3,FN37=4,FN37=5,FN37=99),1,0))","v":""},"","","","","","","","","","","","","","","","",2,0,-2,0,0]
[null,null,null,null,null,null,18,{"$f":"IF(NE38=1, START!$B$17, \"\")","v":""},{"$f":"IF(NE38=1, START!$B$20, \"\")","v":""},null,null,null,null,null,null,null,null,null,null,null,null,null,null,null,null,null,null,null,null,null,null,null,null,null,null,null,null,null,null,null,null,null,null,null,null,null,null,null,null,null,null,null,null,null,null,null,null,null,null,null,null,null,null,null,null,null,null,null,null,null,null,null,null,null,null,null,null,null,null,null,null,null,null,null,null,null,null,null,null,null,null,null,null,null,null,null,null,null,null,null,null,null,null,null,null,null,null,null,null,null,null,null,null,null,null,null,null,null,null,null,null,null,null,null,null,null,null,null,null,null,null,null,null,null,null,null,null,null,null,null,null,null,null,null,null,null,null,null,null,null,null,null,null,null,null,null,null,null,null,null,null,null,null,null,null,null,null,null,null,null,null,null,null,null,null,null,null,null,null,null,null,null,null,null,null,null,null,18,"","","","","","","","","","","","","","","","","","","","","","","","","","","","","","","","","","","","","","","","","","","","","","","","","","","","","","","","","","","","","","","","","","","","","","","","","","","","","","","","","","","","","","","","","","","","","","","","","","","","","","","","","","","","","","","","","","","","","","","","","","","","","","","","","","","","","","","","","","","","","","","","","","","","","","","","","","","","","","","","","","","","","","","","","","","","","","","","","",2,0,-2,0,0]
[null,null,null,null,null,null,19,{"$f":"IF(NE39=1, START!$B$17, \"\")","v":""},{"$f":"IF(NE39=1, START!$B$20, \"\")","v":""},null,null,null,null,null,null,null,null,null,null,null,null,null,null,null,null,null,null,null,null,null,null,null,null,null,null,null,null,null,null,null,null,null,null,null,null,null,null,null,null,null,null,null,null,null,null,null,null,null,null,null,null,null,null,null,null,null,null,null,null,null,null,null,null,null,null,null,null,null,null,null,null,null,null,null,null,null,null,null,null,null,null,null,null,null,null,null,null,null,null,null,null,null,null,null,null,null,null,null,null,null,null,null,null,null,null,null,null,null,null,null,null,null,null,null,null,null,null,null,null,null,null,null,null,null,null,null,null,null,null,null,null,null,null,null,null,null,null,null,null,null,null,null,null,null,null,null,null,null,null,null,null,null,null,null,null,null,null,null,null,null,null,null,null,null,null,null,null,null,null,null,null,null,null,null,null,null,null,19,"","","","","","","","","","","","","","","","","","","","","","","","","","","","","","","","","","","","","","","","","","","","","","","","","","","","","","","","","","","","","","","","","","","","","","","","","","","","","","","","","","","","","","","","","","","","","","","","","","","","","","","","","","","","","","","","","","","","","","","","","","","","","","","","","","","","","","","","","","","","","","","","","","","","","","","","","","","","","","","","","","","","","","","","","","","","","","","","","",2,0,-2,0,0]
[null,null,null,null,null,null,20,{"$f":"IF(NE40=1, START!$B$17, \"\")","v":""},{"$f":"IF(NE40=1, START!$B$20, \"\")","v":""},null,null,null,null,null,null,null,null,null,null,null,null,null,null,null,null,null,null,null,null,null,null,null,null,null,null,null,null,null,null,null,null,null,null,null,null,null,null,null,null,null,null,null,null,null,null,null,null,null,null,null,null,null,null,null,null,null,null,null,null,null,null,null,null,null,null,null,null,null,null,null,null,null,null,null,null,null,null,null,null,null,null,null,null,null,null,null,null,null,null,null,null,null,null,null,null,null,null,null,null,null,null,null,null,null,null,null,null,null,null,null,null,null,null,null,null,null,null,null,null,null,null,null,null,null,null,null,null,null,null,null,null,null,null,null,null,null,null,null,null,null,null,null,null,null,null,null,null,null,null,null,null,null,null,null,null,null,null,null,null,null,null,null,null,null,null,null,null,null,null,null,null,null,null,null,null,null,null,20,"","","","","","","","","","","","",{"$f":"IF(V40=\"\",\"\",IF(OR(V40=1,V40=2,V40=3,V40=4,V40=5,V40=99),1,0))","v":""},"","","","","","","","","","","","","","","","","","","","","","","","","","","","","","","","","","","","","","","","","","","","","","","","","","","","","","","","","","","","","","","","","","","","","","","","","","","","","","","","","","","","","","","","","","","","","","","","","","","","","","","","","","","","","","","","","","","","","","","","","","","","","","","","","","","","","","","","","","","","","","","","","","","","","","","","","","","","","","","","","","","","",2,0,-2,0,0]
[null,null,null,null,null,null,21,{"$f":"IF(NE41=1, START!$B$17, \"\")","v":""},{"$f":"IF(NE41=1, START!$B$20, \"\")","v":""},null,null,null,null,null,null,null,null,null,null,null,null,null,null,null,null,null,null,null,null,null,null,null,null,null,null,null,null,null,null,null,null,null,null,null,null,null,null,null,null,null,null,null,null,null,null,null,null,null,null,null,null,null,null,null,null,null,null,null,null,null,null,null,null,null,null,null,null,null,null,null,null,null,null,null,null,null,null,null,null,null,null,null,null,null,null,null,null,null,null,null,null,null,null,null,null,null,null,null,null,null,null,null,null,null,null,null,null,null,null,null,null,null,null,null,null,null,null,null,null,null,null,null,null,null,null,null,null,null,null,null,null,null,null,null,null,null,null,null,null,null,null,null,null,null,null,null,null,null,null,null,null,null,null,null,null,null,null,null,null,null,null,null,null,null,null,null,null,null,null,null,null,null,null,null,null,null,null,21,{"$f":"IF(J41=\"\",\"\",IF(OR(J41=1,J41=2,J41=3,J41=4,J41=5,J41=99),1,0))","v":""},"","","","","","","","","","","","","","","","","","","","","","","","","","","","","","","","","","","","","","","","","","","","","","","","","","","","","","","","","","","","","","","","","","","","","","","","","","","","","","","","","","","","","","","","","","","","","","","","","","","","","","","","","","","","","","","","","","","","","","","","","","","","","","","","","","","","","","","","","","","","","","","","","","","","","","","","","","","","","","","","","","","","","","","","","","","","","","","","",2,0,-2,0,0]
[null,null,null,null,null,null,22,{"$f":"IF(NE42=1, START!$B$17, \"\")","v":""},{"$f":"IF(NE42=1, START!$B$20, \"\")","v":""},null,null,null,null,null,null,null,null,null,null,null,null,null,null,null,null,null,null,null,null,null,null,null,null,null,null,null,null,null,null,null,null,null,null,null,null,null,null,null,null,null,null,null,null,null,null,null,null,null,null,null,null,null,null,null,null,null,null,null,null,null,null,null,null,null,null,null,null,null,null,null,null,null,null,null,null,null,null,null,null,null,null,null,null,null,null,null,null,null,null,null,null,null,null,null,null,null,null,null,null,null,null,null,null,null,null,null,null,null,null,null,null,null,null,null,null,null,null,null,null,null,null,null,null,null,null,null,null,null,null,null,null,null,null,null,null,null,null,null,null,null,null,null,null,null,null,null,null,null,null,null,null,null,null,null,null,null,null,null,null,null,null,null,null,null,null,null,null,null,null,null,null,null,null,null,null,null,null,22,"","","","","","","","","","","","","","","","","","","","","","","","","","","","","","","","","","","","","","","","","","","","","","","","","","","","","","","","","","","","","","","","","","","","","","","","","","","","","","","","","","","","","","","","","","","","","","","","","","","","","","","","","","","","","","","","","","","","","","","","","","","","","","","","","","","","","","","","","","","","","","","","","","","","","","","","","","","","","","","","","","","","","","","","","","","","","","","","","",2,0,-2,0,0]
[null,null,null,null,null,null,23,{"$f":"IF(NE43=1, START!$B$17, \"\")","v":""},{"$f":"IF(NE43=1, START!$B$20, \"\")","v":""},null,null,null,null,null,null,null,null,null,null,null,null,null,null,null,null,null,null,null,null,null,null,null,null,null,null,null,null,null,null,null,null,null,null,null,null,null,null,null,null,null,null,null,null,null,null,null,null,null,null,null,null,null,null,null,null,null,null,null,null,null,null,null,null,null,null,null,null,null,null,null,null,null,null,null,null,null,null,null,null,null,null,null,null,null,null,null,null,null,null,null,null,null,null,null,null,null,null,null,null,null,null,null,null,null,null,null,null,null,null,null,null,null,null,null,null,null,null,null,null,null,null,null,null,null,null,null,null,null,null,null,null,null,null,null,null,null,null,null,null,null,null,null,null,null,null,null,null,null,null,null,null,null,null,null,null,null,null,null,null,null,null,null,null,null,null,null,null,null,null,null,null,null,null,null,null,null,null,23,"","","","","","","","","","","","","","","","","","","","","","","","","","","","","","","","","","","","","","","","","","","","","","","","","","","","","","","","","","","","","","","","","","","","","","","","","","","","","","","","","","","","","","","","","","","","","","","","","","","","","","","","","","","","","","","","","","","","","","","","","","","","","","","","","","","","","","","","","","","","","","","","","","","","","","","","","","","","","","","","","","","","",{"$f":"IF(FR43=\"\",\"\",IF(OR(FR43=1,FR43=2,FR43=3,FR43=4,FR43=5,FR43=99),1,0))","v":""},"","","","","","","","","","","","",2,0,-2,0,0]
[null,null,null,null,null,null,24,{"$f":"IF(NE44=1, START!$B$17, \"\")","v":""},{"$f":"IF(NE44=1, START!$B$20, \"\")","v":""},null,null,null,null,null,null,null,null,null,null,null,null,null,null,null,null,null,null,null,null,null,null,null,null,null,null,null,null,null,null,null,null,null,null,null,null,null,null,null,null,null,null,null,null,null,null,null,null,null,null,null,null,null,null,null,null,null,null,null,null,null,null,null,null,null,null,null,null,null,null,null,null,null,null,null,null,null,null,null,null,null,null,null,null,null,null,null,null,null,null,null,null,null,null,null,null,null,null,null,null,null,null,null,null,null,null,null,null,null,null,null,null,null,null,null,null,null,null,null,null,null,null,null,null,null,null,null,null,null,null,null,null,null,null,null,null,null,null,null,null,null,null,null,null,null,null,null,null,null,null,null,null,null,null,null,null,null,null,null,null,null,null,null,null,null,null,null,null,null,null,null,null,null,null,null,null,null,null,24,"","","","","","","","","","","","","","","","","","","","","","","","","","","","","","","","","","","","","","","","","","","","","","","","","","","","","","","","","","","","","","","","","","","","","","","","","","","","","","","","","","","","","","","","","","","","","","","","","","","","","","","","","","","","","","","","","","","","","","","","","","","","","","","","","","","","","","","","","","","","","","","","","","","","","","","","","","","","","","","","","","","","","","","","","","","","","","","","","",2,0,-2,0,0]
[null,null,null,null,null,null,25,{"$f":"IF(NE45=1, START!$B$17, \"\")","v":""},{"$f":"IF(NE45=1, START!$B$20, \"\")","v":""},null,null,null,null,null,null,null,null,null,null,null,null,null,null,null,null,null,null,null,null,null,null,null,null,null,null,null,null,null,null,null,null,null,null,null,null,null,null,null,null,null,null,null,null,null,null,null,null,null,null,null,null,null,null,null,null,null,null,null,null,null,null,null,null,null,null,null,null,null,null,null,null,null,null,null,null,null,null,null,null,null,null,null,null,null,null,null,null,null,null,null,null,null,null,null,null,null,null,null,null,null,null,null,null,null,null,null,null,null,null,null,null,null,null,null,null,null,null,null,null,null,null,null,null,null,null,null,null,null,null,null,null,null,null,null,null,null,null,null,null,null,null,null,null,null,null,null,null,null,null,null,null,null,null,null,null,null,null,null,null,null,null,null,null,null,null,null,null,null,null,null,null,null,null,null,null,null,null,25,"","","","","","","","","","","","","","","","","","","","","","","","","","","","","","","","","","","","","","","","","","","","","","","","","","","","","","","","","","","","","","","","","","","","","","","","","","","","","","","","","","","","","","","","","","","","","","","","","","","","","","","","","","","","","","","","","","","","","","","","","","","","","","","","","","","","","","","","","","","","","","","","","","","","","","","","","","","","","","","","","","","","","","","","","","","","","","","","","",2,0,-2,0,0]
[null,null,null,null,null,null,26,{"$f":"IF(NE46=1, START!$B$17, \"\")","v":""},{"$f":"IF(NE46=1, START!$B$20, \"\")","v":""},null,null,null,null,null,null,null,null,null,null,null,null,null,null,null,null,null,null,null,null,null,null,null,null,null,null,null,null,null,null,null,null,null,null,null,null,null,null,null,null,null,null,null,null,null,null,null,null,null,null,null,null,null,null,null,null,null,null,null,null,null,null,null,null,null,null,null,null,null,null,null,null,null,null,null,null,null,null,null,null,null,null,null,null,null,null,null,null,null,null,null,null,null,null,null,null,null,null,null,null,null,null,null,null,null,null,null,null,null,null,null,null,null,null,null,null,null,null,null,null,null,null,null,null,null,null,null,null,null,null,null,null,null,null,null,null,null,null,null,null,null,null,null,null,null,null,null,null,null,null,null,null,null,null,null,null,null,null,null,null,null,null,null,null,null,null,null,null,null,null,null,null,null,null,null,null,null,null,26,"","","","","","","","","","","","","","","","","","","","","","","","","","","","","","","","","","","","","","","","","","","","","","","","","","","","","","","","","","","","","","","","","","","","","","","","","","","","","","","","","","","","","","","","","","","","","","","","","","","","","","","","","","","","","","","","","","","","","","","","","","","","","","","","","","","","","","","","","","","","","","","","","","","","","","","","","","","","","","","","","","","","","","","","","","","","","","","","","",2,0,-2,0,0]
[null,null,null,null,null,null,27,{"$f":"IF(NE47=1, START!$B$17, \"\")","v":""},{"$f":"IF(NE47=1, START!$B$20, \"\")","v":""},null,null,null,null,null,null,null,null,null,null,null,null,null,null,null,null,null,null,null,null,null,null,null,null,null,null,null,null,null,null,null,null,null,null,null,null,null,null,null,null,null,null,null,null,null,null,null,null,null,null,null,null,null,null,null,null,null,null,null,null,null,null,null,null,null,null,null,null,null,null,null,null,null,null,null,null,null,null,null,null,null,null,null,null,null,null,null,null,null,null,null,null,null,null,null,null,null,null,null,null,null,null,null,null,null,null,null,null,null,null,null,null,null,null,null,null,null,null,null,null,null,null,null,null,null,null,null,null,null,null,null,null,null,null,null,null,null,null,null,null,null,null,null,null,null,null,null,null,null,null,null,null,null,null,null,null,null,null,null,null,null,null,null,null,null,null,null,null,null,null,null,null,null,null,null,null,null,null,27,"","","","","","","","","","","","","","","","","","","","","","","","","","","","","","","","","","","","","","","","","","","","","","","","","","","","","","","","","","","","","","","","","","","","","","","","","","","","","","","","","","","","","","","","","","","","","","","","","","","","","","","","","","","","","","","","","","","","","","","","","","","","","","","","","","","","","","","","","","","","","","","","","","","","","","","","","","","","","","","","","","","","","","","","","","","","","","","","","",2,0,-2,0,0]
[null,null,null,null,null,null,28,{"$f":"IF(NE48=1, START!$B$17, \"\")","v":""},{"$f":"IF(NE48=1, START!$B$20, \"\")","v":""},null,null,null,null,null,null,null,null,null,null,null,null,null,null,null,null,null,null,null,null,null,null,null,null,null,null,null,null,null,null,null,null,null,null,null,null,null,null,null,null,null,null,null,null,null,null,null,null,null,null,null,null,null,null,null,null,null,null,null,null,null,null,null,null,null,null,null,null,null,null,null,null,null,null,null,null,null,null,null,null,null,null,null,null,null,null,null,null,null,null,null,null,null,null,null,null,null,null,null,null,null,null,null,null,null,null,null,null,null,null,null,null,null,null,null,null,null,null,null,null,null,null,null,null,null,null,null,null,null,null,null,null,null,null,null,null,null,null,null,null,null,null,null,null,null,null,null,null,null,null,null,null,null,null,null,null,null,null,null,null,null,null,null,null,null,null,null,null,null,null,null,null,null,null,null,null,null,null,28,"","","","","","","","","","","","","","","","","","","","","","","","","","","","","","","","","","","","","","","","","","","","","","","","","","","","","","","","","","","","","","","","","","","","","","","","","","","","","","","","","","","","","","","","","","","","","","","","","","","","","","","","","","","","","","","","","","","","","","","","","","","","","","","","","","","","","","","","","","","","","","","","","","","","","","","","","","","","","","","","","","","","","","","","","","","","","","","","","",2,0,-2,0,0]
[null,null,null,null,null,null,29,{"$f":"IF(NE49=1, START!$B$17, \"\")","v":""},{"$f":"IF(NE49=1, START!$B$20, \"\")","v":""},null,null,null,null,null,null,null,null,null,null,null,null,null,null,null,null,null,null,null,null,null,null,null,null,null,null,null,null,null,null,null,null,null,null,null,null,null,null,null,null,null,null,null,null,null,null,null,null,null,null,null,null,null,null,null,null,null,null,null,null,null,null,null,null,null,null,null,null,null,null,null,null,null,null,null,null,null,null,null,null,null,null,null,null,null,null,null,null,null,null,null,null,null,null,null,null,null,null,null,null,null,null,null,null,null,null,null,null,null,null,null,null,null,null,null,null,null,null,null,null,null,null,null,null,null,null,null,null,null,null,null,null,null,null,null,null,null,null,null,null,null,null,null,null,null,null,null,null,null,null,null,null,null,null,null,null,null,null,null,null,null,null,null,null,null,null,null,null,null,null,null,null,null,null,null,null,null,null,29,"","","","","","","","","","","","","","","","","","","","","","","","","","","","","","","","","","","","","","","","","","","","","","","","","","","","","","","","","","","","","","","","","","","","","","","","","","","","","","","","","","","","","","","","","","","","","","","","","","","","","","","","","","","","","","","","","","","","","","","","","","","","","","","","","","","","","","","","","","","","","","","","","","","","","","","","","","","","","","","","","","","","","","","","","","","","","","","","","",2,0,-2,0,0]
[null,null,null,null,null,null,30,{"$f":"IF(NE50=1, START!$B$17, \"\")","v":""},{"$f":"IF(NE50=1, START!$B$20, \"\")","v":""},null,null,null,null,null,null,null,null,null,null,null,null,null,null,null,null,null,null,null,null,null,null,null,null,null,null,null,null,null,null,null,null,null,null,null,null,null,null,null,null,null,null,null,null,null,null,null,null,null,null,null,null,null,null,null,null,null,null,null,null,null,null,null,null,null,null,null,null,null,null,null,null,null,null,null,null,null,null,null,null,null,null,null,null,null,null,null,null,null,null,null,null,null,null,null,null,null,null,null,null,null,null,null,null,null,null,null,null,null,null,null,null,null,null,null,null,null,null,null,null,null,null,null,null,null,null,null,null,null,null,null,null,null,null,null,null,null,null,null,null,null,null,null,null,null,null,null,null,null,null,null,null,null,null,null,null,null,null,null,null,null,null,null,null,null,null,null,null,null,null,null,null,null,null,null,null,null,null,30,"","","","","","","","","","","","","","","","","","","","","","","","","","","","","","","","","","","","","","","","","","","","","","","","","","","","","","","","","","","","","","","","","","","","","","","","","","","","","","","","","","","","","","","","","","","","","","","","","","","","","","","","","","","","","","","","","","","","","","","","","","","","","","","","","","","","","","","","","","","","","","","","","","","","","","","","","","","","","","","","","","","","","","","","","","","","","","","","","",2,0,-2,0,0]
[null,null,null,null,null,null,31,{"$f":"IF(NE51=1, START!$B$17, \"\")","v":""},{"$f":"IF(NE51=1, START!$B$20, \"\")","v":""},null,null,null,null,null,null,null,null,null,null,null,null,null,null,null,null,null,null,null,null,null,null,null,null,null,null,null,null,null,null,null,null,null,null,null,null,null,null,null,null,null,null,null,null,null,null,null,null,null,null,null,null,null,null,null,null,null,null,null,null,null,null,null,null,null,null,null,null,null,null,null,null,null,null,null,null,null,null,null,null,null,null,null,null,null,null,null,null,null,null,null,null,null,null,null,null,null,null,null,null,null,null,null,null,null,null,null,null,null,null,null,null,null,null,null,null,null,null,null,null,null,null,null,null,null,null,null,null,null,null,null,null,null,null,null,null,null,null,null,null,null,null,null,null,null,null,null,null,null,null,null,null,null,null,null,null,null,null,null,null,null,null,null,null,null,null,null,null,null,null,null,null,null,null,null,null,null,null,31,"","","","","","","","","","","","","","","","","","","","","","","","","","","","","","","","","","","","","","","","","","","","","","","",{"$f":"IF(BE51=\"\",\"\",IF(OR(BE51=1,BE51=2,BE51=3,BE51=4,BE51=5,BE51=99),1,0))","v":""},"","","","","","","","","","","","","","","","","","","","","","","","","","","","","","","",{"$f":"IF(CK51=\"\",\"\",IF(OR(CK51=1,CK51=2,CK51=3,CK51=4,CK51=5,CK51=99),1,0))","v":""},"","","","","","","","","","","","","","","","","","","","","","","","","","","","","","","",{"$f":"IF(DQ51=\"\",\"\",IF(OR(DQ51=1,DQ51=2,DQ51=3,DQ51=4,DQ51=5,DQ51=99),1,0))","v":""},"","","","","","","","","","","","","","","","","","","","","","","","","","","","","","","","","","","","","","","","","","","","","","","","","","","","","","","","","","","","","","","","","",2,0,-2,0,0]
[null,null,null,null,null,null,32,{"$f":"IF(NE52=1, START!$B$17, \"\")","v":""},{"$f":"IF(NE52=1, START!$B$20, \"\")","v":""},null,null,null,null,null,null,null,null,null,null,null,null,null,null,null,null,null,null,null,null,null,null,null,null,null,null,null,null,null,null,null,null,null,null,null,null,null,null,null,null,null,null,null,null,null,null,null,null,null,null,null,null,null,null,null,null,null,null,null,null,null,null,null,null,null,null,null,null,null,null,null,null,null,null,null,null,null,null,null,null,null,null,null,null,null,null,null,null,null,null,null,null,null,null,null,null,null,null,null,null,null,null,null,null,null,null,null,null,null,null,null,null,null,null,null,null,null,null,null,null,null,null,null,null,null,null,null,null,null,null,null,null,null,null,null,null,null,null,null,null,null,null,null,null,null,null,null,null,null,null,null,null,null,null,null,null,null,null,null,null,null,null,null,null,null,null,null,null,null,null,null,null,null,null,null,null,null,null,32,"","","","","","","","","","","","","","","","","","","","","","","","","","","","","","","","",{"$f":"IF(AP52=\"\",\"\",IF(OR(AP52=1,AP52=2,AP52=3,AP52=4,AP52=5,AP52=99),1,0))","v":""},"","","","","","","","","","","","","","","","","","","","","","","","","","","","","","","",{"$f":"IF(BV52=\"\",\"\",IF(OR(BV52=1,BV52=2,BV52=3,BV52=4,BV52=5,BV52=99),1,0))","v":""},"","","","","","","","","","","","","","","","","","","","","","","","","","","","","","","",{"$f":"IF(DB52=\"\",\"\",IF(OR(DB52=1,DB52=2,DB52=3,DB52=4,DB52=5,DB52=99),1,0))","v":""},"","","","","","","","","","","","","","","","","","","","","","","","","","","","","","","","","","","","","","","","","","","","","","","","","","","","","","","","","","","","","","","","","","","","","","","","","","","","","","","","",2,0,-2,0,0]
[null,null,null,null,null,null,33,{"$f":"IF(NE53=1, START!$B$17, \"\")","v":""},{"$f":"IF(NE53=1, START!$B$20, \"\")","v":""},null,null,null,null,null,null,null,null,null,null,null,null,null,null,null,null,null,null,null,null,null,null,null,null,null,null,null,null,null,null,null,null,null,null,null,null,null,null,null,null,null,null,null,null,null,null,null,null,null,null,null,null,null,null,null,null,null,null,null,null,null,null,null,null,null,null,null,null,null,null,null,null,null,null,null,null,null,null,null,null,null,null,null,null,null,null,null,null,null,null,null,null,null,null,null,null,null,null,null,null,null,null,null,null,null,null,null,null,null,null,null,null,null,null,null,null,null,null,null,null,null,null,null,null,null,null,null,null,null,null,null,null,null,null,null,null,null,null,null,null,null,null,null,null,null,null,null,null,null,null,null,null,null,null,null,null,null,null,null,null,null,null,null,null,null,null,null,null,null,null,null,null,null,null,null,null,null,null,33,"","","","","","","","","","","","","","","","","","","","","","","","","","","","","","","","","","","","","","","","","","","","","","","","","","","","","","","","","","","","","","","","","","","","","","","","","","","","","","","","","","","","","","","","","","","","","","","","","","","","","","","","","","","","","","","","","","","","","","","","","","","","","","","","","","","","","","","","","","","","","",{"$f":"IF(EU53=\"\",\"\",IF(OR(EU53=1,EU53=2,EU53=3,EU53=4,EU53=5,EU53=99),1,0))","v":""},"","","","","","","","","","","","","","","","",{"$f":"IF(FL53=\"\",\"\",IF(OR(FL53=1,FL53=2,FL53=3,FL53=4,FL53=5,FL53=99),1,0))","v":""},"","","","","","","","","","","","","","","","","","",2,0,-2,0,0]
[null,null,null,null,null,null,34,{"$f":"IF(NE54=1, START!$B$17, \"\")","v":""},{"$f":"IF(NE54=1, START!$B$20, \"\")","v":""},null,null,null,null,null,null,null,null,null,null,null,null,null,null,null,null,null,null,null,null,null,null,null,null,null,null,null,null,null,null,null,null,null,null,null,null,null,null,null,null,null,null,null,null,null,null,null,null,null,null,null,null,null,null,null,null,null,null,null,null,null,null,null,null,null,null,null,null,null,null,null,null,null,null,null,null,null,null,null,null,null,null,null,null,null,null,null,null,null,null,null,null,null,null,null,null,null,null,null,null,null,null,null,null,null,null,null,null,null,null,null,null,null,null,null,null,null,null,null,null,null,null,null,null,null,null,null,null,null,null,null,null,null,null,null,null,null,null,null,null,null,null,null,null,null,null,null,null,null,null,null,null,null,null,null,null,null,null,null,null,null,null,null,null,null,null,null,null,null,null,null,null,null,null,null,null,null,null,34,"","","","","","","","","","","","","","","","","","","","","","","","","","","","","","","","","","","","","","","","","","","","","","","","","","","","","","","","","","","","","","","","","","","","","","","","","","","","","","","","","","","","","","","","","","","","","","","","","","","","","","","","","","","","","","","","","","","","","","","","","","","","","","","","",{"$f":"IF(EH54=\"\",\"\",IF(OR(EH54=1,EH54=2,EH54=3,EH54=4,EH54=5,EH54=99),1,0))","v":""},"","","","","","","","","","","","","","","","",{"$f":"IF(EY54=\"\",\"\",IF(OR(EY54=1,EY54=2,EY54=3,EY54=4,EY54=5,EY54=99),1,0))","v":""},"","","","","","","","","","","","","","","","","","","","","","","","","","","","","","","",2,0,-2,0,0]
[null,null,null,null,null,null,35,{"$f":"IF(NE55=1, START!$B$17, \"\")","v":""},{"$f":"IF(NE55=1, START!$B$20, \"\")","v":""},null,null,null,null,null,null,null,null,null,null,null,null,null,null,null,null,null,null,null,null,null,null,null,null,null,null,null,null,null,null,null,null,null,null,null,null,null,null,null,null,null,null,null,null,null,null,null,null,null,null,null,null,null,null,null,null,null,null,null,null,null,null,null,null,null,null,null,null,null,null,null,null,null,null,null,null,null,null,null,null,null,null,null,null,null,null,null,null,null,null,null,null,null,null,null,null,null,null,null,null,null,null,null,null,null,null,null,null,null,null,null,null,null,null,null,null,null,null,null,null,null,null,null,null,null,null,null,null,null,null,null,null,null,null,null,null,null,null,null,null,null,null,null,null,null,null,null,null,null,null,null,null,null,null,null,null,null,null,null,null,null,null,null,null,null,null,null,null,null,null,null,null,null,null,null,null,null,null,35,"","","","","","","","","","","","","","","","","","","","","","","","","","","","","","","","","","","","","","","","","","","","","","","","","","","","","","","","","","","","","","","","","","","","","","","","","","","","","","","","","","","","","","","","","","","","","","","","","","","","","","","","","","","","","","","","","","","","","","","","","","","","","","","","","","","","","","","","","","","","","","","","","","","","","","","","","","","","","","","","","","","","","","","","","","","","","","","","","",2,0,-2,0,0]
[null,null,null,null,null,null,36,{"$f":"IF(NE56=1, START!$B$17, \"\")","v":""},{"$f":"IF(NE56=1, START!$B$20, \"\")","v":""},null,null,null,null,null,null,null,null,null,null,null,null,null,null,null,null,null,null,null,null,null,null,null,null,null,null,null,null,null,null,null,null,null,null,null,null,null,null,null,null,null,null,null,null,null,null,null,null,null,null,null,null,null,null,null,null,null,null,null,null,null,null,null,null,null,null,null,null,null,null,null,null,null,null,null,null,null,null,null,null,null,null,null,null,null,null,null,null,null,null,null,null,null,null,null,null,null,null,null,null,null,null,null,null,null,null,null,null,null,null,null,null,null,null,null,null,null,null,null,null,null,null,null,null,null,null,null,null,null,null,null,null,null,null,null,null,null,null,null,null,null,null,null,null,null,null,null,null,null,null,null,null,null,null,null,null,null,null,null,null,null,null,null,null,null,null,null,null,null,null,null,null,null,null,null,null,null,null,36,"","","","","","","","","","","","","","","","","","","","","","","",{"$f":"IF(AG56=\"\",\"\",IF(OR(AG56=1,AG56=2,AG56=3,AG56=4,AG56=5,AG56=99),1,0))","v":""},"","","","","","","","","","","","","","","","","","","","","","","","","","","","","","","","","","","","","","","","","","","","","","","","","","","","","","","","","","","","","","","","","","","","","","","","","","","","","","","","","","","","","","","","","","","","","","","","","","","","","","","","","","","","","","","","","","","","","","","","","","","","","","","","","","","","","","","","","","","","","","","","","","","","","","","","","",2,0,-2,0,0]
[null,null,null,null,null,null,37,{"$f":"IF(NE57=1, START!$B$17, \"\")","v":""},{"$f":"IF(NE57=1, START!$B$20, \"\")","v":""},null,null,null,null,null,null,null,null,null,null,null,null,null,null,null,null,null,null,null,null,null,null,null,null,null,null,null,null,null,null,null,null,null,null,null,null,null,null,null,null,null,null,null,null,null,null,null,null,null,null,null,null,null,null,null,null,null,null,null,null,null,null,null,null,null,null,null,null,null,null,null,null,null,null,null,null,null,null,null,null,null,null,null,null,null,null,null,null,null,null,null,null,null,null,null,null,null,null,null,null,null,null,null,null,null,null,null,null,null,null,null,null,null,null,null,null,null,null,null,null,null,null,null,null,null,null,null,null,null,null,null,null,null,null,null,null,null,null,null,null,null,null,null,null,null,null,null,null,null,null,null,null,null,null,null,null,null,null,null,null,null,null,null,null,null,null,null,null,null,null,null,null,null,null,null,null,null,null,37,"","","","","","","","","","","","","","","","",{"$f":"IF(Z57=\"\",\"\",IF(OR(Z57=1,Z57=2,Z57=3,Z57=4,Z57=5,Z57=99),1,0))","v":""},"","","","","","","","","","","","","","","","","","","","","","","","","","","","","","","","","","","","","","","","","","","","","","","","","","","","","","","","","","","","","","","","","","","","","","","","","","","","","","","","","","","","","","","","","","","","","","","","","","","","","","","","","","","","","","","","","","","","","","","","","","","","","","","","","","","","","","","","","","","","","","","","","","","","","","","","","","","","","","","","",2,0,-2,0,0]
[null,null,null,null,null,null,38,{"$f":"IF(NE58=1, START!$B$17, \"\")","v":""},{"$f":"IF(NE58=1, START!$B$20, \"\")","v":""},null,null,null,null,null,null,null,null,null,null,null,null,null,null,null,null,null,null,null,null,null,null,null,null,null,null,null,null,null,null,null,null,null,null,null,null,null,null,null,null,null,null,null,null,null,null,null,null,null,null,null,null,null,null,null,null,null,null,null,null,null,null,null,null,null,null,null,null,null,null,null,null,null,null,null,null,null,null,null,null,null,null,null,null,null,null,null,null,null,null,null,null,null,null,null,null,null,null,null,null,null,null,null,null,null,null,null,null,null,null,null,null,null,null,null,null,null,null,null,null,null,null,null,null,null,null,null,null,null,null,null,null,null,null,null,null,null,null,null,null,null,null,null,null,null,null,null,null,null,null,null,null,null,null,null,null,null,null,null,null,null,null,null,null,null,null,null,null,null,null,null,null,null,null,null,null,null,null,38,"","","","","","","","","","","","","","","","","","","","","","","","","","","","","","","","","","","","","","","","","","","","","","","","","","","","","","","","","","","","","","","","","","","","","","","","","","","","","","","","","","","","","","","","","","","","","","","","","","","","","","","","","","","","","","","","","","","","","","","","","","","","","","","","","","","","","","","","","","","","","","","","","","","","","","","","","","","","","","","","","","","","","","","","","","","","","","","","","",2,0,-2,0,0]
[null,null,null,null,null,null,39,{"$f":"IF(NE59=1, START!$B$17, \"\")","v":""},{"$f":"IF(NE59=1, START!$B$20, \"\")","v":""},null,null,null,null,null,null,null,null,null,null,null,null,null,null,null,null,null,null,null,null,null,null,null,null,null,null,null,null,null,null,null,null,null,null,null,null,null,null,null,null,null,null,null,null,null,null,null,null,null,null,null,null,null,null,null,null,null,null,null,null,null,null,null,null,null,null,null,null,null,null,null,null,null,null,null,null,null,null,null,null,null,null,null,null,null,null,null,null,null,null,null,null,null,null,null,null,null,null,null,null,null,null,null,null,null,null,null,null,null,null,null,null,null,null,null,null,null,null,null,null,null,null,null,null,null,null,null,null,null,null,null,null,null,null,null,null,null,null,null,null,null,null,null,null,null,null,null,null,null,null,null,null,null,null,null,null,null,null,null,null,null,null,null,null,null,null,null,null,null,null,null,null,null,null,null,null,null,null,39,"","","","","","","","","","","","","","","","","","","","","","","","","","","","","","","","","","","","","","","","","","","","","","","","","","","","","","","","","","","","","","","","","","","","","","","","","","","","","","","","","","","","","","","","","","","","","","","","","","","","","","","","","","","","","","","","","","","","","","","","","","","","","","","","","","","","","","","","","","","","","","","","","","","","","","","","","","","","","","","","","","","","","","","","","","","","","","","","","",2,0,-2,0,0]
[null,null,null,null,null,null,40,{"$f":"IF(NE60=1, START!$B$17, \"\")","v":""},{"$f":"IF(NE60=1, START!$B$20, \"\")","v":""},null,null,null,null,null,null,null,null,null,null,null,null,null,null,null,null,null,null,null,null,null,null,null,null,null,null,null,null,null,null,null,null,null,null,null,null,null,null,null,null,null,null,null,null,null,null,null,null,null,null,null,null,null,null,null,null,null,null,null,null,null,null,null,null,null,null,null,null,null,null,null,null,null,null,null,null,null,null,null,null,null,null,null,null,null,null,null,null,null,null,null,null,null,null,null,null,null,null,null,null,null,null,null,null,null,null,null,null,null,null,null,null,null,null,null,null,null,null,null,null,null,null,null,null,null,null,null,null,null,null,null,null,null,null,null,null,null,null,null,null,null,null,null,null,null,null,null,null,null,null,null,null,null,null,null,null,null,null,null,null,null,null,null,null,null,null,null,null,null,null,null,null,null,null,null,null,null,null,40,"","","","","","","","","","","","","","","",{"$f":"IF(Y60=\"\",\"\",IF(OR(Y60=1,Y60=2,Y60=3,Y60=4,Y60=5,Y60=99),1,0))","v":""},"","","","","","","","","","","","","","","","","","","","","","","","","","","","","","","","","","","","","","","","","","","","","","","","","","","","","","","","","","","","","","","","","","","","","","","","","","","","","","","","","","","","","","","","","","","","","","","","","","","","","","","","","","","","","","","","","","","","","","","","","","","","","","","","","","","","","","","","","","","","","","","","","","","","","","","","","","","","","","","","","",2,0,-2,0,0]
[null,null,null,null,null,null,41,{"$f":"IF(NE61=1, START!$B$17, \"\")","v":""},{"$f":"IF(NE61=1, START!$B$20, \"\")","v":""},null,null,null,null,null,null,null,null,null,null,null,null,null,null,null,null,null,null,null,null,null,null,null,null,null,null,null,null,null,null,null,null,null,null,null,null,null,null,null,null,null,null,null,null,null,null,null,null,null,null,null,null,null,null,null,null,null,null,null,null,null,null,null,null,null,null,null,null,null,null,null,null,null,null,null,null,null,null,null,null,null,null,null,null,null,null,null,null,null,null,null,null,null,null,null,null,null,null,null,null,null,null,null,null,null,null,null,null,null,null,null,null,null,null,null,null,null,null,null,null,null,null,null,null,null,null,null,null,null,null,null,null,null,null,null,null,null,null,null,null,null,null,null,null,null,null,null,null,null,null,null,null,null,null,null,null,null,null,null,null,null,null,null,null,null,null,null,null,null,null,null,null,null,null,null,null,null,null,41,{"$f":"IF(J61=\"\",\"\",IF(OR(J61=1,J61=2,J61=3,J61=4,J61=5,J61=99),1,0))","v":""},"","","","","","","","","","","","","","","","","","","","","","","","","","","","","","","","","","","","","","","","","","","","","","","","","","","","","","","","","","","","","","","","","","","","","","","","","","","","","","","","","","","","","","","","","","","","","","","","","","","","","","","","","","","","","","","","","","","","","","","","","","","","","","","","","","","","","","","","","","","","","","","","","","","","","","","","","","","","","","","","","","","","","","","","","","","","","","","","",2,0,-2,0,0]
[null,null,null,null,null,null,42,{"$f":"IF(NE62=1, START!$B$17, \"\")","v":""},{"$f":"IF(NE62=1, START!$B$20, \"\")","v":""},null,null,null,null,null,null,null,null,null,null,null,null,null,null,null,null,null,null,null,null,null,null,null,null,null,null,null,null,null,null,null,null,null,null,null,null,null,null,null,null,null,null,null,null,null,null,null,null,null,null,null,null,null,null,null,null,null,null,null,null,null,null,null,null,null,null,null,null,null,null,null,null,null,null,null,null,null,null,null,null,null,null,null,null,null,null,null,null,null,null,null,null,null,null,null,null,null,null,null,null,null,null,null,null,null,null,null,null,null,null,null,null,null,null,null,null,null,null,null,null,null,null,null,null,null,null,null,null,null,null,null,null,null,null,null,null,null,null,null,null,null,null,null,null,null,null,null,null,null,null,null,null,null,null,null,null,null,null,null,null,null,null,null,null,null,null,null,null,null,null,null,null,null,null,null,null,null,null,42,"","","","","","","","","","","","","","","","","","","","","","","","","","","","","","","","","","","","","","","","","","","","","","","","","","","","","","","","","","","","","","","","","","","","","","","","","","","","","","","","","","","","","","","","","","","","","","","","","","","","","","","","","","","","","","","","","","","","","","","","","","","","","","","","","","","","","","","","","","","","","","","","","","","","","","","","","","","","","","","","","","","","","","","","","","","","","","","","","",2,0,-2,0,0]
[null,null,null,null,null,null,43,{"$f":"IF(NE63=1, START!$B$17, \"\")","v":""},{"$f":"IF(NE63=1, START!$B$20, \"\")","v":""},null,null,null,null,null,null,null,null,null,null,null,null,null,null,null,null,null,null,null,null,null,null,null,null,null,null,null,null,null,null,null,null,null,null,null,null,null,null,null,null,null,null,null,null,null,null,null,null,null,null,null,null,null,null,null,null,null,null,null,null,null,null,null,null,null,null,null,null,null,null,null,null,null,null,null,null,null,null,null,null,null,null,null,null,null,null,null,null,null,null,null,null,null,null,null,null,null,null,null,null,null,null,null,null,null,null,null,null,null,null,null,null,null,null,null,null,null,null,null,null,null,null,null,null,null,null,null,null,null,null,null,null,null,null,null,null,null,null,null,null,null,null,null,null,null,null,null,null,null,null,null,null,null,null,null,null,null,null,null,null,null,null,null,null,null,null,null,null,null,null,null,null,null,null,null,null,null,null,43,"","","","","","","","","","","","","","","","","","","","","","","","","","","","","","","","","","","","","","","","","","","","","","","","","","","","","","","","","","","","","","","","","","","","","","","","","","","","","","","","","","","","","","","","","","","","","","","","","","","","","","","","","","","","","","","","","","","","","","","","","","","","","","","","","","","","","","","","","","","","","","","","","","","","","","","","","","","","","","","","","","","","","","","","","","","","","","","","","",2,0,-2,0,0]
[null,null,null,null,null,null,59,{"$f":"IF(NE79=1, START!$B$17, \"\")","v":""},{"$f":"IF(NE79=1, START!$B$20, \"\")","v":""},null,null,null,null,null,null,null,null,null,null,null,null,null,null,null,null,null,null,null,null,null,null,null,null,null,null,null,null,null,null,null,null,null,null,null,null,null,null,null,null,null,null,null,null,null,null,null,null,null,null,null,null,null,null,null,null,null,null,null,null,null,null,null,null,null,null,null,null,null,null,null,null,null,null,null,null,null,null,null,null,null,null,null,null,null,null,null,null,null,null,null,null,null,null,null,null,null,null,null,null,null,null,null,null,null,null,null,null,null,null,null,null,null,null,null,null,null,null,null,null,null,null,null,null,null,null,null,null,null,null,null,null,null,null,null,null,null,null,null,null,null,null,null,null,null,null,null,null,null,null,null,null,null,null,null,null,null,null,null,null,null,null,null,null,null,null,null,null,null,null,null,null,null,null,null,null,null,null,59,"","","","","","","","","","","","","","","","","","","","","","","","","","","","","","","","","","","","","","","","","","","","","","","","","","","","","","","","","","","","","","","","","","","","","","","","","","","","","","","","","","","","","","","","","","","","","","","","","","","","","","","","","","","","","","","","","","","","","","","","","","","","","","","","","","","","","","","","","","","","","","","","","","","","","","","","","","","","","","","","","","","","","","","","","","","","","","","","","",2,0,-2,0,0]
[null,null,null,null,null,null,74,{"$f":"IF(NE94=1, START!$B$17, \"\")","v":""},{"$f":"IF(NE94=1, START!$B$20, \"\")","v":""},null,null,null,null,null,null,null,null,null,null,null,null,null,null,null,null,null,null,null,null,null,null,null,null,null,null,null,null,null,null,null,null,null,null,null,null,null,null,null,null,null,null,null,null,null,null,null,null,null,null,null,null,null,null,null,null,null,null,null,null,null,null,null,null,null,null,null,null,null,null,null,null,null,null,null,null,null,null,null,null,null,null,null,null,null,null,null,null,null,null,null,null,null,null,null,null,null,null,null,null,null,null,null,null,null,null,null,null,null,null,null,null,null,null,null,null,null,null,null,null,null,null,null,null,null,null,null,null,null,null,null,null,null,null,null,null,null,null,null,null,null,null,null,null,null,null,null,null,null,null,null,null,null,null,null,null,null,null,null,null,null,null,null,null,null,null,null,null,null,null,null,null,null,null,null,null,null,null,74,"","","","","","","","","","","","","","","","","","","","","","","","","","","","","","","","","","","","","","","","","","","","","","","","","","","","","","","","","","","","","","","","","","","","","","","","","","","","","","","","","","","","","","","","","","","","","","","","","","","","","","","","","","","","","","","","","","","","","","","","","","","","","","","","","","","","","","","","","","","","","","","","","","","","","","","","","","","","","","","","","","","","","","","","","","","","","","","","","",2,0,-2,0,0]
[null,null,null,null,null,null,90,{"$f":"IF(NE110=1, START!$B$17, \"\")","v":""},{"$f":"IF(NE110=1, START!$B$20, \"\")","v":""},null,null,null,null,null,null,null,null,null,null,null,null,null,null,null,null,null,null,null,null,null,null,null,null,null,null,null,null,null,null,null,null,null,null,null,null,null,null,null,null,null,null,null,null,null,null,null,null,null,null,null,null,null,null,null,null,null,null,null,null,null,null,null,null,null,null,null,null,null,null,null,null,null,null,null,null,null,null,null,null,null,null,null,null,null,null,null,null,null,null,null,null,null,null,null,null,null,null,null,null,null,null,null,null,null,null,null,null,null,null,null,null,null,null,null,null,null,null,null,null,null,null,null,null,null,null,null,null,null,null,null,null,null,null,null,null,null,null,null,null,null,null,null,null,null,null,null,null,null,null,null,null,null,null,null,null,null,null,null,null,null,null,null,null,null,null,null,null,null,null,null,null,null,null,null,null,null,null,90,"","","","","","","","","","","","","","","","","","","","","","","","","","","","","","","","","","","","","","","","","","","","","","","","","","","","","","","","","","","","","","","","","","","","","","","","","","","","","","","","","","","","","","","","","","","","","","","","","","","","","","","","","","","","","","","","","","","","","","","","","","","","","","","","","","","","","","","","","","","","","","","","","","","","","","","","","","","","","","","","","","","","","","","","","","","","","","","","","",2,0,-2,0,0]
[null,null,null,null,null,null,116,{"$f":"IF(NE136=1, START!$B$17, \"\")","v":""},{"$f":"IF(NE136=1, START!$B$20, \"\")","v":""},null,null,null,null,null,null,null,null,null,null,null,null,null,null,null,null,null,null,null,null,null,null,null,null,null,null,null,null,null,null,null,null,null,null,null,null,null,null,null,null,null,null,null,null,null,null,null,null,null,null,null,null,null,null,null,null,null,null,null,null,null,null,null,null,null,null,null,null,null,null,null,null,null,null,null,null,null,null,null,null,null,null,null,null,null,null,null,null,null,null,null,null,null,null,null,null,null,null,null,null,null,null,null,null,null,null,null,null,null,null,null,null,null,null,null,null,null,null,null,null,null,null,null,null,null,null,null,null,null,null,null,null,null,null,null,null,null,null,null,null,null,null,null,null,null,null,null,null,null,null,null,null,null,null,null,null,null,null,null,null,null,null,null,null,null,null,null,null,null,null,null,null,null,null,null,null,null,null,116,"","","","","","","","","","","",{"$f":"IF(U136=\"\",\"\",IF(OR(U136=1,U136=2,U136=3,U136=4,U136=5,U136=99),1,0))","v":""},"","","","","","","","","","","","","","","","","","","","","","","","","","","","","","","","","","","","","","","","",{"$f":"IF(BJ136=\"\",\"\",IF(OR(BJ136=1,BJ136=2,BJ136=3,BJ136=4,BJ136=5,BJ136=99),1,0))","v":""},"","","","","","","","","","","","","","","","","","","","","","","","","","","","","","","","","","","","","","","","","","","","","","","","","","","","","","","","","","","","","","","","","","","","","","","","","","","","","","","","","","","","","","","","","","","","","","","","","","","","","","","","","","","","","","","","","","","","","","","","","","","","",2,0,-2,0,0]
[null,null,null,null,null,null,121,{"$f":"IF(NE141=1, START!$B$17, \"\")","v":""},{"$f":"IF(NE141=1, START!$B$20, \"\")","v":""},null,null,null,null,null,null,null,null,null,null,null,null,null,null,null,null,null,null,null,null,null,null,null,null,null,null,null,null,null,null,null,null,null,null,null,null,null,null,null,null,null,null,null,null,null,null,null,null,null,null,null,null,null,null,null,null,null,null,null,null,null,null,null,null,null,null,null,null,null,null,null,null,null,null,null,null,null,null,null,null,null,null,null,null,null,null,null,null,null,null,null,null,null,null,null,null,null,null,null,null,null,null,null,null,null,null,null,null,null,null,null,null,null,null,null,null,null,null,null,null,null,null,null,null,null,null,null,null,null,null,null,null,null,null,null,null,null,null,null,null,null,null,null,null,null,null,null,null,null,null,null,null,null,null,null,null,null,null,null,null,null,null,null,null,null,null,null,null,null,null,null,null,null,null,null,null,null,null,121,"","","","","","","","","","","","","","","","","","","","","","","","","","","","","","","","","","","","","","","","","","","","","","","","","","","","","","","","","","","","","","","","","","","","","","","","","","","","","","","","","","","","","","","","","","","","","","","","","","","","","","","","","","","","","","","","","","","","","","","","","","","","","","","","","","","","","","","","","","","","","","","","","",{"$f":"IF(EY141=\"\",\"\",IF(OR(EY141=1,EY141=2,EY141=3,EY141=4,EY141=5,EY141=99),1,0))","v":""},"","","","","","","","","","","","","","","","","","","","","","","","","","","","","","","",2,0,-2,0,0]
[null,null,null,null,null,null,137,{"$f":"IF(NE157=1, START!$B$17, \"\")","v":""},{"$f":"IF(NE157=1, START!$B$20, \"\")","v":""},null,null,null,null,null,null,null,null,null,null,null,null,null,null,null,null,null,null,null,null,null,null,null,null,null,null,null,null,null,null,null,null,null,null,null,null,null,null,null,null,null,null,null,null,null,null,null,null,null,null,null,null,null,null,null,null,null,null,null,null,null,null,null,null,null,null,null,null,null,null,null,null,null,null,null,null,null,null,null,null,null,null,null,null,null,null,null,null,null,null,null,null,null,null,null,null,null,null,null,null,null,null,null,null,null,null,null,null,null,null,null,null,null,null,null,null,null,null,null,null,null,null,null,null,null,null,null,null,null,null,null,null,null,null,null,null,null,null,null,null,null,null,null,null,null,null,null,null,null,null,null,null,null,null,null,null,null,null,null,null,null,null,null,null,null,null,null,null,null,null,null,null,null,null,null,null,null,null,137,"","","","","","","","","","","","","","","","","","","","","","","","","","","","","","","","","","","","","","","","","","","","","","","","","","","","","","","","","","","","","","","","","","","","","","","","","","","","","","","","","","","","","","",{"$f":"IF(CR157=\"\",\"\",IF(OR(CR157=1,CR157=2,CR157=3,CR157=4,CR157=5,CR157=99),1,0))","v":""},"","","","","","","","","","","","","","","","","","","","","","","","","","","","","","","","","","","","","","","","","","","","","","","","","","","","","","","","","","","","","","","","","","","","","","","","","","","","","","","","","","","","","","","","","","",2,0,-2,0,0]
[null,null,null,null,null,null,152,{"$f":"IF(NE172=1, START!$B$17, \"\")","v":""},{"$f":"IF(NE172=1, START!$B$20, \"\")","v":""},null,null,null,null,null,null,null,null,null,null,null,null,null,null,null,null,null,null,null,null,null,null,null,null,null,null,null,null,null,null,null,null,null,null,null,null,null,null,null,null,null,null,null,null,null,null,null,null,null,null,null,null,null,null,null,null,null,null,null,null,null,null,null,null,null,null,null,null,null,null,null,null,null,null,null,null,null,null,null,null,null,null,null,null,null,null,null,null,null,null,null,null,null,null,null,null,null,null,null,null,null,null,null,null,null,null,null,null,null,null,null,null,null,null,null,null,null,null,null,null,null,null,null,null,null,null,null,null,null,null,null,null,null,null,null,null,null,null,null,null,null,null,null,null,null,null,null,null,null,null,null,null,null,null,null,null,null,null,null,null,null,null,null,null,null,null,null,null,null,null,null,null,null,null,null,null,null,null,152,"","","","","","","","","","","","","","","","","","","","","","","","","","","","","","","","","","","","","","","","","","","","","","","","","","","","","","","","","","","","","","","","","","","","","","","","","","","","","","","","","","","","","","","","","","","","","","","","","","","","","","","","","","","","","","","","","","","","","","","","","","","","","","","",{"$f":"IF(EG172=\"\",\"\",IF(OR(EG172=1,EG172=2,EG172=3,EG172=4,EG172=5,EG172=99),1,0))","v":""},"","","","","","","","","","","","","","","","","","","","","","","","","","","","","","","","","","","","","","","","","","","","","","","","","",2,0,-2,0,0]
[null,null,null,null,null,null,168,{"$f":"IF(NE188=1, START!$B$17, \"\")","v":""},{"$f":"IF(NE188=1, START!$B$20, \"\")","v":""},null,null,null,null,null,null,null,null,null,null,null,null,null,null,null,null,null,null,null,null,null,null,null,null,null,null,null,null,null,null,null,null,null,null,null,null,null,null,null,null,null,null,null,null,null,null,null,null,null,null,null,null,null,null,null,null,null,null,null,null,null,null,null,null,null,null,null,null,null,null,null,null,null,null,null,null,null,null,null,null,null,null,null,null,null,null,null,null,null,null,null,null,null,null,null,null,null,null,null,null,null,null,null,null,null,null,null,null,null,null,null,null,null,null,null,null,null,null,null,null,null,null,null,null,null,null,null,null,null,null,null,null,null,null,null,null,null,null,null,null,null,null,null,null,null,null,null,null,null,null,null,null,null,null,null,null,null,null,null,null,null,null,null,null,null,null,null,null,null,null,null,null,null,null,null,null,null,null,168,"","","","","","","","","","","","","","","","","","","","","","","","","","","","","","","","","","","","","","","","","","","","","","","","","","","","","","","","","","","","","","","","","","","","","","","","","","","","","","","","","","","","","","","","","","","","","","","","","","","","","","","","","","","","","","","","","","","","","","","","","","","","","","","","","","","","","","","","","","","","","",{"$f":"IF(EU188=\"\",\"\",IF(OR(EU188=1,EU188=2,EU188=3,EU188=4,EU188=5,EU188=99),1,0))","v":""},"","","","","","","","","","","","","","","","","","","","","","","","","","","","","","","","","","","",2,0,-2,0,0]
[null,null,null,null,null,null,181,{"$f":"IF(NE201=1, START!$B$17, \"\")","v":""},{"$f":"IF(NE201=1, START!$B$20, \"\")","v":""},null,null,null,null,null,null,null,null,null,null,null,null,null,null,null,null,null,null,null,null,null,null,null,null,null,null,null,null,null,null,null,null,null,null,null,null,null,null,null,null,null,null,null,null,null,null,null,null,null,null,null,null,null,null,null,null,null,null,null,null,null,null,null,null,null,null,null,null,null,null,null,null,null,null,null,null,null,null,null,null,null,null,null,null,null,null,null,null,null,null,null,null,null,null,null,null,null,null,null,null,null,null,null,null,null,null,null,null,null,null,null,null,null,null,null,null,null,null,null,null,null,null,null,null,null,null,null,null,null,null,null,null,null,null,null,null,null,null,null,null,null,null,null,null,null,null,null,null,null,null,null,null,null,null,null,null,null,null,null,null,null,null,null,null,null,null,null,null,null,null,null,null,null,null,null,null,null,null,181,"","","","","","","","","","","","","","","","","","","","","","","","","","","","","","","","","","","","","","","","","","","","","","","","","","","","","","","","","","","","","","","","","","","","","","","","","","","","","","","","","","","","","","","","","","","","","","","","","","","","","","","","","","","","","","","","","","","","","","","","","","","","","","","","","","","","","","","","","","","","","","","","","","","","","","","","","","","","","","","","","","","","","","","","","","","","","","","","","",2,0,-2,0,0]
[null,null,null,null,null,null,199,{"$f":"IF(NE219=1, START!$B$17, \"\")","v":""},{"$f":"IF(NE219=1, START!$B$20, \"\")","v":""},null,null,null,null,null,null,null,null,null,null,null,null,null,null,null,null,null,null,null,null,null,null,null,null,null,null,null,null,null,null,null,null,null,null,null,null,null,null,null,null,null,null,null,null,null,null,null,null,null,null,null,null,null,null,null,null,null,null,null,null,null,null,null,null,null,null,null,null,null,null,null,null,null,null,null,null,null,null,null,null,null,null,null,null,null,null,null,null,null,null,null,null,null,null,null,null,null,null,null,null,null,null,null,null,null,null,null,null,null,null,null,null,null,null,null,null,null,null,null,null,null,null,null,null,null,null,null,null,null,null,null,null,null,null,null,null,null,null,null,null,null,null,null,null,null,null,null,null,null,null,null,null,null,null,null,null,null,null,null,null,null,null,null,null,null,null,null,null,null,null,null,null,null,null,null,null,null,null,199,"","","","","","","","","","","","","","","","","","","","","","","","","","","","","","","","","","","","","","","","","","","","","","","","","","","","","","","","","","","","","","","","","","","","","","","","","","","","","","","","","","","","","","","","","","","","","","","","","","","","","","","","","","","","","","","","","","","","","","","","","","","","","","","","","","","","","","","","","","","","","","","","","","","","","","","","","","","","","","","","","","","","","","","","","","","","","","","","","",2,0,-2,0,0]
[null,null,null,null,null,null,215,{"$f":"IF(NE235=1, START!$B$17, \"\")","v":""},{"$f":"IF(NE235=1, START!$B$20, \"\")","v":""},null,null,null,null,null,null,null,null,null,null,null,null,null,null,null,null,null,null,null,null,null,null,null,null,null,null,null,null,null,null,null,null,null,null,null,null,null,null,null,null,null,null,null,null,null,null,null,null,null,null,null,null,null,null,null,null,null,null,null,null,null,null,null,null,null,null,null,null,null,null,null,null,null,null,null,null,null,null,null,null,null,null,null,null,null,null,null,null,null,null,null,null,null,null,null,null,null,null,null,null,null,null,null,null,null,null,null,null,null,null,null,null,null,null,null,null,null,null,null,null,null,null,null,null,null,null,null,null,null,null,null,null,null,null,null,null,null,null,null,null,null,null,null,null,null,null,null,null,null,null,null,null,null,null,null,null,null,null,null,null,null,null,null,null,null,null,null,null,null,null,null,null,null,null,null,null,null,null,215,"","","","","","","","","","","","","","","","","","","","","","","","","","","","","","","","","","","","","","","","","","","","","","","","","","","","","","","","","","","","","","","","","","","","","","","","","","","","","","","","","","","","","","","","","","","","","","","","","","","","","","","","","","","","","","","","","","",{"$f":"IF(DT235=\"\",\"\",IF(OR(DT235=1,DT235=2,DT235=3,DT235=4,DT235=5,DT235=99),1,0))","v":""},"","","","","","","","","","","","","","","","","","","","","","","","","","","","","","","","","","","","","","","","","","","","","","","","","","","","","","","","","","","","","","",2,0,-2,0,0]
[null,null,null,null,null,null,230,{"$f":"IF(NE250=1, START!$B$17, \"\")","v":""},{"$f":"IF(NE250=1, START!$B$20, \"\")","v":""},null,null,null,null,null,null,null,null,null,null,null,null,null,null,null,null,null,null,null,null,null,null,null,null,null,null,null,null,null,null,null,null,null,null,null,null,null,null,null,null,null,null,null,null,null,null,null,null,null,null,null,null,null,null,null,null,null,null,null,null,null,null,null,null,null,null,null,null,null,null,null,null,null,null,null,null,null,null,null,null,null,null,null,null,null,null,null,null,null,null,null,null,null,null,null,null,null,null,null,null,null,null,null,null,null,null,null,null,null,null,null,null,null,null,null,null,null,null,null,null,null,null,null,null,null,null,null,null,null,null,null,null,null,null,null,null,null,null,null,null,null,null,null,null,null,null,null,null,null,null,null,null,null,null,null,null,null,null,null,null,null,null,null,null,null,null,null,null,null,null,null,null,null,null,null,null,null,null,230,"","","","","","","","","","","","","","","","","","","","","","","","","","","","","","","","","","","","","","","","","","","","","","","","","","","","","","","","","","","","","","","","","","","","","","","","","","","","","","","","","","","","","","","","","","","","","","","","","","","","","","","","","",{"$f":"IF(DK250=\"\",\"\",IF(OR(DK250=1,DK250=2,DK250=3,DK250=4,DK250=5,DK250=99),1,0))","v":""},"","","","","","","","","","","","","","","","","","","","","","","","","","","","","","","","","","","","","","","","","","","","","","","","","","","","","","","","","","","","","","","","","","","","","","","",2,0,-2,0,0]
[null,null,null,null,null,null,245,{"$f":"IF(NE265=1, START!$B$17, \"\")","v":""},{"$f":"IF(NE265=1, START!$B$20, \"\")","v":""},null,null,null,null,null,null,null,null,null,null,null,null,null,null,null,null,null,null,null,null,null,null,null,null,null,null,null,null,null,null,null,null,null,null,null,null,null,null,null,null,null,null,null,null,null,null,null,null,null,null,null,null,null,null,null,null,null,null,null,null,null,null,null,null,null,null,null,null,null,null,null,null,null,null,null,null,null,null,null,null,null,null,null,null,null,null,null,null,null,null,null,null,null,null,null,null,null,null,null,null,null,null,null,null,null,null,null,null,null,null,null,null,null,null,null,null,null,null,null,null,null,null,null,null,null,null,null,null,null,null,null,null,null,null,null,null,null,null,null,null,null,null,null,null,null,null,null,null,null,null,null,null,null,null,null,null,null,null,null,null,null,null,null,null,null,null,null,null,null,null,null,null,null,null,null,null,null,null,245,{"$f":"IF(J265=\"\",\"\",IF(OR(J265=1,J265=2,J265=3,J265=4,J265=5,J265=99),1,0))","v":""},"","","","","","","","","","","","","","","","","","","","","","","","","","","","","","","","","","","","","","","","","","","","","","","","","","","","","","","","","","","","","","","","","","","","","","","","","","","","","","","","","","","","","","","","","","","","","","","","","","","","","","","","","","","","","","","","","","","","","","","","","","","","","","","","","","","","","","","","","","","","","","","","","","","","","","","","","","","","","","","","","","","","","","","","","","","","","","","","",2,0,-2,0,0]
[null,null,null,null,null,null,262,{"$f":"IF(NE282=1, START!$B$17, \"\")","v":""},{"$f":"IF(NE282=1, START!$B$20, \"\")","v":""},null,null,null,null,null,null,null,null,null,null,null,null,null,null,null,null,null,null,null,null,null,null,null,null,null,null,null,null,null,null,null,null,null,null,null,null,null,null,null,null,null,null,null,null,null,null,null,null,null,null,null,null,null,null,null,null,null,null,null,null,null,null,null,null,null,null,null,null,null,null,null,null,null,null,null,null,null,null,null,null,null,null,null,null,null,null,null,null,null,null,null,null,null,null,null,null,null,null,null,null,null,null,null,null,null,null,null,null,null,null,null,null,null,null,null,null,null,null,null,null,null,null,null,null,null,null,null,null,null,null,null,null,null,null,null,null,null,null,null,null,null,null,null,null,null,null,null,null,null,null,null,null,null,null,null,null,null,null,null,null,null,null,null,null,null,null,null,null,null,null,null,null,null,null,null,null,null,null,262,"","","","","","","","","","","","","","","","","","","","","","","","","","","","",{"$f":"IF(AL282=\"\",\"\",IF(OR(AL282=1,AL282=2,AL282=3,AL282=4,AL282=5,AL282=99),1,0))","v":""},"","","","","","","","","","","","","","",{"$f":"IF(BA282=\"\",\"\",IF(OR(BA282=1,BA282=2,BA282=3,BA282=4,BA282=5,BA282=99),1,0))","v":""},"","","","","","","","","","","","","","","","","","","","","","","","","","","","","","","","","","","","","","","","","","","","","","","","","","","","","","","","","","","","","","","","","","","","","","","","","","","","","","","","","","","","","","","","","","","","","","","","","","","","","","","","","","","","","","","","","","","","","","","","","","","","","","","",{"$f":"IF(FY282=\"\",\"\",IF(OR(FY282=1,FY282=2,FY282=3,FY282=4,FY282=5,FY282=99),1,0))","v":""},"","","","","",2,0,-2,0,0]
[null,null,null,null,null,null,277,{"$f":"IF(NE297=1, START!$B$17, \"\")","v":""},{"$f":"IF(NE297=1, START!$B$20, \"\")","v":""},null,null,null,null,null,null,null,null,null,null,null,null,null,null,null,null,null,null,null,null,null,null,null,null,null,null,null,null,null,null,null,null,null,null,null,null,null,null,null,null,null,null,null,null,null,null,null,null,null,null,null,null,null,null,null,null,null,null,null,null,null,null,null,null,null,null,null,null,null,null,null,null,null,null,null,null,null,null,null,null,null,null,null,null,null,null,null,null,null,null,null,null,null,null,null,null,null,null,null,null,null,null,null,null,null,null,null,null,null,null,null,null,null,null,null,null,null,null,null,null,null,null,null,null,null,null,null,null,null,null,null,null,null,null,null,null,null,null,null,null,null,null,null,null,null,null,null,null,null,null,null,null,null,null,null,null,null,null,null,null,null,null,null,null,null,null,null,null,null,null,null,null,null,null,null,null,null,null,277,"","","","","","","","","","","","","","","","","","","","","","","","","","","","","","","","","","","","","","","","","","","","","","","","","","","","","","","","","","","","","","","","","","","","","","","","","","","","","","","","","","","","","","","","","","","","","","","","","","","","","","","","","","","","","","","","","","","","","","","","","","","","","","","","","","","","","","","","","","","","","","","","","","","","","","","","","","","","","","","","","","","","","","","","","","","","","","","","","",2,0,-2,0,0]
[null,null,null,null,null,null,293,{"$f":"IF(NE313=1, START!$B$17, \"\")","v":""},{"$f":"IF(NE313=1, START!$B$20, \"\")","v":""},null,null,null,null,null,null,null,null,null,null,null,null,null,null,null,null,null,null,null,null,null,null,null,null,null,null,null,null,null,null,null,null,null,null,null,null,null,null,null,null,null,null,null,null,null,null,null,null,null,null,null,null,null,null,null,null,null,null,null,null,null,null,null,null,null,null,null,null,null,null,null,null,null,null,null,null,null,null,null,null,null,null,null,null,null,null,null,null,null,null,null,null,null,null,null,null,null,null,null,null,null,null,null,null,null,null,null,null,null,null,null,null,null,null,null,null,null,null,null,null,null,null,null,null,null,null,null,null,null,null,null,null,null,null,null,null,null,null,null,null,null,null,null,null,null,null,null,null,null,null,null,null,null,null,null,null,null,null,null,null,null,null,null,null,null,null,null,null,null,null,null,null,null,null,null,null,null,null,293,"","","","","","","","","","","","","","","","","","","","","","","","","","","","","","","","","","","","","","","","","","","","","","","","","","","","","","","","","","","","","","","","","","","","","","","","","","","","","","","","","","","","","","","","","","","","","","","","","","","","","","","","","","","","","","","","","","","","","","","","","","","","","","","","","","","","","","","","","","","","","","","","","","","","","","","","","","","","","","","","","","","","","","","","","","","","","","","","","",2,0,-2,0,0]
[null,null,null,null,null,null,308,{"$f":"IF(NE328=1, START!$B$17, \"\")","v":""},{"$f":"IF(NE328=1, START!$B$20, \"\")","v":""},null,null,null,null,null,null,null,null,null,null,null,null,null,null,null,null,null,null,null,null,null,null,null,null,null,null,null,null,null,null,null,null,null,null,null,null,null,null,null,null,null,null,null,null,null,null,null,null,null,null,null,null,null,null,null,null,null,null,null,null,null,null,null,null,null,null,null,null,null,null,null,null,null,null,null,null,null,null,null,null,null,null,null,null,null,null,null,null,null,null,null,null,null,null,null,null,null,null,null,null,null,null,null,null,null,null,null,null,null,null,null,null,null,null,null,null,null,null,null,null,null,null,null,null,null,null,null,null,null,null,null,null,null,null,null,null,null,null,null,null,null,null,null,null,null,null,null,null,null,null,null,null,null,null,null,null,null,null,null,null,null,null,null,null,null,null,null,null,null,null,null,null,null,null,null,null,null,null,308,"","","","","","","","","","","","","","","","","","","","","","","","","","","","","","","","","","","","","","","","","","","","","","","","","","","","","","","","","","","","","","","","","","","","","","","","","","","","","","","","","","","","","","","","","","","","","","","","","","","","","","","","","","","","","","","","","","","","","","","","","","","","","","","","","","","","","","","","","","","","","","","","","","","","","","","","","","","","","","","","","","","","","","","","","","","","","","","","","",2,0,-2,0,0]
[null,null,null,null,null,null,323,{"$f":"IF(NE343=1, START!$B$17, \"\")","v":""},{"$f":"IF(NE343=1, START!$B$20, \"\")","v":""},null,null,null,null,null,null,null,null,null,null,null,null,null,null,null,null,null,null,null,null,null,null,null,null,null,null,null,null,null,null,null,null,null,null,null,null,null,null,null,null,null,null,null,null,null,null,null,null,null,null,null,null,null,null,null,null,null,null,null,null,null,null,null,null,null,null,null,null,null,null,null,null,null,null,null,null,null,null,null,null,null,null,null,null,null,null,null,null,null,null,null,null,null,null,null,null,null,null,null,null,null,null,null,null,null,null,null,null,null,null,null,null,null,null,null,null,null,null,null,null,null,null,null,null,null,null,null,null,null,null,null,null,null,null,null,null,null,null,null,null,null,null,null,null,null,null,null,null,null,null,null,null,null,null,null,null,null,null,null,null,null,null,null,null,null,null,null,null,null,null,null,null,null,null,null,null,null,null,323,"","","","","","","","","","","","","","","","","","","","","","","","","","","","","","","","","","","",{"$f":"IF(AS343=\"\",\"\",IF(OR(AS343=1,AS343=2,AS343=3,AS343=4,AS343=5,AS343=99),1,0))","v":""},"","","","","","","","","","","","","","","","","","","","","","","","","","","","","","","","","","","","","","","","","","","","","","","","","","","","","","","","","","","","","","","","","","","","","","","","","","","","","","","","","","","","","","","","","","","","","","","","","","","","","",{"$f":"IF(EQ343=\"\",\"\",IF(OR(EQ343=1,EQ343=2,EQ343=3,EQ343=4,EQ343=5,EQ343=99),1,0))","v":""},"","","","","","","","","","","","","","","","","","","","","","","","","","","","","","","","","","","","","","","",2,0,-2,0,0]
[null,null,null,null,null,null,343,{"$f":"IF(NE363=1, START!$B$17, \"\")","v":""},{"$f":"IF(NE363=1, START!$B$20, \"\")","v":""},null,null,null,null,null,null,null,null,null,null,null,null,null,null,null,null,null,null,null,null,null,null,null,null,null,null,null,null,null,null,null,null,null,null,null,null,null,null,null,null,null,null,null,null,null,null,null,null,null,null,null,null,null,null,null,null,null,null,null,null,null,null,null,null,null,null,null,null,null,null,null,null,null,null,null,null,null,null,null,null,null,null,null,null,null,null,null,null,null,null,null,null,null,null,null,null,null,null,null,null,null,null,null,null,null,null,null,null,null,null,null,null,null,null,null,null,null,null,null,null,null,null,null,null,null,null,null,null,null,null,null,null,null,null,null,null,null,null,null,null,null,null,null,null,null,null,null,null,null,null,null,null,null,null,null,null,null,null,null,null,null,null,null,null,null,null,null,null,null,null,null,null,null,null,null,null,null,null,343,"","","","","","","","","","","","","","","","","","","","","","","","","","","","","","","","","","","","","","","","","","","","","","","","","","","","","","","","","","","","","","","","","","","","","","","","","","","","","","","","","","","","","","","","","","","","","","","","","","","","","","","","","","","","","","","","","","","","","","","","","","","","","","","","","","","","","","","","","","","","","","","","","","","","","","","","","","","","","","","","","","","","","","","","","","","","","","","","","",2,0,-2,0,0]
[null,null,null,null,null,null,355,{"$f":"IF(NE375=1, START!$B$17, \"\")","v":""},{"$f":"IF(NE375=1, START!$B$20, \"\")","v":""},null,null,null,null,null,null,null,null,null,null,null,null,null,null,null,null,null,null,null,null,null,null,null,null,null,null,null,null,null,null,null,null,null,null,null,null,null,null,null,null,null,null,null,null,null,null,null,null,null,null,null,null,null,null,null,null,null,null,null,null,null,null,null,null,null,null,null,null,null,null,null,null,null,null,null,null,null,null,null,null,null,null,null,null,null,null,null,null,null,null,null,null,null,null,null,null,null,null,null,null,null,null,null,null,null,null,null,null,null,null,null,null,null,null,null,null,null,null,null,null,null,null,null,null,null,null,null,null,null,null,null,null,null,null,null,null,null,null,null,null,null,null,null,null,null,null,null,null,null,null,null,null,null,null,null,null,null,null,null,null,null,null,null,null,null,null,null,null,null,null,null,null,null,null,null,null,null,null,355,"","","","","","","","","","","","","","","","",{"$f":"IF(Z375=\"\",\"\",IF(OR(Z375=1,Z375=2,Z375=3,Z375=4,Z375=5,Z375=99),1,0))","v":""},"","","","","","","","","","","","","","","","","","","","","","","","","","","","","","","","","","","","","","","","","","","","","","","","","","","","","","","","","","","","","","","","","","","","","","","","","","","","","","","","","","","","","","","","","","","","","","","","","","","","","","","","","","","","","","","","","","","","","","","","","","","","","","","","","","","","","","","","","","","","","","","","","","","","","","","","","","","","","","","","",2,0,-2,0,0]
[null,null,null,null,null,null,371,{"$f":"IF(NE391=1, START!$B$17, \"\")","v":""},{"$f":"IF(NE391=1, START!$B$20, \"\")","v":""},null,null,null,null,null,null,null,null,null,null,null,null,null,null,null,null,null,null,null,null,null,null,null,null,null,null,null,null,null,null,null,null,null,null,null,null,null,null,null,null,null,null,null,null,null,null,null,null,null,null,null,null,null,null,null,null,null,null,null,null,null,null,null,null,null,null,null,null,null,null,null,null,null,null,null,null,null,null,null,null,null,null,null,null,null,null,null,null,null,null,null,null,null,null,null,null,null,null,null,null,null,null,null,null,null,null,null,null,null,null,null,null,null,null,null,null,null,null,null,null,null,null,null,null,null,null,null,null,null,null,null,null,null,null,null,null,null,null,null,null,null,null,null,null,null,null,null,null,null,null,null,null,null,null,null,null,null,null,null,null,null,null,null,null,null,null,null,null,null,null,null,null,null,null,null,null,null,null,371,"","","","","","","","","","","","","","","","","","","","","","","","","","","","","","","","","","","","","","","","","","","","","","","","","","","","","","","","","","","","","","","","","","","","","","","","","","","","","","","","","","","","","","","","","","","","","","","","","","","","","","","","","","","","","","","","","","","","","","","","","","","","","","","","","","","","","","","","","","","","","","","","","","","","","","","","","","","","","","","","","","","","","","","","","","","","","","","","","",2,0,-2,0,0]
[null,null,null,null,null,null,386,{"$f":"IF(NE406=1, START!$B$17, \"\")","v":""},{"$f":"IF(NE406=1, START!$B$20, \"\")","v":""},null,null,null,null,null,null,null,null,null,null,null,null,null,null,null,null,null,null,null,null,null,null,null,null,null,null,null,null,null,null,null,null,null,null,null,null,null,null,null,null,null,null,null,null,null,null,null,null,null,null,null,null,null,null,null,null,null,null,null,null,null,null,null,null,null,null,null,null,null,null,null,null,null,null,null,null,null,null,null,null,null,null,null,null,null,null,null,null,null,null,null,null,null,null,null,null,null,null,null,null,null,null,null,null,null,null,null,null,null,null,null,null,null,null,null,null,null,null,null,null,null,null,null,null,null,null,null,null,null,null,null,null,null,null,null,null,null,null,null,null,null,null,null,null,null,null,null,null,null,null,null,null,null,null,null,null,null,null,null,null,null,null,null,null,null,null,null,null,null,null,null,null,null,null,null,null,null,null,386,"","","","","","","","","","","","","","","","","","","","","","","","","","","","","","","","","","","","","","","","","","","","","","","","",{"$f":"IF(BF406=\"\",\"\",IF(OR(BF406=1,BF406=2,BF406=3,BF406=4,BF406=5,BF406=99),1,0))","v":""},"","","","","","","","","","","","","","","","","","","","","","","","","","","","","","","","","","","","","","","","","","","","","","","","","","","","","","","","","","","","","","","","","","","","","","","","","","","","","","","","","","","","","","","","","","","","","","","","","","","","","","","","","","","","","","","","","","","","","","","","","","","","",{"$f":"IF(GA406=\"\",\"\",IF(OR(GA406=1,GA406=2,GA406=99),1,0))","v":""},{"$f":"IF(GB406=\"\",\"\",IF(OR(GB406=1,GB406=2,GB406=3,GB406=4,GB406=5,GB406=99),1,0))","v":""},{"$f":"IF(GC406=\"\",\"\",IF(AND(LEN(GC406)=5),1,0))","v":""},"",{"$f":"SUM($J$11:$GD$11)","v":2},{"$f":"SUM(GG406:NA406)","v":0},{"$f":"NC406-NB406","v":-2},{"$f":"IF(NC406>0, 1, 0)","v":0},{"$f":"IF(AND(NE406=1,ND406=0),0,IF(NE406=0,0,1))","v":0}]
[null,null,null,null,null,null,392,{"$f":"IF(NE412=1, START!$B$17, \"\")","v":""},{"$f":"IF(NE412=1, START!$B$20, \"\")","v":""},null,null,null,null,null,null,null,null,null,null,null,null,null,null,null,null,null,null,null,null,null,null,null,null,null,null,null,null,null,null,null,null,null,null,null,null,null,null,null,null,null,null,null,null,null,null,null,null,null,null,null,null,null,null,null,null,null,null,null,null,null,null,null,null,null,null,null,null,null,null,null,null,null,null,null,null,null,null,null,null,null,null,null,null,null,null,null,null,null,null,null,null,null,null,null,null,null,null,null,null,null,null,null,null,null,null,null,null,null,null,null,null,null,null,null,null,null,null,null,null,null,null,null,null,null,null,null,null,null,null,null,null,null,null,null,null,null,null,null,null,null,null,null,null,null,null,null,null,null,null,null,null,null,null,null,null,null,null,null,null,null,null,null,null,null,null,null,null,null,null,null,null,null,null,null,null,null,null,392,"","","","","","","","","","","","","","","","","","","","","","","","","","","","","","","","","","","","","","","","","","","","","","","","","","","","","","","","","","","","","","","","","","","","","","","","","","","","","","","","","","","","","","","","","","","","","","","","","","","","","","","","","","","","","","","","","","","","","","","","","","","","","","","","","","","","","","","","","","","","","","","","","","","","","","","","","","","","","","","","","","","","","","","","","","","","","","","","","",2,0,-2,0,0]
[null,null,null,null,null,null,418,{"$f":"IF(NE438=1, START!$B$17, \"\")","v":""},{"$f":"IF(NE438=1, START!$B$20, \"\")","v":""},null,null,null,null,null,null,null,null,null,null,null,null,null,null,null,null,null,null,null,null,null,null,null,null,null,null,null,null,null,null,null,null,null,null,null,null,null,null,null,null,null,null,null,null,null,null,null,null,null,null,null,null,null,null,null,null,null,null,null,null,null,null,null,null,null,null,null,null,null,null,null,null,null,null,null,null,null,null,null,null,null,null,null,null,null,null,null,null,null,null,null,null,null,null,null,null,null,null,null,null,null,null,null,null,null,null,null,null,null,null,null,null,null,null,null,null,null,null,null,null,null,null,null,null,null,null,null,null,null,null,null,null,null,null,null,null,null,null,null,null,null,null,null,null,null,null,null,null,null,null,null,null,null,null,null,null,null,null,null,null,null,null,null,null,null,null,null,null,null,null,null,null,null,null,null,null,null,null,418,"","","","","","","","","","","","","","","","","","","","","","","","","","","","","","","","","","","","","","","","","","","","","","","","","","","","","","","","","","","","","","","","","","","","","","","","","","","","","","","","","","","","","","","","","","","","","","","","","","","","","","","","","","","","","","","","","","","","","","","","","","","","","","","","","","","","","","","","","","","","","","","","","","","","","","","","","","","","","","","","","","","","","","","","","","","","","","","","","",2,0,-2,0,0]
[null,null,null,null,null,null,433,{"$f":"IF(NE453=1, START!$B$17, \"\")","v":""},{"$f":"IF(NE453=1, START!$B$20, \"\")","v":""},null,null,null,null,null,null,null,null,null,null,null,null,null,null,null,null,null,null,null,null,null,null,null,null,null,null,null,null,null,null,null,null,null,null,null,null,null,null,null,null,null,null,null,null,null,null,null,null,null,null,null,null,null,null,null,null,null,null,null,null,null,null,null,null,null,null,null,null,null,null,null,null,null,null,null,null,null,null,null,null,null,null,null,null,null,null,null,null,null,null,null,null,null,null,null,null,null,null,null,null,null,null,null,null,null,null,null,null,null,null,null,null,null,null,null,null,null,null,null,null,null,null,null,null,null,null,null,null,null,null,null,null,null,null,null,null,null,null,null,null,null,null,null,null,null,null,null,null,null,null,null,null,null,null,null,null,null,null,null,null,null,null,null,null,null,null,null,null,null,null,null,null,null,null,null,null,null,null,433,"","","","","","","","","","","","","","","","","","","","","","","","","","","","","","","","","","","","","","","","","","","","","","","","","","","","","","","","","","","","","","","","","","","","","","","","","","","","","","","","","","","","","","","","","","","","","","","","","","","","","","","","","","","","","","","","","","","","","","","","","","","","","","","","","","","","","","","","","","","","","","","","","","","","","","","","","","","","","","","","","","","","","","","","","","","","","","","","","",2,0,-2,0,0]
[null,null,null,null,null,null,448,{"$f":"IF(NE468=1, START!$B$17, \"\")","v":""},{"$f":"IF(NE468=1, START!$B$20, \"\")","v":""},null,null,null,null,null,null,null,null,null,null,null,null,null,null,null,null,null,null,null,null,null,null,null,null,null,null,null,null,null,null,null,null,null,null,null,null,null,null,null,null,null,null,null,null,null,null,null,null,null,null,null,null,null,null,null,null,null,null,null,null,null,null,null,null,null,null,null,null,null,null,null,null,null,null,null,null,null,null,null,null,null,null,null,null,null,null,null,null,null,null,null,null,null,null,null,null,null,null,null,null,null,null,null,null,null,null,null,null,null,null,null,null,null,null,null,null,null,null,null,null,null,null,null,null,null,null,null,null,null,null,null,null,null,null,null,null,null,null,null,null,null,null,null,null,null,null,null,null,null,null,null,null,null,null,null,null,null,null,null,null,null,null,null,null,null,null,null,null,null,null,null,null,null,null,null,null,null,null,448,"","","","","","","","","","","","","","","","","","","","","","","","","","","","","","","","","","","","","","","","","","","","","","","","","","","","","","","","","","","","","","","","","","","","","","","","","","","","","","","","","","","","","","","","","","","","","","","","","","","","","","","","","","","","","","","","","","","","","","","","","","","","","","","","","","","","","","","","","","","","","","","","","","","","","","","","","","","","","","","","","","","","","","","","","","","","","","","","","",2,0,-2,0,0]
[null,null,null,null,null,null,464,{"$f":"IF(NE484=1, START!$B$17, \"\")","v":""},{"$f":"IF(NE484=1, START!$B$20, \"\")","v":""},null,null,null,null,null,null,null,null,null,null,null,null,null,null,null,null,null,null,null,null,null,null,null,null,null,null,null,null,null,null,null,null,null,null,null,null,null,null,null,null,null,null,null,null,null,null,null,null,null,null,null,null,null,null,null,null,null,null,null,null,null,null,null,null,null,null,null,null,null,null,null,null,null,null,null,null,null,null,null,null,null,null,null,null,null,null,null,null,null,null,null,null,null,null,null,null,null,null,null,null,null,null,null,null,null,null,null,null,null,null,null,null,null,null,null,null,null,null,null,null,null,null,null,null,null,null,null,null,null,null,null,null,null,null,null,null,null,null,null,null,null,null,null,null,null,null,null,null,null,null,null,null,null,null,null,null,null,null,null,null,null,null,null,null,null,null,null,null,null,null,null,null,null,null,null,null,null,null,464,"","","","","","","","","","","","","","","","","","","","","","","","","","","","","","","","","","","","","","","","","","","","",{"$f":"IF(BB484=\"\",\"\",IF(OR(BB484=1,BB484=2,BB484=3,BB484=4,BB484=5,BB484=99),1,0))","v":""},"","","","",{"$f":"IF(BG484=\"\",\"\",IF(OR(BG484=1,BG484=2,BG484=3,BG484=4,BG484=5,BG484=99),1,0))","v":""},"","","","","","","","","","","","","","","","","","","","","","","","","","","","","","","","","","","","","","","","","","","","","","","","","","","","","","","","","","","","","","","","","","","","","","","","","","","","","","","","","","","","","","","","","","","","","","","","","","","","","","","","","","","","","","","","","","","","","","","","","","","","","","","",2,0,-2,0,0]
[null,null,null,null,null,null,473,{"$f":"IF(NE493=1, START!$B$17, \"\")","v":""},{"$f":"IF(NE493=1, START!$B$20, \"\")","v":""},null,null,null,null,null,null,null,null,null,null,null,null,null,null,null,null,null,null,null,null,null,null,null,null,null,null,null,null,null,null,null,null,null,null,null,null,null,null,null,null,null,null,null,null,null,null,null,null,null,null,null,null,null,null,null,null,null,null,null,null,null,null,null,null,null,null,null,null,null,null,null,null,null,null,null,null,null,null,null,null,null,null,null,null,null,null,null,null,null,null,null,null,null,null,null,null,null,null,null,null,null,null,null,null,null,null,null,null,null,null,null,null,null,null,null,null,null,null,null,null,null,null,null,null,null,null,null,null,null,null,null,null,null,null,null,null,null,null,null,null,null,null,null,null,null,null,null,null,null,null,null,null,null,null,null,null,null,null,null,null,null,null,null,null,null,null,null,null,null,null,null,null,null,null,null,null,null,null,473,"","","","","","","","","","","","","","","","","","","","","","","","","","","","","","","","","","","","","","","","","","","","","","","","","","","","","","","","","","","","","","","","","","","","","","","","","","","","","","","","","","","","","","","","","","","","","","","","","","","","","","","","","","","","","","","","","","","","","","","","","","","","","","","","","","","","","","","","","",{"$f":"IF(EQ493=\"\",\"\",IF(OR(EQ493=1,EQ493=2,EQ493=3,EQ493=4,EQ493=5,EQ493=99),1,0))","v":""},"","","","","","","","","","","","","","","","","","","","","","","","","","","","","","","","","","","","","","","",2,0,-2,0,0]
[null,null,null,null,null,null,496,{"$f":"IF(NE516=1, START!$B$17, \"\")","v":""},{"$f":"IF(NE516=1, START!$B$20, \"\")","v":""},null,null,null,null,null,null,null,null,null,null,null,null,null,null,null,null,null,null,null,null,null,null,null,null,null,null,null,null,null,null,null,null,null,null,null,null,null,null,null,null,null,null,null,null,null,null,null,null,null,null,null,null,null,null,null,null,null,null,null,null,null,null,null,null,null,null,null,null,null,null,null,null,null,null,null,null,null,null,null,null,null,null,null,null,null,null,null,null,null,null,null,null,null,null,null,null,null,null,null,null,null,null,null,null,null,null,null,null,null,null,null,null,null,null,null,null,null,null,null,null,null,null,null,null,null,null,null,null,null,null,null,null,null,null,null,null,null,null,null,null,null,null,null,null,null,null,null,null,null,null,null,null,null,null,null,null,null,null,null,null,null,null,null,null,null,null,null,null,null,null,null,null,null,null,null,null,null,null,496,"","","","","","","","","","","","","","","","","","","","","","","","","","","","","","","","","","","","","","","","","","","","","","","","","","","","","","","","","","","","","","","","","","","","","","","","","","","","","","","","","","","","","","","","","","","","","","","","","","","","","","","","","","","","","","","","","","","","","","","",{"$f":"IF(DY516=\"\",\"\",IF(OR(DY516=1,DY516=2,DY516=3,DY516=4,DY516=5,DY516=99),1,0))","v":""},"","","","","","","","","","","","","","","","","","","","","","","","","","","","","","","","","","","","","","","","","","","","","","","","","","","","","","","","","",2,0,-2,0,0]
[null,null,null,null,null,null,511,{"$f":"IF(NE531=1, START!$B$17, \"\")","v":""},{"$f":"IF(NE531=1, START!$B$20, \"\")","v":""},null,null,null,null,null,null,null,null,null,null,null,null,null,null,null,null,null,null,null,null,null,null,null,null,null,null,null,null,null,null,null,null,null,null,null,null,null,null,null,null,null,null,null,null,null,null,null,null,null,null,null,null,null,null,null,null,null,null,null,null,null,null,null,null,null,null,null,null,null,null,null,null,null,null,null,null,null,null,null,null,null,null,null,null,null,null,null,null,null,null,null,null,null,null,null,null,null,null,null,null,null,null,null,null,null,null,null,null,null,null,null,null,null,null,null,null,null,null,null,null,null,null,null,null,null,null,null,null,null,null,null,null,null,null,null,null,null,null,null,null,null,null,null,null,null,null,null,null,null,null,null,null,null,null,null,null,null,null,null,null,null,null,null,null,null,null,null,null,null,null,null,null,null,null,null,null,null,null,511,"","","","","","","","","","","","","","","","","","","","","","","","","","","","","","","","","","","","","","","","","","","","","","","","","","","","","","","","","","","","","","","","","","","","","","","","","","","","","","","","","","","","","","","","","","","","","","","","","","","","","","","","","","","","","","","","","","","","","","","","","","","","","","","","","","","","","","","","","","","","","","","","","","","","","","","","","","","","","","","","","","","","","","","","","","","","","","","","","",2,0,-2,0,0]
[null,null,null,null,null,null,526,{"$f":"IF(NE546=1, START!$B$17, \"\")","v":""},{"$f":"IF(NE546=1, START!$B$20, \"\")","v":""},null,null,null,null,null,null,null,null,null,null,null,null,null,null,null,null,null,null,null,null,null,null,null,null,null,null,null,null,null,null,null,null,null,null,null,null,null,null,null,null,null,null,null,null,null,null,null,null,null,null,null,null,null,null,null,null,null,null,null,null,null,null,null,null,null,null,null,null,null,null,null,null,null,null,null,null,null,null,null,null,null,null,null,null,null,null,null,null,null,null,null,null,null,null,null,null,null,null,null,null,null,null,null,null,null,null,null,null,null,null,null,null,null,null,null,null,null,null,null,null,null,null,null,null,null,null,null,null,null,null,null,null,null,null,null,null,null,null,null,null,null,null,null,null,null,null,null,null,null,null,null,null,null,null,null,null,null,null,null,null,null,null,null,null,null,null,null,null,null,null,null,null,null,null,null,null,null,null,526,"","","","","","","","","","","","","","","","","","","","","","","","","","","","","","","","","","","","","","","","","","","","","","","","","","","","","","","","","","","","","","","","","","","","","","","","","","","","","","","","","","","","","","","","","","","","","","","","","","","","","","","","","","","","","","","","","","","","","","","","","","","","","","","","","","","","","","","","","","","","","","","",{"$f":"IF(EW546=\"\",\"\",IF(OR(EW546=1,EW546=2,EW546=3,EW546=4,EW546=5,EW546=99),1,0))","v":""},"","","","","","","","","","","","","","","","","","","","","","","","","","","","","","","","","",2,0,-2,0,0]
[null,null,null,null,null,null,542,{"$f":"IF(NE562=1, START!$B$17, \"\")","v":""},{"$f":"IF(NE562=1, START!$B$20, \"\")","v":""},null,null,null,null,null,null,null,null,null,null,null,null,null,null,null,null,null,null,null,null,null,null,null,null,null,null,null,null,null,null,null,null,null,null,null,null,null,null,null,null,null,null,null,null,null,null,null,null,null,null,null,null,null,null,null,null,null,null,null,null,null,null,null,null,null,null,null,null,null,null,null,null,null,null,null,null,null,null,null,null,null,null,null,null,null,null,null,null,null,null,null,null,null,null,null,null,null,null,null,null,null,null,null,null,null,null,null,null,null,null,null,null,null,null,null,null,null,null,null,null,null,null,null,null,null,null,null,null,null,null,null,null,null,null,null,null,null,null,null,null,null,null,null,null,null,null,null,null,null,null,null,null,null,null,null,null,null,null,null,null,null,null,null,null,null,null,null,null,null,null,null,null,null,null,null,null,null,null,542,"","","","","","","","","","","","","","","","","","","","","","","","","","","","","","",{"$f":"IF(AN562=\"\",\"\",IF(OR(AN562=1,AN562=2,AN562=3,AN562=4,AN562=5,AN562=99),1,0))","v":""},"","","","","","","","","","","","","","","","","","","","","","","","","","","","","","","","","","","","","","","","","","","","","","","","","","","","","","","","","","","","","","","","","","","","","","","","","","","","","","","","","","","","","","","","","","","","","","","","","","","","","","","","","","","","","","","","","","","","","","","","","","","","","","","","","","","","","","","","","","","","","","","","","","",2,0,-2,0,0]
[null,null,null,null,null,null,554,{"$f":"IF(NE574=1, START!$B$17, \"\")","v":""},{"$f":"IF(NE574=1, START!$B$20, \"\")","v":""},null,null,null,null,null,null,null,null,null,null,null,null,null,null,null,null,null,null,null,null,null,null,null,null,null,null,null,null,null,null,null,null,null,null,null,null,null,null,null,null,null,null,null,null,null,null,null,null,null,null,null,null,null,null,null,null,null,null,null,null,null,null,null,null,null,null,null,null,null,null,null,null,null,null,null,null,null,null,null,null,null,null,null,null,null,null,null,null,null,null,null,null,null,null,null,null,null,null,null,null,null,null,null,null,null,null,null,null,null,null,null,null,null,null,null,null,null,null,null,null,null,null,null,null,null,null,null,null,null,null,null,null,null,null,null,null,null,null,null,null,null,null,null,null,null,null,null,null,null,null,null,null,null,null,null,null,null,null,null,null,null,null,null,null,null,null,null,null,null,null,null,null,null,null,null,null,null,null,554,"","","","","","","","","","","","","","","","","","","","","","","","","","","","","","","","","","","","","","","","","","","","","","","","","","","","","","","","","","","","","","","","","","","","","","","","","","","","","","","","","","","","","","","","","","","","","","","","","","","","","","","","","","","","","","","","","","","","","","","","","","","","","","","","","","",{"$f":"IF(EJ574=\"\",\"\",IF(OR(EJ574=1,EJ574=2,EJ574=3,EJ574=4,EJ574=5,EJ574=99),1,0))","v":""},"","","","","","","","","","","","","","","","","","","","","","","","","","","","","","","","","","","","","","","","","","","","","","",2,0,-2,0,0]
[null,null,null,null,null,null,573,{"$f":"IF(NE593=1, START!$B$17, \"\")","v":""},{"$f":"IF(NE593=1, START!$B$20, \"\")","v":""},null,null,null,null,null,null,null,null,null,null,null,null,null,null,null,null,null,null,null,null,null,null,null,null,null,null,null,null,null,null,null,null,null,null,null,null,null,null,null,null,null,null,null,null,null,null,null,null,null,null,null,null,null,null,null,null,null,null,null,null,null,null,null,null,null,null,null,null,null,null,null,null,null,null,null,null,null,null,null,null,null,null,null,null,null,null,null,null,null,null,null,null,null,null,null,null,null,null,null,null,null,null,null,null,null,null,null,null,null,null,null,null,null,null,null,null,null,null,null,null,null,null,null,null,null,null,null,null,null,null,null,null,null,null,null,null,null,null,null,null,null,null,null,null,null,null,null,null,null,null,null,null,null,null,null,null,null,null,null,null,null,null,null,null,null,null,null,null,null,null,null,null,null,null,null,null,null,null,573,"","","","","","","","","","","","","","","","","","","","","","","","","","","","","","","","","","","","","","","","","","","","","","","","","","","","","","","","","","","","","","","","","","","","","","","","","","","","","","","","","","","","","","","","","","","","","","","","","","","","","","","","","","","","","","","","","","","","","","","","","","","","","","","","","","","","","","","","","","","","","","","","","","","","","","","","","","","","","","","","","","","","","","","","","","","","","","","","","",2,0,-2,0,0]
[null,null,null,null,null,null,589,{"$f":"IF(NE609=1, START!$B$17, \"\")","v":""},{"$f":"IF(NE609=1, START!$B$20, \"\")","v":""},null,null,null,null,null,null,null,null,null,null,null,null,null,null,null,null,null,null,null,null,null,null,null,null,null,null,null,null,null,null,null,null,null,null,null,null,null,null,null,null,null,null,null,null,null,null,null,null,null,null,null,null,null,null,null,null,null,null,null,null,null,null,null,null,null,null,null,null,null,null,null,null,null,null,null,null,null,null,null,null,null,null,null,null,null,null,null,null,null,null,null,null,null,null,null,null,null,null,null,null,null,null,null,null,null,null,null,null,null,null,null,null,null,null,null,null,null,null,null,null,null,null,null,null,null,null,null,null,null,null,null,null,null,null,null,null,null,null,null,null,null,null,null,null,null,null,null,null,null,null,null,null,null,null,null,null,null,null,null,null,null,null,null,null,null,null,null,null,null,null,null,null,null,null,null,null,null,null,589,"","","","","","","","","","","","","","","","","","","","","","","","","","","","","","","","","","","","","","","","","","","","","","","","","","","","","","","","","","","","","","","","","","","","","","","","","","","","","","","","","","","","","","","","","","","","","","","","","","","","","","","","","","","","","","","","","","","","","","","","","","","","","","","","","","","","","","","","","","","","","","","","","","","","","","","","","","","","","","","","","","","","","","","","","","","","","","","","","",2,0,-2,0,0]
[null,null,null,null,null,null,604,{"$f":"IF(NE624=1, START!$B$17, \"\")","v":""},{"$f":"IF(NE624=1, START!$B$20, \"\")","v":""},null,null,null,null,null,null,null,null,null,null,null,null,null,null,null,null,null,null,null,null,null,null,null,null,null,null,null,null,null,null,null,null,null,null,null,null,null,null,null,null,null,null,null,null,null,null,null,null,null,null,null,null,null,null,null,null,null,null,null,null,null,null,null,null,null,null,null,null,null,null,null,null,null,null,null,null,null,null,null,null,null,null,null,null,null,null,null,null,null,null,null,null,null,null,null,null,null,null,null,null,null,null,null,null,null,null,null,null,null,null,null,null,null,null,null,null,null,null,null,null,null,null,null,null,null,null,null,null,null,null,null,null,null,null,null,null,null,null,null,null,null,null,null,null,null,null,null,null,null,null,null,null,null,null,null,null,null,null,null,null,null,null,null,null,null,null,null,null,null,null,null,null,null,null,null,null,null,null,604,"","","","","","","","","","","","","","","","","","","","","","","","","","","","","","","","","","","","","","","","","","","","","","","","","","","","","","","","","","","","","","","","","","","","","","","","","","","","","","","","","","","","","","","","","","","","","","","","","","","","","","","","","","","","","","","","","","","","","","","","","","","","","","","","","","","","","","","","","","","","","","","",{"$f":"IF(EW624=\"\",\"\",IF(OR(EW624=1,EW624=2,EW624=3,EW624=4,EW624=5,EW624=99),1,0))","v":""},"","","","","","","","","","","","","","","","","","","","","","","","","","","","","","","","","",2,0,-2,0,0]
[null,null,null,null,null,null,605,{"$f":"IF(NE625=1, START!$B$17, \"\")","v":""},{"$f":"IF(NE625=1, START!$B$20, \"\")","v":""},null,null,null,null,null,null,null,null,null,null,null,null,null,null,null,null,null,null,null,null,null,null,null,null,null,null,null,null,null,null,null,null,null,null,null,null,null,null,null,null,null,null,null,null,null,null,null,null,null,null,null,null,null,null,null,null,null,null,null,null,null,null,null,null,null,null,null,null,null,null,null,null,null,null,null,null,null,null,null,null,null,null,null,null,null,null,null,null,null,null,null,null,null,null,null,null,null,null,null,null,null,null,null,null,null,null,null,null,null,null,null,null,null,null,null,null,null,null,null,null,null,null,null,null,null,null,null,null,null,null,null,null,null,null,null,null,null,null,null,null,null,null,null,null,null,null,null,null,null,null,null,null,null,null,null,null,null,null,null,null,null,null,null,null,null,null,null,null,null,null,null,null,null,null,null,null,null,null,605,"","","","","","","","","","","","","","","","","","","","","","","","","","","","","","","","","","","","","","","","","","","","","","","","","","","","","","","","","","","","","","","","","","","","","","","","","","","","","","","","","","","","","","","","","","","","","","","","","","","","","","","","","","","","","","","","","","","","","","","","","","","","","","","","","","","","","","","","","","","","","","","","","","","","","","","","","","","","","","","","","","","","","","","","","","","","","","","","","",2,0,-2,0,0]
[null,null,null,null,null,null,635,{"$f":"IF(NE655=1, START!$B$17, \"\")","v":""},{"$f":"IF(NE655=1, START!$B$20, \"\")","v":""},null,null,null,null,null,null,null,null,null,null,null,null,null,null,null,null,null,null,null,null,null,null,null,null,null,null,null,null,null,null,null,null,null,null,null,null,null,null,null,null,null,null,null,null,null,null,null,null,null,null,null,null,null,null,null,null,null,null,null,null,null,null,null,null,null,null,null,null,null,null,null,null,null,null,null,null,null,null,null,null,null,null,null,null,null,null,null,null,null,null,null,null,null,null,null,null,null,null,null,null,null,null,null,null,null,null,null,null,null,null,null,null,null,null,null,null,null,null,null,null,null,null,null,null,null,null,null,null,null,null,null,null,null,null,null,null,null,null,null,null,null,null,null,null,null,null,null,null,null,null,null,null,null,null,null,null,null,null,null,null,null,null,null,null,null,null,null,null,null,null,null,null,null,null,null,null,null,null,635,{"$f":"IF(J655=\"\",\"\",IF(OR(J655=1,J655=2,J655=3,J655=4,J655=5,J655=99),1,0))","v":""},"","","","","","","","","","","","","","","","","","","","","","","","","","","","","","","",{"$f":"IF(AP655=\"\",\"\",IF(OR(AP655=1,AP655=2,AP655=3,AP655=4,AP655=5,AP655=99),1,0))","v":""},"","","","","","","","","","","","","","","","","","","","","","","","","","","","","","","","","","","","","","","","","","","","","","","","","","","","","","","","","","","","","","","","","","","","","","","","","","","","","","","","","","","","","","","","","","","","","","","","","","","","","","","","","","","","","","","","","","","","","","","","","","","","","","","","","","","","","","","","","","","","","","","","",2,0,-2,0,0]
[null,null,null,null,null,null,636,{"$f":"IF(NE656=1, START!$B$17, \"\")","v":""},{"$f":"IF(NE656=1, START!$B$20, \"\")","v":""},null,null,null,null,null,null,null,null,null,null,null,null,null,null,null,null,null,null,null,null,null,null,null,null,null,null,null,null,null,null,null,null,null,null,null,null,null,null,null,null,null,null,null,null,null,null,null,null,null,null,null,null,null,null,null,null,null,null,null,null,null,null,null,null,null,null,null,null,null,null,null,null,null,null,null,null,null,null,null,null,null,null,null,null,null,null,null,null,null,null,null,null,null,null,null,null,null,null,null,null,null,null,null,null,null,null,null,null,null,null,null,null,null,null,null,null,null,null,null,null,null,null,null,null,null,null,null,null,null,null,null,null,null,null,null,null,null,null,null,null,null,null,null,null,null,null,null,null,null,null,null,null,null,null,null,null,null,null,null,null,null,null,null,null,null,null,null,null,null,null,null,null,null,null,null,null,null,null,636,"","","","","","","","","","","","","","","","","","","","","","","","","","","","","","","","","","","","","","","","","","","","","","","","","","","","","","","","","","","","","","","","","","","","","","","","","","","","","","","","","","","","","","","","","","","","","","","","","","","","","","","","","","","","","","","","","","","","","","","","","","","","","","","","","","","","","","","","","","","","","","","","","","","","","","","","","","","","","","","","","","","","","","","","","","","","","","","","","",2,0,-2,0,0]
[null,null,null,null,null,null,652,{"$f":"IF(NE672=1, START!$B$17, \"\")","v":""},{"$f":"IF(NE672=1, START!$B$20, \"\")","v":""},null,null,null,null,null,null,null,null,null,null,null,null,null,null,null,null,null,null,null,null,null,null,null,null,null,null,null,null,null,null,null,null,null,null,null,null,null,null,null,null,null,null,null,null,null,null,null,null,null,null,null,null,null,null,null,null,null,null,null,null,null,null,null,null,null,null,null,null,null,null,null,null,null,null,null,null,null,null,null,null,null,null,null,null,null,null,null,null,null,null,null,null,null,null,null,null,null,null,null,null,null,null,null,null,null,null,null,null,null,null,null,null,null,null,null,null,null,null,null,null,null,null,null,null,null,null,null,null,null,null,null,null,null,null,null,null,null,null,null,null,null,null,null,null,null,null,null,null,null,null,null,null,null,null,null,null,null,null,null,null,null,null,null,null,null,null,null,null,null,null,null,null,null,null,null,null,null,null,652,"","","","","","","","","","","","","","","","","","","","","","","","","","","","","","","","","","","","","","","","","","","","","","","","","","","","","","","","","","","","","","","","","","","","","","","","","","","","","","","","","","","","","","","","","","","","","","","","","","","","","","","","","","","","","","","","","","","","","","","","","","","","","","","","","","","","","","","","","","","","","","","","","","","","","","","","","","","","","","","","","","","","","","","","","","","","","","","","","",2,0,-2,0,0]
[null,null,null,null,null,null,667,{"$f":"IF(NE687=1, START!$B$17, \"\")","v":""},{"$f":"IF(NE687=1, START!$B$20, \"\")","v":""},null,null,null,null,null,null,null,null,null,null,null,null,null,null,null,null,null,null,null,null,null,null,null,null,null,null,null,null,null,null,null,null,null,null,null,null,null,null,null,null,null,null,null,null,null,null,null,null,null,null,null,null,null,null,null,null,null,null,null,null,null,null,null,null,null,null,null,null,null,null,null,null,null,null,null,null,null,null,null,null,null,null,null,null,null,null,null,null,null,null,null,null,null,null,null,null,null,null,null,null,null,null,null,null,null,null,null,null,null,null,null,null,null,null,null,null,null,null,null,null,null,null,null,null,null,null,null,null,null,null,null,null,null,null,null,null,null,null,null,null,null,null,null,null,null,null,null,null,null,null,null,null,null,null,null,null,null,null,null,null,null,null,null,null,null,null,null,null,null,null,null,null,null,null,null,null,null,null,667,"","","","","","","","","","","","","","","","","","","","","","","","","","","","","","","","","","","","","","","","","","","","","","","","","","","","","","","","","","","","","","","","","","","","","","","","","","","","","","","","","","","","","","","","","","","","","","","","","","","","","","","","","","","","","","","","","","","","","","","","","","","","","","","","","","","","","","","","","","","","","","","","","","","","","","","","","","","","","","","","","","","","","","","","","","","","","","","","","",2,0,-2,0,0]
[null,null,null,null,null,null,684,{"$f":"IF(NE704=1, START!$B$17, \"\")","v":""},{"$f":"IF(NE704=1, START!$B$20, \"\")","v":""},null,null,null,null,null,null,null,null,null,null,null,null,null,null,null,null,null,null,null,null,null,null,null,null,null,null,null,null,null,null,null,null,null,null,null,null,null,null,null,null,null,null,null,null,null,null,null,null,null,null,null,null,null,null,null,null,null,null,null,null,null,null,null,null,null,null,null,null,null,null,null,null,null,null,null,null,null,null,null,null,null,null,null,null,null,null,null,null,null,null,null,null,null,null,null,null,null,null,null,null,null,null,null,null,null,null,null,null,null,null,null,null,null,null,null,null,null,null,null,null,null,null,null,null,null,null,null,null,null,null,null,null,null,null,null,null,null,null,null,null,null,null,null,null,null,null,null,null,null,null,null,null,null,null,null,null,null,null,null,null,null,null,null,null,null,null,null,null,null,null,null,null,null,null,null,null,null,null,684,"","","","","","","","","","","","","","","","","","","","","","","","","","","","","","","","","","","","","","","","","","","","","","","","","","","","","","","","","","","","","","","",{"$f":"IF(BU704=\"\",\"\",IF(OR(BU704=1,BU704=2,BU704=3,BU704=4,BU704=5,BU704=99),1,0))","v":""},"","","","","","","","","","","","","","","","","","","","","","","","","","","","","","","","","","","","","","","","","",{"$f":"IF(DK704=\"\",\"\",IF(OR(DK704=1,DK704=2,DK704=3,DK704=4,DK704=5,DK704=99),1,0))","v":""},"","","","","","","","","","","","","","","","","","","","","","","","","","","","","","","","","","",{"$f":"IF(ET704=\"\",\"\",IF(OR(ET704=1,ET704=2,ET704=3,ET704=4,ET704=5,ET704=99),1,0))","v":""},"","","","","","","","","","","","","","","","","","","","","","","","","","","","","","","","","","","","",2,0,-2,0,0]
[null,null,null,null,null,null,699,{"$f":"IF(NE719=1, START!$B$17, \"\")","v":""},{"$f":"IF(NE719=1, START!$B$20, \"\")","v":""},null,null,null,null,null,null,null,null,null,null,null,null,null,null,null,null,null,null,null,null,null,null,null,null,null,null,null,null,null,null,null,null,null,null,null,null,null,null,null,null,null,null,null,null,null,null,null,null,null,null,null,null,null,null,null,null,null,null,null,null,null,null,null,null,null,null,null,null,null,null,null,null,null,null,null,null,null,null,null,null,null,null,null,null,null,null,null,null,null,null,null,null,null,null,null,null,null,null,null,null,null,null,null,null,null,null,null,null,null,null,null,null,null,null,null,null,null,null,null,null,null,null,null,null,null,null,null,null,null,null,null,null,null,null,null,null,null,null,null,null,null,null,null,null,null,null,null,null,null,null,null,null,null,null,null,null,null,null,null,null,null,null,null,null,null,null,null,null,null,null,null,null,null,null,null,null,null,null,699,{"$f":"IF(J719=\"\",\"\",IF(OR(J719=1,J719=2,J719=3,J719=4,J719=5,J719=99),1,0))","v":""},"","","","","","","","","","","","","","","","","","","","","","","","","","","","","","","","","","","","","","","","","","","","","","","","","","","","","","","","","","","","","","","","","","","","","","","","","","","","","","","","","","","","","","","","","","","","","","","","",{"$f":"IF(DC719=\"\",\"\",IF(OR(DC719=1,DC719=2,DC719=3,DC719=4,DC719=5,DC719=99),1,0))","v":""},"","","","","","","","","","","","","","","","","","","","","","","","","","","","","","","","","","","","","","","","","","","","","","","","","","","","","","","","","","","","","","","","","","","","","","","","","","","","","","","",2,0,-2,0,0]
[null,null,null,null,null,null,714,{"$f":"IF(NE734=1, START!$B$17, \"\")","v":""},{"$f":"IF(NE734=1, START!$B$20, \"\")","v":""},null,null,null,null,null,null,null,null,null,null,null,null,null,null,null,null,null,null,null,null,null,null,null,null,null,null,null,null,null,null,null,null,null,null,null,null,null,null,null,null,null,null,null,null,null,null,null,null,null,null,null,null,null,null,null,null,null,null,null,null,null,null,null,null,null,null,null,null,null,null,null,null,null,null,null,null,null,null,null,null,null,null,null,null,null,null,null,null,null,null,null,null,null,null,null,null,null,null,null,null,null,null,null,null,null,null,null,null,null,null,null,null,null,null,null,null,null,null,null,null,null,null,null,null,null,null,null,null,null,null,null,null,null,null,null,null,null,null,null,null,null,null,null,null,null,null,null,null,null,null,null,null,null,null,null,null,null,null,null,null,null,null,null,null,null,null,null,null,null,null,null,null,null,null,null,null,null,null,714,"","","","","","","","","","","","","","","","","","","","","","","","","","","","","","","","","","","","","","","","","","","","","","","","","","","","","","","","","","","","","","","","","","","","","","","","","","","","","","","","","","","","","","","","","","","","","","","","","","","","","","","","","","","","","","","","","","","","","","","","","","","","","","","","","","","","","","","","","","","","","","","","","","","","","","","","","","","","","","","","","","","","","","","","","","","","","","","","","",2,0,-2,0,0]
[null,null,null,null,null,null,730,{"$f":"IF(NE750=1, START!$B$17, \"\")","v":""},{"$f":"IF(NE750=1, START!$B$20, \"\")","v":""},null,null,null,null,null,null,null,null,null,null,null,null,null,null,null,null,null,null,null,null,null,null,null,null,null,null,null,null,null,null,null,null,null,null,null,null,null,null,null,null,null,null,null,null,null,null,null,null,null,null,null,null,null,null,null,null,null,null,null,null,null,null,null,null,null,null,null,null,null,null,null,null,null,null,null,null,null,null,null,null,null,null,null,null,null,null,null,null,null,null,null,null,null,null,null,null,null,null,null,null,null,null,null,null,null,null,null,null,null,null,null,null,null,null,null,null,null,null,null,null,null,null,null,null,null,null,null,null,null,null,null,null,null,null,null,null,null,null,null,null,null,null,null,null,null,null,null,null,null,null,null,null,null,null,null,null,null,null,null,null,null,null,null,null,null,null,null,null,null,null,null,null,null,null,null,null,null,null,730,"","","","","","","","","","","","","","","","","","","","","","","","","","","","","","","","","","","","","","","","","","","","","","","","","","","","","","","","","","","","","","","","","","","","","","","","","","","","","","","","","","","","","","","","","","","","","","","","","","","","","","","","","","","","","","","","","","","","","","","","","","","","","","","","","","","","","","","","","","","","","","","","","","","","","","","","","","","","","","","","","","","","","","","","","","","","","","","","","",2,0,-2,0,0]
[null,null,null,null,null,null,745,{"$f":"IF(NE765=1, START!$B$17, \"\")","v":""},{"$f":"IF(NE765=1, START!$B$20, \"\")","v":""},null,null,null,null,null,null,null,null,null,null,null,null,null,null,null,null,null,null,null,null,null,null,null,null,null,null,null,null,null,null,null,null,null,null,null,null,null,null,null,null,null,null,null,null,null,null,null,null,null,null,null,null,null,null,null,null,null,null,null,null,null,null,null,null,null,null,null,null,null,null,null,null,null,null,null,null,null,null,null,null,null,null,null,null,null,null,null,null,null,null,null,null,null,null,null,null,null,null,null,null,null,null,null,null,null,null,null,null,null,null,null,null,null,null,null,null,null,null,null,null,null,null,null,null,null,null,null,null,null,null,null,null,null,null,null,null,null,null,null,null,null,null,null,null,null,null,null,null,null,null,null,null,null,null,null,null,null,null,null,null,null,null,null,null,null,null,null,null,null,null,null,null,null,null,null,null,null,null,745,"","","","","","","","","","","","","","","","","","","","","","","","",{"$f":"IF(AH765=\"\",\"\",IF(OR(AH765=1,AH765=2,AH765=3,AH765=4,AH765=5,AH765=99),1,0))","v":""},"","","","","","","","","","","","","","","","","","","","","","","","","","","","","","","","","","","","","","","","","","","","","","","","","","","","","","","","","","","","","","","","","","","","","","","","","","","","","","","","","","","","","","","","","","","","","","","","","","","","","","","","","","","","","","","","","","","","","","","","","","","","","","","","","","","","","","","","","","","","","","","","","","","","","","","","",2,0,-2,0,0]
[null,null,null,null,null,null,765,{"$f":"IF(NE785=1, START!$B$17, \"\")","v":""},{"$f":"IF(NE785=1, START!$B$20, \"\")","v":""},null,null,null,null,null,null,null,null,null,null,null,null,null,null,null,null,null,null,null,null,null,null,null,null,null,null,null,null,null,null,null,null,null,null,null,null,null,null,null,null,null,null,null,null,null,null,null,null,null,null,null,null,null,null,null,null,null,null,null,null,null,null,null,null,null,null,null,null,null,null,null,null,null,null,null,null,null,null,null,null,null,null,null,null,null,null,null,null,null,null,null,null,null,null,null,null,null,null,null,null,null,null,null,null,null,null,null,null,null,null,null,null,null,null,null,null,null,null,null,null,null,null,null,null,null,null,null,null,null,null,null,null,null,null,null,null,null,null,null,null,null,null,null,null,null,null,null,null,null,null,null,null,null,null,null,null,null,null,null,null,null,null,null,null,null,null,null,null,null,null,null,null,null,null,null,null,null,null,765,"","","","","","","","","","","","","","","","",{"$f":"IF(Z785=\"\",\"\",IF(OR(Z785=1,Z785=2,Z785=3,Z785=4,Z785=5,Z785=99),1,0))","v":""},"","","","","","","","","","","","","","","","","","","","","","","","","","","","","","","","","","","","","","","","","","","","","","","","","","","","","",{"$f":"IF(CB785=\"\",\"\",IF(OR(CB785=1,CB785=2,CB785=3,CB785=4,CB785=5,CB785=99),1,0))","v":""},"","","","","","","","","","","","","","","","","","","","","","","","","","","","","","","","","","","","","","","","","","","","","","","","","","","","","","","","","","","","","","","","","","","","","","","","","","","","","","","","","","","","","","","","","","","","","","","","","","","","","","","","","","",2,0,-2,0,0]
[null,null,null,null,null,null,777,{"$f":"IF(NE797=1, START!$B$17, \"\")","v":""},{"$f":"IF(NE797=1, START!$B$20, \"\")","v":""},null,null,null,null,null,null,null,null,null,null,null,null,null,null,null,null,null,null,null,null,null,null,null,null,null,null,null,null,null,null,null,null,null,null,null,null,null,null,null,null,null,null,null,null,null,null,null,null,null,null,null,null,null,null,null,null,null,null,null,null,null,null,null,null,null,null,null,null,null,null,null,null,null,null,null,null,null,null,null,null,null,null,null,null,null,null,null,null,null,null,null,null,null,null,null,null,null,null,null,null,null,null,null,null,null,null,null,null,null,null,null,null,null,null,null,null,null,null,null,null,null,null,null,null,null,null,null,null,null,null,null,null,null,null,null,null,null,null,null,null,null,null,null,null,null,null,null,null,null,null,null,null,null,null,null,null,null,null,null,null,null,null,null,null,null,null,null,null,null,null,null,null,null,null,null,null,null,null,777,"","","","","","","","","","","","","","","","","","","","","","","","","","","","","","","","","","","","","","","","","","","","","","","","","","","","","","","","","","","","","","","","","","","","","","","","","","","","","","","","","","","","","","","","","","","","","","","","","","","","","","","","","","","","","","","","","","","","","","","","","","","","","","","","","","","","","","","","","","","","","","","","","","","","","","","","","","","","","","","","","","","","","","","","","","","","","","","","","",2,0,-2,0,0]
[null,null,null,null,null,null,792,{"$f":"IF(NE812=1, START!$B$17, \"\")","v":""},{"$f":"IF(NE812=1, START!$B$20, \"\")","v":""},null,null,null,null,null,null,null,null,null,null,null,null,null,null,null,null,null,null,null,null,null,null,null,null,null,null,null,null,null,null,null,null,null,null,null,null,null,null,null,null,null,null,null,null,null,null,null,null,null,null,null,null,null,null,null,null,null,null,null,null,null,null,null,null,null,null,null,null,null,null,null,null,null,null,null,null,null,null,null,null,null,null,null,null,null,null,null,null,null,null,null,null,null,null,null,null,null,null,null,null,null,null,null,null,null,null,null,null,null,null,null,null,null,null,null,null,null,null,null,null,null,null,null,null,null,null,null,null,null,null,null,null,null,null,null,null,null,null,null,null,null,null,null,null,null,null,null,null,null,null,null,null,null,null,null,null,null,null,null,null,null,null,null,null,null,null,null,null,null,null,null,null,null,null,null,null,null,null,792,"","","","","","","","","","","","","","","","","","","","","","","","","","","","","","","","","","","","","","","","","","","","","","","","","","","","","","","","","","","","","","","","","","","","","","","","","","","","","","","","","","","","","","","","","","","","","","","","","","","","","","","","","","","","","","","","","","","","","","","","","","","","","","","","","","","","","","","","","","","","","","","","","","","","","","","","","","","","","","","","","","","","","","","","","","","","","","","","","",2,0,-2,0,0]
[null,null,null,null,null,null,808,{"$f":"IF(NE828=1, START!$B$17, \"\")","v":""},{"$f":"IF(NE828=1, START!$B$20, \"\")","v":""},null,null,null,null,null,null,null,null,null,null,null,null,null,null,null,null,null,null,null,null,null,null,null,null,null,null,null,null,null,null,null,null,null,null,null,null,null,null,null,null,null,null,null,null,null,null,null,null,null,null,null,null,null,null,null,null,null,null,null,null,null,null,null,null,null,null,null,null,null,null,null,null,null,null,null,null,null,null,null,null,null,null,null,null,null,null,null,null,null,null,null,null,null,null,null,null,null,null,null,null,null,null,null,null,null,null,null,null,null,null,null,null,null,null,null,null,null,null,null,null,null,null,null,null,null,null,null,null,null,null,null,null,null,null,null,null,null,null,null,null,null,null,null,null,null,null,null,null,null,null,null,null,null,null,null,null,null,null,null,null,null,null,null,null,null,null,null,null,null,null,null,null,null,null,null,null,null,null,808,"","","","","","","","","","","","","","","","","","","","","","","","","","","","","","","","","","","","","","","","","","","","","","","","","","","","","","","","","","","","","","","","","","","","","","","","","","","","","","","","","","","","","","","","","","","","","","","","","","","","","","","","","","","","","","","","","","","","","","","","","","","","","","","","","","","","","","","","","","","","","","","","","","","","","","","","","","","","","","","","","","","","","","","","","","","","","","","","","",2,0,-2,0,0]
[null,null,null,null,null,null,823,{"$f":"IF(NE843=1, START!$B$17, \"\")","v":""},{"$f":"IF(NE843=1, START!$B$20, \"\")","v":""},null,null,null,null,null,null,null,null,null,null,null,null,null,null,null,null,null,null,null,null,null,null,null,null,null,null,null,null,null,null,null,null,null,null,null,null,null,null,null,null,null,null,null,null,null,null,null,null,null,null,null,null,null,null,null,null,null,null,null,null,null,null,null,null,null,null,null,null,null,null,null,null,null,null,null,null,null,null,null,null,null,null,null,null,null,null,null,null,null,null,null,null,null,null,null,null,null,null,null,null,null,null,null,null,null,null,null,null,null,null,null,null,null,null,null,null,null,null,null,null,null,null,null,null,null,null,null,null,null,null,null,null,null,null,null,null,null,null,null,null,null,null,null,null,null,null,null,null,null,null,null,null,null,null,null,null,null,null,null,null,null,null,null,null,null,null,null,null,null,null,null,null,null,null,null,null,null,null,823,"","","","","","","","","","","","","","","","","","","","","","","","","","","","","","","","","","","","","","","","","","","","","","","","","","","","","","","","","","","","","","","","","","","","","","","","","","","","","","","","","","","","","","","","","","","","","","","","","","","","","","","","","","","","","","","","","","","","","","","","","","","","","","","","","","","","","","","","","","","","","","","","","","","","","","","","","","","",{"$f":"IF(FI843=\"\",\"\",IF(OR(FI843=1,FI843=2,FI843=3,FI843=4,FI843=5,FI843=99),1,0))","v":""},"","","","","","","","","","","","","","","","","","","","","",2,0,-2,0,0]
[null,null,null,null,null,null,846,{"$f":"IF(NE866=1, START!$B$17, \"\")","v":""},{"$f":"IF(NE866=1, START!$B$20, \"\")","v":""},null,null,null,null,null,null,null,null,null,null,null,null,null,null,null,null,null,null,null,null,null,null,null,null,null,null,null,null,null,null,null,null,null,null,null,null,null,null,null,null,null,null,null,null,null,null,null,null,null,null,null,null,null,null,null,null,null,null,null,null,null,null,null,null,null,null,null,null,null,null,null,null,null,null,null,null,null,null,null,null,null,null,null,null,null,null,null,null,null,null,null,null,null,null,null,null,null,null,null,null,null,null,null,null,null,null,null,null,null,null,null,null,null,null,null,null,null,null,null,null,null,null,null,null,null,null,null,null,null,null,null,null,null,null,null,null,null,null,null,null,null,null,null,null,null,null,null,null,null,null,null,null,null,null,null,null,null,null,null,null,null,null,null,null,null,null,null,null,null,null,null,null,null,null,null,null,null,null,846,"","","","","","","","","","","","","","","","","","","","","","","","","","","","","","","","","","","","","","","","","","","","","","","","","","","","","","","","","","","","","","","","","","","","","","","","","","","","","","","","","","","","","","","","","","","","","","","","","","","","","","","","","","","","","","","","","","","","","","","","","","","","","","","","","","","","","","","","","","","","","","","","","","","","","","","","","","","","","","","","","","","","","","","","","","","","","","","","","",2,0,-2,0,0]
[null,null,null,null,null,null,855,{"$f":"IF(NE875=1, START!$B$17, \"\")","v":""},{"$f":"IF(NE875=1, START!$B$20, \"\")","v":""},null,null,null,null,null,null,null,null,null,null,null,null,null,null,null,null,null,null,null,null,null,null,null,null,null,null,null,null,null,null,null,null,null,null,null,null,null,null,null,null,null,null,null,null,null,null,null,null,null,null,null,null,null,null,null,null,null,null,null,null,null,null,null,null,null,null,null,null,null,null,null,null,null,null,null,null,null,null,null,null,null,null,null,null,null,null,null,null,null,null,null,null,null,null,null,null,null,null,null,null,null,null,null,null,null,null,null,null,null,null,null,null,null,null,null,null,null,null,null,null,null,null,null,null,null,null,null,null,null,null,null,null,null,null,null,null,null,null,null,null,null,null,null,null,null,null,null,null,null,null,null,null,null,null,null,null,null,null,null,null,null,null,null,null,null,null,null,null,null,null,null,null,null,null,null,null,null,null,855,"","","","","","","","","","","","","","","","","","","","","","","","","","","","","","","","","","","","","","","","","","","","","","","","","","","","","","","","","","","","","","","","","","","","","","","","","","","","","","","","","","","","","","","","","","","","","","","","","","","","","","","","","","","","","","","","","","","","","","","","","","","","","","","","","","","","","","","","","","","","","","","","","","","","","","","","","","","","","","","","","","","","","","","","","","","","","","","","","",2,0,-2,0,0]
[null,null,null,null,null,null,870,{"$f":"IF(NE890=1, START!$B$17, \"\")","v":""},{"$f":"IF(NE890=1, START!$B$20, \"\")","v":""},null,null,null,null,null,null,null,null,null,null,null,null,null,null,null,null,null,null,null,null,null,null,null,null,null,null,null,null,null,null,null,null,null,null,null,null,null,null,null,null,null,null,null,null,null,null,null,null,null,null,null,null,null,null,null,null,null,null,null,null,null,null,null,null,null,null,null,null,null,null,null,null,null,null,null,null,null,null,null,null,null,null,null,null,null,null,null,null,null,null,null,null,null,null,null,null,null,null,null,null,null,null,null,null,null,null,null,null,null,null,null,null,null,null,null,null,null,null,null,null,null,null,null,null,null,null,null,null,null,null,null,null,null,null,null,null,null,null,null,null,null,null,null,null,null,null,null,null,null,null,null,null,null,null,null,null,null,null,null,null,null,null,null,null,null,null,null,null,null,null,null,null,null,null,null,null,null,null,870,"","","","","","","","","","","","","","","","","","","","","","","","","","","","","","","","","","","","","","","","","","","","","","","","","","","","","","","","","","","","","","","","","","","","","","","","","","","","","","","","","","","","","","","","","","","","","","","","","","","","","","","","","","","","","","","","","","","","","","","","","","","","","","","","","","","","","","","","","","","","","","","","","","","","","","","","","","",{"$f":"IF(FH890=\"\",\"\",IF(OR(FH890=1,FH890=2,FH890=3,FH890=4,FH890=5,FH890=99),1,0))","v":""},"","","","","","","","","","","","","","","","","","","","","","",2,0,-2,0,0]
[null,null,null,null,null,null,886,{"$f":"IF(NE906=1, START!$B$17, \"\")","v":""},{"$f":"IF(NE906=1, START!$B$20, \"\")","v":""},null,null,null,null,null,null,null,null,null,null,null,null,null,null,null,null,null,null,null,null,null,null,null,null,null,null,null,null,null,null,null,null,null,null,null,null,null,null,null,null,null,null,null,null,null,null,null,null,null,null,null,null,null,null,null,null,null,null,null,null,null,null,null,null,null,null,null,null,null,null,null,null,null,null,null,null,null,null,null,null,null,null,null,null,null,null,null,null,null,null,null,null,null,null,null,null,null,null,null,null,null,null,null,null,null,null,null,null,null,null,null,null,null,null,null,null,null,null,null,null,null,null,null,null,null,null,null,null,null,null,null,null,null,null,null,null,null,null,null,null,null,null,null,null,null,null,null,null,null,null,null,null,null,null,null,null,null,null,null,null,null,null,null,null,null,null,null,null,null,null,null,null,null,null,null,null,null,null,886,"","","","","","","",{"$f":"IF(Q906=\"\",\"\",IF(OR(Q906=1,Q906=2,Q906=3,Q906=4,Q906=5,Q906=99),1,0))","v":""},"","","","","","","","","","","","","","","","","","","","","","","","","","","","","","","",{"$f":"IF(AW906=\"\",\"\",IF(OR(AW906=1,AW906=2,AW906=3,AW906=4,AW906=5,AW906=99),1,0))","v":""},"","","","","","","","","","","","","","","","","","","","","","","","","","","","","","","","","","","","","","","","","","","","","","","","","","","","","","","","","","","","","","","","","","","","","","","","","","","","","","","","","","","","","","","","","","","","","","","","","","","","","","","","","","","","","","","","","","","","","","","","","","","","","","","","","","","","","","","","","",2,0,-2,0,0]
[null,null,null,null,null,null,901,{"$f":"IF(NE921=1, START!$B$17, \"\")","v":""},{"$f":"IF(NE921=1, START!$B$20, \"\")","v":""},null,null,null,null,null,null,null,null,null,null,null,null,null,null,null,null,null,null,null,null,null,null,null,null,null,null,null,null,null,null,null,null,null,null,null,null,null,null,null,null,null,null,null,null,null,null,null,null,null,null,null,null,null,null,null,null,null,null,null,null,null,null,null,null,null,null,null,null,null,null,null,null,null,null,null,null,null,null,null,null,null,null,null,null,null,null,null,null,null,null,null,null,null,null,null,null,null,null,null,null,null,null,null,null,null,null,null,null,null,null,null,null,null,null,null,null,null,null,null,null,null,null,null,null,null,null,null,null,null,null,null,null,null,null,null,null,null,null,null,null,null,null,null,null,null,null,null,null,null,null,null,null,null,null,null,null,null,null,null,null,null,null,null,null,null,null,null,null,null,null,null,null,null,null,null,null,null,null,901,"","","","","","","","","","","","","","","","","","","","","","","","","","","","","","","","","","","","","","","","","","","","","","","","","","","","","","","","","","","","","","","","","","","","","","","","","","","","","","","","","","","","","",{"$f":"IF(CQ921=\"\",\"\",IF(OR(CQ921=1,CQ921=2,CQ921=3,CQ921=4,CQ921=5,CQ921=99),1,0))","v":""},"","","","","","","","","","","","","","","","","","","","","","","","","","","","","","","","","","","","","","","","","","","","","","","","","","","","","","","","","","","","","","","","","","","","","","","","","","","","","","","","","","","","","","","","","","","",2,0,-2,0,0]
[null,null,null,null,null,null,911,{"$f":"IF(NE931=1, START!$B$17, \"\")","v":""},{"$f":"IF(NE931=1, START!$B$20, \"\")","v":""},null,null,null,null,null,null,null,null,null,null,null,null,null,null,null,null,null,null,null,null,null,null,null,null,null,null,null,null,null,null,null,null,null,null,null,null,null,null,null,null,null,null,null,null,null,null,null,null,null,null,null,null,null,null,null,null,null,null,null,null,null,null,null,null,null,null,null,null,null,null,null,null,null,null,null,null,null,null,null,null,null,null,null,null,null,null,null,null,null,null,null,null,null,null,null,null,null,null,null,null,null,null,null,null,null,null,null,null,null,null,null,null,null,null,null,null,null,null,null,null,null,null,null,null,null,null,null,null,null,null,null,null,null,null,null,null,null,null,null,null,null,null,null,null,null,null,null,null,null,null,null,null,null,null,null,null,null,null,null,null,null,null,null,null,null,null,null,null,null,null,null,null,null,null,null,null,null,null,911,"","","","","","","","","","","","","","","","",{"$f":"IF(Z931=\"\",\"\",IF(OR(Z931=1,Z931=2,Z931=3,Z931=4,Z931=5,Z931=99),1,0))","v":""},"","","","","","","","","","","","","","","","","","","","","","","","","","","","","","","","","","","","","","","","","","","","","","","","","","","","","","","","","","","","","","","","","","","","","","","","","","","","","","","","","","","","","","","","","","","","","","","","","","","","","","","","","","","","","","","","","","","","","","","","","","","","","","","","","","","","","","","","","","","","","","","","","","","","","","","","","","","","","","","","",2,0,-2,0,0]
[null,null,null,null,null,null,933,{"$f":"IF(NE953=1, START!$B$17, \"\")","v":""},{"$f":"IF(NE953=1, START!$B$20, \"\")","v":""},null,null,null,null,null,null,null,null,null,null,null,null,null,null,null,null,null,null,null,null,null,null,null,null,null,null,null,null,null,null,null,null,null,null,null,null,null,null,null,null,null,null,null,null,null,null,null,null,null,null,null,null,null,null,null,null,null,null,null,null,null,null,null,null,null,null,null,null,null,null,null,null,null,null,null,null,null,null,null,null,null,null,null,null,null,null,null,null,null,null,null,null,null,null,null,null,null,null,null,null,null,null,null,null,null,null,null,null,null,null,null,null,null,null,null,null,null,null,null,null,null,null,null,null,null,null,null,null,null,null,null,null,null,null,null,null,null,null,null,null,null,null,null,null,null,null,null,null,null,null,null,null,null,null,null,null,null,null,null,null,null,null,null,null,null,null,null,null,null,null,null,null,null,null,null,null,null,null,933,"","","","","","","","","","","","","","","","","","","","","","","","","","","","","","","","","","","","","","","","","","","","","","","","","","","","","","","","","","","","","","","","","","","","","","","","","","","","","","","","","","","","","","","","","","","","","","","","","","","","","","","","","","","","","","","","","","","","","","","","","","","","","","","","","","","","","","","","","","","","","","","","","","","","","","","","","","","","","","","","","","","","","","","","","","","","","","","","","",2,0,-2,0,0]
[null,null,null,null,null,null,948,{"$f":"IF(NE968=1, START!$B$17, \"\")","v":""},{"$f":"IF(NE968=1, START!$B$20, \"\")","v":""},null,null,null,null,null,null,null,null,null,null,null,null,null,null,null,null,null,null,null,null,null,null,null,null,null,null,null,null,null,null,null,null,null,null,null,null,null,null,null,null,null,null,null,null,null,null,null,null,null,null,null,null,null,null,null,null,null,null,null,null,null,null,null,null,null,null,null,null,null,null,null,null,null,null,null,null,null,null,null,null,null,null,null,null,null,null,null,null,null,null,null,null,null,null,null,null,null,null,null,null,null,null,null,null,null,null,null,null,null,null,null,null,null,null,null,null,null,null,null,null,null,null,null,null,null,null,null,null,null,null,null,null,null,null,null,null,null,null,null,null,null,null,null,null,null,null,null,null,null,null,null,null,null,null,null,null,null,null,null,null,null,null,null,null,null,null,null,null,null,null,null,null,null,null,null,null,null,null,948,"","","","","","","","","","","","","","","","","","","","","","","","","","","","","","","","","","","","","","","","","","","","","","","","","","","","","","","","","","","","","","","","","","","","","","","","","","","","","","","","","","","","","","","","","","","","","","","","","","","","","","","","","","","","","","","","","","","","","","","","","","","","","","","","","","","","","","","","","","","","","","","","","","","","","","","","","","","","","","","","","","","","","","","","","","","","","","","","","",2,0,-2,0,0]
[null,null,null,null,null,null,963,{"$f":"IF(NE983=1, START!$B$17, \"\")","v":""},{"$f":"IF(NE983=1, START!$B$20, \"\")","v":""},null,null,null,null,null,null,null,null,null,null,null,null,null,null,null,null,null,null,null,null,null,null,null,null,null,null,null,null,null,null,null,null,null,null,null,null,null,null,null,null,null,null,null,null,null,null,null,null,null,null,null,null,null,null,null,null,null,null,null,null,null,null,null,null,null,null,null,null,null,null,null,null,null,null,null,null,null,null,null,null,null,null,null,null,null,null,null,null,null,null,null,null,null,null,null,null,null,null,null,null,null,null,null,null,null,null,null,null,null,null,null,null,null,null,null,null,null,null,null,null,null,null,null,null,null,null,null,null,null,null,null,null,null,null,null,null,null,null,null,null,null,null,null,null,null,null,null,null,null,null,null,null,null,null,null,null,null,null,null,null,null,null,null,null,null,null,null,null,null,null,null,null,null,null,null,null,null,null,963,"","","","","","","","","","","","","","","","","","","","","","","","","","","","","","","","","","","","","","","","","","","","","","","","","","","","","","","","","","","","","","","","","","","","","","","","","","","","","","","","","","","","","","","","","","","","","","","","","","","","","","","","","","","","","","","","","","","","","","","","","","","","","","","","","","","","","","","","","","","","","","","","","","","","","","","","","","","","","","","","","","","","","","","","","","","","","","","","","",2,0,-2,0,0]
[null,null,null,null,null,null,976,{"$f":"IF(NE996=1, START!$B$17, \"\")","v":""},{"$f":"IF(NE996=1, START!$B$20, \"\")","v":""},null,null,null,null,null,null,null,null,null,null,null,null,null,null,null,null,null,null,null,null,null,null,null,null,null,null,null,null,null,null,null,null,null,null,null,null,null,null,null,null,null,null,null,null,null,null,null,null,null,null,null,null,null,null,null,null,null,null,null,null,null,null,null,null,null,null,null,null,null,null,null,null,null,null,null,null,null,null,null,null,null,null,null,null,null,null,null,null,null,null,null,null,null,null,null,null,null,null,null,null,null,null,null,null,null,null,null,null,null,null,null,null,null,null,null,null,null,null,null,null,null,null,null,null,null,null,null,null,null,null,null,null,null,null,null,null,null,null,null,null,null,null,null,null,null,null,null,null,null,null,null,null,null,null,null,null,null,null,null,null,null,null,null,null,null,null,null,null,null,null,null,null,null,null,null,null,null,null,976,"","","","","","","","","","","","","","","","","","","","","","","","","","","","","","","","","","","","","","","","","","","","","","","","","","","","","","","","","","","","","","","","","","","","","","","","","","","","","","","","","","","","","","","","","","","","","","","","","","","","","","","","","","","","","","","","","","","","","","","","","","","","","","","","","","","","","","","","","","","","","","","","","","","","","","","","","","","","","","","","","","","","","","","","","","","","",{"$f":"IF(FZ996=\"\",\"\",IF(OR(FZ996=1,FZ996=2,FZ996=3,FZ996=4,FZ996=5,FZ996=99),1,0))","v":""},"","","","",2,0,-2,0,0]
[null,null,null,null,null,null,986,{"$f":"IF(NE1006=1, START!$B$17, \"\")","v":""},{"$f":"IF(NE1006=1, START!$B$20, \"\")","v":""},null,null,null,null,null,null,null,null,null,null,null,null,null,null,null,null,null,null,null,null,null,null,null,null,null,null,null,null,null,null,null,null,null,null,null,null,null,null,null,null,null,null,null,null,null,null,null,null,null,null,null,null,null,null,null,null,null,null,null,null,null,null,null,null,null,null,null,null,null,null,null,null,null,null,null,null,null,null,null,null,null,null,null,null,null,null,null,null,null,null,null,null,null,null,null,null,null,null,null,null,null,null,null,null,null,null,null,null,null,null,null,null,null,null,null,null,null,null,null,null,null,null,null,null,null,null,null,null,null,null,null,null,null,null,null,null,null,null,null,null,null,null,null,null,null,null,null,null,null,null,null,null,null,null,null,null,null,null,null,null,null,null,null,null,null,null,null,null,null,null,null,null,null,null,null,null,null,null,986,"","","","","","","","","","","","","","","","","","","","","","","","","","","","","","","","",{"$f":"IF(AP1006=\"\",\"\",IF(OR(AP1006=1,AP1006=2,AP1006=3,AP1006=4,AP1006=5,AP1006=99),1,0))","v":""},"","","","","","","","","","","","","","","","","","","","","","","","","","","",{"$f":"IF(BR1006=\"\",\"\",IF(OR(BR1006=1,BR1006=2,BR1006=3,BR1006=4,BR1006=5,BR1006=99),1,0))","v":""},"","","","","","","","","","","","","","","","","","","","","","","","","","","","","","","","","","","","","","","","","","","","","","","","","","","","","","","","","","","","","","","","","","","","","","","","","","","","","","","","","","","","","","","","","","","","","","","","","","","","","","","","","","","","","","","","","","","","",2,0,-2,0,0]
[null,null,null,null,null,null,987,{"$f":"IF(NE1007=1, START!$B$17, \"\")","v":""},{"$f":"IF(NE1007=1, START!$B$20, \"\")","v":""},null,null,null,null,null,null,null,null,null,null,null,null,null,null,null,null,null,null,null,null,null,null,null,null,null,null,null,null,null,null,null,null,null,null,null,null,null,null,null,null,null,null,null,null,null,null,null,null,null,null,null,null,null,null,null,null,null,null,null,null,null,null,null,null,null,null,null,null,null,null,null,null,null,null,null,null,null,null,null,null,null,null,null,null,null,null,null,null,null,null,null,null,null,null,null,null,null,null,null,null,null,null,null,null,null,null,null,null,null,null,null,null,null,null,null,null,null,null,null,null,null,null,null,null,null,null,null,null,null,null,null,null,null,null,null,null,null,null,null,null,null,null,null,null,null,null,null,null,null,null,null,null,null,null,null,null,null,null,null,null,null,null,null,null,null,null,null,null,null,null,null,null,null,null,null,null,null,null,987,"","","","","","","","","","","","","","","","","","","","","","","","","","","","","","","","","","","","","","","","","","","","","","","","","","","","","","","","","","","","","","","","","","","","","","","","","","","","","","","","","","","","","","","","","","","","",{"$f":"IF(CX1007=\"\",\"\",IF(OR(CX1007=1,CX1007=2,CX1007=3,CX1007=4,CX1007=5,CX1007=99),1,0))","v":""},"","","","","","","","","","","","","","","","","","","","","","","","","","","","","","","","","","","","","","","","","","","","","","","","","","","","","","","","","","","","","","","","","","","","","","","","","","","","","","","","","","","","",2,0,-2,0,0]
[null,null,null,null,null,null,988,{"$f":"IF(NE1008=1, START!$B$17, \"\")","v":""},{"$f":"IF(NE1008=1, START!$B$20, \"\")","v":""},null,null,null,null,null,null,null,null,null,null,null,null,null,null,null,null,null,null,null,null,null,null,null,null,null,null,null,null,null,null,null,null,null,null,null,null,null,null,null,null,null,null,null,null,null,null,null,null,null,null,null,null,null,null,null,null,null,null,null,null,null,null,null,null,null,null,null,null,null,null,null,null,null,null,null,null,null,null,null,null,null,null,null,null,null,null,null,null,null,null,null,null,null,null,null,null,null,null,null,null,null,null,null,null,null,null,null,null,null,null,null,null,null,null,null,null,null,null,null,null,null,null,null,null,null,null,null,null,null,null,null,null,null,null,null,null,null,null,null,null,null,null,null,null,null,null,null,null,null,null,null,null,null,null,null,null,null,null,null,null,null,null,null,null,null,null,null,null,null,null,null,null,null,null,null,null,null,null,988,"","","","","","","","","","","","","","","","","","","","","","","","","","","","","","","","","","","","","","","","","",{"$f":"IF(AY1008=\"\",\"\",IF(OR(AY1008=1,AY1008=2,AY1008=3,AY1008=4,AY1008=5,AY1008=99),1,0))","v":""},"","","","","","","","","","","","","","","","","","","","","","","","","","","","","","","","","","","","","","","","","","","","","","","","","","","","","","","","","","","","","","","","","","","","","","","","","","","","","","","","","","","","","","","","","","","","","","","","","","","","","","","","","","","","","","","","","","","","","","","","","","","","","","","","","","","","","","","",2,0,-2,0,0]
[null,null,null,null,null,null,989,{"$f":"IF(NE1009=1, START!$B$17, \"\")","v":""},{"$f":"IF(NE1009=1, START!$B$20, \"\")","v":""},null,null,null,null,null,null,null,null,null,null,null,null,null,null,null,null,null,null,null,null,null,null,null,null,null,null,null,null,null,null,null,null,null,null,null,null,null,null,null,null,null,null,null,null,null,null,null,null,null,null,null,null,null,null,null,null,null,null,null,null,null,null,null,null,null,null,null,null,null,null,null,null,null,null,null,null,null,null,null,null,null,null,null,null,null,null,null,null,null,null,null,null,null,null,null,null,null,null,null,null,null,null,null,null,null,null,null,null,null,null,null,null,null,null,null,null,null,null,null,null,null,null,null,null,null,null,null,null,null,null,null,null,null,null,null,null,null,null,null,null,null,null,null,null,null,null,null,null,null,null,null,null,null,null,null,null,null,null,null,null,null,null,null,null,null,null,null,null,null,null,null,null,null,null,null,null,null,null,989,"","","","","","","","","","","","","","","","","","","","","","","","","","","","","","","","","","","","","","","","","","","","","","","","","","","","","","","","","","","","","","","","","","","","","","","","","","","","","","","","","","","","","","","","","","","","","","","","","","","","","","","","","","","","","","","","","","","","","","","","","","","","","","","","","","","","","","","","","","","","","","","","","","","","","","","","","","","","","","","","","","","","","","","","","","","","","","","","","",2,0,-2,0,0]
[null,null,null,null,null,null,990,{"$f":"IF(NE1010=1, START!$B$17, \"\")","v":""},{"$f":"IF(NE1010=1, START!$B$20, \"\")","v":""},null,null,null,null,null,null,null,null,null,null,null,null,null,null,null,null,null,null,null,null,null,null,null,null,null,null,null,null,null,null,null,null,null,null,null,null,null,null,null,null,null,null,null,null,null,null,null,null,null,null,null,null,null,null,null,null,null,null,null,null,null,null,null,null,null,null,null,null,null,null,null,null,null,null,null,null,null,null,null,null,null,null,null,null,null,null,null,null,null,null,null,null,null,null,null,null,null,null,null,null,null,null,null,null,null,null,null,null,null,null,null,null,null,null,null,null,null,null,null,null,null,null,null,null,null,null,null,null,null,null,null,null,null,null,null,null,null,null,null,null,null,null,null,null,null,null,null,null,null,null,null,null,null,null,null,null,null,null,null,null,null,null,null,null,null,null,null,null,null,null,null,null,null,null,null,null,null,null,990,"","","","","","","","","","","","","","","","","","","","","","","","","","","","","","","","","","","","","","","","","","","","","","","","","","","","","","","","","","","","","","","","","","","","","","","","","","","","","","","","","","","","","","","","","","","","","","","","","","","","","","","","","","","","","","","","","","","","","","","","","","","","","","","","","","","","","","","","","","","","","","","","","","","","","","","","","","","","","","","","","","","","","","","","",{"$f":"IF(FV1010=\"\",\"\",IF(OR(FV1010=1,FV1010=2,FV1010=3,FV1010=4,FV1010=5,FV1010=99),1,0))","v":""},"","","","","","","","",2,0,-2,0,0]
[null,null,null,null,null,null,991,{"$f":"IF(NE1011=1, START!$B$17, \"\")","v":""},{"$f":"IF(NE1011=1, START!$B$20, \"\")","v":""},null,null,null,null,null,null,null,null,null,null,null,null,null,null,null,null,null,null,null,null,null,null,null,null,null,null,null,null,null,null,null,null,null,null,null,null,null,null,null,null,null,null,null,null,null,null,null,null,null,null,null,null,null,null,null,null,null,null,null,null,null,null,null,null,null,null,null,null,null,null,null,null,null,null,null,null,null,null,null,null,null,null,null,null,null,null,null,null,null,null,null,null,null,null,null,null,null,null,null,null,null,null,null,null,null,null,null,null,null,null,null,null,null,null,null,null,null,null,null,null,null,null,null,null,null,null,null,null,null,null,null,null,null,null,null,null,null,null,null,null,null,null,null,null,null,null,null,null,null,null,null,null,null,null,null,null,null,null,null,null,null,null,null,null,null,null,null,null,null,null,null,null,null,null,null,null,null,null,991,"","","","","","","","","","","","","","","","","","","","","","","","","","","","","",{"$f":"IF(AM1011=\"\",\"\",IF(OR(AM1011=1,AM1011=2,AM1011=3,AM1011=4,AM1011=5,AM1011=99),1,0))","v":""},"","","","","","","","","","","","","","","","","","","","","","","","","","","","","","","","","","","","","","","","","","","","","","","","","","","","","","","","","","","","",{"$f":"IF(CV1011=\"\",\"\",IF(OR(CV1011=1,CV1011=2,CV1011=3,CV1011=4,CV1011=5,CV1011=99),1,0))","v":""},"","","","","","","","","","","","","","","","","","","","","","","","","","","","","","","","","","","","","","","","","","","","","","","","","","","","","","","","","","","","","","","","","","","","","","","","","","","","","","","","","","","","","","",2,0,-2,0,0]
[null,null,null,null,null,null,992,{"$f":"IF(NE1012=1, START!$B$17, \"\")","v":""},{"$f":"IF(NE1012=1, START!$B$20, \"\")","v":""},null,null,null,null,null,null,null,null,null,null,null,null,null,null,null,null,null,null,null,null,null,null,null,null,null,null,null,null,null,null,null,null,null,null,null,null,null,null,null,null,null,null,null,null,null,null,null,null,null,null,null,null,null,null,null,null,null,null,null,null,null,null,null,null,null,null,null,null,null,null,null,null,null,null,null,null,null,null,null,null,null,null,null,null,null,null,null,null,null,null,null,null,null,null,null,null,null,null,null,null,null,null,null,null,null,null,null,null,null,null,null,null,null,null,null,null,null,null,null,null,null,null,null,null,null,null,null,null,null,null,null,null,null,null,null,null,null,null,null,null,null,null,null,null,null,null,null,null,null,null,null,null,null,null,null,null,null,null,null,null,null,null,null,null,null,null,null,null,null,null,null,null,null,null,null,null,null,null,992,"","","","","","","","","","","","","","","","","","","","","","","","","","","","","","","","","","","","","","","","","","","","","","","","","","","","","","","","","","","","","","","","","","","","","","","","","","","","","","","","","","","","","","","","","","","","","","","","","","","","","","","","","","","","","","","","","","","","","","","","","","","","","","","","","","","","","","","","","","","","","","","","","","","","","","","","","","","","","","","","","","","","","","","","","","","","","","","","","",2,0,-2,0,0]
[null,null,null,null,null,null,993,{"$f":"IF(NE1013=1, START!$B$17, \"\")","v":""},{"$f":"IF(NE1013=1, START!$B$20, \"\")","v":""},null,null,null,null,null,null,null,null,null,null,null,null,null,null,null,null,null,null,null,null,null,null,null,null,null,null,null,null,null,null,null,null,null,null,null,null,null,null,null,null,null,null,null,null,null,null,null,null,null,null,null,null,null,null,null,null,null,null,null,null,null,null,null,null,null,null,null,null,null,null,null,null,null,null,null,null,null,null,null,null,null,null,null,null,null,null,null,null,null,null,null,null,null,null,null,null,null,null,null,null,null,null,null,null,null,null,null,null,null,null,null,null,null,null,null,null,null,null,null,null,null,null,null,null,null,null,null,null,null,null,null,null,null,null,null,null,null,null,null,null,null,null,null,null,null,null,null,null,null,null,null,null,null,null,null,null,null,null,null,null,null,null,null,null,null,null,null,null,null,null,null,null,null,null,null,null,null,null,993,"","","","","","","","","","","","","","","","","","","","","","","","","","","","","","","","","","","","","","","","","","","","","","","","","","","","","","","","","","","","","","","","","","","","","","","","","","","","","","","","","","","","","","","","","","","","","","","","","","","","","","","","","","","","","","","","","","","","","","","","","","","","","","","","","","","","","","","","","","","","","","","","","","","","","","","","","","","","","","","","","","","","","","","","","","","","","","","","","",2,0,-2,0,0]
[null,null,null,null,null,null,994,{"$f":"IF(NE1014=1, START!$B$17, \"\")","v":""},{"$f":"IF(NE1014=1, START!$B$20, \"\")","v":""},null,null,null,null,null,null,null,null,null,null,null,null,null,null,null,null,null,null,null,null,null,null,null,null,null,null,null,null,null,null,null,null,null,null,null,null,null,null,null,null,null,null,null,null,null,null,null,null,null,null,null,null,null,null,null,null,null,null,null,null,null,null,null,null,null,null,null,null,null,null,null,null,null,null,null,null,null,null,null,null,null,null,null,null,null,null,null,null,null,null,null,null,null,null,null,null,null,null,null,null,null,null,null,null,null,null,null,null,null,null,null,null,null,null,null,null,null,null,null,null,null,null,null,null,null,null,null,null,null,null,null,null,null,null,null,null,null,null,null,null,null,null,null,null,null,null,null,null,null,null,null,null,null,null,null,null,null,null,null,null,null,null,null,null,null,null,null,null,null,null,null,null,null,null,null,null,null,null,994,"","","","","","","","","","","","","","","","","","","","","","","","","","","","","","","","","","","","","","","","","","","","","","","","","","","","","","","","","","","","","","","","","","","","","","","","","","","","","","","","","","","","","","","","","","","","","","","","","","","","","","","","","","","","","","","","","","","","","","","","","","","","","","","","","","","","","","","","","","","","","","","","","","","","","","","","","","","","","","","","","","","","","","","","","","","","","","","","","",2,0,-2,0,0]
[null,null,null,null,null,null,995,{"$f":"IF(NE1015=1, START!$B$17, \"\")","v":""},{"$f":"IF(NE1015=1, START!$B$20, \"\")","v":""},null,null,null,null,null,null,null,null,null,null,null,null,null,null,null,null,null,null,null,null,null,null,null,null,null,null,null,null,null,null,null,null,null,null,null,null,null,null,null,null,null,null,null,null,null,null,null,null,null,null,null,null,null,null,null,null,null,null,null,null,null,null,null,null,null,null,null,null,null,null,null,null,null,null,null,null,null,null,null,null,null,null,null,null,null,null,null,null,null,null,null,null,null,null,null,null,null,null,null,null,null,null,null,null,null,null,null,null,null,null,null,null,null,null,null,null,null,null,null,null,null,null,null,null,null,null,null,null,null,null,null,null,null,null,null,null,null,null,null,null,null,null,null,null,null,null,null,null,null,null,null,null,null,null,null,null,null,null,null,null,null,null,null,null,null,null,null,null,null,null,null,null,null,null,null,null,null,null,995,"","","","","","","","","","","","","","","","","","","","","","","","","","","","","","","","","","","","","","","","","","","","","","","","","","","","","","","","","","","","","","","","","","","","","","","","","","","","","","","","","","","","","","","","","","","","","","","","","","","","","","","","","","","","","","","","","","","","","","","","","","","","","","","","","","","","","","","","","","","","","","","","","","","","","","","","","","","","","","","","","","","","","","","","","","","","","","","","","",2,0,-2,0,0]
[null,null,null,null,null,null,996,{"$f":"IF(NE1016=1, START!$B$17, \"\")","v":""},{"$f":"IF(NE1016=1, START!$B$20, \"\")","v":""},null,null,null,null,null,null,null,null,null,null,null,null,null,null,null,null,null,null,null,null,null,null,null,null,null,null,null,null,null,null,null,null,null,null,null,null,null,null,null,null,null,null,null,null,null,null,null,null,null,null,null,null,null,null,null,null,null,null,null,null,null,null,null,null,null,null,null,null,null,null,null,null,null,null,null,null,null,null,null,null,null,null,null,null,null,null,null,null,null,null,null,null,null,null,null,null,null,null,null,null,null,null,null,null,null,null,null,null,null,null,null,null,null,null,null,null,null,null,null,null,null,null,null,null,null,null,null,null,null,null,null,null,null,null,null,null,null,null,null,null,null,null,null,null,null,null,null,null,null,null,null,null,null,null,null,null,null,null,null,null,null,null,null,null,null,null,null,null,null,null,null,null,null,null,null,null,null,null,996,"","","","","","","","","","","","","","","","","","","","","","","","","","","","","","","","","","","","","","","","","","","","","","","","","","","","","","","","","","","","","","","","","","","","","","","","","","","","","","","","","","","","","","","","","","","","","","","","","","","","","","","","","","","","","","","","","","","","","","","","","","","","","","","","","","","","","","","","","","","","","","","","","","","","","","","","","","","","","","","","","","","","","","","","","","","","","","","","","",2,0,-2,0,0]
[null,null,null,null,null,null,997,{"$f":"IF(NE1017=1, START!$B$17, \"\")","v":""},{"$f":"IF(NE1017=1, START!$B$20, \"\")","v":""},null,null,null,null,null,null,null,null,null,null,null,null,null,null,null,null,null,null,null,null,null,null,null,null,null,null,null,null,null,null,null,null,null,null,null,null,null,null,null,null,null,null,null,null,null,null,null,null,null,null,null,null,null,null,null,null,null,null,null,null,null,null,null,null,null,null,null,null,null,null,null,null,null,null,null,null,null,null,null,null,null,null,null,null,null,null,null,null,null,null,null,null,null,null,null,null,null,null,null,null,null,null,null,null,null,null,null,null,null,null,null,null,null,null,null,null,null,null,null,null,null,null,null,null,null,null,null,null,null,null,null,null,null,null,null,null,null,null,null,null,null,null,null,null,null,null,null,null,null,null,null,null,null,null,null,null,null,null,null,null,null,null,null,null,null,null,null,null,null,null,null,null,null,null,null,null,null,null,997,"","","","","","","","","","","","","","","","","","","","","","","","","","","","","","","","","","","","","","","","","","","","","","","","","","","","","","","","","","","","","","","","","","","","","","","","","","","","","","","","","","","","","","","","","","","","","","","","","","","","","","","","","","","","","","","","","","","","","","","","","","","","","","","","","","","","","","","",{"$f":"IF(EO1017=\"\",\"\",IF(OR(EO1017=1,EO1017=2,EO1017=3,EO1017=4,EO1017=5,EO1017=99),1,0))","v":""},"","","","","","","","","","","","","","","","","","","","","","","","","","","","","","","","","","","","","","","","","",2,0,-2,0,0]
[null,null,null,null,null,null,998,{"$f":"IF(NE1018=1, START!$B$17, \"\")","v":""},{"$f":"IF(NE1018=1, START!$B$20, \"\")","v":""},null,null,null,null,null,null,null,null,null,null,null,null,null,null,null,null,null,null,null,null,null,null,null,null,null,null,null,null,null,null,null,null,null,null,null,null,null,null,null,null,null,null,null,null,null,null,null,null,null,null,null,null,null,null,null,null,null,null,null,null,null,null,null,null,null,null,null,null,null,null,null,null,null,null,null,null,null,null,null,null,null,null,null,null,null,null,null,null,null,null,null,null,null,null,null,null,null,null,null,null,null,null,null,null,null,null,null,null,null,null,null,null,null,null,null,null,null,null,null,null,null,null,null,null,null,null,null,null,null,null,null,null,null,null,null,null,null,null,null,null,null,null,null,null,null,null,null,null,null,null,null,null,null,null,null,null,null,null,null,null,null,null,null,null,null,null,null,null,null,null,null,null,null,null,null,null,null,null,998,"","","","","","","","","","","","","","","","","","","","","","","","","","","","","","","","","","","","","","","","","","","","","","","","","","","","","","","","","","","","","","","","","","","","","","","","","","","","","","","","","","","","","","","","","","","","","","","","","","","","","","","","","","","","","","","","","","","","","","","","","","","","","","","","","","","","","","","","","","","","","","","","","","","","","","","","","","","","","","","","","","","","","","","","","","","","","","","","","",2,0,-2,0,0]
[null,null,null,null,null,null,999,{"$f":"IF(NE1019=1, START!$B$17, \"\")","v":""},{"$f":"IF(NE1019=1, START!$B$20, \"\")","v":""},null,null,null,null,null,null,null,null,null,null,null,null,null,null,null,null,null,null,null,null,null,null,null,null,null,null,null,null,null,null,null,null,null,null,null,null,null,null,null,null,null,null,null,null,null,null,null,null,null,null,null,null,null,null,null,null,null,null,null,null,null,null,null,null,null,null,null,null,null,null,null,null,null,null,null,null,null,null,null,null,null,null,null,null,null,null,null,null,null,null,null,null,null,null,null,null,null,null,null,null,null,null,null,null,null,null,null,null,null,null,null,null,null,null,null,null,null,null,null,null,null,null,null,null,null,null,null,null,null,null,null,null,null,null,null,null,null,null,null,null,null,null,null,null,null,null,null,null,null,null,null,null,null,null,null,null,null,null,null,null,null,null,null,null,null,null,null,null,null,null,null,null,null,null,null,null,null,null,999,"","","","","","","","","","","","","","","","","","","","","","","","","","","","","","","","","","","","","","","","","","","","","","","","","","","","","","","",{"$f":"IF(BM1019=\"\",\"\",IF(OR(BM1019=1,BM1019=2,BM1019=3,BM1019=4,BM1019=5,BM1019=99),1,0))","v":""},"","","","","","","","","","","","","","","","","","","","","","","","","","","","","","","","","","","","","","","","","","","","","","","","","","","","","","","","","","","","","","","","","","","","","","","","","","","","","","","","","","","","","","","","","","","","","","","","","","","","","","","","","","","","","","","","","","","","","","","","","",2,0,-2,0,0]
[null,null,null,null,null,null,1000,{"$f":"IF(NE1020=1, START!$B$17, \"\")","v":""},{"$f":"IF(NE1020=1, START!$B$20, \"\")","v":""},null,null,null,null,null,null,null,null,null,null,null,null,null,null,null,null,null,null,null,null,null,null,null,null,null,null,null,null,null,null,null,null,null,null,null,null,null,null,null,null,null,null,null,null,null,null,null,null,null,null,null,null,null,null,null,null,null,null,null,null,null,null,null,null,null,null,null,null,null,null,null,null,null,null,null,null,null,null,null,null,null,null,null,null,null,null,null,null,null,null,null,null,null,null,null,null,null,null,null,null,null,null,null,null,null,null,null,null,null,null,null,null,null,null,null,null,null,null,null,null,null,null,null,null,null,null,null,null,null,null,null,null,null,null,null,null,null,null,null,null,null,null,null,null,null,null,null,null,null,null,null,null,null,null,null,null,null,null,null,null,null,null,null,null,null,null,null,null,null,null,null,null,null,null,null,null,null,null,1000,"","","","","","","","","","","","","","","","","","","","","","","","","","","","","","","","","","","","","","","","","","","","","","","","","","","","","","","","","","","","","","","","","","","","","","","","","","","","","","","","","","","","","","","","","","","","","","","","","","","","","","","","","","","","","","","","","","","","","","","","","",{"$f":"IF(EA1020=\"\",\"\",IF(OR(EA1020=1,EA1020=2,EA1020=3,EA1020=4,EA1020=5,EA1020=99),1,0))","v":""},"","","","","","","","","","","","","","","","","","","","","","","","","","","","","","","","","","","","","","","","","","","","","","","","","","","","","","","",2,0,-2,0,0]

{"sheet":"data_entry_direct","index":30,"n_rows":1020,"n_cols":371,"rows_kept":139,"cut":true,"hidden":true,"merged":[],"bounds":{"rows_first":62,"rows_last":15,"rows_between":62,"halvings":5}}
[null,"Step 4: Data Entry"]
[]
[null,"Please key in the data from your survey on the right. You should input the numbers corresponding to the correct response as provided by the coding scheme.",null,null,null,null,"Coding Scheme"]
[null,null,null,null,null,null,1,null,null,"Strongly Disagree","Strongly Disagree","Strongly Disagree","Strongly Disagree","Strongly Disagree","Strongly Disagree","Strongly Disagree","Strongly Disagree","Strongly Disagree","Strongly Disagree","Strongly Disagree","Strongly Disagree","Strongly Disagree","Strongly Disagree","Strongly Disagree","Strongly Disagree","Strongly Disagree","Strongly Disagree","Strongly Disagree","Strongly Disagree","Strongly Disagree","Strongly Disagree","Strongly Disagree","Strongly Disagree","Strongly Disagree","Strongly Disagree","Strongly Disagree","Strongly Disagree","Strongly Disagree","Strongly Disagree","Strongly Disagree","Strongly Disagree","Strongly Disagree","Strongly Disagree","Strongly Disagree","Strongly Disagree","Strongly Disagree","Strongly Disagree","Strongly Disagree","Strongly Disagree","Strongly Disagree","Strongly Disagree","Strongly Disagree","Strongly Disagree","Strongly Disagree","Strongly Disagree","Strongly Disagree","Strongly Disagree","Strongly Disagree","Strongly Disagree","Strongly Disagree","Strongly Disagree","Strongly Disagree","Strongly Disagree","Strongly Disagree","Strongly Disagree","Strongly Disagree","Strongly Disagree","Strongly Disagree","Strongly Disagree","Strongly Disagree","Strongly Disagree","Strongly Disagree","Strongly Disagree","Strongly Disagree","Strongly Disagree","Strongly Disagree","Strongly Disagree","Strongly Disagree","Strongly Disagree","Strongly Disagree","Strongly Disagree","Strongly Disagree","Strongly Disagree","Strongly Disagree","Strongly Disagree","Strongly Disagree","Strongly Disagree","Strongly Disagree","Strongly Disagree","Strongly Disagree","Strongly Disagree","Strongly Disagree","Strongly Disagree","Strongly Disagree","Strongly Disagree","Strongly Disagree","Strongly Disagree","Strongly Disagree","Strongly Disagree","Strongly Disagree","Strongly Disagree","Strongly Disagree","Strongly Disagree","Strongly Disagree","Strongly Disagree","Strongly Disagree","Strongly Disagree","Strongly Disagree","Strongly Disagree","Strongly Disagree","Strongly Disagree","Strongly Disagree","Strongly Disagree","Strongly Disagree","Strongly Disagree","Strongly Disagree","Strongly Disagree","Strongly Disagree","Strongly Disagree","Strongly Disagree","Strongly Disagree","Strongly Disagree","Strongly Disagree","Strongly Disagree","Strongly Disagree","Strongly Disagree","Strongly Disagree","Strongly Disagree","Strongly Disagree","Strongly Disagree","Strongly Disagree","Strongly Disagree","Strongly Disagree","Strongly Disagree","Strongly Disagree","Strongly Disagree","Strongly Disagree","Strongly Disagree","Strongly Disagree","Strongly Disagree","Strongly Disagree","Strongly Disagree","Strongly Disagree","Strongly Disagree","Strongly Disagree","Strongly Disagree","Strongly Disagree","Strongly Disagree","Strongly Disagree","Strongly Disagree","Strongly Disagree","Strongly Disagree","Strongly Disagree","Strongly Disagree","Strongly Disagree","Strongly Disagree","Strongly Disagree","Strongly Disagree","Strongly Disagree","Strongly Disagree","Strongly Disagree","Strongly Disagree","Strongly Disagree","Strongly Disagree","Strongly Disagree","Too Slow","Too Slow","Strongly Disagree","Strongly Disagree","Strongly Disagree","Strongly Disagree","Strongly Disagree","Strongly Disagree","Strongly Disagree","Strongly Disagree","Strongly Disagree","Strongly Disagree","Strongly Disagree","Very Poor","Strongly Disagree","Very Poor","Strongly Disagree","Yes","Strongly Disagree","Open Ended","Open Ended"]
[null,"Please paste the data into the appropriate columns",null,null,null,null,2,null,null,"Disagree","Disagree","Disagree","Disagree","Disagree","Disagree","Disagree","Disagree","Disagree","Disagree","Disagree","Disagree","Disagree","Disagree","Disagree","Disagree","Disagree","Disagree","Disagree","Disagree","Disagree","Disagree","Disagree","Disagree","Disagree","Disagree","Disagree","Disagree","Disagree","Disagree","Disagree","Disagree","Disagree","Disagree","Disagree","Disagree","Disagree","Disagree","Disagree","Disagree","Disagree","Disagree","Disagree","Disagree","Disagree","Disagree","Disagree","Disagree","Disagree","Disagree","Disagree","Disagree","Disagree","Disagree","Disagree","Disagree","Disagree","Disagree","Disagree","Disagree","Disagree","Disagree","Disagree","Disagree","Disagree","Disagree","Disagree","Disagree","Disagree","Disagree","Disagree","Disagree","Disagree","Disagree","Disagree","Disagree","Disagree","Disagree","Disagree","Disagree","Disagree","Disagree","Disagree","Disagree","Disagree","Disagree","Disagree","Disagree","Disagree","Disagree","Disagree","Disagree","Disagree","Disagree","Disagree","Disagree","Disagree","Disagree","Disagree","Disagree","Disagree","Disagree","Disagree","Disagree","Disagree","Disagree","Disagree","Disagree","Disagree","Disagree","Disagree","Disagree","Disagree","Disagree","Disagree","Disagree","Disagree","Disagree","Disagree","Disagree","Disagree","Disagree","Disagree","Disagree","Disagree","Disagree","Disagree","Disagree","Disagree","Disagree","Disagree","Disagree","Disagree","Disagree","Disagree","Disagree","Disagree","Disagree","Disagree","Disagree","Disagree","Disagree","Disagree","Disagree","Disagree","Disagree","Disagree","Disagree","Disagree","Disagree","Disagree","Disagree","Disagree","Disagree","Disagree","Disagree","Slow","Slow","Disagree","Disagree","Disagree","Disagree","Disagree","Disagree","Disagree","Disagree","Disagree","Disagree","Disagree","Poor","Disagree","Poor","Disagree","No","Disagree"]
[null,null,null,null,null,null,3,null,null,"Neither Agree nor Disagree","Neither Agree nor Disagree","Neither Agree nor Disagree","Neither Agree nor Disagree","Neither Agree nor Disagree","Neither Agree nor Disagree","Neither Agree nor Disagree","Neither Agree nor Disagree","Neither Agree nor Disagree","Neither Agree nor Disagree","Neither Agree nor Disagree","Neither Agree nor Disagree","Neither Agree nor Disagree","Neither Agree nor Disagree","Neither Agree nor Disagree","Neither Agree nor Disagree","Neither Agree nor Disagree","Neither Agree nor Disagree","Neither Agree nor Disagree","Neither Agree nor Disagree","Neither Agree nor Disagree","Neither Agree nor Disagree","Neither Agree nor Disagree","Neither Agree nor Disagree","Neither Agree nor Disagree","Neither Agree nor Disagree","Neither Agree nor Disagree","Neither Agree nor Disagree","Neither Agree nor Disagree","Neither Agree nor Disagree","Neither Agree nor Disagree","Neither Agree nor Disagree","Neither Agree nor Disagree","Neither Agree nor Disagree","Neither Agree nor Disagree","Neither Agree nor Disagree","Neither Agree nor Disagree","Neither Agree nor Disagree","Neither Agree nor Disagree","Neither Agree nor Disagree","Neither Agree nor Disagree","Neither Agree nor Disagree","Neither Agree nor Disagree","Neither Agree nor Disagree","Neither Agree nor Disagree","Neither Agree nor Disagree","Neither Agree nor Disagree","Neither Agree nor Disagree","Neither Agree nor Disagree","Neither Agree nor Disagree","Neither Agree nor Disagree","Neither Agree nor Disagree","Neither Agree nor Disagree","Neither Agree nor Disagree","Neither Agree nor Disagree","Neither Agree nor Disagree","Neither Agree nor Disagree","Neither Agree nor Disagree","Neither Agree nor Disagree","Neither Agree nor Disagree","Neither Agree nor Disagree","Neither Agree nor Disagree","Neither Agree nor Disagree","Neither Agree nor Disagree","Neither Agree nor Disagree","Neither Agree nor Disagree","Neither Agree nor Disagree","Neither Agree nor Disagree","Neither Agree nor Disagree","Neither Agree nor Disagree","Neither Agree nor Disagree","Neither Agree nor Disagree","Neither Agree nor Disagree","Neither Agree nor Disagree","Neither Agree nor Disagree","Neither Agree nor Disagree","Neither Agree nor Disagree","Neither Agree nor Disagree","Neither Agree nor Disagree","Neither Agree nor Disagree","Neither Agree nor Disagree","Neither Agree nor Disagree","Neither Agree nor Disagree","Neither Agree nor Disagree","Neither Agree nor Disagree","Neither Agree nor Disagree","Neither Agree nor Disagree","Neither Agree nor Disagree","Neither Agree nor Disagree","Neither Agree nor Disagree","Neither Agree nor Disagree","Neither Agree nor Disagree","Neither Agree nor Disagree","Neither Agree nor Disagree","Neither Agree nor Disagree","Neither Agree nor Disagree","Neither Agree nor Disagree","Neither Agree nor Disagree","Neither Agree nor Disagree","Neither Agree nor Disagree","Neither Agree nor Disagree","Neither Agree nor Disagree","Neither Agree nor Disagree","Neither Agree nor Disagree","Neither Agree nor Disagree","Neither Agree nor Disagree","Neither Agree nor Disagree","Neither Agree nor Disagree","Neither Agree nor Disagree","Neither Agree nor Disagree","Neither Agree nor Disagree","Neither Agree nor Disagree","Neither Agree nor Disagree","Neither Agree nor Disagree","Neither Agree nor Disagree","Neither Agree nor Disagree","Neither Agree nor Disagree","Neither Agree nor Disagree","Neither Agree nor Disagree","Neither Agree nor Disagree","Neither Agree nor Disagree","Neither Agree nor Disagree","Neither Agree nor Disagree","Neither Agree nor Disagree","Neither Agree nor Disagree","Neither Agree nor Disagree","Neither Agree nor Disagree","Neither Agree nor Disagree","Neither Agree nor Disagree","Neither Agree nor Disagree","Neither Agree nor Disagree","Neither Agree nor Disagree","Neither Agree nor Disagree","Neither Agree nor Disagree","Neither Agree nor Disagree","Neither Agree nor Disagree","Neither Agree nor Disagree","Neither Agree nor Disagree","Neither Agree nor Disagree","Neither Agree nor Disagree","Neither Agree nor Disagree","Neither Agree nor Disagree","Neither Agree nor Disagree","Neither Agree nor Disagree","Neither Agree nor Disagree","Neither Agree nor Disagree","Neither Agree nor Disagree","Neither Agree nor Disagree","Neither Agree nor Disagree","Neither Agree nor Disagree","Neither Agree nor Disagree","Neither Agree nor Disagree","Neither Agree nor Disagree","Neither Agree nor Disagree","Neither Agree nor Disagree","Neither Agree nor Disagree","Just Right","Just Right","Neither Agree nor Disagree","Neither Agree nor Disagree","Neither Agree nor Disagree","Neither Agree nor Disagree","Neither Agree nor Disagree","Neither Agree nor Disagree","Neither Agree nor Disagree","Neither Agree nor Disagree","Neither Agree nor Disagree","Neither Agree nor Disagree","Neither Agree nor Disagree","Fair","Neither Agree nor Disagree","Fair","Neither Agree nor Disagree",null,"Neither Agree nor Disagree"]
[null,null,null,null,null,null,4,null,null,"Agree","Agree","Agree","Agree","Agree","Agree","Agree","Agree","Agree","Agree","Agree","Agree","Agree","Agree","Agree","Agree","Agree","Agree","Agree","Agree","Agree","Agree","Agree","Agree","Agree","Agree","Agree","Agree","Agree","Agree","Agree","Agree","Agree","Agree","Agree","Agree","Agree","Agree","Agree","Agree","Agree","Agree","Agree","Agree","Agree","Agree","Agree","Agree","Agree","Agree","Agree","Agree","Agree","Agree","Agree","Agree","Agree","Agree","Agree","Agree","Agree","Agree","Agree","Agree","Agree","Agree","Agree","Agree","Agree","Agree","Agree","Agree","Agree","Agree","Agree","Agree","Agree","Agree","Agree","Agree","Agree","Agree","Agree","Agree","Agree","Agree","Agree","Agree","Agree","Agree","Agree","Agree","Agree","Agree","Agree","Agree","Agree","Agree","Agree","Agree","Agree","Agree","Agree","Agree","Agree","Agree","Agree","Agree","Agree","Agree","Agree","Agree","Agree","Agree","Agree","Agree","Agree","Agree","Agree","Agree","Agree","Agree","Agree","Agree","Agree","Agree","Agree","Agree","Agree","Agree","Agree","Agree","Agree","Agree","Agree","Agree","Agree","Agree","Agree","Agree","Agree","Agree","Agree","Agree","Agree","Agree","Agree","Agree","Agree","Agree","Agree","Agree","Agree","Agree","Agree","Agree","Long","Fast","Agree","Agree","Agree","Agree","Agree","Agree","Agree","Agree","Agree","Agree","Agree","Good","Agree","Good","Agree",null,"Agree"]
[null,null,null,null,null,null,5,null,null,"Strongly Agree","Strongly Agree","Strongly Agree","Strongly Agree","Strongly Agree","Strongly Agree","Strongly Agree","Strongly Agree","Strongly Agree","Strongly Agree","Strongly Agree","Strongly Agree","Strongly Agree","Strongly Agree","Strongly Agree","Strongly Agree","Strongly Agree","Strongly Agree","Strongly Agree","Strongly Agree","Strongly Agree","Strongly Agree","Strongly Agree","Strongly Agree","Strongly Agree","Strongly Agree","Strongly Agree","Strongly Agree","Strongly Agree","Strongly Agree","Strongly Agree","Strongly Agree","Strongly Agree","Strongly Agree","Strongly Agree","Strongly Agree","Strongly Agree","Strongly Agree","Strongly Agree","Strongly Agree","Strongly Agree","Strongly Agree","Strongly Agree","Strongly Agree","Strongly Agree","Strongly Agree","Strongly Agree","Strongly Agree","Strongly Agree","Strongly Agree","Strongly Agree","Strongly Agree","Strongly Agree","Strongly Agree","Strongly Agree","Strongly Agree","Strongly Agree","Strongly Agree","Strongly Agree","Strongly Agree","Strongly Agree","Strongly Agree","Strongly Agree","Strongly Agree","Strongly Agree","Strongly Agree","Strongly Agree","Strongly Agree","Strongly Agree","Strongly Agree","Strongly Agree","Strongly Agree","Strongly Agree","Strongly Agree","Strongly Agree","Strongly Agree","Strongly Agree","Strongly Agree","Strongly Agree","Strongly Agree","Strongly Agree","Strongly Agree","Strongly Agree","Strongly Agree","Strongly Agree","Strongly Agree","Strongly Agree","Strongly Agree","Strongly Agree","Strongly Agree","Strongly Agree","Strongly Agree","Strongly Agree","Strongly Agree","Strongly Agree","Strongly Agree","Strongly Agree","Strongly Agree","Strongly Agree","Strongly Agree","Strongly Agree","Strongly Agree","Strongly Agree","Strongly Agree","Strongly Agree","Strongly Agree","Strongly Agree","Strongly Agree","Strongly Agree","Strongly Agree","Strongly Agree","Strongly Agree","Strongly Agree","Strongly Agree","Strongly Agree","Strongly Agree","Strongly Agree","Strongly Agree","Strongly Agree","Strongly Agree","Strongly Agree","Strongly Agree","Strongly Agree","Strongly Agree","Strongly Agree","Strongly Agree","Strongly Agree","Strongly Agree","Strongly Agree","Strongly Agree","Strongly Agree","Strongly Agree","Strongly Agree","Strongly Agree","Strongly Agree","Strongly Agree","Strongly Agree","Strongly Agree","Strongly Agree","Strongly Agree","Strongly Agree","Strongly Agree","Strongly Agree","Strongly Agree","Strongly Agree","Strongly Agree","Strongly Agree","Strongly Agree","Strongly Agree","Strongly Agree","Strongly Agree","Strongly Agree","Strongly Agree","Strongly Agree","Strongly Agree","Strongly Agree","Too Long","Too Fast","Strongly Agree","Strongly Agree","Strongly Agree","Strongly Agree","Strongly Agree","Strongly Agree","Strongly Agree","Strongly Agree","Strongly Agree","Strongly Agree","Strongly Agree","Very Good","Strongly Agree","Very Good","Strongly Agree",null,"Strongly Agree"]
[null,null,null,null,null,null,99,null,null,"NA/ Blank","NA/ Blank","NA/ Blank","NA/ Blank","NA/ Blank","NA/ Blank","NA/ Blank","NA/ Blank","NA/ Blank","NA/ Blank","NA/ Blank","NA/ Blank","NA/ Blank","NA/ Blank","NA/ Blank","NA/ Blank","NA/ Blank","NA/ Blank","NA/ Blank","NA/ Blank","NA/ Blank","NA/ Blank","NA/ Blank","NA/ Blank","NA/ Blank","NA/ Blank","NA/ Blank","NA/ Blank","NA/ Blank","NA/ Blank","NA/ Blank","NA/ Blank","NA/ Blank","NA/ Blank","NA/ Blank","NA/ Blank","NA/ Blank","NA/ Blank","NA/ Blank","NA/ Blank","NA/ Blank","NA/ Blank","NA/ Blank","NA/ Blank","NA/ Blank","NA/ Blank","NA/ Blank","NA/ Blank","NA/ Blank","NA/ Blank","NA/ Blank","NA/ Blank","NA/ Blank","NA/ Blank","NA/ Blank","NA/ Blank","NA/ Blank","NA/ Blank","NA/ Blank","NA/ Blank","NA/ Blank","NA/ Blank","NA/ Blank","NA/ Blank","NA/ Blank","NA/ Blank","NA/ Blank","NA/ Blank","NA/ Blank","NA/ Blank","NA/ Blank","NA/ Blank","NA/ Blank","NA/ Blank","NA/ Blank","NA/ Blank","NA/ Blank","NA/ Blank","NA/ Blank","NA/ Blank","NA/ Blank","NA/ Blank","NA/ Blank","NA/ Blank","NA/ Blank","NA/ Blank","NA/ Blank","NA/ Blank","NA/ Blank","NA/ Blank","NA/ Blank","NA/ Blank","NA/ Blank","NA/ Blank","NA/ Blank","NA/ Blank","NA/ Blank","NA/ Blank","NA/ Blank","NA/ Blank","NA/ Blank","NA/ Blank","NA/ Blank","NA/ Blank","NA/ Blank","NA/ Blank","NA/ Blank","NA/ Blank","NA/ Blank","NA/ Blank","NA/ Blank","NA/ Blank","NA/ Blank","NA/ Blank","NA/ Blank","NA/ Blank","NA/ Blank","NA/ Blank","NA/ Blank","NA/ Blank","NA/ Blank","NA/ Blank","NA/ Blank","NA/ Blank","NA/ Blank","NA/ Blank","NA/ Blank","NA/ Blank","NA/ Blank","NA/ Blank","NA/ Blank","NA/ Blank","NA/ Blank","NA/ Blank","NA/ Blank","NA/ Blank","NA/ Blank","NA/ Blank","NA/ Blank","NA/ Blank","NA/ Blank","NA/ Blank","NA/ Blank","NA/ Blank","NA/ Blank","NA/ Blank","NA/ Blank","NA/ Blank","NA/ Blank","NA/ Blank","NA/ Blank","NA/ Blank","NA/ Blank","NA/ Blank","NA/ Blank","NA/ Blank","NA/ Blank","NA/ Blank","NA/ Blank","NA/ Blank","NA/ Blank","NA/ Blank","NA/ Blank","NA/ Blank","NA/ Blank","NA/ Blank","NA/ Blank","NA/ Blank","NA/ Blank","NA/ Blank","NA/ Blank","NA/ Blank","NA/ Blank","NA/ Blank","NA/ Blank"]
[]
[null,null,null,null,null,null,"overall use",0,0,{"$f":"IF('Step 3A'!$D$5=\"Combined Pre/Post Survey\", J14, J17)","v":0},{"$f":"IF('Step 3A'!$D$5=\"Combined Pre/Post Survey\", K14, K17)","v":0},{"$f":"IF('Step 3A'!$D$5=\"Combined Pre/Post Survey\", L14, L17)","v":0},{"$f":"IF('Step 3A'!$D$5=\"Combined Pre/Post Survey\", M14, M17)","v":0},{"$f":"IF('Step 3A'!$D$5=\"Combined Pre/Post Survey\", N14, N17)","v":0},{"$f":"IF('Step 3A'!$D$5=\"Combined Pre/Post Survey\", O14, O17)","v":0},{"$f":"IF('Step 3A'!$D$5=\"Combined Pre/Post Survey\", P14, P17)","v":0},{"$f":"IF('Step 3A'!$D$5=\"Combined Pre/Post Survey\", Q14, Q17)","v":0},{"$f":"IF('Step 3A'!$D$5=\"Combined Pre/Post Survey\", R14, R17)","v":0},{"$f":"IF('Step 3A'!$D$5=\"Combined Pre/Post Survey\", S14, S17)","v":0},{"$f":"IF('Step 3A'!$D$5=\"Combined Pre/Post Survey\", T14, T17)","v":0},{"$f":"IF('Step 3A'!$D$5=\"Combined Pre/Post Survey\", U14, U17)","v":0},{"$f":"IF('Step 3A'!$D$5=\"Combined Pre/Post Survey\", V14, V17)","v":0},{"$f":"IF('Step 3A'!$D$5=\"Combined Pre/Post Survey\", W14, W17)","v":0},{"$f":"IF('Step 3A'!$D$5=\"Combined Pre/Post Survey\", X14, X17)","v":0},{"$f":"IF('Step 3A'!$D$5=\"Combined Pre/Post Survey\", Y14, Y17)","v":0},{"$f":"IF('Step 3A'!$D$5=\"Combined Pre/Post Survey\", Z14, Z17)","v":0},{"$f":"IF('Step 3A'!$D$5=\"Combined Pre/Post Survey\", AA14, AA17)","v":0},{"$f":"IF('Step 3A'!$D$5=\"Combined Pre/Post Survey\", AB14, AB17)","v":0},{"$f":"IF('Step 3A'!$D$5=\"Combined Pre/Post Survey\", AC14, AC17)","v":0},{"$f":"IF('Step 3A'!$D$5=\"Combined Pre/Post Survey\", AD14, AD17)","v":0},{"$f":"IF('Step 3A'!$D$5=\"Combined Pre/Post Survey\", AE14, AE17)","v":0},{"$f":"IF('Step 3A'!$D$5=\"Combined Pre/Post Survey\", AF14, AF17)","v":0},{"$f":"IF('Step 3A'!$D$5=\"Combined Pre/Post Survey\", AG14, AG17)","v":0},{"$f":"IF('Step 3A'!$D$5=\"Combined Pre/Post Survey\", AH14, AH17)","v":0},{"$f":"IF('Step 3A'!$D$5=\"Combined Pre/Post Survey\", AI14, AI17)","v":0},{"$f":"IF('Step 3A'!$D$5=\"Combined Pre/Post Survey\", AJ14, AJ17)","v":0},{"$f":"IF('Step 3A'!$D$5=\"Combined Pre/Post Survey\", AK14, AK17)","v":0},{"$f":"IF('Step 3A'!$D$5=\"Combined Pre/Post Survey\", AL14, AL17)","v":0},{"$f":"IF('Step 3A'!$D$5=\"Combined Pre/Post Survey\", AM14, AM17)","v":0},{"$f":"IF('Step 3A'!$D$5=\"Combined Pre/Post Survey\", AN14, AN17)","v":0},{"$f":"IF('Step 3A'!$D$5=\"Combined Pre/Post Survey\", AO14, AO17)","v":0},{"$f":"IF('Step 3A'!$D$5=\"Combined Pre/Post Survey\", AP14, AP17)","v":0},{"$f":"IF('Step 3A'!$D$5=\"Combined Pre/Post Survey\", AQ14, AQ17)","v":0},{"$f":"IF('Step 3A'!$D$5=\"Combined Pre/Post Survey\", AR14, AR17)","v":0},{"$f":"IF('Step 3A'!$D$5=\"Combined Pre/Post Survey\", AS14, AS17)","v":0},{"$f":"IF('Step 3A'!$D$5=\"Combined Pre/Post Survey\", AT14, AT17)","v":0},{"$f":"IF('Step 3A'!$D$5=\"Combined Pre/Post Survey\", AU14, AU17)","v":0},{"$f":"IF('Step 3A'!$D$5=\"Combined Pre/Post Survey\", AV14, AV17)","v":0},{"$f":"IF('Step 3A'!$D$5=\"Combined Pre/Post Survey\", AW14, AW17)","v":0},{"$f":"IF('Step 3A'!$D$5=\"Combined Pre/Post Survey\", AX14, AX17)","v":0},{"$f":"IF('Step 3A'!$D$5=\"Combined Pre/Post Survey\", AY14, AY17)","v":0},{"$f":"IF('Step 3A'!$D$5=\"Combined Pre/Post Survey\", AZ14, AZ17)","v":0},{"$f":"IF('Step 3A'!$D$5=\"Combined Pre/Post Survey\", BA14, BA17)","v":0},{"$f":"IF('Step 3A'!$D$5=\"Combined Pre/Post Survey\", BB14, BB17)","v":0},{"$f":"IF('Step 3A'!$D$5=\"Combined Pre/Post Survey\", BC14, BC17)","v":0},{"$f":"IF('Step 3A'!$D$5=\"Combined Pre/Post Survey\", BD14, BD17)","v":0},{"$f":"IF('Step 3A'!$D$5=\"Combined Pre/Post Survey\", BE14, BE17)","v":0},{"$f":"IF('Step 3A'!$D$5=\"Combined Pre/Post Survey\", BF14, BF17)","v":0},{"$f":"IF('Step 3A'!$D$5=\"Combined Pre/Post Survey\", BG14, BG17)","v":0},{"$f":"IF('Step 3A'!$D$5=\"Combined Pre/Post Survey\", BH14, BH17)","v":0},{"$f":"IF('Step 3A'!$D$5=\"Combined Pre/Post Survey\", BI14, BI17)","v":0},{"$f":"IF('Step 3A'!$D$5=\"Combined Pre/Post Survey\", BJ14, BJ17)","v":0},{"$f":"IF('Step 3A'!$D$5=\"Combined Pre/Post Survey\", BK14, BK17)","v":0},{"$f":"IF('Step 3A'!$D$5=\"Combined Pre/Post Survey\", BL14, BL17)","v":0},{"$f":"IF('Step 3A'!$D$5=\"Combined Pre/Post Survey\", BM14, BM17)","v":0},{"$f":"IF('Step 3A'!$D$5=\"Combined Pre/Post Survey\", BN14, BN17)","v":0},{"$f":"IF('Step 3A'!$D$5=\"Combined Pre/Post Survey\", BO14, BO17)","v":0},{"$f":"IF('Step 3A'!$D$5=\"Combined Pre/Post Survey\", BP14, BP17)","v":0},{"$f":"IF('Step 3A'!$D$5=\"Combined Pre/Post Survey\", BQ14, BQ17)","v":0},{"$f":"IF('Step 3A'!$D$5=\"Combined Pre/Post Survey\", BR14, BR17)","v":0},{"$f":"IF('Step 3A'!$D$5=\"Combined Pre/Post Survey\", BS14, BS17)","v":0},{"$f":"IF('Step 3A'!$D$5=\"Combined Pre/Post Survey\", BT14, BT17)","v":0},{"$f":"IF('Step 3A'!$D$5=\"Combined Pre/Post Survey\", BU14, BU17)","v":0},{"$f":"IF('Step 3A'!$D$5=\"Combined Pre/Post Survey\", BV14, BV17)","v":0},{"$f":"IF('Step 3A'!$D$5=\"Combined Pre/Post Survey\", BW14, BW17)","v":0},{"$f":"IF('Step 3A'!$D$5=\"Combined Pre/Post Survey\", BX14, BX17)","v":0},{"$f":"IF('Step 3A'!$D$5=\"Combined Pre/Post Survey\", BY14, BY17)","v":0},{"$f":"IF('Step 3A'!$D$5=\"Combined Pre/Post Survey\", BZ14, BZ17)","v":0},{"$f":"IF('Step 3A'!$D$5=\"Combined Pre/Post Survey\", CA14, CA17)","v":0},{"$f":"IF('Step 3A'!$D$5=\"Combined Pre/Post Survey\", CB14, CB17)","v":0},{"$f":"IF('Step 3A'!$D$5=\"Combined Pre/Post Survey\", CC14, CC17)","v":0},{"$f":"IF('Step 3A'!$D$5=\"Combined Pre/Post Survey\", CD14, CD17)","v":0},{"$f":"IF('Step 3A'!$D$5=\"Combined Pre/Post Survey\", CE14, CE17)","v":0},{"$f":"IF('Step 3A'!$D$5=\"Combined Pre/Post Survey\", CF14, CF17)","v":0},{"$f":"IF('Step 3A'!$D$5=\"Combined Pre/Post Survey\", CG14, CG17)","v":0},{"$f":"IF('Step 3A'!$D$5=\"Combined Pre/Post Survey\", CH14, CH17)","v":0},{"$f":"IF('Step 3A'!$D$5=\"Combined Pre/Post Survey\", CI14, CI17)","v":0},{"$f":"IF('Step 3A'!$D$5=\"Combined Pre/Post Survey\", CJ14, CJ17)","v":0},{"$f":"IF('Step 3A'!$D$5=\"Combined Pre/Post Survey\", CK14, CK17)","v":0},{"$f":"IF('Step 3A'!$D$5=\"Combined Pre/Post Survey\", CL14, CL17)","v":0},{"$f":"IF('Step 3A'!$D$5=\"Combined Pre/Post Survey\", CM14, CM17)","v":0},{"$f":"IF('Step 3A'!$D$5=\"Combined Pre/Post Survey\", CN14, CN17)","v":0},{"$f":"IF('Step 3A'!$D$5=\"Combined Pre/Post Survey\", CO14, CO17)","v":0},{"$f":"IF('Step 3A'!$D$5=\"Combined Pre/Post Survey\", CP14, CP17)","v":0},{"$f":"IF('Step 3A'!$D$5=\"Combined Pre/Post Survey\", CQ14, CQ17)","v":0},{"$f":"IF('Step 3A'!$D$5=\"Combined Pre/Post Survey\", CR14, CR17)","v":0},{"$f":"IF('Step 3A'!$D$5=\"Combined Pre/Post Survey\", CS14, CS17)","v":0},{"$f":"IF('Step 3A'!$D$5=\"Combined Pre/Post Survey\", CT14, CT17)","v":0},{"$f":"IF('Step 3A'!$D$5=\"Combined Pre/Post Survey\", CU14, CU17)","v":0},{"$f":"IF('Step 3A'!$D$5=\"Combined Pre/Post Survey\", CV14, CV17)","v":0},{"$f":"IF('Step 3A'!$D$5=\"Combined Pre/Post Survey\", CW14, CW17)","v":0},{"$f":"IF('Step 3A'!$D$5=\"Combined Pre/Post Survey\", CX14, CX17)","v":0},{"$f":"IF('Step 3A'!$D$5=\"Combined Pre/Post Survey\", CY14, CY17)","v":0},{"$f":"IF('Step 3A'!$D$5=\"Combined Pre/Post Survey\", CZ14, CZ17)","v":0},{"$f":"IF('Step 3A'!$D$5=\"Combined Pre/Post Survey\", DA14, DA17)","v":0},{"$f":"IF('Step 3A'!$D$5=\"Combined Pre/Post Survey\", DB14, DB17)","v":0},{"$f":"IF('Step 3A'!$D$5=\"Combined Pre/Post Survey\", DC14, DC17)","v":0},{"$f":"IF('Step 3A'!$D$5=\"Combined Pre/Post Survey\", DD14, DD17)","v":0},{"$f":"IF('Step 3A'!$D$5=\"Combined Pre/Post Survey\", DE14, DE17)","v":0},{"$f":"IF('Step 3A'!$D$5=\"Combined Pre/Post Survey\", DF14, DF17)","v":0},{"$f":"IF('Step 3A'!$D$5=\"Combined Pre/Post Survey\", DG14, DG17)","v":0},{"$f":"IF('Step 3A'!$D$5=\"Combined Pre/Post Survey\", DH14, DH17)","v":0},{"$f":"IF('Step 3A'!$D$5=\"Combined Pre/Post Survey\", DI14, DI17)","v":0},{"$f":"IF('Step 3A'!$D$5=\"Combined Pre/Post Survey\", DJ14, DJ17)","v":0},{"$f":"IF('Step 3A'!$D$5=\"Combined Pre/Post Survey\", DK14, DK17)","v":0},{"$f":"IF('Step 3A'!$D$5=\"Combined Pre/Post Survey\", DL14, DL17)","v":0},{"$f":"IF('Step 3A'!$D$5=\"Combined Pre/Post Survey\", DM14, DM17)","v":0},{"$f":"IF('Step 3A'!$D$5=\"Combined Pre/Post Survey\", DN14, DN17)","v":0},{"$f":"IF('Step 3A'!$D$5=\"Combined Pre/Post Survey\", DO14, DO17)","v":0},{"$f":"IF('Step 3A'!$D$5=\"Combined Pre/Post Survey\", DP14, DP17)","v":0},{"$f":"IF('Step 3A'!$D$5=\"Combined Pre/Post Survey\", DQ14, DQ17)","v":0},{"$f":"IF('Step 3A'!$D$5=\"Combined Pre/Post Survey\", DR14, DR17)","v":0},{"$f":"IF('Step 3A'!$D$5=\"Combined Pre/Post Survey\", DS14, DS17)","v":0},{"$f":"IF('Step 3A'!$D$5=\"Combined Pre/Post Survey\", DT14, DT17)","v":0},{"$f":"IF('Step 3A'!$D$5=\"Combined Pre/Post Survey\", DU14, DU17)","v":0},{"$f":"IF('Step 3A'!$D$5=\"Combined Pre/Post Survey\", DV14, DV17)","v":0},{"$f":"IF('Step 3A'!$D$5=\"Combined Pre/Post Survey\", DW14, DW17)","v":0},{"$f":"IF('Step 3A'!$D$5=\"Combined Pre/Post Survey\", DX14, DX17)","v":0},{"$f":"IF('Step 3A'!$D$5=\"Combined Pre/Post Survey\", DY14, DY17)","v":0},{"$f":"IF('Step 3A'!$D$5=\"Combined Pre/Post Survey\", DZ14, DZ17)","v":0},{"$f":"IF('Step 3A'!$D$5=\"Combined Pre/Post Survey\", EA14, EA17)","v":0},{"$f":"IF('Step 3A'!$D$5=\"Combined Pre/Post Survey\", EB14, EB17)","v":0},{"$f":"IF('Step 3A'!$D$5=\"Combined Pre/Post Survey\", EC14, EC17)","v":0},{"$f":"IF('Step 3A'!$D$5=\"Combined Pre/Post Survey\", ED14, ED17)","v":0},{"$f":"IF('Step 3A'!$D$5=\"Combined Pre/Post Survey\", EE14, EE17)","v":0},{"$f":"IF('Step 3A'!$D$5=\"Combined Pre/Post Survey\", EF14, EF17)","v":0},{"$f":"IF('Step 3A'!$D$5=\"Combined Pre/Post Survey\", EG14, EG17)","v":0},{"$f":"IF('Step 3A'!$D$5=\"Combined Pre/Post Survey\", EH14, EH17)","v":0},{"$f":"IF('Step 3A'!$D$5=\"Combined Pre/Post Survey\", EI14, EI17)","v":0},{"$f":"IF('Step 3A'!$D$5=\"Combined Pre/Post Survey\", EJ14, EJ17)","v":0},{"$f":"IF('Step 3A'!$D$5=\"Combined Pre/Post Survey\", EK14, EK17)","v":0},{"$f":"IF('Step 3A'!$D$5=\"Combined Pre/Post Survey\", EL14, EL17)","v":0},{"$f":"IF('Step 3A'!$D$5=\"Combined Pre/Post Survey\", EM14, EM17)","v":0},{"$f":"IF('Step 3A'!$D$5=\"Combined Pre/Post Survey\", EN14, EN17)","v":0},{"$f":"IF('Step 3A'!$D$5=\"Combined Pre/Post Survey\", EO14, EO17)","v":0},{"$f":"IF('Step 3A'!$D$5=\"Combined Pre/Post Survey\", EP14, EP17)","v":0},{"$f":"IF('Step 3A'!$D$5=\"Combined Pre/Post Survey\", EQ14, EQ17)","v":0},{"$f":"IF('Step 3A'!$D$5=\"Combined Pre/Post Survey\", ER14, ER17)","v":0},{"$f":"IF('Step 3A'!$D$5=\"Combined Pre/Post Survey\", ES14, ES17)","v":0},{"$f":"IF('Step 3A'!$D$5=\"Combined Pre/Post Survey\", ET14, ET17)","v":0},{"$f":"IF('Step 3A'!$D$5=\"Combined Pre/Post Survey\", EU14, EU17)","v":0},{"$f":"IF('Step 3A'!$D$5=\"Combined Pre/Post Survey\", EV14, EV17)","v":0},{"$f":"IF('Step 3A'!$D$5=\"Combined Pre/Post Survey\", EW14, EW17)","v":0},{"$f":"IF('Step 3A'!$D$5=\"Combined Pre/Post Survey\", EX14, EX17)","v":0},{"$f":"IF('Step 3A'!$D$5=\"Combined Pre/Post Survey\", EY14, EY17)","v":0},{"$f":"IF('Step 3A'!$D$5=\"Combined Pre/Post Survey\", EZ14, EZ17)","v":0},{"$f":"IF('Step 3A'!$D$5=\"Combined Pre/Post Survey\", FA14, FA17)","v":0},{"$f":"IF('Step 3A'!$D$5=\"Combined Pre/Post Survey\", FB14, FB17)","v":0},{"$f":"IF('Step 3A'!$D$5=\"Combined Pre/Post Survey\", FC14, FC17)","v":0},{"$f":"IF('Step 3A'!$D$5=\"Combined Pre/Post Survey\", FD14, FD17)","v":0},{"$f":"IF('Step 3A'!$D$5=\"Combined Pre/Post Survey\", FE14, FE17)","v":0},{"$f":"IF('Step 3A'!$D$5=\"Combined Pre/Post Survey\", FF14, FF17)","v":0},{"$f":"IF('Step 3A'!$D$5=\"Combined Pre/Post Survey\", FG14, FG17)","v":0},{"$f":"IF('Step 3A'!$D$5=\"Combined Pre/Post Survey\", FH14, FH17)","v":0},{"$f":"IF('Step 3A'!$D$5=\"Combined Pre/Post Survey\", FI14, FI17)","v":0},{"$f":"IF('Step 3A'!$D$5=\"Combined Pre/Post Survey\", FJ14, FJ17)","v":0},{"$f":"IF('Step 3A'!$D$5=\"Combined Pre/Post Survey\", FK14, FK17)","v":0},{"$f":"IF('Step 3A'!$D$5=\"Combined Pre/Post Survey\", FL14, FL17)","v":0},{"$f":"IF('Step 3A'!$D$5=\"Combined Pre/Post Survey\", FM14, FM17)","v":0},{"$f":"IF('Step 3A'!$D$5=\"Combined Pre/Post Survey\", FN14, FN17)","v":0},{"$f":"IF('Step 3A'!$D$5=\"Combined Pre/Post Survey\", FO14, FO17)","v":0},{"$f":"IF('Step 3A'!$D$5=\"Combined Pre/Post Survey\", FP14, FP17)","v":0},{"$f":"IF('Step 3A'!$D$5=\"Combined Pre/Post Survey\", FQ14, FQ17)","v":0},{"$f":"IF('Step 3A'!$D$5=\"Combined Pre/Post Survey\", FR14, FR17)","v":0},{"$f":"IF('Step 3A'!$D$5=\"Combined Pre/Post Survey\", FS14, FS17)","v":0},{"$f":"IF('Step 3A'!$D$5=\"Combined Pre/Post Survey\", FT14, FT17)","v":0},{"$f":"IF('Step 3A'!$D$5=\"Combined Pre/Post Survey\", FU14, FU17)","v":0},{"$f":"IF('Step 3A'!$D$5=\"Combined Pre/Post Survey\", FV14, FV17)","v":0},{"$f":"IF('Step 3A'!$D$5=\"Combined Pre/Post Survey\", FW14, FW17)","v":0},{"$f":"IF('Step 3A'!$D$5=\"Combined Pre/Post Survey\", FX14, FX17)","v":0},{"$f":"IF('Step 3A'!$D$5=\"Combined Pre/Post Survey\", FY14, FY17)","v":0},{"$f":"IF('Step 3A'!$D$5=\"Combined Pre/Post Survey\", FZ14, FZ17)","v":0},{"$f":"IF('Step 3A'!$D$5=\"Combined Pre/Post Survey\", GA14, GA17)","v":0},{"$f":"IF('Step 3A'!$D$5=\"Combined Pre/Post Survey\", GB14, GB17)","v":0},{"$f":"IF('Step 3A'!$D$5=\"Combined Pre/Post Survey\", GC14, GC17)","v":1},{"$f":"IF('Step 3A'!$D$5=\"Combined Pre/Post Survey\", GD14, GD17)","v":1},0,0,0,0,0,0,0,0,0,0,0,0,0,0,0,0,0,0,0,0,0,0,0,0,0,0,0,0,0,0,0,0,0,0,0,0,0,0,0,0,0,0,0,0,0,0,0,0,0,0,0,0,0,0,0,0,0,0,0,0,0,0,0,0,0,0,0,0,0,0,0,0,0,0,0,0,0,0,0,0,0,0,0,0,0,0,0,0,0,0,0,0,0,0,0,0,0,0,0,0,0,0,0,0,0,0,0,0,0,0,0,0,0,0,0,0,0,0,0,0,0,0,0,0,0,0,0,0,0,0,0,0,0,0,0,0,0,0,0,0,0,0,0,0,0,0,0,0,0,0,0,0,0,0,0,0,0,0,0,0,0,0,0,0,0,0,0,0,0,0,0,0,0,0,0,0,0,0,0,0,0,0,0,0,0]
[null,null,null,null,null,null,"Offset",null,null,1,2,3,4,5,6,7,8,9,10,11,12,13,14,15,16,17,18,19,20,21,22,23,24,25,26,27,28,29,30,31,32,33,34,35,36,37,38,39,40,41,42,43,44,45,46,47,48,49,50,51,52,53,54,55,56,57,58,59,60,61,62,63,64,65,66,67,68,69,70,71,72,73,74,75,76,77,78,1,2,3,4,5,6,7,8,9,10,11,12,13,14,15,16,17,18,19,20,21,22,23,24,25,26,27,28,29,30,31,32,33,34,35,36,37,38,39,40,41,42,43,44,45,46,47,48,49,50,51,52,53,54,55,56,57,58,59,60,61,62,63,64,65,66,67,68,69,70,71,72,73,74,75,76,77,78,1,2,3,4,5,6,7,8,9,10,11,12,13,14,17,18,19,20,21,0,0]
[null,null,null,null,null,null,"CPP",null,null,1,1,1,1,1,1,1,1,1,1,1,1,1,1,1,1,1,1,1,1,1,1,1,1,1,1,1,1,1,1,1,1,1,1,1,1,1,1,1,1,1,1,1,1,1,1,1,1,1,1,1,1,1,1,1,1,1,1,1,1,1,1,1,1,1,1,1,1,1,1,1,1,1,1,1,1,1,1,1,1,1,1,1,1,1,1,1,1,1,1,1,1,1,1,1,1,1,1,1,1,1,1,1,1,1,1,1,1,1,1,1,1,1,1,1,1,1,1,1,1,1,1,1,1,1,1,1,1,1,1,1,1,1,1,1,1,1,1,1,1,1,1,1,1,1,1,1,1,1,1,1,1,1,1,1,1,1,1,1,1,1,1,1,1,1,1,1,1,1,1,1,1,1,1,1,0,0]
[null,null,null,null,null,null,"Use",null,null,{"$f":"OFFSET(CPP_nyf_base!$G$10, 'Step 4A PP Pre'!J12, 0)","v":0},{"$f":"OFFSET(CPP_nyf_base!$G$10, 'Step 4A PP Pre'!K12, 0)","v":0},{"$f":"OFFSET(CPP_nyf_base!$G$10, 'Step 4A PP Pre'!L12, 0)","v":0},{"$f":"OFFSET(CPP_nyf_base!$G$10, 'Step 4A PP Pre'!M12, 0)","v":0},{"$f":"OFFSET(CPP_nyf_base!$G$10, 'Step 4A PP Pre'!N12, 0)","v":0},{"$f":"OFFSET(CPP_nyf_base!$G$10, 'Step 4A PP Pre'!O12, 0)","v":0},{"$f":"OFFSET(CPP_nyf_base!$G$10, 'Step 4A PP Pre'!P12, 0)","v":0},{"$f":"OFFSET(CPP_nyf_base!$G$10, 'Step 4A PP Pre'!Q12, 0)","v":0},{"$f":"OFFSET(CPP_nyf_base!$G$10, 'Step 4A PP Pre'!R12, 0)","v":0},{"$f":"OFFSET(CPP_nyf_base!$G$10, 'Step 4A PP Pre'!S12, 0)","v":0},{"$f":"OFFSET(CPP_nyf_base!$G$10, 'Step 4A PP Pre'!T12, 0)","v":0},{"$f":"OFFSET(CPP_nyf_base!$G$10, 'Step 4A PP Pre'!U12, 0)","v":0},{"$f":"OFFSET(CPP_nyf_base!$G$10, 'Step 4A PP Pre'!V12, 0)","v":0},{"$f":"OFFSET(CPP_nyf_base!$G$10, 'Step 4A PP Pre'!W12, 0)","v":0},{"$f":"OFFSET(CPP_nyf_base!$G$10, 'Step 4A PP Pre'!X12, 0)","v":0},{"$f":"OFFSET(CPP_nyf_base!$G$10, 'Step 4A PP Pre'!Y12, 0)","v":0},{"$f":"OFFSET(CPP_nyf_base!$G$10, 'Step 4A PP Pre'!Z12, 0)","v":0},{"$f":"OFFSET(CPP_nyf_base!$G$10, 'Step 4A PP Pre'!AA12, 0)","v":0},{"$f":"OFFSET(CPP_nyf_base!$G$10, 'Step 4A PP Pre'!AB12, 0)","v":0},{"$f":"OFFSET(CPP_nyf_base!$G$10, 'Step 4A PP Pre'!AC12, 0)","v":0},{"$f":"OFFSET(CPP_nyf_base!$G$10, 'Step 4A PP Pre'!AD12, 0)","v":0},{"$f":"OFFSET(CPP_nyf_base!$G$10, 'Step 4A PP Pre'!AE12, 0)","v":0},{"$f":"OFFSET(CPP_nyf_base!$G$10, 'Step 4A PP Pre'!AF12, 0)","v":0},{"$f":"OFFSET(CPP_nyf_base!$G$10, 'Step 4A PP Pre'!AG12, 0)","v":0},{"$f":"OFFSET(CPP_nyf_base!$G$10, 'Step 4A PP Pre'!AH12, 0)","v":0},{"$f":"OFFSET(CPP_nyf_base!$G$10, 'Step 4A PP Pre'!AI12, 0)","v":0},{"$f":"OFFSET(CPP_nyf_base!$G$10, 'Step 4A PP Pre'!AJ12, 0)","v":0},{"$f":"OFFSET(CPP_nyf_base!$G$10, 'Step 4A PP Pre'!AK12, 0)","v":0},{"$f":"OFFSET(CPP_nyf_base!$G$10, 'Step 4A PP Pre'!AL12, 0)","v":0},{"$f":"OFFSET(CPP_nyf_base!$G$10, 'Step 4A PP Pre'!AM12, 0)","v":0},{"$f":"OFFSET(CPP_nyf_base!$G$10, 'Step 4A PP Pre'!AN12, 0)","v":0},{"$f":"OFFSET(CPP_nyf_base!$G$10, 'Step 4A PP Pre'!AO12, 0)","v":0},{"$f":"OFFSET(CPP_nyf_base!$G$10, 'Step 4A PP Pre'!AP12, 0)","v":0},{"$f":"OFFSET(CPP_nyf_base!$G$10, 'Step 4A PP Pre'!AQ12, 0)","v":0},{"$f":"OFFSET(CPP_nyf_base!$G$10, 'Step 4A PP Pre'!AR12, 0)","v":0},{"$f":"OFFSET(CPP_nyf_base!$G$10, 'Step 4A PP Pre'!AS12, 0)","v":0},{"$f":"OFFSET(CPP_nyf_base!$G$10, 'Step 4A PP Pre'!AT12, 0)","v":0},{"$f":"OFFSET(CPP_nyf_base!$G$10, 'Step 4A PP Pre'!AU12, 0)","v":0},{"$f":"OFFSET(CPP_nyf_base!$G$10, 'Step 4A PP Pre'!AV12, 0)","v":0},{"$f":"OFFSET(CPP_nyf_base!$G$10, 'Step 4A PP Pre'!AW12, 0)","v":0},{"$f":"OFFSET(CPP_nyf_base!$G$10, 'Step 4A PP Pre'!AX12, 0)","v":0},{"$f":"OFFSET(CPP_nyf_base!$G$10, 'Step 4A PP Pre'!AY12, 0)","v":0},{"$f":"OFFSET(CPP_nyf_base!$G$10, 'Step 4A PP Pre'!AZ12, 0)","v":0},{"$f":"OFFSET(CPP_nyf_base!$G$10, 'Step 4A PP Pre'!BA12, 0)","v":0},{"$f":"OFFSET(CPP_nyf_base!$G$10, 'Step 4A PP Pre'!BB12, 0)","v":0},{"$f":"OFFSET(CPP_nyf_base!$G$10, 'Step 4A PP Pre'!BC12, 0)","v":0},{"$f":"OFFSET(CPP_nyf_base!$G$10, 'Step 4A PP Pre'!BD12, 0)","v":0},{"$f":"OFFSET(CPP_nyf_base!$G$10, 'Step 4A PP Pre'!BE12, 0)","v":0},{"$f":"OFFSET(CPP_nyf_base!$G$10, 'Step 4A PP Pre'!BF12, 0)","v":0},{"$f":"OFFSET(CPP_nyf_base!$G$10, 'Step 4A PP Pre'!BG12, 0)","v":0},{"$f":"OFFSET(CPP_nyf_base!$G$10, 'Step 4A PP Pre'!BH12, 0)","v":0},{"$f":"OFFSET(CPP_nyf_base!$G$10, 'Step 4A PP Pre'!BI12, 0)","v":0},{"$f":"OFFSET(CPP_nyf_base!$G$10, 'Step 4A PP Pre'!BJ12, 0)","v":0},{"$f":"OFFSET(CPP_nyf_base!$G$10, 'Step 4A PP Pre'!BK12, 0)","v":0},{"$f":"OFFSET(CPP_nyf_base!$G$10, 'Step 4A PP Pre'!BL12, 0)","v":0},{"$f":"OFFSET(CPP_nyf_base!$G$10, 'Step 4A PP Pre'!BM12, 0)","v":0},{"$f":"OFFSET(CPP_nyf_base!$G$10, 'Step 4A PP Pre'!BN12, 0)","v":0},{"$f":"OFFSET(CPP_nyf_base!$G$10, 'Step 4A PP Pre'!BO12, 0)","v":0},{"$f":"OFFSET(CPP_nyf_base!$G$10, 'Step 4A PP Pre'!BP12, 0)","v":0},{"$f":"OFFSET(CPP_nyf_base!$G$10, 'Step 4A PP Pre'!BQ12, 0)","v":0},{"$f":"OFFSET(CPP_nyf_base!$G$10, 'Step 4A PP Pre'!BR12, 0)","v":0},{"$f":"OFFSET(CPP_nyf_base!$G$10, 'Step 4A PP Pre'!BS12, 0)","v":0},{"$f":"OFFSET(CPP_nyf_base!$G$10, 'Step 4A PP Pre'!BT12, 0)","v":0},{"$f":"OFFSET(CPP_nyf_base!$G$10, 'Step 4A PP Pre'!BU12, 0)","v":0},{"$f":"OFFSET(CPP_nyf_base!$G$10, 'Step 4A PP Pre'!BV12, 0)","v":0},{"$f":"OFFSET(CPP_nyf_base!$G$10, 'Step 4A PP Pre'!BW12, 0)","v":0},{"$f":"OFFSET(CPP_nyf_base!$G$10, 'Step 4A PP Pre'!BX12, 0)","v":0},{"$f":"OFFSET(CPP_nyf_base!$G$10, 'Step 4A PP Pre'!BY12, 0)","v":0},{"$f":"OFFSET(CPP_nyf_base!$G$10, 'Step 4A PP Pre'!BZ12, 0)","v":0},{"$f":"OFFSET(CPP_nyf_base!$G$10, 'Step 4A PP Pre'!CA12, 0)","v":0},{"$f":"OFFSET(CPP_nyf_base!$G$10, 'Step 4A PP Pre'!CB12, 0)","v":0},{"$f":"OFFSET(CPP_nyf_base!$G$10, 'Step 4A PP Pre'!CC12, 0)","v":0},{"$f":"OFFSET(CPP_nyf_base!$G$10, 'Step 4A PP Pre'!CD12, 0)","v":0},{"$f":"OFFSET(CPP_nyf_base!$G$10, 'Step 4A PP Pre'!CE12, 0)","v":0},{"$f":"OFFSET(CPP_nyf_base!$G$10, 'Step 4A PP Pre'!CF12, 0)","v":0},{"$f":"OFFSET(CPP_nyf_base!$G$10, 'Step 4A PP Pre'!CG12, 0)","v":0},{"$f":"OFFSET(CPP_nyf_base!$G$10, 'Step 4A PP Pre'!CH12, 0)","v":0},{"$f":"OFFSET(CPP_nyf_base!$G$10, 'Step 4A PP Pre'!CI12, 0)","v":0},{"$f":"OFFSET(CPP_nyf_base!$G$10, 'Step 4A PP Pre'!CJ12, 0)","v":0},{"$f":"OFFSET(CPP_nyf_base!$G$10, 'Step 4A PP Pre'!CK12, 0)","v":0},{"$f":"OFFSET(CPP_nyf_base!$G$10, 'Step 4A PP Pre'!CL12, 0)","v":0},{"$f":"OFFSET(CPP_nyf_base!$G$10, 'Step 4A PP Pre'!CM12, 0)","v":0},{"$f":"OFFSET(CPP_nyf_base!$G$10, 'Step 4A PP Pre'!CN12, 0)","v":0},{"$f":"OFFSET(CPP_nyf_base!$G$10, 'Step 4A PP Pre'!CO12, 0)","v":0},{"$f":"OFFSET(CPP_nyf_base!$G$10, 'Step 4A PP Pre'!CP12, 0)","v":0},{"$f":"OFFSET(CPP_nyf_base!$G$10, 'Step 4A PP Pre'!CQ12, 0)","v":0},{"$f":"OFFSET(CPP_nyf_base!$G$10, 'Step 4A PP Pre'!CR12, 0)","v":0},{"$f":"OFFSET(CPP_nyf_base!$G$10, 'Step 4A PP Pre'!CS12, 0)","v":0},{"$f":"OFFSET(CPP_nyf_base!$G$10, 'Step 4A PP Pre'!CT12, 0)","v":0},{"$f":"OFFSET(CPP_nyf_base!$G$10, 'Step 4A PP Pre'!CU12, 0)","v":0},{"$f":"OFFSET(CPP_nyf_base!$G$10, 'Step 4A PP Pre'!CV12, 0)","v":0},{"$f":"OFFSET(CPP_nyf_base!$G$10, 'Step 4A PP Pre'!CW12, 0)","v":0},{"$f":"OFFSET(CPP_nyf_base!$G$10, 'Step 4A PP Pre'!CX12, 0)","v":0},{"$f":"OFFSET(CPP_nyf_base!$G$10, 'Step 4A PP Pre'!CY12, 0)","v":0},{"$f":"OFFSET(CPP_nyf_base!$G$10, 'Step 4A PP Pre'!CZ12, 0)","v":0},{"$f":"OFFSET(CPP_nyf_base!$G$10, 'Step 4A PP Pre'!DA12, 0)","v":0},{"$f":"OFFSET(CPP_nyf_base!$G$10, 'Step 4A PP Pre'!DB12, 0)","v":0},{"$f":"OFFSET(CPP_nyf_base!$G$10, 'Step 4A PP Pre'!DC12, 0)","v":0},{"$f":"OFFSET(CPP_nyf_base!$G$10, 'Step 4A PP Pre'!DD12, 0)","v":0},{"$f":"OFFSET(CPP_nyf_base!$G$10, 'Step 4A PP Pre'!DE12, 0)","v":0},{"$f":"OFFSET(CPP_nyf_base!$G$10, 'Step 4A PP Pre'!DF12, 0)","v":0},{"$f":"OFFSET(CPP_nyf_base!$G$10, 'Step 4A PP Pre'!DG12, 0)","v":0},{"$f":"OFFSET(CPP_nyf_base!$G$10, 'Step 4A PP Pre'!DH12, 0)","v":0},{"$f":"OFFSET(CPP_nyf_base!$G$10, 'Step 4A PP Pre'!DI12, 0)","v":0},{"$f":"OFFSET(CPP_nyf_base!$G$10, 'Step 4A PP Pre'!DJ12, 0)","v":0},{"$f":"OFFSET(CPP_nyf_base!$G$10, 'Step 4A PP Pre'!DK12, 0)","v":0},{"$f":"OFFSET(CPP_nyf_base!$G$10, 'Step 4A PP Pre'!DL12, 0)","v":0},{"$f":"OFFSET(CPP_nyf_base!$G$10, 'Step 4A PP Pre'!DM12, 0)","v":0},{"$f":"OFFSET(CPP_nyf_base!$G$10, 'Step 4A PP Pre'!DN12, 0)","v":0},{"$f":"OFFSET(CPP_nyf_base!$G$10, 'Step 4A PP Pre'!DO12, 0)","v":0},{"$f":"OFFSET(CPP_nyf_base!$G$10, 'Step 4A PP Pre'!DP12, 0)","v":0},{"$f":"OFFSET(CPP_nyf_base!$G$10, 'Step 4A PP Pre'!DQ12, 0)","v":0},{"$f":"OFFSET(CPP_nyf_base!$G$10, 'Step 4A PP Pre'!DR12, 0)","v":0},{"$f":"OFFSET(CPP_nyf_base!$G$10, 'Step 4A PP Pre'!DS12, 0)","v":0},{"$f":"OFFSET(CPP_nyf_base!$G$10, 'Step 4A PP Pre'!DT12, 0)","v":0},{"$f":"OFFSET(CPP_nyf_base!$G$10, 'Step 4A PP Pre'!DU12, 0)","v":0},{"$f":"OFFSET(CPP_nyf_base!$G$10, 'Step 4A PP Pre'!DV12, 0)","v":0},{"$f":"OFFSET(CPP_nyf_base!$G$10, 'Step 4A PP Pre'!DW12, 0)","v":0},{"$f":"OFFSET(CPP_nyf_base!$G$10, 'Step 4A PP Pre'!DX12, 0)","v":0},{"$f":"OFFSET(CPP_nyf_base!$G$10, 'Step 4A PP Pre'!DY12, 0)","v":0},{"$f":"OFFSET(CPP_nyf_base!$G$10, 'Step 4A PP Pre'!DZ12, 0)","v":0},{"$f":"OFFSET(CPP_nyf_base!$G$10, 'Step 4A PP Pre'!EA12, 0)","v":0},{"$f":"OFFSET(CPP_nyf_base!$G$10, 'Step 4A PP Pre'!EB12, 0)","v":0},{"$f":"OFFSET(CPP_nyf_base!$G$10, 'Step 4A PP Pre'!EC12, 0)","v":0},{"$f":"OFFSET(CPP_nyf_base!$G$10, 'Step 4A PP Pre'!ED12, 0)","v":0},{"$f":"OFFSET(CPP_nyf_base!$G$10, 'Step 4A PP Pre'!EE12, 0)","v":0},{"$f":"OFFSET(CPP_nyf_base!$G$10, 'Step 4A PP Pre'!EF12, 0)","v":0},{"$f":"OFFSET(CPP_nyf_base!$G$10, 'Step 4A PP Pre'!EG12, 0)","v":0},{"$f":"OFFSET(CPP_nyf_base!$G$10, 'Step 4A PP Pre'!EH12, 0)","v":0},{"$f":"OFFSET(CPP_nyf_base!$G$10, 'Step 4A PP Pre'!EI12, 0)","v":0},{"$f":"OFFSET(CPP_nyf_base!$G$10, 'Step 4A PP Pre'!EJ12, 0)","v":0},{"$f":"OFFSET(CPP_nyf_base!$G$10, 'Step 4A PP Pre'!EK12, 0)","v":0},{"$f":"OFFSET(CPP_nyf_base!$G$10, 'Step 4A PP Pre'!EL12, 0)","v":0},{"$f":"OFFSET(CPP_nyf_base!$G$10, 'Step 4A PP Pre'!EM12, 0)","v":0},{"$f":"OFFSET(CPP_nyf_base!$G$10, 'Step 4A PP Pre'!EN12, 0)","v":0},{"$f":"OFFSET(CPP_nyf_base!$G$10, 'Step 4A PP Pre'!EO12, 0)","v":0},{"$f":"OFFSET(CPP_nyf_base!$G$10, 'Step 4A PP Pre'!EP12, 0)","v":0},{"$f":"OFFSET(CPP_nyf_base!$G$10, 'Step 4A PP Pre'!EQ12, 0)","v":0},{"$f":"OFFSET(CPP_nyf_base!$G$10, 'Step 4A PP Pre'!ER12, 0)","v":0},{"$f":"OFFSET(CPP_nyf_base!$G$10, 'Step 4A PP Pre'!ES12, 0)","v":0},{"$f":"OFFSET(CPP_nyf_base!$G$10, 'Step 4A PP Pre'!ET12, 0)","v":0},{"$f":"OFFSET(CPP_nyf_base!$G$10, 'Step 4A PP Pre'!EU12, 0)","v":0},{"$f":"OFFSET(CPP_nyf_base!$G$10, 'Step 4A PP Pre'!EV12, 0)","v":0},{"$f":"OFFSET(CPP_nyf_base!$G$10, 'Step 4A PP Pre'!EW12, 0)","v":0},{"$f":"OFFSET(CPP_nyf_base!$G$10, 'Step 4A PP Pre'!EX12, 0)","v":0},{"$f":"OFFSET(CPP_nyf_base!$G$10, 'Step 4A PP Pre'!EY12, 0)","v":0},{"$f":"OFFSET(CPP_nyf_base!$G$10, 'Step 4A PP Pre'!EZ12, 0)","v":0},{"$f":"OFFSET(CPP_nyf_base!$G$10, 'Step 4A PP Pre'!FA12, 0)","v":0},{"$f":"OFFSET(CPP_nyf_base!$G$10, 'Step 4A PP Pre'!FB12, 0)","v":0},{"$f":"OFFSET(CPP_nyf_base!$G$10, 'Step 4A PP Pre'!FC12, 0)","v":0},{"$f":"OFFSET(CPP_nyf_base!$G$10, 'Step 4A PP Pre'!FD12, 0)","v":0},{"$f":"OFFSET(CPP_nyf_base!$G$10, 'Step 4A PP Pre'!FE12, 0)","v":0},{"$f":"OFFSET(CPP_nyf_base!$G$10, 'Step 4A PP Pre'!FF12, 0)","v":0},{"$f":"OFFSET(CPP_nyf_base!$G$10, 'Step 4A PP Pre'!FG12, 0)","v":0},{"$f":"OFFSET(CPP_nyf_base!$G$10, 'Step 4A PP Pre'!FH12, 0)","v":0},{"$f":"OFFSET(CPP_nyf_base!$G$10, 'Step 4A PP Pre'!FI12, 0)","v":0},{"$f":"OFFSET(CPP_nyf_base!$G$93, 'Step 4A PP Pre'!FJ12, 0)","v":0},{"$f":"OFFSET(CPP_nyf_base!$G$93, 'Step 4A PP Pre'!FK12, 0)","v":0},{"$f":"OFFSET(CPP_nyf_base!$G$93, 'Step 4A PP Pre'!FL12, 0)","v":0},{"$f":"OFFSET(CPP_nyf_base!$G$93, 'Step 4A PP Pre'!FM12, 0)","v":0},{"$f":"OFFSET(CPP_nyf_base!$G$93, 'Step 4A PP Pre'!FN12, 0)","v":0},{"$f":"OFFSET(CPP_nyf_base!$G$93, 'Step 4A PP Pre'!FO12, 0)","v":0},{"$f":"OFFSET(CPP_nyf_base!$G$93, 'Step 4A PP Pre'!FP12, 0)","v":0},{"$f":"OFFSET(CPP_nyf_base!$G$93, 'Step 4A PP Pre'!FQ12, 0)","v":0},{"$f":"OFFSET(CPP_nyf_base!$G$93, 'Step 4A PP Pre'!FR12, 0)","v":0},{"$f":"OFFSET(CPP_nyf_base!$G$93, 'Step 4A PP Pre'!FS12, 0)","v":0},{"$f":"OFFSET(CPP_nyf_base!$G$93, 'Step 4A PP Pre'!FT12, 0)","v":0},{"$f":"OFFSET(CPP_nyf_base!$G$93, 'Step 4A PP Pre'!FU12, 0)","v":0},{"$f":"OFFSET(CPP_nyf_base!$G$93, 'Step 4A PP Pre'!FV12, 0)","v":0},{"$f":"OFFSET(CPP_nyf_base!$G$93, 'Step 4A PP Pre'!FW12, 0)","v":0},{"$f":"OFFSET(CPP_nyf_base!$G$93, 'Step 4A PP Pre'!FX12, 0)","v":0},{"$f":"OFFSET(CPP_nyf_base!$G$93, 'Step 4A PP Pre'!FY12, 0)","v":0},{"$f":"OFFSET(CPP_nyf_base!$G$93, 'Step 4A PP Pre'!FZ12, 0)","v":0},{"$f":"OFFSET(CPP_nyf_base!$G$93, 'Step 4A PP Pre'!GA12, 0)","v":0},{"$f":"OFFSET(CPP_nyf_base!$G$93, 'Step 4A PP Pre'!GB12, 0)","v":0},0,0]
[null,null,null,null,null,null,"PP",null,null,1,1,1,1,1,1,1,1,1,1,1,1,1,1,1,1,1,1,1,1,1,1,1,1,1,1,1,1,1,1,1,1,1,1,1,1,1,1,1,1,1,1,1,1,1,1,1,1,1,1,1,1,1,1,1,1,1,1,1,1,1,1,1,1,1,1,1,1,1,1,1,1,1,1,1,1,1,1,1,1,1,1,1,1,1,1,1,1,1,1,1,1,1,1,1,1,1,1,1,1,1,1,1,1,1,1,1,1,1,1,1,1,1,1,1,1,1,1,1,1,1,1,1,1,1,1,1,1,1,1,1,1,1,1,1,1,1,1,1,1,1,1,1,1,1,1,1,1,1,1,1,1,1,1,1,1,1,1,1,1,1,1,1,1,1,1,1,1,1,1,1,1,1,1,1,1,1]
[null,null,null,null,null,null,"Offset",null,null,1,2,3,4,5,6,7,8,9,10,11,12,13,14,15,16,17,18,19,20,21,22,23,24,25,26,27,28,29,30,31,32,33,34,35,36,37,38,39,40,41,42,43,44,45,46,47,48,49,50,51,52,53,54,55,56,57,58,59,60,61,62,63,64,65,66,67,68,69,70,71,72,73,74,75,76,77,78,{"$f":"J16","v":1},{"$f":"K16","v":2},3,4,5,6,7,8,9,10,11,12,13,14,15,16,17,{"$f":"AA16","v":18},19,20,21,22,23,24,25,26,27,28,29,30,31,32,33,{"$f":"AQ16","v":34},35,36,37,38,39,40,41,42,43,44,45,46,47,48,49,{"$f":"BG16","v":50},51,52,53,54,55,56,57,58,59,60,61,62,63,64,65,{"$f":"BW16","v":66},67,68,69,70,71,72,73,74,75,76,77,78,1,2,3,4,5,6,7,8,9,10,11,12,13,14,17,18,19,20,21,0,0]
[null,null,null,null,null,null,"Use",null,null,{"$f":"OFFSET(PP_nyf_base!$G$10, 'Step 4A PP Pre'!J16, 0)","v":0},{"$f":"OFFSET(PP_nyf_base!$G$10, 'Step 4A PP Pre'!K16, 0)","v":0},{"$f":"OFFSET(PP_nyf_base!$G$10, 'Step 4A PP Pre'!L16, 0)","v":0},{"$f":"OFFSET(PP_nyf_base!$G$10, 'Step 4A PP Pre'!M16, 0)","v":0},{"$f":"OFFSET(PP_nyf_base!$G$10, 'Step 4A PP Pre'!N16, 0)","v":0},{"$f":"OFFSET(PP_nyf_base!$G$10, 'Step 4A PP Pre'!O16, 0)","v":0},{"$f":"OFFSET(PP_nyf_base!$G$10, 'Step 4A PP Pre'!P16, 0)","v":0},{"$f":"OFFSET(PP_nyf_base!$G$10, 'Step 4A PP Pre'!Q16, 0)","v":0},{"$f":"OFFSET(PP_nyf_base!$G$10, 'Step 4A PP Pre'!R16, 0)","v":0},{"$f":"OFFSET(PP_nyf_base!$G$10, 'Step 4A PP Pre'!S16, 0)","v":0},{"$f":"OFFSET(PP_nyf_base!$G$10, 'Step 4A PP Pre'!T16, 0)","v":0},{"$f":"OFFSET(PP_nyf_base!$G$10, 'Step 4A PP Pre'!U16, 0)","v":0},{"$f":"OFFSET(PP_nyf_base!$G$10, 'Step 4A PP Pre'!V16, 0)","v":0},{"$f":"OFFSET(PP_nyf_base!$G$10, 'Step 4A PP Pre'!W16, 0)","v":0},{"$f":"OFFSET(PP_nyf_base!$G$10, 'Step 4A PP Pre'!X16, 0)","v":0},{"$f":"OFFSET(PP_nyf_base!$G$10, 'Step 4A PP Pre'!Y16, 0)","v":0},{"$f":"OFFSET(PP_nyf_base!$G$10, 'Step 4A PP Pre'!Z16, 0)","v":0},{"$f":"OFFSET(PP_nyf_base!$G$10, 'Step 4A PP Pre'!AA16, 0)","v":0},{"$f":"OFFSET(PP_nyf_base!$G$10, 'Step 4A PP Pre'!AB16, 0)","v":0},{"$f":"OFFSET(PP_nyf_base!$G$10, 'Step 4A PP Pre'!AC16, 0)","v":0},{"$f":"OFFSET(PP_nyf_base!$G$10, 'Step 4A PP Pre'!AD16, 0)","v":0},{"$f":"OFFSET(PP_nyf_base!$G$10, 'Step 4A PP Pre'!AE16, 0)","v":0},{"$f":"OFFSET(PP_nyf_base!$G$10, 'Step 4A PP Pre'!AF16, 0)","v":0},{"$f":"OFFSET(PP_nyf_base!$G$10, 'Step 4A PP Pre'!AG16, 0)","v":0},{"$f":"OFFSET(PP_nyf_base!$G$10, 'Step 4A PP Pre'!AH16, 0)","v":0},{"$f":"OFFSET(PP_nyf_base!$G$10, 'Step 4A PP Pre'!AI16, 0)","v":0},{"$f":"OFFSET(PP_nyf_base!$G$10, 'Step 4A PP Pre'!AJ16, 0)","v":0},{"$f":"OFFSET(PP_nyf_base!$G$10, 'Step 4A PP Pre'!AK16, 0)","v":0},{"$f":"OFFSET(PP_nyf_base!$G$10, 'Step 4A PP Pre'!AL16, 0)","v":0},{"$f":"OFFSET(PP_nyf_base!$G$10, 'Step 4A PP Pre'!AM16, 0)","v":0},{"$f":"OFFSET(PP_nyf_base!$G$10, 'Step 4A PP Pre'!AN16, 0)","v":0},{"$f":"OFFSET(PP_nyf_base!$G$10, 'Step 4A PP Pre'!AO16, 0)","v":0},{"$f":"OFFSET(PP_nyf_base!$G$10, 'Step 4A PP Pre'!AP16, 0)","v":0},{"$f":"OFFSET(PP_nyf_base!$G$10, 'Step 4A PP Pre'!AQ16, 0)","v":0},{"$f":"OFFSET(PP_nyf_base!$G$10, 'Step 4A PP Pre'!AR16, 0)","v":0},{"$f":"OFFSET(PP_nyf_base!$G$10, 'Step 4A PP Pre'!AS16, 0)","v":0},{"$f":"OFFSET(PP_nyf_base!$G$10, 'Step 4A PP Pre'!AT16, 0)","v":0},{"$f":"OFFSET(PP_nyf_base!$G$10, 'Step 4A PP Pre'!AU16, 0)","v":0},{"$f":"OFFSET(PP_nyf_base!$G$10, 'Step 4A PP Pre'!AV16, 0)","v":0},{"$f":"OFFSET(PP_nyf_base!$G$10, 'Step 4A PP Pre'!AW16, 0)","v":0},{"$f":"OFFSET(PP_nyf_base!$G$10, 'Step 4A PP Pre'!AX16, 0)","v":0},{"$f":"OFFSET(PP_nyf_base!$G$10, 'Step 4A PP Pre'!AY16, 0)","v":0},{"$f":"OFFSET(PP_nyf_base!$G$10, 'Step 4A PP Pre'!AZ16, 0)","v":0},{"$f":"OFFSET(PP_nyf_base!$G$10, 'Step 4A PP Pre'!BA16, 0)","v":0},{"$f":"OFFSET(PP_nyf_base!$G$10, 'Step 4A PP Pre'!BB16, 0)","v":0},{"$f":"OFFSET(PP_nyf_base!$G$10, 'Step 4A PP Pre'!BC16, 0)","v":0},{"$f":"OFFSET(PP_nyf_base!$G$10, 'Step 4A PP Pre'!BD16, 0)","v":0},{"$f":"OFFSET(PP_nyf_base!$G$10, 'Step 4A PP Pre'!BE16, 0)","v":0},{"$f":"OFFSET(PP_nyf_base!$G$10, 'Step 4A PP Pre'!BF16, 0)","v":0},{"$f":"OFFSET(PP_nyf_base!$G$10, 'Step 4A PP Pre'!BG16, 0)","v":0},{"$f":"OFFSET(PP_nyf_base!$G$10, 'Step 4A PP Pre'!BH16, 0)","v":0},{"$f":"OFFSET(PP_nyf_base!$G$10, 'Step 4A PP Pre'!BI16, 0)","v":0},{"$f":"OFFSET(PP_nyf_base!$G$10, 'Step 4A PP Pre'!BJ16, 0)","v":0},{"$f":"OFFSET(PP_nyf_base!$G$10, 'Step 4A PP Pre'!BK16, 0)","v":0},{"$f":"OFFSET(PP_nyf_base!$G$10, 'Step 4A PP Pre'!BL16, 0)","v":0},{"$f":"OFFSET(PP_nyf_base!$G$10, 'Step 4A PP Pre'!BM16, 0)","v":0},{"$f":"OFFSET(PP_nyf_base!$G$10, 'Step 4A PP Pre'!BN16, 0)","v":0},{"$f":"OFFSET(PP_nyf_base!$G$10, 'Step 4A PP Pre'!BO16, 0)","v":0},{"$f":"OFFSET(PP_nyf_base!$G$10, 'Step 4A PP Pre'!BP16, 0)","v":0},{"$f":"OFFSET(PP_nyf_base!$G$10, 'Step 4A PP Pre'!BQ16, 0)","v":0},{"$f":"OFFSET(PP_nyf_base!$G$10, 'Step 4A PP Pre'!BR16, 0)","v":0},{"$f":"OFFSET(PP_nyf_base!$G$10, 'Step 4A PP Pre'!BS16, 0)","v":0},{"$f":"OFFSET(PP_nyf_base!$G$10, 'Step 4A PP Pre'!BT16, 0)","v":0},{"$f":"OFFSET(PP_nyf_base!$G$10, 'Step 4A PP Pre'!BU16, 0)","v":0},{"$f":"OFFSET(PP_nyf_base!$G$10, 'Step 4A PP Pre'!BV16, 0)","v":0},{"$f":"OFFSET(PP_nyf_base!$G$10, 'Step 4A PP Pre'!BW16, 0)","v":0},{"$f":"OFFSET(PP_nyf_base!$G$10, 'Step 4A PP Pre'!BX16, 0)","v":0},{"$f":"OFFSET(PP_nyf_base!$G$10, 'Step 4A PP Pre'!BY16, 0)","v":0},{"$f":"OFFSET(PP_nyf_base!$G$10, 'Step 4A PP Pre'!BZ16, 0)","v":0},{"$f":"OFFSET(PP_nyf_base!$G$10, 'Step 4A PP Pre'!CA16, 0)","v":0},{"$f":"OFFSET(PP_nyf_base!$G$10, 'Step 4A PP Pre'!CB16, 0)","v":0},{"$f":"OFFSET(PP_nyf_base!$G$10, 'Step 4A PP Pre'!CC16, 0)","v":0},{"$f":"OFFSET(PP_nyf_base!$G$10, 'Step 4A PP Pre'!CD16, 0)","v":0},{"$f":"OFFSET(PP_nyf_base!$G$10, 'Step 4A PP Pre'!CE16, 0)","v":0},{"$f":"OFFSET(PP_nyf_base!$G$10, 'Step 4A PP Pre'!CF16, 0)","v":0},{"$f":"OFFSET(PP_nyf_base!$G$10, 'Step 4A PP Pre'!CG16, 0)","v":0},{"$f":"OFFSET(PP_nyf_base!$G$10, 'Step 4A PP Pre'!CH16, 0)","v":0},{"$f":"OFFSET(PP_nyf_base!$G$10, 'Step 4A PP Pre'!CI16, 0)","v":0},{"$f":"J17","v":0},0,0,0,0,0,0,0,0,0,0,0,0,0,0,0,0,0,0,0,0,0,0,0,0,0,0,0,0,0,0,0,0,0,0,0,0,0,0,0,0,0,0,0,0,0,0,0,0,0,0,0,0,0,0,0,0,0,0,0,0,0,0,0,0,0,0,0,0,0,0,0,0,0,0,0,0,0,{"$f":"OFFSET(PP_nyf_base!$G$94, 'Step 4A PP Pre'!FJ16, 0)","v":0},{"$f":"OFFSET(PP_nyf_base!$G$94, 'Step 4A PP Pre'!FK16, 0)","v":0},{"$f":"OFFSET(PP_nyf_base!$G$94, 'Step 4A PP Pre'!FL16, 0)","v":0},{"$f":"OFFSET(PP_nyf_base!$G$94, 'Step 4A PP Pre'!FM16, 0)","v":0},{"$f":"OFFSET(PP_nyf_base!$G$94, 'Step 4A PP Pre'!FN16, 0)","v":0},{"$f":"OFFSET(PP_nyf_base!$G$94, 'Step 4A PP Pre'!FO16, 0)","v":0},{"$f":"OFFSET(PP_nyf_base!$G$94, 'Step 4A PP Pre'!FP16, 0)","v":0},{"$f":"OFFSET(PP_nyf_base!$G$94, 'Step 4A PP Pre'!FQ16, 0)","v":0},{"$f":"OFFSET(PP_nyf_base!$G$94, 'Step 4A PP Pre'!FR16, 0)","v":0},{"$f":"OFFSET(PP_nyf_base!$G$94, 'Step 4A PP Pre'!FS16, 0)","v":0},{"$f":"OFFSET(PP_nyf_base!$G$94, 'Step 4A PP Pre'!FT16, 0)","v":0},{"$f":"OFFSET(PP_nyf_base!$G$94, 'Step 4A PP Pre'!FU16, 0)","v":0},{"$f":"OFFSET(PP_nyf_base!$G$94, 'Step 4A PP Pre'!FV16, 0)","v":0},{"$f":"OFFSET(PP_nyf_base!$G$94, 'Step 4A PP Pre'!FW16, 0)","v":0},{"$f":"OFFSET(PP_nyf_base!$G$94, 'Step 4A PP Pre'!FX16, 0)","v":0},{"$f":"OFFSET(PP_nyf_base!$G$94, 'Step 4A PP Pre'!FY16, 0)","v":0},{"$f":"OFFSET(PP_nyf_base!$G$94, 'Step 4A PP Pre'!FZ16, 0)","v":0},{"$f":"OFFSET(PP_nyf_base!$G$94, 'Step 4A PP Pre'!GA16, 0)","v":0},{"$f":"OFFSET(PP_nyf_base!$G$94, 'Step 4A PP Pre'!GB16, 0)","v":0},1,1]
[null,null,null,null,null,null,"Code",null,null,"Tena1","Tena2","Conf1","Conf2","Conf3","Conf4","Conf5","Proa1","Proa2","Grow1","Grow2","Care1","Care2","Care3","Cult1","Glob1","Glob2","Glob3","Glob4","Inno1","Crit1","Crit2","Crit3","Prob1","Prob2","Prob3","Prob4","Prob5","Team1","Team2","Team3","Team4","Team5","Team6","Stak1","Stak2","Stak3","Stak4","Proj1","Emot1","Emot2","Emot3","Emot4","Emot5","Fina1","Phys1","Phys2","Nati1","Nati_pers1","Nati_pers2","Nati_pers3","Nati_pers4","Publ1","Trus1","Trus2","Trus3","Trus4","Soci1","Soci2","Open1","Open2","Empa1","Abil_comm1","Abil_comm2","Civi_comm1","Civi_comm2","Civi_comm3","Civi_comm4","Civi_comm5","Civi_comm6","Civi_comm7","Civi_env1","Civi_env2","Civi_env3","Civi_env4","Civi_env5","Civi_env6","Abil_govt1","Tena1","Tena2","Conf1","Conf2","Conf3","Conf4","Conf5","Proa1","Proa2","Grow1","Grow2","Care1","Care2","Care3","Cult1","Glob1","Glob2","Glob3","Glob4","Inno1","Crit1","Crit2","Crit3","Prob1","Prob2","Prob3","Prob4","Prob5","Team1","Team2","Team3","Team4","Team5","Team6","Stak1","Stak2","Stak3","Stak4","Proj1","Emot1","Emot2","Emot3","Emot4","Emot5","Fina1","Phys1","Phys2","Nati1","Nati_pers1","Nati_pers2","Nati_pers3","Nati_pers4","Publ1","Trus1","Trus2","Trus3","Trus4","Soci1","Soci2","Open1","Open2","Empa1","Abil_comm1","Abil_comm2","Civi_comm1","Civi_comm2","Civi_comm3","Civi_comm4","Civi_comm5","Civi_comm6","Civi_comm7","Civi_env1","Civi_env2","Civi_env3","Civi_env4","Civi_env5","Civi_env6","Abil_govt1","Prog_imp1","Prog_imp2","Prog_imp3","Prog_imp4","Prog_imp5","Feed1","Feed2","Feed3","Feed4","Feed5","Feed6","Feed7","Feed8","Feed9","Over1","Over2","Over3","Over4","Over5","Nric_Pre","Nric_Post",null,null,null,null,null,null,null,null,null,null,null,null,null,null,null,null,null,null,null,null,null,null,null,null,null,null,null,null,null,null,null,null,null,null,null,null,null,null,null,null,null,null,null,null,null,null,null,null,null,null,null,null,null,null,null,null,null,null,null,null,null,null,null,null,null,null,null,null,null,null,null,null,null,null,null,null,null,null,null,null,null,null,null,null,null,null,null,null,null,null,null,null,null,null,null,null,null,null,null,null,null,null,null,null,null,null,null,null,null,null,null,null,null,null,null,null,null,null,null,null,null,null,null,null,null,null,null,null,null,null,null,null,null,null,null,null,null,null,null,null,null,null,null,null,null,null,null,null,null,null,null,null,null,null,null,null,null,null,null,null,null,null,null,null,null,null,null,null,null,null,null,null,null,null,null,null,null,null,null,null,null,null,"sub_count",{"$f":"SUM(NE21:NE1020)","v":0}]
[null,null,null,null,null,null,"Stage",null,null,"Pre","Pre","Pre","Pre","Pre","Pre","Pre","Pre","Pre","Pre","Pre","Pre","Pre","Pre","Pre","Pre","Pre","Pre","Pre","Pre","Pre","Pre","Pre","Pre","Pre","Pre","Pre","Pre","Pre","Pre","Pre","Pre","Pre","Pre","Pre","Pre","Pre","Pre","Pre","Pre","Pre","Pre","Pre","Pre","Pre","Pre","Pre","Pre","Pre","Pre","Pre","Pre","Pre","Pre","Pre","Pre","Pre","Pre","Pre","Pre","Pre","Pre","Pre","Pre","Pre","Pre","Pre","Pre","Pre","Pre","Pre","Pre","Pre","Pre","Pre","Pre","Pre","Pre","Post","Post","Post","Post","Post","Post","Post","Post","Post","Post","Post","Post","Post","Post","Post","Post","Post","Post","Post","Post","Post","Post","Post","Post","Post","Post","Post","Post","Post","Post","Post","Post","Post","Post","Post","Post","Post","Post","Post","Post","Post","Post","Post","Post","Post","Post","Post","Post","Post","Post","Post","Post","Post","Post","Post","Post","Post","Post","Post","Post","Post","Post","Post","Post","Post","Post","Post","Post","Post","Post","Post","Post","Post","Post","Post","Post","Post","Post","Post","Post","Post","Post","Post","Post","Post","Post","Post","Post","Post","Post","Post","Post","Post","Post","Post","Post","Post","Pre","Post"]
[null,null,null,null,null,null,"Input","Prog_name","Org_name","[[Before]] I am able to persevere in the face of challenges.","[[Before]] I do not give up even after experiencing failure. ","[[Before]] I feel that I have a number of good qualities.","[[Before]] I am able to do things as well as most other people. ","[[Before]] I believe I can achieve my goals.","[[Before]] I believe I have the ability to succeed in the things I want to do.","[[Before]] I am confident I can succeed when I try my best.","[[Before]] I seize the opportunity whenever I see one. ","[[Before]] I take initiative instead of waiting for things to happen.","[[Before]] I believe it is important to challenge myself to grow. ","[[Before]] Difficult times are an opportunity for me to learn and grow as a person.","[[Before]] I am aware of the skills that will help me to succeed in my career in future.","[[Before]] I am aware of the potential career pathways that I can take to achieve my goals.","[[Before]] I believe I can achieve my career goals. ","[[Before]] I am aware of differences between cultures.","[[BEFORE]] I am aware of issues affecting other countries","[[BEFORE]] I understand how changes around the world affect other countries.","[[BEFORE]] I understand the opportunities and challenges other countries have.","[[BEFORE]] I understand the difficulties in trying to solve global issues.","[[BEFORE]] I know of ways to come up with new ideas. ","[[BEFORE]] I am able to link different information together. ","[[BEFORE]] I think through issues from different angles.","[[BEFORE]] I analyse an issue thoroughly before coming to a conclusion.","[[BEFORE]] I know how to identify and solve problems.","[[BEFORE]] I am able to solve problems that I face.","[[BEFORE]] After I have tried to solve a problem, I examine why it did or did not work.","[[BEFORE]] When solving a problem, I compare the pros and cons of my solutions. ","[[BEFORE]] When faced with a problem, I try to find out the cause of the problem.","[[BEFORE]] I know how to work well in a team.","[[BEFORE]] I support others in the team.","[[BEFORE]] I communicate well with my team members.","[[BEFORE]] I work well in a team.","[[BEFORE]] I treat other members of my team as equal to myself.","[[BEFORE]] I am able to work with people who have different working styles from me.","[[BEFORE]] I know how to work well with my stakeholders.","[[BEFORE]] I seek to understand the needs of my stakeholders.","[[BEFORE]] I am able to establish common understanding and build trust with my stakeholders.","[[BEFORE]] I work well with my stakeholders.","[[BEFORE]] I understand the factors that are critical to the smooth running of an event or a project. ","[[BEFORE]] I know how to identify symptoms of mental and emotional distress. ","[[BEFORE]] I am able to support those struggling mentally and emotionally. ","[[BEFORE]] I know how I can manage negative thoughts and emotions. ","[[BEFORE]] I know where to seek help when I have distressing thoughts and emotions beyond my control. ","[[BEFORE]] If I have distressing thoughts and emotions beyond my control, I would seek help.","[[BEFORE]] I know the steps that I can take to meet my financial goals.","[[BEFORE]] I believe it is important to stay physically healthy. ","[[BEFORE]] I make a conscious effort to maintain a healthy lifestyle.","[[BEFORE]] I am proud to be a Singaporean. ","[[BEFORE]] I am aware of issues affecting Singapore.","[[BEFORE]] I understand how changes around the world affect Singapore and its future.","[[BEFORE]] I understand the opportunities and challenges that Singapore has.","[[BEFORE]] I understand the difficulties in trying to solve issues affecting Singapore's society.","[[BEFORE]] I am aware of policies and programmes that tackle issues affecting Singapore's society.","[[BEFORE]] I trust the government. ","[[BEFORE]] I feel that the government understands the concerns of Singaporeans like me.","[[BEFORE]] I feel that the government cares for the wellbeing of Singaporeans like me.","[[BEFORE]] I feel that the government values my views.","[[BEFORE]] I have people that I can talk with about my problems.","[[BEFORE]] I have people whom I can turn to for support. ","[[BEFORE]] I respect the opinions of others, even if I do not agree with it. ","[[BEFORE]] I respect the values and beliefs of people who are of a different background from me.","[[BEFORE]] I put myself in the shoes of others to understand how they feel.","[[BEFORE]] I believe that I can make a difference in the community.","[[BEFORE]] I believe I can help to shape society.","[[BEFORE]] I am aware of the needs in the community.","[[BEFORE]] I understand the ways that I can contribute to the community.","[[BEFORE]] I believe I have a role to play in improving the community.","[[BEFORE]] I feel a strong conviction to give back to the community.","[[BEFORE]] I actively participate in efforts that help to improve the community.","[[BEFORE]] I participate in discussions on national, community or social issues.","[[BEFORE]] I encourage my peers to participate in activities that help to improve the community.","[[BEFORE]] I am aware of the effects of my actions on the environment.","[[BEFORE]] I understand the ways that I can care for the environment.","[[BEFORE]] I feel responsible towards the environment.","[[BEFORE]] My efforts to care for the environment will make a difference.","[[BEFORE]] I actively participate in efforts to care for the environment.","[[BEFORE]] I encourage my peers to care for the environment.","[[BEFORE]] I believe that I can influence government decisions on issues. ","[[AFTER]] I am able to persevere in the face of challenges.","[[AFTER]] I do not give up even after experiencing failure. ","[[AFTER]] I feel that I have a number of good qualities.","[[AFTER]] I am able to do things as well as most other people. ","[[AFTER]] I believe I can achieve my goals.","[[AFTER]] I believe I have the ability to succeed in the things I want to do.","[[AFTER]] I am confident I can succeed when I try my best.","[[AFTER]] I seize the opportunity whenever I see one. ","[[AFTER]] I take initiative instead of waiting for things to happen.","[[AFTER]] I believe it is important to challenge myself to grow. ","[[AFTER]] Difficult times are an opportunity for me to learn and grow as a person.","[[AFTER]] I am aware of the skills that will help me to succeed in my career in future.","[[AFTER]] I am aware of the potential career pathways that I can take to achieve my goals.","[[AFTER]] I believe I can achieve my career goals. ","[[AFTER]] I am aware of differences between cultures.","[[AFTER]] I am aware of issues affecting other countries","[[AFTER]] I understand how changes around the world affect other countries.","[[AFTER]] I understand the opportunities and challenges other countries have.","[[AFTER]] I understand the difficulties in trying to solve global issues.","[[AFTER]] I know of ways to come up with new ideas. ","[[AFTER]] I am able to link different information together. ","[[AFTER]] I think through issues from different angles.","[[AFTER]] I analyse an issue thoroughly before coming to a conclusion.","[[AFTER]] I know how to identify and solve problems.","[[AFTER]] I am able to solve problems that I face.","[[AFTER]] After I have tried to solve a problem, I examine why it did or did not work.","[[AFTER]] When solving a problem, I compare the pros and cons of my solutions. ","[[AFTER]] When faced with a problem, I try to find out the cause of the problem.","[[AFTER]] I know how to work well in a team.","[[AFTER]] I support others in the team.","[[AFTER]] I communicate well with my team members.","[[AFTER]] I work well in a team.","[[AFTER]] I treat other members of my team as equal to myself.","[[AFTER]] I am able to work with people who have different working styles from me.","[[AFTER]] I know how to work well with my stakeholders.","[[AFTER]] I seek to understand the needs of my stakeholders.","[[AFTER]] I am able to establish common understanding and build trust with my stakeholders.","[[AFTER]] I work well with my stakeholders.","[[AFTER]] I understand the factors that are critical to the smooth running of an event or a project. ","[[AFTER]] I know how to identify symptoms of mental and emotional distress. ","[[AFTER]] I am able to support those struggling mentally and emotionally. ","[[AFTER]] I know how I can manage negative thoughts and emotions. ","[[AFTER]] I know where to seek help when I have distressing thoughts and emotions beyond my control. ","[[AFTER]] If I have distressing thoughts and emotions beyond my control, I would seek help.","[[AFTER]] I know the steps that I can take to meet my financial goals.","[[AFTER]] I believe it is important to stay physically healthy. ","[[AFTER]] I make a conscious effort to maintain a healthy lifestyle.","[[AFTER]] I am proud to be a Singaporean. ","[[AFTER]] I am aware of issues affecting Singapore.","[[AFTER]] I understand how changes around the world affect Singapore and its future.","[[AFTER]] I understand the opportunities and challenges that Singapore has.","[[AFTER]] I understand the difficulties in trying to solve issues affecting Singapore's society.","[[AFTER]] I am aware of policies and programmes that tackle issues affecting Singapore's society.","[[AFTER]] I trust the government. ","[[AFTER]] I feel that the government understands the concerns of Singaporeans like me.","[[AFTER]] I feel that the government cares for the wellbeing of Singaporeans like me.","[[AFTER]] I feel that the government values my views.","[[AFTER]] I have people that I can talk with about my problems.","[[AFTER]] I have people whom I can turn to for support. ","[[AFTER]] I respect the opinions of others, even if I do not agree with it. ","[[AFTER]] I respect the values and beliefs of people who are of a different background from me.","[[AFTER]] I put myself in the shoes of others to understand how they feel.","[[AFTER]] I believe that I can make a difference in the community.","[[AFTER]] I believe I can help to shape society.","[[AFTER]] I am aware of the needs in the community.","[[AFTER]] I understand the ways that I can contribute to the community.","[[AFTER]] I believe I have a role to play in improving the community.","[[AFTER]] I feel a strong conviction to give back to the community.","[[AFTER]] I actively participate in efforts that help to improve the community.","[[AFTER]] I participate in discussions on national, community or social issues.","[[AFTER]] I encourage my peers to participate in activities that help to improve the community.","[[AFTER]] I am aware of the effects of my actions on the environment.","[[AFTER]] I understand the ways that I can care for the environment.","[[AFTER]] I feel responsible towards the environment.","[[AFTER]] My efforts to care for the environment will make a difference.","[[AFTER]] I actively participate in efforts to care for the environment.","[[AFTER]] I encourage my peers to care for the environment.","[[AFTER]] I believe that I can influence government decisions on issues. ","What do you think of the duration of programme_name?","I feel that the pace of programme_name was…","The accommodation is of acceptable standard.","The meal(s) are of acceptable standard.","The facilities are of acceptable standard.","The mentor provided sufficient guidance. ","The mentor provided useful insights.","The mentor was able to facilitate learning through reflections and asking critical questions. ","The mentor provided useful feedback for my personal growth.","The mentor has the necessary knowledge and skills for the role.","The mentor was able to point me to useful resources.","The mentor is able to communicate well with the group.","The mentor was able to manage the group effectively","How would you rate the mentor as a whole?","Overall, I am satisfied with programme_name.","How would you rate programme_name as a whole? ","I would recommend programme_name to others. ","I would like to take part in other activities organised by organisation_name.","This programme has allowed me to expand my networks.","Please provide the last 5 characters of your NRIC","Please provide the last 5 characters of your NRIC",null,"VALIDATION","I am able to persevere in the face of challenges.","I do not give up even after experiencing failure. ","I feel that I have a number of good qualities.","I am able to do things as well as most other people. ","I believe I can achieve my goals.","I believe I have the ability to succeed in the things I want to do.","I am confident I can succeed when I try my best.","I seize the opportunity whenever I see one. ","I take initiative instead of waiting for things to happen.","I believe it is important to challenge myself to grow. ","Difficult times are an opportunity for me to learn and grow as a person.","I am aware of the skills that will help me to succeed in my career in future.","I am aware of the potential career pathways that I can take to achieve my goals.","I believe I can achieve my career goals. ","I am aware of differences between cultures.","I am aware of issues affecting other countries","I understand how changes around the world affect other countries.","I understand the opportunities and challenges other countries have.","I understand the difficulties in trying to solve global issues.","I know of ways to come up with new ideas. ","I am able to link different information together. ","I think through issues from different angles.","I analyse an issue thoroughly before coming to a conclusion.","I know how to identify and solve problems.","I am able to solve problems that I face.","After I have tried to solve a problem, I examine why it did or did not work.","When solving a problem, I compare the pros and cons of my solutions. ","When faced with a problem, I try to find out the cause of the problem.","I know how to work well in a team.","I support others in the team.","I communicate well with my team members.","I work well in a team.","I treat other members of my team as equal to myself.","I am able to work with people who have different working styles from me.","I know how to work well with my stakeholders.","I seek to understand the needs of my stakeholders.","I am able to establish common understanding and build trust with my stakeholders.","I work well with my stakeholders.","I understand the factors that are critical to the smooth running of an event or a project. ","I know how to identify symptoms of mental and emotional distress. ","I am able to support those struggling mentally and emotionally. ","I know how I can manage negative thoughts and emotions. ","I know where to seek help when I have distressing thoughts and emotions beyond my control. ","If I have distressing thoughts and emotions beyond my control, I would seek help.","I know the steps that I can take to meet my financial goals.","I believe it is important to stay physically healthy. ","I make a conscious effort to maintain a healthy lifestyle.","I am proud to be a Singaporean. ","I am aware of issues affecting Singapore.","I understand how changes around the world affect Singapore and its future.","I understand the opportunities and challenges that Singapore has.","I understand the difficulties in trying to solve issues affecting Singapore's society.","I am aware of policies and programmes that tackle issues affecting Singapore's society.","I trust the government. ","I feel that the government understands the concerns of Singaporeans like me.","I feel that the government cares for the wellbeing of Singaporeans like me.","I feel that the government values my views.","I have people that I can talk with about my problems.","I have people whom I can turn to for support. ","I respect the opinions of others, even if I do not agree with it. ","I respect the values and beliefs of people who are of a different background from me.","I put myself in the shoes of others to understand how they feel.","I believe that I can make a difference in the community.","I believe I can help to shape society.","I am aware of the needs in the community.","I understand the ways that I can contribute to the community.","I believe I have a role to play in improving the community.","I feel a strong conviction to give back to the community.","I actively participate in efforts that help to improve the community.","I participate in discussions on national, community or social issues.","I encourage my peers to participate in activities that help to improve the community.","I am aware of the effects of my actions on the environment.","I understand the ways that I can care for the environment.","I feel responsible towards the environment.","My efforts to care for the environment will make a difference.","I actively participate in efforts to care for the environment.","I encourage my peers to care for the environment.","I believe that I can influence government decisions on issues. ","I am able to persevere in the face of challenges.","I do not give up even after experiencing failure. ","I feel that I have a number of good qualities.","I am able to do things as well as most other people. ","I believe I can achieve my goals.","I believe I have the ability to succeed in the things I want to do.","I am confident I can succeed when I try my best.","I seize the opportunity whenever I see one. ","I take initiative instead of waiting for things to happen.","I believe it is important to challenge myself to grow. ","Difficult times are an opportunity for me to learn and grow as a person.","I am aware of the skills that will help me to succeed in my career in future.","I am aware of the potential career pathways that I can take to achieve my goals.","I believe I can achieve my career goals. ","I am aware of differences between cultures.","I am aware of issues affecting other countries","I understand how changes around the world affect other countries.","I understand the opportunities and challenges other countries have.","I understand the difficulties in trying to solve global issues.","I know of ways to come up with new ideas. ","I am able to link different information together. ","I think through issues from different angles.","I analyse an issue thoroughly before coming to a conclusion.","I know how to identify and solve problems.","I am able to solve problems that I face.","After I have tried to solve a problem, I examine why it did or did not work.","When solving a problem, I compare the pros and cons of my solutions. ","When faced with a problem, I try to find out the cause of the problem.","I know how to work well in a team.","I support others in the team.","I communicate well with my team members.","I work well in a team.","I treat other members of my team as equal to myself.","I am able to work with people who have different working styles from me.","I know how to work well with my stakeholders.","I seek to understand the needs of my stakeholders.","I am able to establish common understanding and build trust with my stakeholders.","I work well with my stakeholders.","I understand the factors that are critical to the smooth running of an event or a project. ","I know how to identify symptoms of mental and emotional distress. ","I am able to support those struggling mentally and emotionally. ","I know how I can manage negative thoughts and emotions. ","I know where to seek help when I have distressing thoughts and emotions beyond my control. ","If I have distressing thoughts and emotions beyond my control, I would seek help.","I know the steps that I can take to meet my financial goals.","I believe it is important to stay physically healthy. ","I make a conscious effort to maintain a healthy lifestyle.","I am proud to be a Singaporean. ","I am aware of issues affecting Singapore.","I understand how changes around the world affect Singapore and its future.","I understand the opportunities and challenges that Singapore has.","I understand the difficulties in trying to solve issues affecting Singapore's society.","I am aware of policies and programmes that tackle issues affecting Singapore's society.","I trust the government. ","I feel that the government understands the concerns of Singaporeans like me.","I feel that the government cares for the wellbeing of Singaporeans like me.","I feel that the government values my views.","I have people that I can talk with about my problems.","I have people whom I can turn to for support. ","I respect the opinions of others, even if I do not agree with it. ","I respect the values and beliefs of people who are of a different background from me.","I put myself in the shoes of others to understand how they feel.","I believe that I can make a difference in the community.","I believe I can help to shape society.","I am aware of the needs in the community.","I understand the ways that I can contribute to the community.","I believe I have a role to play in improving the community.","I feel a strong conviction to give back to the community.","I actively participate in efforts that help to improve the community.","I participate in discussions on national, community or social issues.","I encourage my peers to participate in activities that help to improve the community.","I am aware of the effects of my actions on the environment.","I understand the ways that I can care for the environment.","I feel responsible towards the environment.","My efforts to care for the environment will make a difference.","I actively participate in efforts to care for the environment.","I encourage my peers to care for the environment.","I believe that I can influence government decisions on issues. ","What do you think of the duration of programme_name?","I feel that the pace of programme_name was…","The accommodation is of acceptable standard.","The meal(s) are of acceptable standard.","The facilities are of acceptable standard.","The mentor provided sufficient guidance. ","The mentor provided useful insights.","The mentor was able to facilitate learning through reflections and asking critical questions. ","The mentor provided useful feedback for my personal growth.","The mentor has the necessary knowledge and skills for the role.","The mentor was able to point me to useful resources.","The mentor is able to communicate well with the group.","The mentor was able to manage the group effectively","How would you rate the mentor as a whole?","Overall, I am satisfied with programme_name.","How would you rate programme_name as a whole? ","I would recommend programme_name to others. ","I would like to take part in other activities organised by organisation_name.","This programme has allowed me to expand my networks.","Please provide the last 5 characters of your NRIC","Please provide the last 5 characters of your NRIC","Total Questions","Valid Responses","Difference","Submitted?","Error?",{"$f":"IF(COUNTIFS(NE21:NE1020, 1, ND21:ND1020, 0) = COUNTIF(NE21:NE1020, 1), 0, 1)","v":0}]
[null,null,null,null,null,null,1,null,null,null,null,null,null,null,null,null,null,null,null,null,null,null,null,null,null,null,null,null,null,null,null,null,null,null,null,null,null,null,null,null,null,null,null,null,null,null,null,null,null,null,null,null,null,null,null,null,null,null,null,null,null,null,null,null,null,null,null,null,null,null,null,null,null,null,null,null,null,null,null,null,null,null,null,null,null,null,null,null,null,null,null,null,null,null,null,null,null,null,null,null,null,null,null,null,null,null,null,null,null,null,null,null,null,null,null,null,null,null,null,null,null,null,null,null,null,null,null,null,null,null,null,null,null,null,null,null,null,null,null,null,null,null,null,null,null,null,null,null,null,null,null,null,null,null,null,null,null,null,null,null,null,null,null,null,null,null,null,null,null,null,null,null,null,null,null,null,null,null,null,null,null,null,null,null,null,null,null,1,{"$f":"IF(J21=\"\",\"\",IF(OR(J21=1,J21=2,J21=3,J21=4,J21=5,J21=99),1,0))","v":""},{"$f":"IF(K21=\"\",\"\",IF(OR(K21=1,K21=2,K21=3,K21=4,K21=5,K21=99),1,0))","v":""},"","","","","","","","","","","","","","","",{"$f":"IF(AA21=\"\",\"\",IF(OR(AA21=1,AA21=2,AA21=3,AA21=4,AA21=5,AA21=99),1,0))","v":""},"","","","","","","","","","","","","","","",{"$f":"IF(AQ21=\"\",\"\",IF(OR(AQ21=1,AQ21=2,AQ21=3,AQ21=4,AQ21=5,AQ21=99),1,0))","v":""},"","","","","","","","","","","","","","","",{"$f":"IF(BG21=\"\",\"\",IF(OR(BG21=1,BG21=2,BG21=3,BG21=4,BG21=5,BG21=99),1,0))","v":""},"","","","","","","","","","","","","","","",{"$f":"IF(BW21=\"\",\"\",IF(OR(BW21=1,BW21=2,BW21=3,BW21=4,BW21=5,BW21=99),1,0))","v":""},"","","","","","","","","","","","","","","",{"$f":"IF(CM21=\"\",\"\",IF(OR(CM21=1,CM21=2,CM21=3,CM21=4,CM21=5,CM21=99),1,0))","v":""},"","","","","","","","","","","","","","","",{"$f":"IF(DC21=\"\",\"\",IF(OR(DC21=1,DC21=2,DC21=3,DC21=4,DC21=5,DC21=99),1,0))","v":""},"","","","","","","","","","","","","","","",{"$f":"IF(DS21=\"\",\"\",IF(OR(DS21=1,DS21=2,DS21=3,DS21=4,DS21=5,DS21=99),1,0))","v":""},"","","","","","","","","","","","","","","",{"$f":"IF(EI21=\"\",\"\",IF(OR(EI21=1,EI21=2,EI21=3,EI21=4,EI21=5,EI21=99),1,0))","v":""},"","","","","","","","","","","","","","","","","","","","","","","","","","","","","","","","","","","","","","","","","","","",{"$f":"IF(GA21=\"\",\"\",IF(OR(GA21=1,GA21=2,GA21=99),1,0))","v":""},{"$f":"IF(GB21=\"\",\"\",IF(OR(GB21=1,GB21=2,GB21=3,GB21=4,GB21=5,GB21=99),1,0))","v":""},{"$f":"IF(GC21=\"\",\"\",IF(AND(LEN(GC21)=5),1,0))","v":""},{"$f":"IF(GD21=\"\",\"\",IF(AND(LEN(GD21)=5),1,0))","v":""},{"$f":"SUM($J$11:$GD$11)","v":2},{"$f":"SUM(GG21:NA21)","v":0},{"$f":"NC21-NB21","v":-2},{"$f":"IF(NC21>0, 1, 0)","v":0},{"$f":"IF(AND(NE21=1,ND21=0),0,IF(NE21=0,0,1))","v":0}]
[null,null,null,null,null,null,2,null,null,null,null,null,null,null,null,null,null,null,null,null,null,null,null,null,null,null,null,null,null,null,null,null,null,null,null,null,null,null,null,null,null,null,null,null,null,null,null,null,null,null,null,null,null,null,null,null,null,null,null,null,null,null,null,null,null,null,null,null,null,null,null,null,null,null,null,null,null,null,null,null,null,null,null,null,null,null,null,null,null,null,null,null,null,null,null,null,null,null,null,null,null,null,null,null,null,null,null,null,null,null,null,null,null,null,null,null,null,null,null,null,null,null,null,null,null,null,null,null,null,null,null,null,null,null,null,null,null,null,null,null,null,null,null,null,null,null,null,null,null,null,null,null,null,null,null,null,null,null,null,null,null,null,null,null,null,null,null,null,null,null,null,null,null,null,null,null,null,null,null,null,null,null,null,null,null,null,null,2,{"$f":"IF(J22=\"\",\"\",IF(OR(J22=1,J22=2,J22=3,J22=4,J22=5,J22=99),1,0))","v":""},"","","","","","","","","","","","","","","","","","","","","","","","","","","","","","","","","","","","","","","","","","","","","","","","","","","","","","","","","","","","","","","","","","","","","","","","","","","","","","","","","","","","","","","","","","","","","","","","","","","","","","","","","","","","","","","","","","","","","","","","","","","","","","","","","","","","","","","","","","","","","","","","","","","","","","","","","","","","","","","","","","","","","","","","","","","","",{"$f":"IF(GA22=\"\",\"\",IF(OR(GA22=1,GA22=2,GA22=99),1,0))","v":""},{"$f":"IF(GB22=\"\",\"\",IF(OR(GB22=1,GB22=2,GB22=3,GB22=4,GB22=5,GB22=99),1,0))","v":""},{"$f":"IF(GC22=\"\",\"\",IF(AND(LEN(GC22)=5),1,0))","v":""},"",{"$f":"SUM($J$11:$GD$11)","v":2},{"$f":"SUM(GG22:NA22)","v":0},{"$f":"NC22-NB22","v":-2},{"$f":"IF(NC22>0, 1, 0)","v":0},{"$f":"IF(AND(NE22=1,ND22=0),0,IF(NE22=0,0,1))","v":0}]
[null,null,null,null,null,null,3,null,null,null,null,null,null,null,null,null,null,null,null,null,null,null,null,null,null,null,null,null,null,null,null,null,null,null,null,null,null,null,null,null,null,null,null,null,null,null,null,null,null,null,null,null,null,null,null,null,null,null,null,null,null,null,null,null,null,null,null,null,null,null,null,null,null,null,null,null,null,null,null,null,null,null,null,null,null,null,null,null,null,null,null,null,null,null,null,null,null,null,null,null,null,null,null,null,null,null,null,null,null,null,null,null,null,null,null,null,null,null,null,null,null,null,null,null,null,null,null,null,null,null,null,null,null,null,null,null,null,null,null,null,null,null,null,null,null,null,null,null,null,null,null,null,null,null,null,null,null,null,null,null,null,null,null,null,null,null,null,null,null,null,null,null,null,null,null,null,null,null,null,null,null,null,null,null,null,null,null,3,"","","","","","","","","","","","","","","","","","","","","","","","","","","","","","","","","","","","","","","","","","","","","","","","","","","","","","","","","","","","","","","","","","","","","","","","","","","","","","","","","","","","","","","","","","","","","","","","","","","","","","","","","","","","","","","","","","","","","","","","","","","","","","","","","","","","","","","","","","","","","","","","","","","","","","","","","","","","","","","","","","","","","","","","","","","","","","","","","",2,0,-2,0,0]
[null,null,null,null,null,null,4,null,null,null,null,null,null,null,null,null,null,null,null,null,null,null,null,null,null,null,null,null,null,null,null,null,null,null,null,null,null,null,null,null,null,null,null,null,null,null,null,null,null,null,null,null,null,null,null,null,null,null,null,null,null,null,null,null,null,null,null,null,null,null,null,null,null,null,null,null,null,null,null,null,null,null,null,null,null,null,null,null,null,null,null,null,null,null,null,null,null,null,null,null,null,null,null,null,null,null,null,null,null,null,null,null,null,null,null,null,null,null,null,null,null,null,null,null,null,null,null,null,null,null,null,null,null,null,null,null,null,null,null,null,null,null,null,null,null,null,null,null,null,null,null,null,null,null,null,null,null,null,null,null,null,null,null,null,null,null,null,null,null,null,null,null,null,null,null,null,null,null,null,null,null,null,null,null,null,null,null,4,"","","","","","","","","","","","","","","","","","","","","","","","","","","","","","","","","","","","","","","","","","","","","","","","","","","","","","","","","","","","","","","","","","","","","","","","","","","","","","","","","","","","","","","","","","","","","","","","","","","","","","","","","","","","","","","","","","","","","","","","","","","","","","","","","","","","","","","","","","","","","","","","","","","","","","","","","","","","","","","","","","","","","","","","","","","","","","","","","",2,0,-2,0,0]
[null,null,null,null,null,null,5,null,null,null,null,null,null,null,null,null,null,null,null,null,null,null,null,null,null,null,null,null,null,null,null,null,null,null,null,null,null,null,null,null,null,null,null,null,null,null,null,null,null,null,null,null,null,null,null,null,null,null,null,null,null,null,null,null,null,null,null,null,null,null,null,null,null,null,null,null,null,null,null,null,null,null,null,null,null,null,null,null,null,null,null,null,null,null,null,null,null,null,null,null,null,null,null,null,null,null,null,null,null,null,null,null,null,null,null,null,null,null,null,null,null,null,null,null,null,null,null,null,null,null,null,null,null,null,null,null,null,null,null,null,null,null,null,null,null,null,null,null,null,null,null,null,null,null,null,null,null,null,null,null,null,null,null,null,null,null,null,null,null,null,null,null,null,null,null,null,null,null,null,null,null,null,null,null,null,null,null,5,"","","","","","","","","","","","","","","","","","","","","","","","","","","","","","","","","","","","","","","","","","","","","","","","","","","","","","","","","","","","","","","","","","","","","","","","","","","","","","","","","","","","","","","","","","","","","","","","","","","","","","","","","","","","","","","","","","","","","","","","","","","","","","","","","","","","","","","","","","","","","","","","","","","","","","","","","","","","","","","","","","","","","","","","","","","","","","","","","",2,0,-2,0,0]
[null,null,null,null,null,null,6,null,null,null,null,null,null,null,null,null,null,null,null,null,null,null,null,null,null,null,null,null,null,null,null,null,null,null,null,null,null,null,null,null,null,null,null,null,null,null,null,null,null,null,null,null,null,null,null,null,null,null,null,null,null,null,null,null,null,null,null,null,null,null,null,null,null,null,null,null,null,null,null,null,null,null,null,null,null,null,null,null,null,null,null,null,null,null,null,null,null,null,null,null,null,null,null,null,null,null,null,null,null,null,null,null,null,null,null,null,null,null,null,null,null,null,null,null,null,null,null,null,null,null,null,null,null,null,null,null,null,null,null,null,null,null,null,null,null,null,null,null,null,null,null,null,null,null,null,null,null,null,null,null,null,null,null,null,null,null,null,null,null,null,null,null,null,null,null,null,null,null,null,null,null,null,null,null,null,null,null,6,"","","","","","","","","","","","","","","","","","","","","","","","","","","","","","","","","","","","","","","","","","","","","","","","","","","","","","","","","","","","","","","","","","","","","","","","","","","","","","","","","","","","","","","","","","","","","","","","","","","","","","","","","","","","","","","","","","","","","","","","","","","","","","","","","","","","","","","","","","","","","","","","","","","","","","","","","","","","","","","","","","","","",{"$f":"IF(FR26=\"\",\"\",IF(OR(FR26=1,FR26=2,FR26=3,FR26=4,FR26=5,FR26=99),1,0))","v":""},"","","","","","","","","","","","",2,0,-2,0,0]
[null,null,null,null,null,null,7,null,null,null,null,null,null,null,null,null,null,null,null,null,null,null,null,null,null,null,null,null,null,null,null,null,null,null,null,null,null,null,null,null,null,null,null,null,null,null,null,null,null,null,null,null,null,null,null,null,null,null,null,null,null,null,null,null,null,null,null,null,null,null,null,null,null,null,null,null,null,null,null,null,null,null,null,null,null,null,null,null,null,null,null,null,null,null,null,null,null,null,null,null,null,null,null,null,null,null,null,null,null,null,null,null,null,null,null,null,null,null,null,null,null,null,null,null,null,null,null,null,null,null,null,null,null,null,null,null,null,null,null,null,null,null,null,null,null,null,null,null,null,null,null,null,null,null,null,null,null,null,null,null,null,null,null,null,null,null,null,null,null,null,null,null,null,null,null,null,null,null,null,null,null,null,null,null,null,null,null,7,"","","","","","","","","","","","","","","","","","","","","","","","","","","","","","","","","","","","","","","","","","","","","","","","","","","","","","","","","","","","","","","","","","","","","","","","","","","","","","","","","","","","","","","","","","","","","","","","","","","","","","","","","","","","","","","","","","","","","","","","","","","","","","","","","",{"$f":"IF(EI27=\"\",\"\",IF(OR(EI27=1,EI27=2,EI27=3,EI27=4,EI27=5,EI27=99),1,0))","v":""},"","","","","","","","","","","","","","","",{"$f":"IF(EY27=\"\",\"\",IF(OR(EY27=1,EY27=2,EY27=3,EY27=4,EY27=5,EY27=99),1,0))","v":""},"","","","","","","","","","","","","","","","","","","","","","","","","","","","","","","",2,0,-2,0,0]
[null,null,null,null,null,null,8,null,null,null,null,null,null,null,null,null,null,null,null,null,null,null,null,null,null,null,null,null,null,null,null,null,null,null,null,null,null,null,null,null,null,null,null,null,null,null,null,null,null,null,null,null,null,null,null,null,null,null,null,null,null,null,null,null,null,null,null,null,null,null,null,null,null,null,null,null,null,null,null,null,null,null,null,null,null,null,null,null,null,null,null,null,null,null,null,null,null,null,null,null,null,null,null,null,null,null,null,null,null,null,null,null,null,null,null,null,null,null,null,null,null,null,null,null,null,null,null,null,null,null,null,null,null,null,null,null,null,null,null,null,null,null,null,null,null,null,null,null,null,null,null,null,null,null,null,null,null,null,null,null,null,null,null,null,null,null,null,null,null,null,null,null,null,null,null,null,null,null,null,null,null,null,null,null,null,null,null,8,"","","","","","","","","","","","","","","","","","","","","","","","","","","","","","","","","","","","","","","","","","","","","","","","","","","","","","","","","","","","","","","","","","","","","","","","","","","","","","","","","","","","","","","","","","","","","","","","","","","","","","","","","","","","","","","","","","","","","","","","","","","","","","","","","","","","","","","","","","","","","","","","","","","","","","","","","","","","","","","","","","","","","","","","","","","","","","","","","",2,0,-2,0,0]
[null,null,null,null,null,null,9,null,null,null,null,null,null,null,null,null,null,null,null,null,null,null,null,null,null,null,null,null,null,null,null,null,null,null,null,null,null,null,null,null,null,null,null,null,null,null,null,null,null,null,null,null,null,null,null,null,null,null,null,null,null,null,null,null,null,null,null,null,null,null,null,null,null,null,null,null,null,null,null,null,null,null,null,null,null,null,null,null,null,null,null,null,null,null,null,null,null,null,null,null,null,null,null,null,null,null,null,null,null,null,null,null,null,null,null,null,null,null,null,null,null,null,null,null,null,null,null,null,null,null,null,null,null,null,null,null,null,null,null,null,null,null,null,null,null,null,null,null,null,null,null,null,null,null,null,null,null,null,null,null,null,null,null,null,null,null,null,null,null,null,null,null,null,null,null,null,null,null,null,null,null,null,null,null,null,null,null,9,"","","","","","","","","","","","","","","","","","","","","","","","","","","","","","","","","","","","","","","","","","","","","","","","","","","","","","","","","","","","","","","","","","","","","","","","","","","","","","","","","","","","","","","","","","","","","","","","","","","","","","","","","","","","","","","","","","","","","","","","","","","","","","","","","","","","","","","","","","","","","","","","","","","","","","","","","","","","","","","","","","","","","","","","","","","","","","","","","",2,0,-2,0,0]
[null,null,null,null,null,null,10,null,null,null,null,null,null,null,null,null,null,null,null,null,null,null,null,null,null,null,null,null,null,null,null,null,null,null,null,null,null,null,null,null,null,null,null,null,null,null,null,null,null,null,null,null,null,null,null,null,null,null,null,null,null,null,null,null,null,null,null,null,null,null,null,null,null,null,null,null,null,null,null,null,null,null,null,null,null,null,null,null,null,null,null,null,null,null,null,null,null,null,null,null,null,null,null,null,null,null,null,null,null,null,null,null,null,null,null,null,null,null,null,null,null,null,null,null,null,null,null,null,null,null,null,null,null,null,null,null,null,null,null,null,null,null,null,null,null,null,null,null,null,null,null,null,null,null,null,null,null,null,null,null,null,null,null,null,null,null,null,null,null,null,null,null,null,null,null,null,null,null,null,null,null,null,null,null,null,null,null,10,"","","","","","","","","","","","","","","","","","","","","","","","","","","","","","","","","","","","","","","","","","","","","","","","","","","","","","","","","","","","","","","","","","","","","","","","","","","","","","","","","","","","","","","","","","","","","","","","","","","","","","","","","","","","","","","","","","","","","","","","","","","","","","","","","","","","","","","","","","","","","","","","","","","","","","","","","","","","","","","","","","","","","","","","","","","","","","","","","",2,0,-2,0,0]
[null,null,null,null,null,null,11,null,null,null,null,null,null,null,null,null,null,null,null,null,null,null,null,null,null,null,null,null,null,null,null,null,null,null,null,null,null,null,null,null,null,null,null,null,null,null,null,null,null,null,null,null,null,null,null,null,null,null,null,null,null,null,null,null,null,null,null,null,null,null,null,null,null,null,null,null,null,null,null,null,null,null,null,null,null,null,null,null,null,null,null,null,null,null,null,null,null,null,null,null,null,null,null,null,null,null,null,null,null,null,null,null,null,null,null,null,null,null,null,null,null,null,null,null,null,null,null,null,null,null,null,null,null,null,null,null,null,null,null,null,null,null,null,null,null,null,null,null,null,null,null,null,null,null,null,null,null,null,null,null,null,null,null,null,null,null,null,null,null,null,null,null,null,null,null,null,null,null,null,null,null,null,null,null,null,null,null,11,"","","","","","","","","","","","","","","","","","","","","","","","","","","","","","","","","","","","","","","","","","","","","","","","","","","","","","","","","","","","","","","","","","","","","","","","","","","","","","","","","","","","","","","","","","","","","","","","","","","","","","","","","","","","","","","","","","","","","","","","","","","","","","","","","","","","","","","","","","","","","","","","","","","","","","","","","","","","","","","","","","","","","","","","","","","","","","","","","",2,0,-2,0,0]
[null,null,null,null,null,null,12,null,null,null,null,null,null,null,null,null,null,null,null,null,null,null,null,null,null,null,null,null,null,null,null,null,null,null,null,null,null,null,null,null,null,null,null,null,null,null,null,null,null,null,null,null,null,null,null,null,null,null,null,null,null,null,null,null,null,null,null,null,null,null,null,null,null,null,null,null,null,null,null,null,null,null,null,null,null,null,null,null,null,null,null,null,null,null,null,null,null,null,null,null,null,null,null,null,null,null,null,null,null,null,null,null,null,null,null,null,null,null,null,null,null,null,null,null,null,null,null,null,null,null,null,null,null,null,null,null,null,null,null,null,null,null,null,null,null,null,null,null,null,null,null,null,null,null,null,null,null,null,null,null,null,null,null,null,null,null,null,null,null,null,null,null,null,null,null,null,null,null,null,null,null,null,null,null,null,null,null,12,"","","","","","","","","","","","","","","","","","","","","","","","","","","","","","","","","","","","","","","","","","","","","","","","","","","","","","","","","","","","","","","","","","","","","","","","","","","","","","","","","","","","","","","","","","","","","","","","","","","","","","","","","","","","","","","","","","","","","","","","","","","","","","","","","","","","","","","","","","","","","","","","","","","","","","","","","","","","","","","","","","","","","","","","","","","","","","","","","",2,0,-2,0,0]
[null,null,null,null,null,null,13,null,null,null,null,null,null,null,null,null,null,null,null,null,null,null,null,null,null,null,null,null,null,null,null,null,null,null,null,null,null,null,null,null,null,null,null,null,null,null,null,null,null,null,null,null,null,null,null,null,null,null,null,null,null,null,null,null,null,null,null,null,null,null,null,null,null,null,null,null,null,null,null,null,null,null,null,null,null,null,null,null,null,null,null,null,null,null,null,null,null,null,null,null,null,null,null,null,null,null,null,null,null,null,null,null,null,null,null,null,null,null,null,null,null,null,null,null,null,null,null,null,null,null,null,null,null,null,null,null,null,null,null,null,null,null,null,null,null,null,null,null,null,null,null,null,null,null,null,null,null,null,null,null,null,null,null,null,null,null,null,null,null,null,null,null,null,null,null,null,null,null,null,null,null,null,null,null,null,null,null,13,"","","","","","","","","","","","","","","","","","","","","","","","","","","","","","","","","","","","","","","","","","","","","","","","","","","","","","","","","","","","","","","","","","","","","","","","","","","","","","","","","","","","","","","","","","","","","","","","","","","","","","","","","","","","","","","","","","","","","","","","","","","","","","","","","","","","","","","","","","","","","","","","","","","","","","","","","","","","","","","","","","","","","","","","","","","","","","","","","",2,0,-2,0,0]
[null,null,null,null,null,null,14,null,null,null,null,null,null,null,null,null,null,null,null,null,null,null,null,null,null,null,null,null,null,null,null,null,null,null,null,null,null,null,null,null,null,null,null,null,null,null,null,null,null,null,null,null,null,null,null,null,null,null,null,null,null,null,null,null,null,null,null,null,null,null,null,null,null,null,null,null,null,null,null,null,null,null,null,null,null,null,null,null,null,null,null,null,null,null,null,null,null,null,null,null,null,null,null,null,null,null,null,null,null,null,null,null,null,null,null,null,null,null,null,null,null,null,null,null,null,null,null,null,null,null,null,null,null,null,null,null,null,null,null,null,null,null,null,null,null,null,null,null,null,null,null,null,null,null,null,null,null,null,null,null,null,null,null,null,null,null,null,null,null,null,null,null,null,null,null,null,null,null,null,null,null,null,null,null,null,null,null,14,"","","","","","","","","","","","","","","","","","","","","","","","","","","","","","","","","","","","","","","","","","","","","","","","","","","","","","","","","","","","","","","","","","","","","","","","","","","","","","","","","","","","","","","","","","","","","","","","","","","","","","","","","","","","","","","","","","","","","","","","","","","","","","","","","","","","","","","","","","","","","","","","","","","","","","","","","","","","","","","","","","","","","","","","","","","","","","","","","",2,0,-2,0,0]
[null,null,null,null,null,null,15,null,null,null,null,null,null,null,null,null,null,null,null,null,null,null,null,null,null,null,null,null,null,null,null,null,null,null,null,null,null,null,null,null,null,null,null,null,null,null,null,null,null,null,null,null,null,null,null,null,null,null,null,null,null,null,null,null,null,null,null,null,null,null,null,null,null,null,null,null,null,null,null,null,null,null,null,null,null,null,null,null,null,null,null,null,null,null,null,null,null,null,null,null,null,null,null,null,null,null,null,null,null,null,null,null,null,null,null,null,null,null,null,null,null,null,null,null,null,null,null,null,null,null,null,null,null,null,null,null,null,null,null,null,null,null,null,null,null,null,null,null,null,null,null,null,null,null,null,null,null,null,null,null,null,null,null,null,null,null,null,null,null,null,null,null,null,null,null,null,null,null,null,null,null,null,null,null,null,null,null,15,"","","","","","","","","","","","","","","","","","","","","","","","","","","","","","","","","","","","","","","","","","","","","","","","","","","","","","","","","","","","","","","","","","","","","","","","","","","","","","","","","","","","","","","","","","","","","","","","","","","","","","","","","","","","","","","","","","","","","","","","","","","","","","","","","","","","","","","","","","","","","","","","","","","","","","","","","","","","","","","","","","","","","","","","","","","","","","","","","",2,0,-2,0,0]
[null,null,null,null,null,null,16,null,null,null,null,null,null,null,null,null,null,null,null,null,null,null,null,null,null,null,null,null,null,null,null,null,null,null,null,null,null,null,null,null,null,null,null,null,null,null,null,null,null,null,null,null,null,null,null,null,null,null,null,null,null,null,null,null,null,null,null,null,null,null,null,null,null,null,null,null,null,null,null,null,null,null,null,null,null,null,null,null,null,null,null,null,null,null,null,null,null,null,null,null,null,null,null,null,null,null,null,null,null,null,null,null,null,null,null,null,null,null,null,null,null,null,null,null,null,null,null,null,null,null,null,null,null,null,null,null,null,null,null,null,null,null,null,null,null,null,null,null,null,null,null,null,null,null,null,null,null,null,null,null,null,null,null,null,null,null,null,null,null,null,null,null,null,null,null,null,null,null,null,null,null,null,null,null,null,null,null,16,"","","","","","","","","","","","","","","","","","","","","","","","","","","","","","","","",{"$f":"IF(AP36=\"\",\"\",IF(OR(AP36=1,AP36=2,AP36=3,AP36=4,AP36=5,AP36=99),1,0))","v":""},"","","","","","","","","","","","","","","","","","","","","","","","","","","","","","","",{"$f":"IF(BV36=\"\",\"\",IF(OR(BV36=1,BV36=2,BV36=3,BV36=4,BV36=5,BV36=99),1,0))","v":""},"","","","","","","","","","","","","","","","","","","","","","","","","","","","","","","",{"$f":"IF(DB36=\"\",\"\",IF(OR(DB36=1,DB36=2,DB36=3,DB36=4,DB36=5,DB36=99),1,0))","v":""},"","","","","","","","","","","","","","","","","","","","","","","","","","","","","","","",{"$f":"IF(EH36=\"\",\"\",IF(OR(EH36=1,EH36=2,EH36=3,EH36=4,EH36=5,EH36=99),1,0))","v":""},"","","","","","","","","","","","","","","","","","","","","","","","","","","","","","","","","","","","","","","","","","","","","","","","",2,0,-2,0,0]
[null,null,null,null,null,null,17,null,null,null,null,null,null,null,null,null,null,null,null,null,null,null,null,null,null,null,null,null,null,null,null,null,null,null,null,null,null,null,null,null,null,null,null,null,null,null,null,null,null,null,null,null,null,null,null,null,null,null,null,null,null,null,null,null,null,null,null,null,null,null,null,null,null,null,null,null,null,null,null,null,null,null,null,null,null,null,null,null,null,null,null,null,null,null,null,null,null,null,null,null,null,null,null,null,null,null,null,null,null,null,null,null,null,null,null,null,null,null,null,null,null,null,null,null,null,null,null,null,null,null,null,null,null,null,null,null,null,null,null,null,null,null,null,null,null,null,null,null,null,null,null,null,null,null,null,null,null,null,null,null,null,null,null,null,null,null,null,null,null,null,null,null,null,null,null,null,null,null,null,null,null,null,null,null,null,null,null,17,"","","","","","","","","","","","","","","","",{"$f":"IF(Z37=\"\",\"\",IF(OR(Z37=1,Z37=2,Z37=3,Z37=4,Z37=5,Z37=99),1,0))","v":""},"","","","","","","","","","","","","","","","","","","","","","","","","","","","","","","",{"$f":"IF(BF37=\"\",\"\",IF(OR(BF37=1,BF37=2,BF37=3,BF37=4,BF37=5,BF37=99),1,0))","v":""},"","","","","","","","","","","","","","","","","","","","","","","","","","","","","","","",{"$f":"IF(CL37=\"\",\"\",IF(OR(CL37=1,CL37=2,CL37=3,CL37=4,CL37=5,CL37=99),1,0))","v":""},"","","","","","","","","","","","","","","","","","","","","","","","","","","","","","","",{"$f":"IF(DR37=\"\",\"\",IF(OR(DR37=1,DR37=2,DR37=3,DR37=4,DR37=5,DR37=99),1,0))","v":""},"","","","","","","","","","","","","","","","","","","","","","","","","","","","","","","","","","","","","","","","","","","","","","","","","","","","","","","","","","","","","","","","",2,0,-2,0,0]
[null,null,null,null,null,null,18,null,null,null,null,null,null,null,null,null,null,null,null,null,null,null,null,null,null,null,null,null,null,null,null,null,null,null,null,null,null,null,null,null,null,null,null,null,null,null,null,null,null,null,null,null,null,null,null,null,null,null,null,null,null,null,null,null,null,null,null,null,null,null,null,null,null,null,null,null,null,null,null,null,null,null,null,null,null,null,null,null,null,null,null,null,null,null,null,null,null,null,null,null,null,null,null,null,null,null,null,null,null,null,null,null,null,null,null,null,null,null,null,null,null,null,null,null,null,null,null,null,null,null,null,null,null,null,null,null,null,null,null,null,null,null,null,null,null,null,null,null,null,null,null,null,null,null,null,null,null,null,null,null,null,null,null,null,null,null,null,null,null,null,null,null,null,null,null,null,null,null,null,null,null,null,null,null,null,null,null,18,"","","","","","","","","","","","","","","","","","","","","","","","","","","","","","","","","","","","","","","","","","","","","","","","","","","","","","","","","","","","","","","","","","","","","","","","","","","","","","","","","","","","","","","","","","","","","","","","","","","","","","","","","","","","","","","","","","","","","","","","","","","","","","","","","","","","","","","","","","","","","","","","","","","","","","","","","","","","","","","","","","","","","","","","","","","","","","","","","",2,0,-2,0,0]
[null,null,null,null,null,null,19,null,null,null,null,null,null,null,null,null,null,null,null,null,null,null,null,null,null,null,null,null,null,null,null,null,null,null,null,null,null,null,null,null,null,null,null,null,null,null,null,null,null,null,null,null,null,null,null,null,null,null,null,null,null,null,null,null,null,null,null,null,null,null,null,null,null,null,null,null,null,null,null,null,null,null,null,null,null,null,null,null,null,null,null,null,null,null,null,null,null,null,null,null,null,null,null,null,null,null,null,null,null,null,null,null,null,null,null,null,null,null,null,null,null,null,null,null,null,null,null,null,null,null,null,null,null,null,null,null,null,null,null,null,null,null,null,null,null,null,null,null,null,null,null,null,null,null,null,null,null,null,null,null,null,null,null,null,null,null,null,null,null,null,null,null,null,null,null,null,null,null,null,null,null,null,null,null,null,null,null,19,"","","","","","","","","","","","","","","","","","","","","","","","","","","","","","","","","","","","","","","","","","","","","","","","","","","","","","","","","","","","","","","","","","","","","","","","","","","","","","","","","","","","","","","","","","","","","","","","","","","","","","","","","","","","","","","","","","","","","","","","","","","","","","","","","","","","","","","","","","","","","","","","","","","","","","","","","","","","","","","","","","","","","","","","","","","","","","","","","",2,0,-2,0,0]
[null,null,null,null,null,null,20,null,null,null,null,null,null,null,null,null,null,null,null,null,null,null,null,null,null,null,null,null,null,null,null,null,null,null,null,null,null,null,null,null,null,null,null,null,null,null,null,null,null,null,null,null,null,null,null,null,null,null,null,null,null,null,null,null,null,null,null,null,null,null,null,null,null,null,null,null,null,null,null,null,null,null,null,null,null,null,null,null,null,null,null,null,null,null,null,null,null,null,null,null,null,null,null,null,null,null,null,null,null,null,null,null,null,null,null,null,null,null,null,null,null,null,null,null,null,null,null,null,null,null,null,null,null,null,null,null,null,null,null,null,null,null,null,null,null,null,null,null,null,null,null,null,null,null,null,null,null,null,null,null,null,null,null,null,null,null,null,null,null,null,null,null,null,null,null,null,null,null,null,null,null,null,null,null,null,null,null,20,"","","","","","","","","","","","",{"$f":"IF(V40=\"\",\"\",IF(OR(V40=1,V40=2,V40=3,V40=4,V40=5,V40=99),1,0))","v":""},"","","","","","","","","","","","","","","","","","","","","","","","","","","","","","","","","","","","","","","","","","","","","","","","","","","","","","","","","","","","","","","","","","","","","","","","","","","","","","","","","","","","","","","","","","","","","","","","","","","","","","","","","","","","","","","","","","","","","","","","","","","","","","","","","","","","","","","","","","","","","","","","","","","","","","","","","","","","","","","","","","","","",2,0,-2,0,0]
[null,null,null,null,null,null,21,null,null,null,null,null,null,null,null,null,null,null,null,null,null,null,null,null,null,null,null,null,null,null,null,null,null,null,null,null,null,null,null,null,null,null,null,null,null,null,null,null,null,null,null,null,null,null,null,null,null,null,null,null,null,null,null,null,null,null,null,null,null,null,null,null,null,null,null,null,null,null,null,null,null,null,null,null,null,null,null,null,null,null,null,null,null,null,null,null,null,null,null,null,null,null,null,null,null,null,null,null,null,null,null,null,null,null,null,null,null,null,null,null,null,null,null,null,null,null,null,null,null,null,null,null,null,null,null,null,null,null,null,null,null,null,null,null,null,null,null,null,null,null,null,null,null,null,null,null,null,null,null,null,null,null,null,null,null,null,null,null,null,null,null,null,null,null,null,null,null,null,null,null,null,null,null,null,null,null,null,21,{"$f":"IF(J41=\"\",\"\",IF(OR(J41=1,J41=2,J41=3,J41=4,J41=5,J41=99),1,0))","v":""},"","","","","","","","","","","","","","","","","","","","","","","","","","","","","","","","","","","","","","","","","","","","","","","","","","","","","","","","","","","","","","","","","","","","","","","","","","","","","","","","","","","","","","","","","","","","","","","","","","","","","","","","","","","","","","","","","","","","","","","","","","","","","","","","","","","","","","","","","","","","","","","","","","","","","","","","","","","","","","","","","","","","","","","","","","","","","","","","",2,0,-2,0,0]
[null,null,null,null,null,null,22,null,null,null,null,null,null,null,null,null,null,null,null,null,null,null,null,null,null,null,null,null,null,null,null,null,null,null,null,null,null,null,null,null,null,null,null,null,null,null,null,null,null,null,null,null,null,null,null,null,null,null,null,null,null,null,null,null,null,null,null,null,null,null,null,null,null,null,null,null,null,null,null,null,null,null,null,null,null,null,null,null,null,null,null,null,null,null,null,null,null,null,null,null,null,null,null,null,null,null,null,null,null,null,null,null,null,null,null,null,null,null,null,null,null,null,null,null,null,null,null,null,null,null,null,null,null,null,null,null,null,null,null,null,null,null,null,null,null,null,null,null,null,null,null,null,null,null,null,null,null,null,null,null,null,null,null,null,null,null,null,null,null,null,null,null,null,null,null,null,null,null,null,null,null,null,null,null,null,null,null,22,"","","","","","","","","","","","","","","","","","","","","","","","","","","","","","","","","","","","","","","","","","","","","","","","","","","","","","","","","","","","","","","","","","","","","","","","","","","","","","","","","","","","","","","","","","","","","","","","","","","","","","","","","","","","","","","","","","","","","","","","","","","","","","","","","","","","","","","","","","","","","","","","","","","","","","","","","","","","","","","","",{"$f":"IF(FN42=\"\",\"\",IF(OR(FN42=1,FN42=2,FN42=3,FN42=4,FN42=5,FN42=99),1,0))","v":""},"","","","","","","","","","","","","","","","",2,0,-2,0,0]
[null,null,null,null,null,null,23,null,null,null,null,null,null,null,null,null,null,null,null,null,null,null,null,null,null,null,null,null,null,null,null,null,null,null,null,null,null,null,null,null,null,null,null,null,null,null,null,null,null,null,null,null,null,null,null,null,null,null,null,null,null,null,null,null,null,null,null,null,null,null,null,null,null,null,null,null,null,null,null,null,null,null,null,null,null,null,null,null,null,null,null,null,null,null,null,null,null,null,null,null,null,null,null,null,null,null,null,null,null,null,null,null,null,null,null,null,null,null,null,null,null,null,null,null,null,null,null,null,null,null,null,null,null,null,null,null,null,null,null,null,null,null,null,null,null,null,null,null,null,null,null,null,null,null,null,null,null,null,null,null,null,null,null,null,null,null,null,null,null,null,null,null,null,null,null,null,null,null,null,null,null,null,null,null,null,null,null,23,"","","","","","","","","","","","","","","","","","","","","","","","","","","","","","","","","","","","","","","","","","","","","","","","","","","","","","","","","","","","","","","","","","","","","","","","","","","","","","","","","","","","","","","","","","","","","","","","","","","","","","","","","","","","","","","","","","","","","","","","","","","","","","","","","","","","","","","","","","","","","","","","",{"$f":"IF(EX43=\"\",\"\",IF(OR(EX43=1,EX43=2,EX43=3,EX43=4,EX43=5,EX43=99),1,0))","v":""},"","","","","","","","","","","","","","","","","","","","","","","","","","","","","","","","",2,0,-2,0,0]
[null,null,null,null,null,null,24,null,null,null,null,null,null,null,null,null,null,null,null,null,null,null,null,null,null,null,null,null,null,null,null,null,null,null,null,null,null,null,null,null,null,null,null,null,null,null,null,null,null,null,null,null,null,null,null,null,null,null,null,null,null,null,null,null,null,null,null,null,null,null,null,null,null,null,null,null,null,null,null,null,null,null,null,null,null,null,null,null,null,null,null,null,null,null,null,null,null,null,null,null,null,null,null,null,null,null,null,null,null,null,null,null,null,null,null,null,null,null,null,null,null,null,null,null,null,null,null,null,null,null,null,null,null,null,null,null,null,null,null,null,null,null,null,null,null,null,null,null,null,null,null,null,null,null,null,null,null,null,null,null,null,null,null,null,null,null,null,null,null,null,null,null,null,null,null,null,null,null,null,null,null,null,null,null,null,null,null,24,"","","","","","","","","","","","","","","","","","","","","","","","","","","","","","","","","","","","","","","","","","","","","","","","","","","","","","","","","","","","","","","","","","","","","","","","","","","","","","","","","","","","","","","","","","","","","","","","","","","","","","","","","","","","","","","","","","","","","","","","","","","","","","","","","","","","","","","","","","","","","","","","","","","","","","","","","","","","","","","","","","","","","","","","","","","","","","","","","",2,0,-2,0,0]
[null,null,null,null,null,null,25,null,null,null,null,null,null,null,null,null,null,null,null,null,null,null,null,null,null,null,null,null,null,null,null,null,null,null,null,null,null,null,null,null,null,null,null,null,null,null,null,null,null,null,null,null,null,null,null,null,null,null,null,null,null,null,null,null,null,null,null,null,null,null,null,null,null,null,null,null,null,null,null,null,null,null,null,null,null,null,null,null,null,null,null,null,null,null,null,null,null,null,null,null,null,null,null,null,null,null,null,null,null,null,null,null,null,null,null,null,null,null,null,null,null,null,null,null,null,null,null,null,null,null,null,null,null,null,null,null,null,null,null,null,null,null,null,null,null,null,null,null,null,null,null,null,null,null,null,null,null,null,null,null,null,null,null,null,null,null,null,null,null,null,null,null,null,null,null,null,null,null,null,null,null,null,null,null,null,null,null,25,"","","","","","","","","","","","","","","","","","","","","","","","","","","","","","","","","","","","","","","","","","","","","","","","","","","","","","","","","","","","","","","","","","","","","","","","","","","","","","","","","","","","","","","","","","","","","","","","","","","","","","","","","","","","","","","","","","","","","","","","","","","","","","","","","","","","","","","","","","","","","","","","","","","","","","","","","","","","","","","","","","","","","","","","","","","","","","","","","",2,0,-2,0,0]
[null,null,null,null,null,null,26,null,null,null,null,null,null,null,null,null,null,null,null,null,null,null,null,null,null,null,null,null,null,null,null,null,null,null,null,null,null,null,null,null,null,null,null,null,null,null,null,null,null,null,null,null,null,null,null,null,null,null,null,null,null,null,null,null,null,null,null,null,null,null,null,null,null,null,null,null,null,null,null,null,null,null,null,null,null,null,null,null,null,null,null,null,null,null,null,null,null,null,null,null,null,null,null,null,null,null,null,null,null,null,null,null,null,null,null,null,null,null,null,null,null,null,null,null,null,null,null,null,null,null,null,null,null,null,null,null,null,null,null,null,null,null,null,null,null,null,null,null,null,null,null,null,null,null,null,null,null,null,null,null,null,null,null,null,null,null,null,null,null,null,null,null,null,null,null,null,null,null,null,null,null,null,null,null,null,null,null,26,"","","","","","","","","","","","","","","","","","","","","","","","","","","","","","","","","","","","","","","","","","","","","","","","","","","","","","","","","","","","","","","","","","","","","","","","","","","","","","","","","","","","","","","","","","","","","","","","","","","","","","","","","","","","","","","","","","","","","","","","","","","","","","","","","","","","","","","","","","","","","","","","","","","","","","","","","","","","","","","","","","","","","","","","","","","","","","","","","",2,0,-2,0,0]
[null,null,null,null,null,null,27,null,null,null,null,null,null,null,null,null,null,null,null,null,null,null,null,null,null,null,null,null,null,null,null,null,null,null,null,null,null,null,null,null,null,null,null,null,null,null,null,null,null,null,null,null,null,null,null,null,null,null,null,null,null,null,null,null,null,null,null,null,null,null,null,null,null,null,null,null,null,null,null,null,null,null,null,null,null,null,null,null,null,null,null,null,null,null,null,null,null,null,null,null,null,null,null,null,null,null,null,null,null,null,null,null,null,null,null,null,null,null,null,null,null,null,null,null,null,null,null,null,null,null,null,null,null,null,null,null,null,null,null,null,null,null,null,null,null,null,null,null,null,null,null,null,null,null,null,null,null,null,null,null,null,null,null,null,null,null,null,null,null,null,null,null,null,null,null,null,null,null,null,null,null,null,null,null,null,null,null,27,"","","","","","","","","","","","","","","","","","","","","","","","","","","","","","","","","","","","","","","","","","","","","","","","","","","","","","","","","","","","","","","","","","","","","","","","","","","","","","","","","","","","","","","","","","","","","","","","","","","","","","","","","","","","","","","","","","","","","","","","","","","","","","","","","","","","","","","","","","","","","","","","","","","","","","","","","","","","","","","","","","","","","","","","","","","","","","","","","",2,0,-2,0,0]
[null,null,null,null,null,null,28,null,null,null,null,null,null,null,null,null,null,null,null,null,null,null,null,null,null,null,null,null,null,null,null,null,null,null,null,null,null,null,null,null,null,null,null,null,null,null,null,null,null,null,null,null,null,null,null,null,null,null,null,null,null,null,null,null,null,null,null,null,null,null,null,null,null,null,null,null,null,null,null,null,null,null,null,null,null,null,null,null,null,null,null,null,null,null,null,null,null,null,null,null,null,null,null,null,null,null,null,null,null,null,null,null,null,null,null,null,null,null,null,null,null,null,null,null,null,null,null,null,null,null,null,null,null,null,null,null,null,null,null,null,null,null,null,null,null,null,null,null,null,null,null,null,null,null,null,null,null,null,null,null,null,null,null,null,null,null,null,null,null,null,null,null,null,null,null,null,null,null,null,null,null,null,null,null,null,null,null,28,"","","","","","","","","","","","","","","","","","","","","","","","","","","","","","","","","","","","","","","","","","","","","","","","","","","","","","","","","","","","","","","","","","","","","","","","","","","","","","","","","","","","","","","","","","","","","","","","","","","","","","","","","","","","","","","","","","","","","","","","","","","","","","","","","","","","","","","","","","","","","","","","","","","","","","","","","","","","","","","","","","","","","","","","","","","","","","","","","",2,0,-2,0,0]
[null,null,null,null,null,null,29,null,null,null,null,null,null,null,null,null,null,null,null,null,null,null,null,null,null,null,null,null,null,null,null,null,null,null,null,null,null,null,null,null,null,null,null,null,null,null,null,null,null,null,null,null,null,null,null,null,null,null,null,null,null,null,null,null,null,null,null,null,null,null,null,null,null,null,null,null,null,null,null,null,null,null,null,null,null,null,null,null,null,null,null,null,null,null,null,null,null,null,null,null,null,null,null,null,null,null,null,null,null,null,null,null,null,null,null,null,null,null,null,null,null,null,null,null,null,null,null,null,null,null,null,null,null,null,null,null,null,null,null,null,null,null,null,null,null,null,null,null,null,null,null,null,null,null,null,null,null,null,null,null,null,null,null,null,null,null,null,null,null,null,null,null,null,null,null,null,null,null,null,null,null,null,null,null,null,null,null,29,"","","","","","","","","","","","","","","","","","","","","","","","","","","","","","","","","","","","","","","","","","","","","","","","","","","","","","","","","","","","","","","","","","","","","","","","","","","","","","","","","","","","","","","","","","","","","","","","","","","","","","","","","","","","","","","","","","","","","","","","","","","","","","","","","","","","","","","","","","","","","","","","","","","","","","","","","","","","","","","","","","","","","","","","","","","","","","","","","",2,0,-2,0,0]
[null,null,null,null,null,null,30,null,null,null,null,null,null,null,null,null,null,null,null,null,null,null,null,null,null,null,null,null,null,null,null,null,null,null,null,null,null,null,null,null,null,null,null,null,null,null,null,null,null,null,null,null,null,null,null,null,null,null,null,null,null,null,null,null,null,null,null,null,null,null,null,null,null,null,null,null,null,null,null,null,null,null,null,null,null,null,null,null,null,null,null,null,null,null,null,null,null,null,null,null,null,null,null,null,null,null,null,null,null,null,null,null,null,null,null,null,null,null,null,null,null,null,null,null,null,null,null,null,null,null,null,null,null,null,null,null,null,null,null,null,null,null,null,null,null,null,null,null,null,null,null,null,null,null,null,null,null,null,null,null,null,null,null,null,null,null,null,null,null,null,null,null,null,null,null,null,null,null,null,null,null,null,null,null,null,null,null,30,"","","","","","","","","","","","","","","","","","","","","","","","","","","","","","","","","","","","","","","","","","","","","","","","","","","","","","","","","","","","","","","","","","","","","","","","","","","","","","","","","","","","","","","","","","","","","","","","","","","","","","","","","","","","","","","","","","","","","","","","","","","","","","","","","","","","","","","","","","","","","","","","","","","","","","","","","","","","","","","","","","","","","","","","","","","","","","","","","",2,0,-2,0,0]
[null,null,null,null,null,null,31,null,null,null,null,null,null,null,null,null,null,null,null,null,null,null,null,null,null,null,null,null,null,null,null,null,null,null,null,null,null,null,null,null,null,null,null,null,null,null,null,null,null,null,null,null,null,null,null,null,null,null,null,null,null,null,null,null,null,null,null,null,null,null,null,null,null,null,null,null,null,null,null,null,null,null,null,null,null,null,null,null,null,null,null,null,null,null,null,null,null,null,null,null,null,null,null,null,null,null,null,null,null,null,null,null,null,null,null,null,null,null,null,null,null,null,null,null,null,null,null,null,null,null,null,null,null,null,null,null,null,null,null,null,null,null,null,null,null,null,null,null,null,null,null,null,null,null,null,null,null,null,null,null,null,null,null,null,null,null,null,null,null,null,null,null,null,null,null,null,null,null,null,null,null,null,null,null,null,null,null,31,"","","","","","","","","","","","","","","","","","","","","","","","","","","","","","","","","","","","","","","","","","","","","","","",{"$f":"IF(BE51=\"\",\"\",IF(OR(BE51=1,BE51=2,BE51=3,BE51=4,BE51=5,BE51=99),1,0))","v":""},"","","","","","","","","","","","","","","","","","","","","","","","","","","","","","","",{"$f":"IF(CK51=\"\",\"\",IF(OR(CK51=1,CK51=2,CK51=3,CK51=4,CK51=5,CK51=99),1,0))","v":""},"","","","","","","","","","","","","","","","","","","","","","","","","","","","","","","",{"$f":"IF(DQ51=\"\",\"\",IF(OR(DQ51=1,DQ51=2,DQ51=3,DQ51=4,DQ51=5,DQ51=99),1,0))","v":""},"","","","","","","","","","","","","","","","","","","","","","","","","","","","","","","","","","","","","","","","","","","","","","","","","","","","","","","","","","","","","","","","","",2,0,-2,0,0]
[null,null,null,null,null,null,32,null,null,null,null,null,null,null,null,null,null,null,null,null,null,null,null,null,null,null,null,null,null,null,null,null,null,null,null,null,null,null,null,null,null,null,null,null,null,null,null,null,null,null,null,null,null,null,null,null,null,null,null,null,null,null,null,null,null,null,null,null,null,null,null,null,null,null,null,null,null,null,null,null,null,null,null,null,null,null,null,null,null,null,null,null,null,null,null,null,null,null,null,null,null,null,null,null,null,null,null,null,null,null,null,null,null,null,null,null,null,null,null,null,null,null,null,null,null,null,null,null,null,null,null,null,null,null,null,null,null,null,null,null,null,null,null,null,null,null,null,null,null,null,null,null,null,null,null,null,null,null,null,null,null,null,null,null,null,null,null,null,null,null,null,null,null,null,null,null,null,null,null,null,null,null,null,null,null,null,null,32,"","","","","","","","","","","","","","","","","","","","","","","","","","","","","","","","",{"$f":"IF(AP52=\"\",\"\",IF(OR(AP52=1,AP52=2,AP52=3,AP52=4,AP52=5,AP52=99),1,0))","v":""},"","","","","","","","","","","","","","","","","","","","","","","","","","","","","","","",{"$f":"IF(BV52=\"\",\"\",IF(OR(BV52=1,BV52=2,BV52=3,BV52=4,BV52=5,BV52=99),1,0))","v":""},"","","","","","","","","","","","","","","","","","","","","","","","","","","","","","","",{"$f":"IF(DB52=\"\",\"\",IF(OR(DB52=1,DB52=2,DB52=3,DB52=4,DB52=5,DB52=99),1,0))","v":""},"","","","","","","","","","","","","","","","","","","","","","","","","","","","","","","","","","","","","","","","","","","","","","","","","","","","","","","","","","","","","","","","","","","","","","","","","","","","","","","","",2,0,-2,0,0]
[null,null,null,null,null,null,33,null,null,null,null,null,null,null,null,null,null,null,null,null,null,null,null,null,null,null,null,null,null,null,null,null,null,null,null,null,null,null,null,null,null,null,null,null,null,null,null,null,null,null,null,null,null,null,null,null,null,null,null,null,null,null,null,null,null,null,null,null,null,null,null,null,null,null,null,null,null,null,null,null,null,null,null,null,null,null,null,null,null,null,null,null,null,null,null,null,null,null,null,null,null,null,null,null,null,null,null,null,null,null,null,null,null,null,null,null,null,null,null,null,null,null,null,null,null,null,null,null,null,null,null,null,null,null,null,null,null,null,null,null,null,null,null,null,null,null,null,null,null,null,null,null,null,null,null,null,null,null,null,null,null,null,null,null,null,null,null,null,null,null,null,null,null,null,null,null,null,null,null,null,null,null,null,null,null,null,null,33,"","","","","","","","","","","","","","","","","","","","","","","","","","","","","","","","","","","","","","","","","","","","","","","","","","","","","","","","","","","","","","","","","","","","","","","","","","","","","","","","","","","","","","","","","","","","","","","","","","","","","","","","","","","","","","","","","","","","","","","","","","","","","","","","","","","","","","","","","","","","","",{"$f":"IF(EU53=\"\",\"\",IF(OR(EU53=1,EU53=2,EU53=3,EU53=4,EU53=5,EU53=99),1,0))","v":""},"","","","","","","","","","","","","","","","","","","","","","","","","","","","","","","","","","","",2,0,-2,0,0]
[null,null,null,null,null,null,34,null,null,null,null,null,null,null,null,null,null,null,null,null,null,null,null,null,null,null,null,null,null,null,null,null,null,null,null,null,null,null,null,null,null,null,null,null,null,null,null,null,null,null,null,null,null,null,null,null,null,null,null,null,null,null,null,null,null,null,null,null,null,null,null,null,null,null,null,null,null,null,null,null,null,null,null,null,null,null,null,null,null,null,null,null,null,null,null,null,null,null,null,null,null,null,null,null,null,null,null,null,null,null,null,null,null,null,null,null,null,null,null,null,null,null,null,null,null,null,null,null,null,null,null,null,null,null,null,null,null,null,null,null,null,null,null,null,null,null,null,null,null,null,null,null,null,null,null,null,null,null,null,null,null,null,null,null,null,null,null,null,null,null,null,null,null,null,null,null,null,null,null,null,null,null,null,null,null,null,null,34,"","","","","","","","","","","","","","","","","","","","","","","","","","","","","","","","","","","","","","","","","","","","","","","","","","","","","","","","","","","","","","","","","","","","","","","","","","","","","","","","","","","","","","","","","","","","","","","","","","","","","","","","","","","","","","","","","","","","","","","","","","","","","","","","",{"$f":"IF(EH54=\"\",\"\",IF(OR(EH54=1,EH54=2,EH54=3,EH54=4,EH54=5,EH54=99),1,0))","v":""},"","","","","","","","","","","","","","","","","","","","","","","","","","","","","","","","","","","","","","","","","","","","","","","","",2,0,-2,0,0]
[null,null,null,null,null,null,35,null,null,null,null,null,null,null,null,null,null,null,null,null,null,null,null,null,null,null,null,null,null,null,null,null,null,null,null,null,null,null,null,null,null,null,null,null,null,null,null,null,null,null,null,null,null,null,null,null,null,null,null,null,null,null,null,null,null,null,null,null,null,null,null,null,null,null,null,null,null,null,null,null,null,null,null,null,null,null,null,null,null,null,null,null,null,null,null,null,null,null,null,null,null,null,null,null,null,null,null,null,null,null,null,null,null,null,null,null,null,null,null,null,null,null,null,null,null,null,null,null,null,null,null,null,null,null,null,null,null,null,null,null,null,null,null,null,null,null,null,null,null,null,null,null,null,null,null,null,null,null,null,null,null,null,null,null,null,null,null,null,null,null,null,null,null,null,null,null,null,null,null,null,null,null,null,null,null,null,null,35,"","","","","","","","","","","","","","","","","","","","","","","","","","","","","","","","","","","","","","","","","","","","","","","","","","","","","","","","","","","","","","","","","","","","","","","","","","","","","","","","","","","","","","","","","","","","","","","","","","","","","","","","","","","","","","","","","","","","","","","","","","","","","","","","","","","","","","","","","","","","","","","","","","","","","","","","","","","","","","","","","","","","","","","","","","","","","","","","","",2,0,-2,0,0]
[null,null,null,null,null,null,36,null,null,null,null,null,null,null,null,null,null,null,null,null,null,null,null,null,null,null,null,null,null,null,null,null,null,null,null,null,null,null,null,null,null,null,null,null,null,null,null,null,null,null,null,null,null,null,null,null,null,null,null,null,null,null,null,null,null,null,null,null,null,null,null,null,null,null,null,null,null,null,null,null,null,null,null,null,null,null,null,null,null,null,null,null,null,null,null,null,null,null,null,null,null,null,null,null,null,null,null,null,null,null,null,null,null,null,null,null,null,null,null,null,null,null,null,null,null,null,null,null,null,null,null,null,null,null,null,null,null,null,null,null,null,null,null,null,null,null,null,null,null,null,null,null,null,null,null,null,null,null,null,null,null,null,null,null,null,null,null,null,null,null,null,null,null,null,null,null,null,null,null,null,null,null,null,null,null,null,null,36,"","","","","","","","","","","","","","","","","","","","","","","",{"$f":"IF(AG56=\"\",\"\",IF(OR(AG56=1,AG56=2,AG56=3,AG56=4,AG56=5,AG56=99),1,0))","v":""},"","","","","","","","","","","","","","","","","","","","","","","","","","","","","","","","","","","","","","","","","","","","","","","","","","","","","","","","","","","","","","","","","","","","","","","","","","","","","","","","","","","","","","","","","","","","","","","","","","","","","","","","","","","","","","","","","","","","","","","","","","","","","","","","","","","","","","","","","","","","","","","","","","","","","","","","","",2,0,-2,0,0]
[null,null,null,null,null,null,37,null,null,null,null,null,null,null,null,null,null,null,null,null,null,null,null,null,null,null,null,null,null,null,null,null,null,null,null,null,null,null,null,null,null,null,null,null,null,null,null,null,null,null,null,null,null,null,null,null,null,null,null,null,null,null,null,null,null,null,null,null,null,null,null,null,null,null,null,null,null,null,null,null,null,null,null,null,null,null,null,null,null,null,null,null,null,null,null,null,null,null,null,null,null,null,null,null,null,null,null,null,null,null,null,null,null,null,null,null,null,null,null,null,null,null,null,null,null,null,null,null,null,null,null,null,null,null,null,null,null,null,null,null,null,null,null,null,null,null,null,null,null,null,null,null,null,null,null,null,null,null,null,null,null,null,null,null,null,null,null,null,null,null,null,null,null,null,null,null,null,null,null,null,null,null,null,null,null,null,null,37,"","","","","","","","","","","","","","","","",{"$f":"IF(Z57=\"\",\"\",IF(OR(Z57=1,Z57=2,Z57=3,Z57=4,Z57=5,Z57=99),1,0))","v":""},"","","","","","","","","","","","","","","","","","","","","","","","","","","","","","","","","","","","","","","","","","","","","","","","","","","","","","","","","","","","","","","","","","","","","","","","","","","","","","","","","","","","","","","","","","","","","","","","","","","","","","","","","","","","","","","","","","","","","","","","","","","","","","","","","","","","","","","","","","","","","","","","","","","","","","","","","","","","","","","","",2,0,-2,0,0]
[null,null,null,null,null,null,38,null,null,null,null,null,null,null,null,null,null,null,null,null,null,null,null,null,null,null,null,null,null,null,null,null,null,null,null,null,null,null,null,null,null,null,null,null,null,null,null,null,null,null,null,null,null,null,null,null,null,null,null,null,null,null,null,null,null,null,null,null,null,null,null,null,null,null,null,null,null,null,null,null,null,null,null,null,null,null,null,null,null,null,null,null,null,null,null,null,null,null,null,null,null,null,null,null,null,null,null,null,null,null,null,null,null,null,null,null,null,null,null,null,null,null,null,null,null,null,null,null,null,null,null,null,null,null,null,null,null,null,null,null,null,null,null,null,null,null,null,null,null,null,null,null,null,null,null,null,null,null,null,null,null,null,null,null,null,null,null,null,null,null,null,null,null,null,null,null,null,null,null,null,null,null,null,null,null,null,null,38,"","","","","","","","","","","","","","","","","","","","","","","","","","","","","","","","","","","","","","","","","","","","","","","","","","","","","","","","","","","","","","","","","","","","","","","","","","","","","","","","","","","","","","","","","","","","","","","","","","","","","","","","","","","","","","","","","","","","","","","","","","","","","","","","","","","","","","","","","","","","","","","","","","","","","","","","","","","","","","","","","","","","","","","","","","","","","","","","","",2,0,-2,0,0]
[null,null,null,null,null,null,39,null,null,null,null,null,null,null,null,null,null,null,null,null,null,null,null,null,null,null,null,null,null,null,null,null,null,null,null,null,null,null,null,null,null,null,null,null,null,null,null,null,null,null,null,null,null,null,null,null,null,null,null,null,null,null,null,null,null,null,null,null,null,null,null,null,null,null,null,null,null,null,null,null,null,null,null,null,null,null,null,null,null,null,null,null,null,null,null,null,null,null,null,null,null,null,null,null,null,null,null,null,null,null,null,null,null,null,null,null,null,null,null,null,null,null,null,null,null,null,null,null,null,null,null,null,null,null,null,null,null,null,null,null,null,null,null,null,null,null,null,null,null,null,null,null,null,null,null,null,null,null,null,null,null,null,null,null,null,null,null,null,null,null,null,null,null,null,null,null,null,null,null,null,null,null,null,null,null,null,null,39,"","","","","","","","","","","","","","","","","","","","","","","","","","","","","","","","","","","","","","","","","","","","","","","","","","","","","","","","","","","","","","","","","","","","","","","","","","","","","","","","","","","","","","","","","","","","","","","","","","","","","","","","","","","","","","","","","","","","","","","","","","","","","","","","","","","","","","","","","","","","","","","","","","","","","",{"$f":"IF(FC59=\"\",\"\",IF(OR(FC59=1,FC59=2,FC59=3,FC59=4,FC59=5,FC59=99),1,0))","v":""},"","","","","","","","","","","","","","","","","","","","","","","","","","","",2,0,-2,0,0]
[null,null,null,null,null,null,40,null,null,null,null,null,null,null,null,null,null,null,null,null,null,null,null,null,null,null,null,null,null,null,null,null,null,null,null,null,null,null,null,null,null,null,null,null,null,null,null,null,null,null,null,null,null,null,null,null,null,null,null,null,null,null,null,null,null,null,null,null,null,null,null,null,null,null,null,null,null,null,null,null,null,null,null,null,null,null,null,null,null,null,null,null,null,null,null,null,null,null,null,null,null,null,null,null,null,null,null,null,null,null,null,null,null,null,null,null,null,null,null,null,null,null,null,null,null,null,null,null,null,null,null,null,null,null,null,null,null,null,null,null,null,null,null,null,null,null,null,null,null,null,null,null,null,null,null,null,null,null,null,null,null,null,null,null,null,null,null,null,null,null,null,null,null,null,null,null,null,null,null,null,null,null,null,null,null,null,null,40,"","","","","","","","","","","","","","","",{"$f":"IF(Y60=\"\",\"\",IF(OR(Y60=1,Y60=2,Y60=3,Y60=4,Y60=5,Y60=99),1,0))","v":""},"","","","","","","","","","","","","","","","","","","","","","","","","","","","","","","","","","","","","","","","","","","","","","","","","","","","","","","","","","","","","","","","","","","","","","","","","","","","","","","","","","","","","","","","","","","","","","","","","","","","","","","","","","","","","","","","","","","","","","","","","","","","","","","","","","","","","","","","","","","","","","","","","","","","","","","","","","","","","","","","","",2,0,-2,0,0]
[null,null,null,null,null,null,41,null,null,null,null,null,null,null,null,null,null,null,null,null,null,null,null,null,null,null,null,null,null,null,null,null,null,null,null,null,null,null,null,null,null,null,null,null,null,null,null,null,null,null,null,null,null,null,null,null,null,null,null,null,null,null,null,null,null,null,null,null,null,null,null,null,null,null,null,null,null,null,null,null,null,null,null,null,null,null,null,null,null,null,null,null,null,null,null,null,null,null,null,null,null,null,null,null,null,null,null,null,null,null,null,null,null,null,null,null,null,null,null,null,null,null,null,null,null,null,null,null,null,null,null,null,null,null,null,null,null,null,null,null,null,null,null,null,null,null,null,null,null,null,null,null,null,null,null,null,null,null,null,null,null,null,null,null,null,null,null,null,null,null,null,null,null,null,null,null,null,null,null,null,null,null,null,null,null,null,null,41,{"$f":"IF(J61=\"\",\"\",IF(OR(J61=1,J61=2,J61=3,J61=4,J61=5,J61=99),1,0))","v":""},"","","","","","","","","","","","","","","","","","","","","","","","","","","","","","","","","","","","","","","","","","","","","","","","","","","","","","","","","","","","","","","","","","","","","","","","","","","","","","","","","","","","","","","","","","","","","","","","","","","","","","","","","","","","","","","","","","","","","","","","","","","","","","","","","","","","","","","","","","","","","","","","","","","","","","","","","","","","","","","","","","","","","","","","","","","","","","","","",2,0,-2,0,0]
[null,null,null,null,null,null,42,null,null,null,null,null,null,null,null,null,null,null,null,null,null,null,null,null,null,null,null,null,null,null,null,null,null,null,null,null,null,null,null,null,null,null,null,null,null,null,null,null,null,null,null,null,null,null,null,null,null,null,null,null,null,null,null,null,null,null,null,null,null,null,null,null,null,null,null,null,null,null,null,null,null,null,null,null,null,null,null,null,null,null,null,null,null,null,null,null,null,null,null,null,null,null,null,null,null,null,null,null,null,null,null,null,null,null,null,null,null,null,null,null,null,null,null,null,null,null,null,null,null,null,null,null,null,null,null,null,null,null,null,null,null,null,null,null,null,null,null,null,null,null,null,null,null,null,null,null,null,null,null,null,null,null,null,null,null,null,null,null,null,null,null,null,null,null,null,null,null,null,null,null,null,null,null,null,null,null,null,42,"","","","","","","","","","","","","","","","","","","","","","","","","","","","","","","","","","","","","","","","","","","","","","","","","","","","","","","","","","","","","","","","","","","","","","","","","","","","","","","","","","","","","","","","","","","","","","","","","","","","","","","","","","","","","","","","","","","","","","","","","","","","","","","","","","","","","","","","","","","","","","","","","","","","","","","","","","","","","","","","","","","","","","","","","","","","","","","","","",2,0,-2,0,0]
[null,null,null,null,null,null,43,null,null,null,null,null,null,null,null,null,null,null,null,null,null,null,null,null,null,null,null,null,null,null,null,null,null,null,null,null,null,null,null,null,null,null,null,null,null,null,null,null,null,null,null,null,null,null,null,null,null,null,null,null,null,null,null,null,null,null,null,null,null,null,null,null,null,null,null,null,null,null,null,null,null,null,null,null,null,null,null,null,null,null,null,null,null,null,null,null,null,null,null,null,null,null,null,null,null,null,null,null,null,null,null,null,null,null,null,null,null,null,null,null,null,null,null,null,null,null,null,null,null,null,null,null,null,null,null,null,null,null,null,null,null,null,null,null,null,null,null,null,null,null,null,null,null,null,null,null,null,null,null,null,null,null,null,null,null,null,null,null,null,null,null,null,null,null,null,null,null,null,null,null,null,null,null,null,null,null,null,43,"","","","","","","","","","","","","","","","","","","","","","","","","","","","","","","","","","","","","","","","","","","","","","","","","","","","","","","","","","","","","","","","","","","","","","","","","","","","","","","","","","","","","","","","","","","","","","","","","","","","","","","","","","","","","","","","","","","","","","","","","","","","","","","","","","","","","","","","","","","","","","","","","","","","","","","","","","","","","","","","","","","","","","","","","","","","","","","","","",2,0,-2,0,0]
[null,null,null,null,null,null,59,null,null,null,null,null,null,null,null,null,null,null,null,null,null,null,null,null,null,null,null,null,null,null,null,null,null,null,null,null,null,null,null,null,null,null,null,null,null,null,null,null,null,null,null,null,null,null,null,null,null,null,null,null,null,null,null,null,null,null,null,null,null,null,null,null,null,null,null,null,null,null,null,null,null,null,null,null,null,null,null,null,null,null,null,null,null,null,null,null,null,null,null,null,null,null,null,null,null,null,null,null,null,null,null,null,null,null,null,null,null,null,null,null,null,null,null,null,null,null,null,null,null,null,null,null,null,null,null,null,null,null,null,null,null,null,null,null,null,null,null,null,null,null,null,null,null,null,null,null,null,null,null,null,null,null,null,null,null,null,null,null,null,null,null,null,null,null,null,null,null,null,null,null,null,null,null,null,null,null,null,59,"","","","","","","","","","","","","","","","","","","","","","","","","","","","","","","","","","","","","","","","","","","","","","","","","","","","","","","","","","","","","","","","","","","","","","","","","","","","","","","","","","","","","","","","","","","","","","","","","","","","","","","","","","","","","","","","","","","","","","","","","","","","","","","","","","","","","","","","","","","","","","","","","","","","","","","","","","","","","","","","","","","","","","","","","","","","","","","","","",2,0,-2,0,0]
[null,null,null,null,null,null,74,null,null,null,null,null,null,null,null,null,null,null,null,null,null,null,null,null,null,null,null,null,null,null,null,null,null,null,null,null,null,null,null,null,null,null,null,null,null,null,null,null,null,null,null,null,null,null,null,null,null,null,null,null,null,null,null,null,null,null,null,null,null,null,null,null,null,null,null,null,null,null,null,null,null,null,null,null,null,null,null,null,null,null,null,null,null,null,null,null,null,null,null,null,null,null,null,null,null,null,null,null,null,null,null,null,null,null,null,null,null,null,null,null,null,null,null,null,null,null,null,null,null,null,null,null,null,null,null,null,null,null,null,null,null,null,null,null,null,null,null,null,null,null,null,null,null,null,null,null,null,null,null,null,null,null,null,null,null,null,null,null,null,null,null,null,null,null,null,null,null,null,null,null,null,null,null,null,null,null,null,74,"","","","","","","","","","","","","","","","","","","","","","","","","","","","","","","","","","","","","","","","","","","","","","","","","","","","","","","","","","","","","","","","","","","","","","","","","","","","","","","","","","","","","","","","","","","","","","","","","","","","","","","","","","","","","","","","","","","","","","","","","","","","","","","","","","","","","","","","","","","","","","","","","","","","","","","","","","","","","","","","","","","","","","","","","","","","","","","","","",2,0,-2,0,0]
[null,null,null,null,null,null,90,null,null,null,null,null,null,null,null,null,null,null,null,null,null,null,null,null,null,null,null,null,null,null,null,null,null,null,null,null,null,null,null,null,null,null,null,null,null,null,null,null,null,null,null,null,null,null,null,null,null,null,null,null,null,null,null,null,null,null,null,null,null,null,null,null,null,null,null,null,null,null,null,null,null,null,null,null,null,null,null,null,null,null,null,null,null,null,null,null,null,null,null,null,null,null,null,null,null,null,null,null,null,null,null,null,null,null,null,null,null,null,null,null,null,null,null,null,null,null,null,null,null,null,null,null,null,null,null,null,null,null,null,null,null,null,null,null,null,null,null,null,null,null,null,null,null,null,null,null,null,null,null,null,null,null,null,null,null,null,null,null,null,null,null,null,null,null,null,null,null,null,null,null,null,null,null,null,null,null,null,90,"","","","","","","","","","","","","","","","","","","","","","","","","","","","","","","","","","","","","","","","","","","","","","","","","","","","","","","","","","","","","","","","","","","","","","","","","","","","","","","","","","","","","","","","","","","","","","","","","","","","","","","","","","","","","","","","","","","","","","","","","","","","","","","","","","","","","","","","","","","","","","","","","","","","","","","","","","","","","","","","","","","","","","","","","","","","","","","","","",2,0,-2,0,0]
[null,null,null,null,null,null,116,null,null,null,null,null,null,null,null,null,null,null,null,null,null,null,null,null,null,null,null,null,null,null,null,null,null,null,null,null,null,null,null,null,null,null,null,null,null,null,null,null,null,null,null,null,null,null,null,null,null,null,null,null,null,null,null,null,null,null,null,null,null,null,null,null,null,null,null,null,null,null,null,null,null,null,null,null,null,null,null,null,null,null,null,null,null,null,null,null,null,null,null,null,null,null,null,null,null,null,null,null,null,null,null,null,null,null,null,null,null,null,null,null,null,null,null,null,null,null,null,null,null,null,null,null,null,null,null,null,null,null,null,null,null,null,null,null,null,null,null,null,null,null,null,null,null,null,null,null,null,null,null,null,null,null,null,null,null,null,null,null,null,null,null,null,null,null,null,null,null,null,null,null,null,null,null,null,null,null,null,116,"","","","","","","","","","","",{"$f":"IF(U136=\"\",\"\",IF(OR(U136=1,U136=2,U136=3,U136=4,U136=5,U136=99),1,0))","v":""},"","","","","","","","","","","","","","","","","","","","","","","","","","","","","","","","","","","","","","","","",{"$f":"IF(BJ136=\"\",\"\",IF(OR(BJ136=1,BJ136=2,BJ136=3,BJ136=4,BJ136=5,BJ136=99),1,0))","v":""},"","","","","","","","","","","","","","","","","","","","","","","","","","","","","","","","","","","","","","","","","","","","","","","","","","","","","","","","","","","","","","","","","","","","","","","","","","","","","","","","","","","","","","","","","","","","","","","","","","","","","","","","","","","","","","","","","","","","","","","","","","","","",2,0,-2,0,0]
[null,null,null,null,null,null,121,null,null,null,null,null,null,null,null,null,null,null,null,null,null,null,null,null,null,null,null,null,null,null,null,null,null,null,null,null,null,null,null,null,null,null,null,null,null,null,null,null,null,null,null,null,null,null,null,null,null,null,null,null,null,null,null,null,null,null,null,null,null,null,null,null,null,null,null,null,null,null,null,null,null,null,null,null,null,null,null,null,null,null,null,null,null,null,null,null,null,null,null,null,null,null,null,null,null,null,null,null,null,null,null,null,null,null,null,null,null,null,null,null,null,null,null,null,null,null,null,null,null,null,null,null,null,null,null,null,null,null,null,null,null,null,null,null,null,null,null,null,null,null,null,null,null,null,null,null,null,null,null,null,null,null,null,null,null,null,null,null,null,null,null,null,null,null,null,null,null,null,null,null,null,null,null,null,null,null,null,121,"","","","","","","","","","","","","","","","","","","","","","","","","","","","","","","","","","","","","","","","","","","","","","","","","","","","","","","","","","","","","","","","","","","","","","","","","","","","","","","","","","","","","","","","","","","","","","","","","","","","","","","","","","","","","","","","","","","","","","","","","","","","","","","","","","","","","","","","","","","","","","","","","","","","","","","","","","","","","","","","","","","","","","","","","","","","","","","","","",2,0,-2,0,0]
[null,null,null,null,null,null,137,null,null,null,null,null,null,null,null,null,null,null,null,null,null,null,null,null,null,null,null,null,null,null,null,null,null,null,null,null,null,null,null,null,null,null,null,null,null,null,null,null,null,null,null,null,null,null,null,null,null,null,null,null,null,null,null,null,null,null,null,null,null,null,null,null,null,null,null,null,null,null,null,null,null,null,null,null,null,null,null,null,null,null,null,null,null,null,null,null,null,null,null,null,null,null,null,null,null,null,null,null,null,null,null,null,null,null,null,null,null,null,null,null,null,null,null,null,null,null,null,null,null,null,null,null,null,null,null,null,null,null,null,null,null,null,null,null,null,null,null,null,null,null,null,null,null,null,null,null,null,null,null,null,null,null,null,null,null,null,null,null,null,null,null,null,null,null,null,null,null,null,null,null,null,null,null,null,null,null,null,137,"","","","","","","","","","","","","","","","","","","","","","","","","","","","","","","","","","","","","","","","","","","","","","","","","","","","","","","","","","","","","","","","","","","","","","","","","","","","","","","","","","","","","","",{"$f":"IF(CR157=\"\",\"\",IF(OR(CR157=1,CR157=2,CR157=3,CR157=4,CR157=5,CR157=99),1,0))","v":""},"","","","","","","","","","","","","","","","","","","","","","","","","","","","","","","","","","","","","","","","","","","","","","","","","","","","","","","","","","",{"$f":"IF(EY157=\"\",\"\",IF(OR(EY157=1,EY157=2,EY157=3,EY157=4,EY157=5,EY157=99),1,0))","v":""},"","","","","","","","","","","","","","","","","","","","","","","","","","","","","","","",2,0,-2,0,0]
[null,null,null,null,null,null,152,null,null,null,null,null,null,null,null,null,null,null,null,null,null,null,null,null,null,null,null,null,null,null,null,null,null,null,null,null,null,null,null,null,null,null,null,null,null,null,null,null,null,null,null,null,null,null,null,null,null,null,null,null,null,null,null,null,null,null,null,null,null,null,null,null,null,null,null,null,null,null,null,null,null,null,null,null,null,null,null,null,null,null,null,null,null,null,null,null,null,null,null,null,null,null,null,null,null,null,null,null,null,null,null,null,null,null,null,null,null,null,null,null,null,null,null,null,null,null,null,null,null,null,null,null,null,null,null,null,null,null,null,null,null,null,null,null,null,null,null,null,null,null,null,null,null,null,null,null,null,null,null,null,null,null,null,null,null,null,null,null,null,null,null,null,null,null,null,null,null,null,null,null,null,null,null,null,null,null,null,152,"","","","","","","","","","","","","","","","","","","","","","","","","","","","","","","","","","","","","","","","","","","","","","","","","","","","","","","","","","","","","","","","","","","","","","","","","","","","","","","","","","","","","","","","","","","","","","","","","","","","","","","","","","","","","","","","","","","","","","","","","","","","","","","","","","","","",{"$f":"IF(EL172=\"\",\"\",IF(OR(EL172=1,EL172=2,EL172=3,EL172=4,EL172=5,EL172=99),1,0))","v":""},"","","","","","","","","","","","","","","","","","","","","","","","","","","","","","","","","","","","","","","","","","","","",2,0,-2,0,0]
[null,null,null,null,null,null,168,null,null,null,null,null,null,null,null,null,null,null,null,null,null,null,null,null,null,null,null,null,null,null,null,null,null,null,null,null,null,null,null,null,null,null,null,null,null,null,null,null,null,null,null,null,null,null,null,null,null,null,null,null,null,null,null,null,null,null,null,null,null,null,null,null,null,null,null,null,null,null,null,null,null,null,null,null,null,null,null,null,null,null,null,null,null,null,null,null,null,null,null,null,null,null,null,null,null,null,null,null,null,null,null,null,null,null,null,null,null,null,null,null,null,null,null,null,null,null,null,null,null,null,null,null,null,null,null,null,null,null,null,null,null,null,null,null,null,null,null,null,null,null,null,null,null,null,null,null,null,null,null,null,null,null,null,null,null,null,null,null,null,null,null,null,null,null,null,null,null,null,null,null,null,null,null,null,null,null,null,168,"","","","","","","","","","","","","","","","","","","","","","","","","","","","","","","","","","","","","","","","","","","","","","","","","","","","","","","","","","","","","","","","","","","","","","","","","","","","","","","","","","","","","","","","","","","","","","","","","","","","","","","","","","","","","","","","","","","","","","","","","","","","","","","","","","","","","","","","","","","","","","","","","","","","","","","","","","","","","","","","","","","","","","","","","","","","","","","","","",2,0,-2,0,0]
[null,null,null,null,null,null,181,null,null,null,null,null,null,null,null,null,null,null,null,null,null,null,null,null,null,null,null,null,null,null,null,null,null,null,null,null,null,null,null,null,null,null,null,null,null,null,null,null,null,null,null,null,null,null,null,null,null,null,null,null,null,null,null,null,null,null,null,null,null,null,null,null,null,null,null,null,null,null,null,null,null,null,null,null,null,null,null,null,null,null,null,null,null,null,null,null,null,null,null,null,null,null,null,null,null,null,null,null,null,null,null,null,null,null,null,null,null,null,null,null,null,null,null,null,null,null,null,null,null,null,null,null,null,null,null,null,null,null,null,null,null,null,null,null,null,null,null,null,null,null,null,null,null,null,null,null,null,null,null,null,null,null,null,null,null,null,null,null,null,null,null,null,null,null,null,null,null,null,null,null,null,null,null,null,null,null,null,181,"","","","","","","","","","","","","","","","","","","","","","","","","","","","","","","","","","","","","","","","","","","","","","","","","","","","","","","","","","","","","","","","","","","","","","","","","","","","","","","","","","","","","","","","","","","","","","","","","","","","","","","","","","","","","","","","","","","","","","","","","","","","","","","","","","","","","","","","","","","","","","","","","","","","","","","","","","","","","","","","","","","","","","","","","","","","","","","","","",2,0,-2,0,0]
[null,null,null,null,null,null,199,null,null,null,null,null,null,null,null,null,null,null,null,null,null,null,null,null,null,null,null,null,null,null,null,null,null,null,null,null,null,null,null,null,null,null,null,null,null,null,null,null,null,null,null,null,null,null,null,null,null,null,null,null,null,null,null,null,null,null,null,null,null,null,null,null,null,null,null,null,null,null,null,null,null,null,null,null,null,null,null,null,null,null,null,null,null,null,null,null,null,null,null,null,null,null,null,null,null,null,null,null,null,null,null,null,null,null,null,null,null,null,null,null,null,null,null,null,null,null,null,null,null,null,null,null,null,null,null,null,null,null,null,null,null,null,null,null,null,null,null,null,null,null,null,null,null,null,null,null,null,null,null,null,null,null,null,null,null,null,null,null,null,null,null,null,null,null,null,null,null,null,null,null,null,null,null,null,null,null,null,199,"","","","","","","","","","","","","","","","","","","","","","","","","","","","","","","","","","","","","","","","","","","","","","","","","","","","","","","","","","","","","","","","","","","","","","","","","","","","","","","","","","","","","","","","","","","","","","","","","","","","","","","","","","","","","","","","","","","","","","","","","","","","","","","","","","","","","","","","","","","","","","","","","","","","","","","","","","","","","","","","","","","","","","","","","","","","","","","","","",2,0,-2,0,0]
[null,null,null,null,null,null,215,null,null,null,null,null,null,null,null,null,null,null,null,null,null,null,null,null,null,null,null,null,null,null,null,null,null,null,null,null,null,null,null,null,null,null,null,null,null,null,null,null,null,null,null,null,null,null,null,null,null,null,null,null,null,null,null,null,null,null,null,null,null,null,null,null,null,null,null,null,null,null,null,null,null,null,null,null,null,null,null,null,null,null,null,null,null,null,null,null,null,null,null,null,null,null,null,null,null,null,null,null,null,null,null,null,null,null,null,null,null,null,null,null,null,null,null,null,null,null,null,null,null,null,null,null,null,null,null,null,null,null,null,null,null,null,null,null,null,null,null,null,null,null,null,null,null,null,null,null,null,null,null,null,null,null,null,null,null,null,null,null,null,null,null,null,null,null,null,null,null,null,null,null,null,null,null,null,null,null,null,215,"","","","","","","","","","","","","","","","","","","","","","","","","","","","","","","","","","","","","","","","","","","","","","","","","","","","","","","","","","","","","","","","","","","","","","","","","","","","","","","","","","","","","","","","","","","","","","","","","","","","","","","","","","","","","","","","","","",{"$f":"IF(DT235=\"\",\"\",IF(OR(DT235=1,DT235=2,DT235=3,DT235=4,DT235=5,DT235=99),1,0))","v":""},"","","","","","","","","","","","","","","","","","","","","","","","","","","","","","","","","","","","","","","","","","","","","","","","","","","","","","","","","","","","","","",2,0,-2,0,0]
[null,null,null,null,null,null,230,null,null,null,null,null,null,null,null,null,null,null,null,null,null,null,null,null,null,null,null,null,null,null,null,null,null,null,null,null,null,null,null,null,null,null,null,null,null,null,null,null,null,null,null,null,null,null,null,null,null,null,null,null,null,null,null,null,null,null,null,null,null,null,null,null,null,null,null,null,null,null,null,null,null,null,null,null,null,null,null,null,null,null,null,null,null,null,null,null,null,null,null,null,null,null,null,null,null,null,null,null,null,null,null,null,null,null,null,null,null,null,null,null,null,null,null,null,null,null,null,null,null,null,null,null,null,null,null,null,null,null,null,null,null,null,null,null,null,null,null,null,null,null,null,null,null,null,null,null,null,null,null,null,null,null,null,null,null,null,null,null,null,null,null,null,null,null,null,null,null,null,null,null,null,null,null,null,null,null,null,230,"","","","","","","","","","","","","","","","","","","","","","","","","","","","","","","","","","","","","","","","","","","","","","","","","","","","","","","","","","","","","","","","","","","","","","","","","","","","","","","","","","","","","","","","","","","","","","","","","","","","","","","","","",{"$f":"IF(DK250=\"\",\"\",IF(OR(DK250=1,DK250=2,DK250=3,DK250=4,DK250=5,DK250=99),1,0))","v":""},"","","","","","","","","","","","","","","","","","","","","","","","","","","","","","","","","","","","","","","","","","","","","","","","","","","","","",{"$f":"IF(FM250=\"\",\"\",IF(OR(FM250=1,FM250=2,FM250=3,FM250=4,FM250=5,FM250=99),1,0))","v":""},"","","","","","","","","","","","","","","","","",2,0,-2,0,0]
[null,null,null,null,null,null,245,null,null,null,null,null,null,null,null,null,null,null,null,null,null,null,null,null,null,null,null,null,null,null,null,null,null,null,null,null,null,null,null,null,null,null,null,null,null,null,null,null,null,null,null,null,null,null,null,null,null,null,null,null,null,null,null,null,null,null,null,null,null,null,null,null,null,null,null,null,null,null,null,null,null,null,null,null,null,null,null,null,null,null,null,null,null,null,null,null,null,null,null,null,null,null,null,null,null,null,null,null,null,null,null,null,null,null,null,null,null,null,null,null,null,null,null,null,null,null,null,null,null,null,null,null,null,null,null,null,null,null,null,null,null,null,null,null,null,null,null,null,null,null,null,null,null,null,null,null,null,null,null,null,null,null,null,null,null,null,null,null,null,null,null,null,null,null,null,null,null,null,null,null,null,null,null,null,null,null,null,245,{"$f":"IF(J265=\"\",\"\",IF(OR(J265=1,J265=2,J265=3,J265=4,J265=5,J265=99),1,0))","v":""},"","","","","","","","","","","","","","","","","","","","","","","","","","","","","","","","","","","","","","","","","","","","","","","","","","","","","","","","","","","","","","","","","","","","","","","","","","","","","","","","","","","","","","","","","","","","","","","","","","","","","","","","","","","","","","","","","","","","","","","","","","","","","","","","","","","","","","","","","","","","","","","","","","","","","","","","","","","","","","","","","","","","","","","","","","","","","","","","",2,0,-2,0,0]
[null,null,null,null,null,null,262,null,null,null,null,null,null,null,null,null,null,null,null,null,null,null,null,null,null,null,null,null,null,null,null,null,null,null,null,null,null,null,null,null,null,null,null,null,null,null,null,null,null,null,null,null,null,null,null,null,null,null,null,null,null,null,null,null,null,null,null,null,null,null,null,null,null,null,null,null,null,null,null,null,null,null,null,null,null,null,null,null,null,null,null,null,null,null,null,null,null,null,null,null,null,null,null,null,null,null,null,null,null,null,null,null,null,null,null,null,null,null,null,null,null,null,null,null,null,null,null,null,null,null,null,null,null,null,null,null,null,null,null,null,null,null,null,null,null,null,null,null,null,null,null,null,null,null,null,null,null,null,null,null,null,null,null,null,null,null,null,null,null,null,null,null,null,null,null,null,null,null,null,null,null,null,null,null,null,null,null,262,"","","","","","","","","","","","","","","","","","","","","","","","","","","","",{"$f":"IF(AL282=\"\",\"\",IF(OR(AL282=1,AL282=2,AL282=3,AL282=4,AL282=5,AL282=99),1,0))","v":""},"","","","","","","","","","","","","","",{"$f":"IF(BA282=\"\",\"\",IF(OR(BA282=1,BA282=2,BA282=3,BA282=4,BA282=5,BA282=99),1,0))","v":""},"","","","","","","","","","","","","","","","","","","","","","","","","","","","","","","","","","","","","","","","","","","","","","","","","","","","","","","","","","","","","","","","","","","","","","","","","","","","","","","","","","","","","","","","","","","","","","","","","","","","","","","","","","","","","","","","","","","","","","","","","","","","","","","","","","","","","",2,0,-2,0,0]
[null,null,null,null,null,null,277,null,null,null,null,null,null,null,null,null,null,null,null,null,null,null,null,null,null,null,null,null,null,null,null,null,null,null,null,null,null,null,null,null,null,null,null,null,null,null,null,null,null,null,null,null,null,null,null,null,null,null,null,null,null,null,null,null,null,null,null,null,null,null,null,null,null,null,null,null,null,null,null,null,null,null,null,null,null,null,null,null,null,null,null,null,null,null,null,null,null,null,null,null,null,null,null,null,null,null,null,null,null,null,null,null,null,null,null,null,null,null,null,null,null,null,null,null,null,null,null,null,null,null,null,null,null,null,null,null,null,null,null,null,null,null,null,null,null,null,null,null,null,null,null,null,null,null,null,null,null,null,null,null,null,null,null,null,null,null,null,null,null,null,null,null,null,null,null,null,null,null,null,null,null,null,null,null,null,null,null,277,"","","","","","","","","","","","","","","","","","","","","","","","","","","","","","","","","","","","","","","","","","","","","","","","","","","","","","","","","","","","","","","","","","","","","","","","","","","","","","","","","","","","","","","","","","","","","","","","","","","","","","","","","","","","","","","","","","","","","","","","","","","","","","","","","","","","","","","","","","","","","","","","","","","","","","","","","","","","","","","","","","","","","","","","","","","","","","","","","",2,0,-2,0,0]
[null,null,null,null,null,null,293,null,null,null,null,null,null,null,null,null,null,null,null,null,null,null,null,null,null,null,null,null,null,null,null,null,null,null,null,null,null,null,null,null,null,null,null,null,null,null,null,null,null,null,null,null,null,null,null,null,null,null,null,null,null,null,null,null,null,null,null,null,null,null,null,null,null,null,null,null,null,null,null,null,null,null,null,null,null,null,null,null,null,null,null,null,null,null,null,null,null,null,null,null,null,null,null,null,null,null,null,null,null,null,null,null,null,null,null,null,null,null,null,null,null,null,null,null,null,null,null,null,null,null,null,null,null,null,null,null,null,null,null,null,null,null,null,null,null,null,null,null,null,null,null,null,null,null,null,null,null,null,null,null,null,null,null,null,null,null,null,null,null,null,null,null,null,null,null,null,null,null,null,null,null,null,null,null,null,null,null,293,"","","","","","","","","","","","","","","","","","","","","","","","","","","","","","","","","","","","","","","","","","","","","","","","","","","","","","","","","","","","","","","","","","","","","","","","","","","","","","","","","","","","","","","","","","","","","","","","","","","","","","","","","","","","","","","","","","","","","","","","","","","","","","","","","","","","","","","","","","","","","","","","","","","","","","","","","","","","","","","","","","","","","","","","","","","","","","","","","",2,0,-2,0,0]
[null,null,null,null,null,null,308,null,null,null,null,null,null,null,null,null,null,null,null,null,null,null,null,null,null,null,null,null,null,null,null,null,null,null,null,null,null,null,null,null,null,null,null,null,null,null,null,null,null,null,null,null,null,null,null,null,null,null,null,null,null,null,null,null,null,null,null,null,null,null,null,null,null,null,null,null,null,null,null,null,null,null,null,null,null,null,null,null,null,null,null,null,null,null,null,null,null,null,null,null,null,null,null,null,null,null,null,null,null,null,null,null,null,null,null,null,null,null,null,null,null,null,null,null,null,null,null,null,null,null,null,null,null,null,null,null,null,null,null,null,null,null,null,null,null,null,null,null,null,null,null,null,null,null,null,null,null,null,null,null,null,null,null,null,null,null,null,null,null,null,null,null,null,null,null,null,null,null,null,null,null,null,null,null,null,null,null,308,"","","","","","","","","","","","","","","","","","","","","","","","","","","","","","","","","","","","","","","","","","","","","","","","","","","","","","","","","","","","","","","","","","","","","","","","","","","","","","","","","","","","","","","","","","","","","","","","","","","","","","","","","","","","","","","","","","","","","","","","","","","","","","","","","","","","","","","","","","","","","","","","","","","","","","","","","","","","","","","","","","","","","","","","","","","","","","","","","",2,0,-2,0,0]
[null,null,null,null,null,null,323,null,null,null,null,null,null,null,null,null,null,null,null,null,null,null,null,null,null,null,null,null,null,null,null,null,null,null,null,null,null,null,null,null,null,null,null,null,null,null,null,null,null,null,null,null,null,null,null,null,null,null,null,null,null,null,null,null,null,null,null,null,null,null,null,null,null,null,null,null,null,null,null,null,null,null,null,null,null,null,null,null,null,null,null,null,null,null,null,null,null,null,null,null,null,null,null,null,null,null,null,null,null,null,null,null,null,null,null,null,null,null,null,null,null,null,null,null,null,null,null,null,null,null,null,null,null,null,null,null,null,null,null,null,null,null,null,null,null,null,null,null,null,null,null,null,null,null,null,null,null,null,null,null,null,null,null,null,null,null,null,null,null,null,null,null,null,null,null,null,null,null,null,null,null,null,null,null,null,null,null,323,"","","","","","","","","","","","","","","","","","","","","","","","","","","","","","","","","","","",{"$f":"IF(AS343=\"\",\"\",IF(OR(AS343=1,AS343=2,AS343=3,AS343=4,AS343=5,AS343=99),1,0))","v":""},"","","","","","","","","","","","","","","","","","","","","","","","","","","","","","","","","","","","","","","","","","","","","","","","","","","","","","","","","","","","","","","","","","","","","","","","","","","","","","","","","","","","","","","","","","","","","","","","","","","","","","","","","","","","","","","","","","","","","","","","","","","","","","","","","","","","","","","","","","","","","",2,0,-2,0,0]
[null,null,null,null,null,null,343,null,null,null,null,null,null,null,null,null,null,null,null,null,null,null,null,null,null,null,null,null,null,null,null,null,null,null,null,null,null,null,null,null,null,null,null,null,null,null,null,null,null,null,null,null,null,null,null,null,null,null,null,null,null,null,null,null,null,null,null,null,null,null,null,null,null,null,null,null,null,null,null,null,null,null,null,null,null,null,null,null,null,null,null,null,null,null,null,null,null,null,null,null,null,null,null,null,null,null,null,null,null,null,null,null,null,null,null,null,null,null,null,null,null,null,null,null,null,null,null,null,null,null,null,null,null,null,null,null,null,null,null,null,null,null,null,null,null,null,null,null,null,null,null,null,null,null,null,null,null,null,null,null,null,null,null,null,null,null,null,null,null,null,null,null,null,null,null,null,null,null,null,null,null,null,null,null,null,null,null,343,"","","","","","","","","","","","","","","","","","","","","","","","","","","","","","","","","","","","","","","","","","","","","","","","","","","","","","","","","","","","","","","","","","","","","","","","","","","","","","","","","","","","","","","","","","","","","","","","","","","","","","","","","","","","","","","","","","","","","","","","","","","","","","","","","","","","","","","","","","","","","","","","","","","","",{"$f":"IF(FB363=\"\",\"\",IF(OR(FB363=1,FB363=2,FB363=3,FB363=4,FB363=5,FB363=99),1,0))","v":""},"","","","","","","","","","","","","","","","","","","","","","","","","","","","",2,0,-2,0,0]
[null,null,null,null,null,null,355,null,null,null,null,null,null,null,null,null,null,null,null,null,null,null,null,null,null,null,null,null,null,null,null,null,null,null,null,null,null,null,null,null,null,null,null,null,null,null,null,null,null,null,null,null,null,null,null,null,null,null,null,null,null,null,null,null,null,null,null,null,null,null,null,null,null,null,null,null,null,null,null,null,null,null,null,null,null,null,null,null,null,null,null,null,null,null,null,null,null,null,null,null,null,null,null,null,null,null,null,null,null,null,null,null,null,null,null,null,null,null,null,null,null,null,null,null,null,null,null,null,null,null,null,null,null,null,null,null,null,null,null,null,null,null,null,null,null,null,null,null,null,null,null,null,null,null,null,null,null,null,null,null,null,null,null,null,null,null,null,null,null,null,null,null,null,null,null,null,null,null,null,null,null,null,null,null,null,null,null,355,"","","","","","","","","","","","","","","","",{"$f":"IF(Z375=\"\",\"\",IF(OR(Z375=1,Z375=2,Z375=3,Z375=4,Z375=5,Z375=99),1,0))","v":""},"","","","","","","","","","","","","","","","","","","","","","","","","","","","","","","","","","","","","","","","","","","","","","","","","","","","","","","","","","","","","","","","","","","","","","","","","","","","","","","","","","","","","","","","","","","","","","","","","","","","","","","","","","","","","","","","","","","","","","","","","","","","","","","","","","","","","","","","","","","","","","","","","","","","","","","","","","","","","","","","",2,0,-2,0,0]
[null,null,null,null,null,null,371,null,null,null,null,null,null,null,null,null,null,null,null,null,null,null,null,null,null,null,null,null,null,null,null,null,null,null,null,null,null,null,null,null,null,null,null,null,null,null,null,null,null,null,null,null,null,null,null,null,null,null,null,null,null,null,null,null,null,null,null,null,null,null,null,null,null,null,null,null,null,null,null,null,null,null,null,null,null,null,null,null,null,null,null,null,null,null,null,null,null,null,null,null,null,null,null,null,null,null,null,null,null,null,null,null,null,null,null,null,null,null,null,null,null,null,null,null,null,null,null,null,null,null,null,null,null,null,null,null,null,null,null,null,null,null,null,null,null,null,null,null,null,null,null,null,null,null,null,null,null,null,null,null,null,null,null,null,null,null,null,null,null,null,null,null,null,null,null,null,null,null,null,null,null,null,null,null,null,null,null,371,"","","","","","","","","","","","","","","","","","","","","","","","","","","","","","","","","","","","","","","","","","","","","","","","","","","","","","","","","","","","","","","","","","","","","","","","","","","","","","","","","","","","","","","","","","","","","","","","","","","","","","","","","","","","","","","","","","","","","","","","","","","","","","","","","","","","","","","","","","","","","","","","","","","","","","","","","","","","","","","","","","","","","","","","","","","","","","","","","",2,0,-2,0,0]
[null,null,null,null,null,null,386,null,null,null,null,null,null,null,null,null,null,null,null,null,null,null,null,null,null,null,null,null,null,null,null,null,null,null,null,null,null,null,null,null,null,null,null,null,null,null,null,null,null,null,null,null,null,null,null,null,null,null,null,null,null,null,null,null,null,null,null,null,null,null,null,null,null,null,null,null,null,null,null,null,null,null,null,null,null,null,null,null,null,null,null,null,null,null,null,null,null,null,null,null,null,null,null,null,null,null,null,null,null,null,null,null,null,null,null,null,null,null,null,null,null,null,null,null,null,null,null,null,null,null,null,null,null,null,null,null,null,null,null,null,null,null,null,null,null,null,null,null,null,null,null,null,null,null,null,null,null,null,null,null,null,null,null,null,null,null,null,null,null,null,null,null,null,null,null,null,null,null,null,null,null,null,null,null,null,null,null,386,"","","","","","","","","","","","","","","","","","","","","","","","","","","","","","","","","","","","","","","","","","","","","","","","",{"$f":"IF(BF406=\"\",\"\",IF(OR(BF406=1,BF406=2,BF406=3,BF406=4,BF406=5,BF406=99),1,0))","v":""},"","","","","","","","","","","","","","","","","","","","","","","","","","","","","","","","","","","","","","","","","","","","","","","","","","","","","","","","","","","","","","","","","","","","","","","","","","","","","","","","","","","","","","","","","","","","","","","","","","","","","","","","","","","","","","","","",{"$f":"IF(FO406=\"\",\"\",IF(OR(FO406=1,FO406=2,FO406=3,FO406=4,FO406=5,FO406=99),1,0))","v":""},"","","","","","","","","","","",{"$f":"IF(GA406=\"\",\"\",IF(OR(GA406=1,GA406=2,GA406=99),1,0))","v":""},{"$f":"IF(GB406=\"\",\"\",IF(OR(GB406=1,GB406=2,GB406=3,GB406=4,GB406=5,GB406=99),1,0))","v":""},{"$f":"IF(GC406=\"\",\"\",IF(AND(LEN(GC406)=5),1,0))","v":""},"",{"$f":"SUM($J$11:$GD$11)","v":2},{"$f":"SUM(GG406:NA406)","v":0},{"$f":"NC406-NB406","v":-2},{"$f":"IF(NC406>0, 1, 0)","v":0},{"$f":"IF(AND(NE406=1,ND406=0),0,IF(NE406=0,0,1))","v":0}]
[null,null,null,null,null,null,392,null,null,null,null,null,null,null,null,null,null,null,null,null,null,null,null,null,null,null,null,null,null,null,null,null,null,null,null,null,null,null,null,null,null,null,null,null,null,null,null,null,null,null,null,null,null,null,null,null,null,null,null,null,null,null,null,null,null,null,null,null,null,null,null,null,null,null,null,null,null,null,null,null,null,null,null,null,null,null,null,null,null,null,null,null,null,null,null,null,null,null,null,null,null,null,null,null,null,null,null,null,null,null,null,null,null,null,null,null,null,null,null,null,null,null,null,null,null,null,null,null,null,null,null,null,null,null,null,null,null,null,null,null,null,null,null,null,null,null,null,null,null,null,null,null,null,null,null,null,null,null,null,null,null,null,null,null,null,null,null,null,null,null,null,null,null,null,null,null,null,null,null,null,null,null,null,null,null,null,null,392,"","","","","","","","","","","","","","","","","","","","","","","","","","","","","","","","","","","","","","","","","","","","","","","","","","","","","","","","","","","","","","","","","","","","","","","","","","","","","","","","","","","","","","","","","","","","","","","","","","","","","","","","","","","","","","","","","","","",{"$f":"IF(DU412=\"\",\"\",IF(OR(DU412=1,DU412=2,DU412=3,DU412=4,DU412=5,DU412=99),1,0))","v":""},"","","","","","","","","","","","","","","","","","","","","","","","","","","","","","","","","","","","","","","","","","","","","","","","","","","","","","","","","","","","","",2,0,-2,0,0]
[null,null,null,null,null,null,418,null,null,null,null,null,null,null,null,null,null,null,null,null,null,null,null,null,null,null,null,null,null,null,null,null,null,null,null,null,null,null,null,null,null,null,null,null,null,null,null,null,null,null,null,null,null,null,null,null,null,null,null,null,null,null,null,null,null,null,null,null,null,null,null,null,null,null,null,null,null,null,null,null,null,null,null,null,null,null,null,null,null,null,null,null,null,null,null,null,null,null,null,null,null,null,null,null,null,null,null,null,null,null,null,null,null,null,null,null,null,null,null,null,null,null,null,null,null,null,null,null,null,null,null,null,null,null,null,null,null,null,null,null,null,null,null,null,null,null,null,null,null,null,null,null,null,null,null,null,null,null,null,null,null,null,null,null,null,null,null,null,null,null,null,null,null,null,null,null,null,null,null,null,null,null,null,null,null,null,null,418,"","","","","","","","","","","","","","","","","","","","","","","","","","","","","","","","","","","","","","","","","","","","","","","","","","","","","","","","","","","","","","","","","","","","","","","","","","","","","","","","","","","","","","","","","","","","","","","","","","","","","","","","","","","","","","","","","","","","","","","","","","","","","","","","","","","","","","","","","","","","","","","","","","","","","","","","","","","","","","","","","","","","","","","","","","","","","","","","","",2,0,-2,0,0]
[null,null,null,null,null,null,433,null,null,null,null,null,null,null,null,null,null,null,null,null,null,null,null,null,null,null,null,null,null,null,null,null,null,null,null,null,null,null,null,null,null,null,null,null,null,null,null,null,null,null,null,null,null,null,null,null,null,null,null,null,null,null,null,null,null,null,null,null,null,null,null,null,null,null,null,null,null,null,null,null,null,null,null,null,null,null,null,null,null,null,null,null,null,null,null,null,null,null,null,null,null,null,null,null,null,null,null,null,null,null,null,null,null,null,null,null,null,null,null,null,null,null,null,null,null,null,null,null,null,null,null,null,null,null,null,null,null,null,null,null,null,null,null,null,null,null,null,null,null,null,null,null,null,null,null,null,null,null,null,null,null,null,null,null,null,null,null,null,null,null,null,null,null,null,null,null,null,null,null,null,null,null,null,null,null,null,null,433,"","","","","","","","","","","","","","","","","","","","","","","","","","","","","","","","","","","","","","","","","","","","","","","","","","","","","","","","","","","","","","","","","","","","","","","","","","","","","","","","","","","","","","","","","","","","","","","","","","","","","","","","","","","","","","","","","","","","","","","","","","","","","","","","","","","","","","","","","","","","","","","","","","","","","","","","","","","","","","","","","","","","","","","","","","","","","","","","","",2,0,-2,0,0]
[null,null,null,null,null,null,448,null,null,null,null,null,null,null,null,null,null,null,null,null,null,null,null,null,null,null,null,null,null,null,null,null,null,null,null,null,null,null,null,null,null,null,null,null,null,null,null,null,null,null,null,null,null,null,null,null,null,null,null,null,null,null,null,null,null,null,null,null,null,null,null,null,null,null,null,null,null,null,null,null,null,null,null,null,null,null,null,null,null,null,null,null,null,null,null,null,null,null,null,null,null,null,null,null,null,null,null,null,null,null,null,null,null,null,null,null,null,null,null,null,null,null,null,null,null,null,null,null,null,null,null,null,null,null,null,null,null,null,null,null,null,null,null,null,null,null,null,null,null,null,null,null,null,null,null,null,null,null,null,null,null,null,null,null,null,null,null,null,null,null,null,null,null,null,null,null,null,null,null,null,null,null,null,null,null,null,null,448,"","","","","","","","","","","","","","","","","","","","","","","","","","","","","","","","","","","","","","","","","","","","","","","","","","","","","","","","","","","","","","","","","","","","","","","","","","","","","","","","","","","","","","","","","","","","","","","","","","","","","","","","","","","","","","","","","","","","","","","","","","","","","","","","","","","","","","","","","","","","","","","","","","","","","","","","","","","","","","","","","","","","","","","","",{"$f":"IF(FV468=\"\",\"\",IF(OR(FV468=1,FV468=2,FV468=3,FV468=4,FV468=5,FV468=99),1,0))","v":""},"","","","","","","","",2,0,-2,0,0]
[null,null,null,null,null,null,464,null,null,null,null,null,null,null,null,null,null,null,null,null,null,null,null,null,null,null,null,null,null,null,null,null,null,null,null,null,null,null,null,null,null,null,null,null,null,null,null,null,null,null,null,null,null,null,null,null,null,null,null,null,null,null,null,null,null,null,null,null,null,null,null,null,null,null,null,null,null,null,null,null,null,null,null,null,null,null,null,null,null,null,null,null,null,null,null,null,null,null,null,null,null,null,null,null,null,null,null,null,null,null,null,null,null,null,null,null,null,null,null,null,null,null,null,null,null,null,null,null,null,null,null,null,null,null,null,null,null,null,null,null,null,null,null,null,null,null,null,null,null,null,null,null,null,null,null,null,null,null,null,null,null,null,null,null,null,null,null,null,null,null,null,null,null,null,null,null,null,null,null,null,null,null,null,null,null,null,null,464,"","","","","","","","","","","","","","","","","","","","","","","","","","","","","","","","","","","","","","","","","","","","",{"$f":"IF(BB484=\"\",\"\",IF(OR(BB484=1,BB484=2,BB484=3,BB484=4,BB484=5,BB484=99),1,0))","v":""},"","","","",{"$f":"IF(BG484=\"\",\"\",IF(OR(BG484=1,BG484=2,BG484=3,BG484=4,BG484=5,BG484=99),1,0))","v":""},"","","","","","","","","","","","","","","","","","","","","","","","","","","","","","","","","","","","","","","","","","","","","","","","","","","","","","","","","","","","","","","","","","","","","","","","","","","","","","","","","","","","","","","","","","","","","","","","","","","","","","","","","","","","","","","","","","","","","","","","","","","","","","","",2,0,-2,0,0]
[null,null,null,null,null,null,473,null,null,null,null,null,null,null,null,null,null,null,null,null,null,null,null,null,null,null,null,null,null,null,null,null,null,null,null,null,null,null,null,null,null,null,null,null,null,null,null,null,null,null,null,null,null,null,null,null,null,null,null,null,null,null,null,null,null,null,null,null,null,null,null,null,null,null,null,null,null,null,null,null,null,null,null,null,null,null,null,null,null,null,null,null,null,null,null,null,null,null,null,null,null,null,null,null,null,null,null,null,null,null,null,null,null,null,null,null,null,null,null,null,null,null,null,null,null,null,null,null,null,null,null,null,null,null,null,null,null,null,null,null,null,null,null,null,null,null,null,null,null,null,null,null,null,null,null,null,null,null,null,null,null,null,null,null,null,null,null,null,null,null,null,null,null,null,null,null,null,null,null,null,null,null,null,null,null,null,null,473,"","","","","","","","","","","","","","","","","","","","","","","","","","","","","","","","","","","","","","","","","","","","","","","","","","","","","","","","","","","","","","","","","","","","","","","","","","","","","","","","","","","","","","","","","","","","","","","","","","","","","","","","","","","","","","","","","","","","","","","","","","","","","","","","","","","","","","","","","","","","","","","","","","","","","","","","","","","","","","","","","","","","","","","","","","","","","","","","","",2,0,-2,0,0]
[null,null,null,null,null,null,496,null,null,null,null,null,null,null,null,null,null,null,null,null,null,null,null,null,null,null,null,null,null,null,null,null,null,null,null,null,null,null,null,null,null,null,null,null,null,null,null,null,null,null,null,null,null,null,null,null,null,null,null,null,null,null,null,null,null,null,null,null,null,null,null,null,null,null,null,null,null,null,null,null,null,null,null,null,null,null,null,null,null,null,null,null,null,null,null,null,null,null,null,null,null,null,null,null,null,null,null,null,null,null,null,null,null,null,null,null,null,null,null,null,null,null,null,null,null,null,null,null,null,null,null,null,null,null,null,null,null,null,null,null,null,null,null,null,null,null,null,null,null,null,null,null,null,null,null,null,null,null,null,null,null,null,null,null,null,null,null,null,null,null,null,null,null,null,null,null,null,null,null,null,null,null,null,null,null,null,null,496,"","","","","","","","","","","","","","","","","","","","","","","","","","","","","","","","","","","","","","","","","","","","","","","","","","","","","","","","","","","","","","","","","","","","","","","","","","","","","","","","","","","","","","","","","","","","","","","","","","","","","","","","","","","","","","","","","","","","","","","",{"$f":"IF(DY516=\"\",\"\",IF(OR(DY516=1,DY516=2,DY516=3,DY516=4,DY516=5,DY516=99),1,0))","v":""},"","","","","","","","","","","","","","","","","","","","","","","","","","","","","","","","","","","","","","","","","","","","","","","","","","","","","","","","","",2,0,-2,0,0]
[null,null,null,null,null,null,511,null,null,null,null,null,null,null,null,null,null,null,null,null,null,null,null,null,null,null,null,null,null,null,null,null,null,null,null,null,null,null,null,null,null,null,null,null,null,null,null,null,null,null,null,null,null,null,null,null,null,null,null,null,null,null,null,null,null,null,null,null,null,null,null,null,null,null,null,null,null,null,null,null,null,null,null,null,null,null,null,null,null,null,null,null,null,null,null,null,null,null,null,null,null,null,null,null,null,null,null,null,null,null,null,null,null,null,null,null,null,null,null,null,null,null,null,null,null,null,null,null,null,null,null,null,null,null,null,null,null,null,null,null,null,null,null,null,null,null,null,null,null,null,null,null,null,null,null,null,null,null,null,null,null,null,null,null,null,null,null,null,null,null,null,null,null,null,null,null,null,null,null,null,null,null,null,null,null,null,null,511,"","","","","","","","","","","","","","","","","","","","","","","","","","","","","","","","","","","","","","","","","","","","","","","","","","","","","","","","","","","","","","","","","","","","","","","","","","","","","","","","","","","","","","","","","","","","","","","","","","","","","","","","","","","","","","","","","","","","","","","","","","","","","","","","","","","","","","","","","","","","","","","","","","","","","","","","","","","","","","","","","","","","","","","","","","","","","","","","","",2,0,-2,0,0]
[null,null,null,null,null,null,526,null,null,null,null,null,null,null,null,null,null,null,null,null,null,null,null,null,null,null,null,null,null,null,null,null,null,null,null,null,null,null,null,null,null,null,null,null,null,null,null,null,null,null,null,null,null,null,null,null,null,null,null,null,null,null,null,null,null,null,null,null,null,null,null,null,null,null,null,null,null,null,null,null,null,null,null,null,null,null,null,null,null,null,null,null,null,null,null,null,null,null,null,null,null,null,null,null,null,null,null,null,null,null,null,null,null,null,null,null,null,null,null,null,null,null,null,null,null,null,null,null,null,null,null,null,null,null,null,null,null,null,null,null,null,null,null,null,null,null,null,null,null,null,null,null,null,null,null,null,null,null,null,null,null,null,null,null,null,null,null,null,null,null,null,null,null,null,null,null,null,null,null,null,null,null,null,null,null,null,null,526,"","","","","","","","","","","","","","","","","","","","","","","","","","","","","","","","","","","","","","","","","","","","","","","","","","","","","","","","","","","","","","","","","","","","","","","","","","","","","","","","","","","","","","","","","","","","","","","","","","","","","","","","","","","","","","","","","","","","","","","","","","","","","","","","","","","","","","","","","","","","","","","","","","","","","","","","","","","","","","","","","","","","","","","","","","","","","","","","","",2,0,-2,0,0]
[null,null,null,null,null,null,542,null,null,null,null,null,null,null,null,null,null,null,null,null,null,null,null,null,null,null,null,null,null,null,null,null,null,null,null,null,null,null,null,null,null,null,null,null,null,null,null,null,null,null,null,null,null,null,null,null,null,null,null,null,null,null,null,null,null,null,null,null,null,null,null,null,null,null,null,null,null,null,null,null,null,null,null,null,null,null,null,null,null,null,null,null,null,null,null,null,null,null,null,null,null,null,null,null,null,null,null,null,null,null,null,null,null,null,null,null,null,null,null,null,null,null,null,null,null,null,null,null,null,null,null,null,null,null,null,null,null,null,null,null,null,null,null,null,null,null,null,null,null,null,null,null,null,null,null,null,null,null,null,null,null,null,null,null,null,null,null,null,null,null,null,null,null,null,null,null,null,null,null,null,null,null,null,null,null,null,null,542,"","","","","","","","","","","","","","","","","","","","","","","","","","","","","","",{"$f":"IF(AN562=\"\",\"\",IF(OR(AN562=1,AN562=2,AN562=3,AN562=4,AN562=5,AN562=99),1,0))","v":""},"","","","","","","","","","","","","","","","","","","","","","","","","","","","","","","","","","","","","","","","","","","","","","","","","","","","","","","","","","","","","","","","","","","","","","","","","","","","","","","","","","","","","","","","","","","","","","","","","","","","","","","","","","","","","","","","","","","","","","","","","","","","","","","","","","","","","","","","","","","","","","","","","","",2,0,-2,0,0]
[null,null,null,null,null,null,554,null,null,null,null,null,null,null,null,null,null,null,null,null,null,null,null,null,null,null,null,null,null,null,null,null,null,null,null,null,null,null,null,null,null,null,null,null,null,null,null,null,null,null,null,null,null,null,null,null,null,null,null,null,null,null,null,null,null,null,null,null,null,null,null,null,null,null,null,null,null,null,null,null,null,null,null,null,null,null,null,null,null,null,null,null,null,null,null,null,null,null,null,null,null,null,null,null,null,null,null,null,null,null,null,null,null,null,null,null,null,null,null,null,null,null,null,null,null,null,null,null,null,null,null,null,null,null,null,null,null,null,null,null,null,null,null,null,null,null,null,null,null,null,null,null,null,null,null,null,null,null,null,null,null,null,null,null,null,null,null,null,null,null,null,null,null,null,null,null,null,null,null,null,null,null,null,null,null,null,null,554,"","","","","","","","","","","","","","","","","","","","","","","","","","","","","","","","","","","","","","","","","","","","","","","","","","","","","","","","","","","","","","","","","","","","","","","","","","","","","","","","","","","","","","","","","","","","","","","","","","","","","","","","","","","","","","","","","","","","","","","","","","","","","","","","","","","","","","","","","","","","","","","","","","","","","","","","","","","","","","","","","","","","","","","","","","","","","","","","","",2,0,-2,0,0]
[null,null,null,null,null,null,573,null,null,null,null,null,null,null,null,null,null,null,null,null,null,null,null,null,null,null,null,null,null,null,null,null,null,null,null,null,null,null,null,null,null,null,null,null,null,null,null,null,null,null,null,null,null,null,null,null,null,null,null,null,null,null,null,null,null,null,null,null,null,null,null,null,null,null,null,null,null,null,null,null,null,null,null,null,null,null,null,null,null,null,null,null,null,null,null,null,null,null,null,null,null,null,null,null,null,null,null,null,null,null,null,null,null,null,null,null,null,null,null,null,null,null,null,null,null,null,null,null,null,null,null,null,null,null,null,null,null,null,null,null,null,null,null,null,null,null,null,null,null,null,null,null,null,null,null,null,null,null,null,null,null,null,null,null,null,null,null,null,null,null,null,null,null,null,null,null,null,null,null,null,null,null,null,null,null,null,null,573,"","","","","","","","","","","","","","","","","","","","","","","","","","","","","","","","","","","","","","","","","","","","","","","","","","","","","","","","","","","","","","","","","","","","","","","","","","","","","","","","","","","","","","","","","","","","","","","","","","","","","","","","","","","","","","","","","","","","","","","","","","","","","","","","","","","","","","","","","","","","","","","","","","","","","","","","","","","","","","","","","","","","","","","","","","","","","","","","","",2,0,-2,0,0]
[null,null,null,null,null,null,589,null,null,null,null,null,null,null,null,null,null,null,null,null,null,null,null,null,null,null,null,null,null,null,null,null,null,null,null,null,null,null,null,null,null,null,null,null,null,null,null,null,null,null,null,null,null,null,null,null,null,null,null,null,null,null,null,null,null,null,null,null,null,null,null,null,null,null,null,null,null,null,null,null,null,null,null,null,null,null,null,null,null,null,null,null,null,null,null,null,null,null,null,null,null,null,null,null,null,null,null,null,null,null,null,null,null,null,null,null,null,null,null,null,null,null,null,null,null,null,null,null,null,null,null,null,null,null,null,null,null,null,null,null,null,null,null,null,null,null,null,null,null,null,null,null,null,null,null,null,null,null,null,null,null,null,null,null,null,null,null,null,null,null,null,null,null,null,null,null,null,null,null,null,null,null,null,null,null,null,null,589,"","","","","","","","","","","","","","","","","","","","","","","","","","","","","","","","","","","","","","","","","","","","","","","","","","","","","","","","","","","","","","","","","","","","","","","","","","","","","","","","","","","","","","","","","","","","","","","","","","","","","","","","","","","","","","","","","","","","","","","","","","","","","","","","","","","","","","","","","","","","","","","","","","","","","","","","","","","","","","","","","","","","","","","","","","","","","","","","","",2,0,-2,0,0]
[null,null,null,null,null,null,604,null,null,null,null,null,null,null,null,null,null,null,null,null,null,null,null,null,null,null,null,null,null,null,null,null,null,null,null,null,null,null,null,null,null,null,null,null,null,null,null,null,null,null,null,null,null,null,null,null,null,null,null,null,null,null,null,null,null,null,null,null,null,null,null,null,null,null,null,null,null,null,null,null,null,null,null,null,null,null,null,null,null,null,null,null,null,null,null,null,null,null,null,null,null,null,null,null,null,null,null,null,null,null,null,null,null,null,null,null,null,null,null,null,null,null,null,null,null,null,null,null,null,null,null,null,null,null,null,null,null,null,null,null,null,null,null,null,null,null,null,null,null,null,null,null,null,null,null,null,null,null,null,null,null,null,null,null,null,null,null,null,null,null,null,null,null,null,null,null,null,null,null,null,null,null,null,null,null,null,null,604,"","","","","","","","","","","","","","","","","","","","","","","","","","","","","","","","","","","","","","","","","","","","","","","","","","","","","","","","","","","","","","","","","","","","","","","","","","","","","","","","","","","","","","","","","","","","","","","","","","","","","","","","","","","","","","","","","","","","","","","","","","","","","","","","","","","","",{"$f":"IF(EL624=\"\",\"\",IF(OR(EL624=1,EL624=2,EL624=3,EL624=4,EL624=5,EL624=99),1,0))","v":""},"","","","","","","","","","","","","","","","","","","","","","","","","","","","","","","","","","","","","","","","","","","","",2,0,-2,0,0]
[null,null,null,null,null,null,605,null,null,null,null,null,null,null,null,null,null,null,null,null,null,null,null,null,null,null,null,null,null,null,null,null,null,null,null,null,null,null,null,null,null,null,null,null,null,null,null,null,null,null,null,null,null,null,null,null,null,null,null,null,null,null,null,null,null,null,null,null,null,null,null,null,null,null,null,null,null,null,null,null,null,null,null,null,null,null,null,null,null,null,null,null,null,null,null,null,null,null,null,null,null,null,null,null,null,null,null,null,null,null,null,null,null,null,null,null,null,null,null,null,null,null,null,null,null,null,null,null,null,null,null,null,null,null,null,null,null,null,null,null,null,null,null,null,null,null,null,null,null,null,null,null,null,null,null,null,null,null,null,null,null,null,null,null,null,null,null,null,null,null,null,null,null,null,null,null,null,null,null,null,null,null,null,null,null,null,null,605,"","","","","","","","","","","","","","","","","","","","","","","","","","","","","","","","","","","","","","","","","","","","","","","","","","","","","","","","","","","","","","","","","","","","","","","","","","","","","","","","","","","","","","","","","","","","","","","","","","","","","","","","","","","","","","","","","","","","","","","","","","",{"$f":"IF(EB625=\"\",\"\",IF(OR(EB625=1,EB625=2,EB625=3,EB625=4,EB625=5,EB625=99),1,0))","v":""},"","","","","","","","","","","","","","","","","","","","","","","","","","","","","","","","","","","","","","","","","","","","","","","","","","","","","","",2,0,-2,0,0]
[null,null,null,null,null,null,635,null,null,null,null,null,null,null,null,null,null,null,null,null,null,null,null,null,null,null,null,null,null,null,null,null,null,null,null,null,null,null,null,null,null,null,null,null,null,null,null,null,null,null,null,null,null,null,null,null,null,null,null,null,null,null,null,null,null,null,null,null,null,null,null,null,null,null,null,null,null,null,null,null,null,null,null,null,null,null,null,null,null,null,null,null,null,null,null,null,null,null,null,null,null,null,null,null,null,null,null,null,null,null,null,null,null,null,null,null,null,null,null,null,null,null,null,null,null,null,null,null,null,null,null,null,null,null,null,null,null,null,null,null,null,null,null,null,null,null,null,null,null,null,null,null,null,null,null,null,null,null,null,null,null,null,null,null,null,null,null,null,null,null,null,null,null,null,null,null,null,null,null,null,null,null,null,null,null,null,null,635,{"$f":"IF(J655=\"\",\"\",IF(OR(J655=1,J655=2,J655=3,J655=4,J655=5,J655=99),1,0))","v":""},"","","","","","","","","","","","","","","","","","","","","","","","","","","","","","","",{"$f":"IF(AP655=\"\",\"\",IF(OR(AP655=1,AP655=2,AP655=3,AP655=4,AP655=5,AP655=99),1,0))","v":""},"","","","","","","","","","","","","","","","","","","","","","","","","","","","","","","","","","","","","","","","","","","","","","","","","","","","","","","","","","","","","","","","","","","","","","","","","","","","","","","","","","","","","","","","","","","","","","","","","","","","","","","","","","","","","","","","","","","","","","","","","","","","","","","","","","","","","","","","","","","","","","","","",2,0,-2,0,0]
[null,null,null,null,null,null,636,null,null,null,null,null,null,null,null,null,null,null,null,null,null,null,null,null,null,null,null,null,null,null,null,null,null,null,null,null,null,null,null,null,null,null,null,null,null,null,null,null,null,null,null,null,null,null,null,null,null,null,null,null,null,null,null,null,null,null,null,null,null,null,null,null,null,null,null,null,null,null,null,null,null,null,null,null,null,null,null,null,null,null,null,null,null,null,null,null,null,null,null,null,null,null,null,null,null,null,null,null,null,null,null,null,null,null,null,null,null,null,null,null,null,null,null,null,null,null,null,null,null,null,null,null,null,null,null,null,null,null,null,null,null,null,null,null,null,null,null,null,null,null,null,null,null,null,null,null,null,null,null,null,null,null,null,null,null,null,null,null,null,null,null,null,null,null,null,null,null,null,null,null,null,null,null,null,null,null,null,636,"","","","","","","","","","","","","","","","","","","","","","","","","","","","","","","","","","","","","","","","","","","","","","","","","","","","","","","","","","","","","","","","","","","","","","","","","","","","","","","","","","","","","","","","","","","","","","","","","","","","","","","","","","","","","","","","","","","","","","","","","","","","","","","","","","","","","","","","","","","","","","","","","","","","","","","","","","","","","","","","","","","","","","","","","","","","","","","","","",2,0,-2,0,0]
[null,null,null,null,null,null,652,null,null,null,null,null,null,null,null,null,null,null,null,null,null,null,null,null,null,null,null,null,null,null,null,null,null,null,null,null,null,null,null,null,null,null,null,null,null,null,null,null,null,null,null,null,null,null,null,null,null,null,null,null,null,null,null,null,null,null,null,null,null,null,null,null,null,null,null,null,null,null,null,null,null,null,null,null,null,null,null,null,null,null,null,null,null,null,null,null,null,null,null,null,null,null,null,null,null,null,null,null,null,null,null,null,null,null,null,null,null,null,null,null,null,null,null,null,null,null,null,null,null,null,null,null,null,null,null,null,null,null,null,null,null,null,null,null,null,null,null,null,null,null,null,null,null,null,null,null,null,null,null,null,null,null,null,null,null,null,null,null,null,null,null,null,null,null,null,null,null,null,null,null,null,null,null,null,null,null,null,652,"","","","","","","","","","","","","","","","","","","","","","","","","","","","","","","","","","","","","","","","","","","","","","","","","","","","","","","","","","","","","","","","","","","","","","","","","","","","","","","","","","","","","","","","","","","","","","","","","","","","","","","","","","","","","","","","","","","","","","","","","","","","","","","","","","","","","","","","","","","","","","","","","","","","","","","","","","","","","","","","","","","","","","","","","","","","","","","","","",2,0,-2,0,0]
[null,null,null,null,null,null,667,null,null,null,null,null,null,null,null,null,null,null,null,null,null,null,null,null,null,null,null,null,null,null,null,null,null,null,null,null,null,null,null,null,null,null,null,null,null,null,null,null,null,null,null,null,null,null,null,null,null,null,null,null,null,null,null,null,null,null,null,null,null,null,null,null,null,null,null,null,null,null,null,null,null,null,null,null,null,null,null,null,null,null,null,null,null,null,null,null,null,null,null,null,null,null,null,null,null,null,null,null,null,null,null,null,null,null,null,null,null,null,null,null,null,null,null,null,null,null,null,null,null,null,null,null,null,null,null,null,null,null,null,null,null,null,null,null,null,null,null,null,null,null,null,null,null,null,null,null,null,null,null,null,null,null,null,null,null,null,null,null,null,null,null,null,null,null,null,null,null,null,null,null,null,null,null,null,null,null,null,667,"","","","","","","","","","","","","","","","","","","","","","","","","","","","","","","","","","","","","","","","","","","","","","","","","","","","","","","","","","","","","","","","","","","","","","","","","","","","","","","","","","","","","","","","","","","","","","","","","","","","","","","","","","","","","","","","","","","","","","","","","","",{"$f":"IF(EB687=\"\",\"\",IF(OR(EB687=1,EB687=2,EB687=3,EB687=4,EB687=5,EB687=99),1,0))","v":""},"","","","","","","","","","","","","","","","","","","","","","","","","","","","","","","","","","","","","","","","","","","","","","","","","","","","","","",2,0,-2,0,0]
[null,null,null,null,null,null,684,null,null,null,null,null,null,null,null,null,null,null,null,null,null,null,null,null,null,null,null,null,null,null,null,null,null,null,null,null,null,null,null,null,null,null,null,null,null,null,null,null,null,null,null,null,null,null,null,null,null,null,null,null,null,null,null,null,null,null,null,null,null,null,null,null,null,null,null,null,null,null,null,null,null,null,null,null,null,null,null,null,null,null,null,null,null,null,null,null,null,null,null,null,null,null,null,null,null,null,null,null,null,null,null,null,null,null,null,null,null,null,null,null,null,null,null,null,null,null,null,null,null,null,null,null,null,null,null,null,null,null,null,null,null,null,null,null,null,null,null,null,null,null,null,null,null,null,null,null,null,null,null,null,null,null,null,null,null,null,null,null,null,null,null,null,null,null,null,null,null,null,null,null,null,null,null,null,null,null,null,684,"","","","","","","","","","","","","","","","","","","","","","","","","","","","","","","","","","","","","","","","","","","","","","","","","","","","","","","","","","","","","","","",{"$f":"IF(BU704=\"\",\"\",IF(OR(BU704=1,BU704=2,BU704=3,BU704=4,BU704=5,BU704=99),1,0))","v":""},"","","","","","","","","","","","","","","","","","","","","","","","","","","","","","","","","","","","","","","","","",{"$f":"IF(DK704=\"\",\"\",IF(OR(DK704=1,DK704=2,DK704=3,DK704=4,DK704=5,DK704=99),1,0))","v":""},"","","","","","","","","","","","","","","",{"$f":"IF(EA704=\"\",\"\",IF(OR(EA704=1,EA704=2,EA704=3,EA704=4,EA704=5,EA704=99),1,0))","v":""},"","","","","","","","","","","","","","","","","","","","","","","","","","","","","","","","","","","","","","","","","","","","","","","","","","","","","","","",2,0,-2,0,0]
[null,null,null,null,null,null,699,null,null,null,null,null,null,null,null,null,null,null,null,null,null,null,null,null,null,null,null,null,null,null,null,null,null,null,null,null,null,null,null,null,null,null,null,null,null,null,null,null,null,null,null,null,null,null,null,null,null,null,null,null,null,null,null,null,null,null,null,null,null,null,null,null,null,null,null,null,null,null,null,null,null,null,null,null,null,null,null,null,null,null,null,null,null,null,null,null,null,null,null,null,null,null,null,null,null,null,null,null,null,null,null,null,null,null,null,null,null,null,null,null,null,null,null,null,null,null,null,null,null,null,null,null,null,null,null,null,null,null,null,null,null,null,null,null,null,null,null,null,null,null,null,null,null,null,null,null,null,null,null,null,null,null,null,null,null,null,null,null,null,null,null,null,null,null,null,null,null,null,null,null,null,null,null,null,null,null,null,699,{"$f":"IF(J719=\"\",\"\",IF(OR(J719=1,J719=2,J719=3,J719=4,J719=5,J719=99),1,0))","v":""},"","","","","","","","","","","","","","","","","","","","","","","","","","","","","","","","","","","","","","","","","","","","","","","","","","","","","","","","","","","","","","","","","","","","","","","","","","","","","","","","","","","","","","","","","","","","","","","","",{"$f":"IF(DC719=\"\",\"\",IF(OR(DC719=1,DC719=2,DC719=3,DC719=4,DC719=5,DC719=99),1,0))","v":""},"","","","","","","","","","","","","","","","","","","","","","","","","","","","","","","","","","","","","","","","","","","","","","","","","","","","","","","","","","","","","","","","","","","","","",{"$f":"IF(FU719=\"\",\"\",IF(OR(FU719=1,FU719=2,FU719=3,FU719=4,FU719=5,FU719=99),1,0))","v":""},"","","","","","","","","",2,0,-2,0,0]
[null,null,null,null,null,null,714,null,null,null,null,null,null,null,null,null,null,null,null,null,null,null,null,null,null,null,null,null,null,null,null,null,null,null,null,null,null,null,null,null,null,null,null,null,null,null,null,null,null,null,null,null,null,null,null,null,null,null,null,null,null,null,null,null,null,null,null,null,null,null,null,null,null,null,null,null,null,null,null,null,null,null,null,null,null,null,null,null,null,null,null,null,null,null,null,null,null,null,null,null,null,null,null,null,null,null,null,null,null,null,null,null,null,null,null,null,null,null,null,null,null,null,null,null,null,null,null,null,null,null,null,null,null,null,null,null,null,null,null,null,null,null,null,null,null,null,null,null,null,null,null,null,null,null,null,null,null,null,null,null,null,null,null,null,null,null,null,null,null,null,null,null,null,null,null,null,null,null,null,null,null,null,null,null,null,null,null,714,"","","","","","","","","","","","","","","","","","","","","","","","","","","","","","","","","","","","","","","","","","","","","","","","","","","","","","","","","","","","","","","","","","","","","","","","","","","","","","","","","","","","","","","","","","","","","","","","","","","","","","","","","","","","","","","","","","","","","","","","","","","","","","","","","","","","","","","","","","","","","","","","",{"$f":"IF(EX734=\"\",\"\",IF(OR(EX734=1,EX734=2,EX734=3,EX734=4,EX734=5,EX734=99),1,0))","v":""},"","","","","","","","","","","","","","","","","","","","","","","","","","","","","","","","",2,0,-2,0,0]
[null,null,null,null,null,null,730,null,null,null,null,null,null,null,null,null,null,null,null,null,null,null,null,null,null,null,null,null,null,null,null,null,null,null,null,null,null,null,null,null,null,null,null,null,null,null,null,null,null,null,null,null,null,null,null,null,null,null,null,null,null,null,null,null,null,null,null,null,null,null,null,null,null,null,null,null,null,null,null,null,null,null,null,null,null,null,null,null,null,null,null,null,null,null,null,null,null,null,null,null,null,null,null,null,null,null,null,null,null,null,null,null,null,null,null,null,null,null,null,null,null,null,null,null,null,null,null,null,null,null,null,null,null,null,null,null,null,null,null,null,null,null,null,null,null,null,null,null,null,null,null,null,null,null,null,null,null,null,null,null,null,null,null,null,null,null,null,null,null,null,null,null,null,null,null,null,null,null,null,null,null,null,null,null,null,null,null,730,"","","","","","","","","","","","","","","","","","","","","","","","","","","","","","","","","","","","","","","","","","","","","","","","","","","","","","","","","","","","","","","","","","","","","","","","","","","","","","","","","","","","","","","","","","","","","","","","","","","","","","","","","","","","","","","","","","","","","","","","","","","","","","","","","","","","","","","","","","","","","","","","","","","","","","","","","","","","","","","","","","","","","","","","","","","","","","","","","",2,0,-2,0,0]
[null,null,null,null,null,null,745,null,null,null,null,null,null,null,null,null,null,null,null,null,null,null,null,null,null,null,null,null,null,null,null,null,null,null,null,null,null,null,null,null,null,null,null,null,null,null,null,null,null,null,null,null,null,null,null,null,null,null,null,null,null,null,null,null,null,null,null,null,null,null,null,null,null,null,null,null,null,null,null,null,null,null,null,null,null,null,null,null,null,null,null,null,null,null,null,null,null,null,null,null,null,null,null,null,null,null,null,null,null,null,null,null,null,null,null,null,null,null,null,null,null,null,null,null,null,null,null,null,null,null,null,null,null,null,null,null,null,null,null,null,null,null,null,null,null,null,null,null,null,null,null,null,null,null,null,null,null,null,null,null,null,null,null,null,null,null,null,null,null,null,null,null,null,null,null,null,null,null,null,null,null,null,null,null,null,null,null,745,"","","","","","","","","","","","","","","","","","","","","","","","",{"$f":"IF(AH765=\"\",\"\",IF(OR(AH765=1,AH765=2,AH765=3,AH765=4,AH765=5,AH765=99),1,0))","v":""},"","","","","","","","","","","","","","","","","","","","","","","","","","","","","","","","","","","","","","","","","","","","","","","","","","","","","","","","","","","","","","","","","","","","","","","","","","","","","","","","","","","","","","","","","","","","","","","","","","","","","","","","","","","","","","","","","","","","","","","","","","","","","","","","","","","","","","","","","","","","","","","","","","","","","","","","",2,0,-2,0,0]
[null,null,null,null,null,null,765,null,null,null,null,null,null,null,null,null,null,null,null,null,null,null,null,null,null,null,null,null,null,null,null,null,null,null,null,null,null,null,null,null,null,null,null,null,null,null,null,null,null,null,null,null,null,null,null,null,null,null,null,null,null,null,null,null,null,null,null,null,null,null,null,null,null,null,null,null,null,null,null,null,null,null,null,null,null,null,null,null,null,null,null,null,null,null,null,null,null,null,null,null,null,null,null,null,null,null,null,null,null,null,null,null,null,null,null,null,null,null,null,null,null,null,null,null,null,null,null,null,null,null,null,null,null,null,null,null,null,null,null,null,null,null,null,null,null,null,null,null,null,null,null,null,null,null,null,null,null,null,null,null,null,null,null,null,null,null,null,null,null,null,null,null,null,null,null,null,null,null,null,null,null,null,null,null,null,null,null,765,"","","","","","","","","","","","","","","","",{"$f":"IF(Z785=\"\",\"\",IF(OR(Z785=1,Z785=2,Z785=3,Z785=4,Z785=5,Z785=99),1,0))","v":""},"","","","","","","","","","","","","","","","","","","","","","","","","","","","","","","","","","","","","","","","","","","","","","","","","","","","","",{"$f":"IF(CB785=\"\",\"\",IF(OR(CB785=1,CB785=2,CB785=3,CB785=4,CB785=5,CB785=99),1,0))","v":""},"","","","","","","","","","","","","","","","","","","","","","","","","","","","","","","","","","","","","","","","","","","","","","","","","","","","","","","","","","","","","","","","","","","","","","","","","","","","","","","","","","","","","","","","","","","","","","","","","","","","","","","","","","",2,0,-2,0,0]
[null,null,null,null,null,null,777,null,null,null,null,null,null,null,null,null,null,null,null,null,null,null,null,null,null,null,null,null,null,null,null,null,null,null,null,null,null,null,null,null,null,null,null,null,null,null,null,null,null,null,null,null,null,null,null,null,null,null,null,null,null,null,null,null,null,null,null,null,null,null,null,null,null,null,null,null,null,null,null,null,null,null,null,null,null,null,null,null,null,null,null,null,null,null,null,null,null,null,null,null,null,null,null,null,null,null,null,null,null,null,null,null,null,null,null,null,null,null,null,null,null,null,null,null,null,null,null,null,null,null,null,null,null,null,null,null,null,null,null,null,null,null,null,null,null,null,null,null,null,null,null,null,null,null,null,null,null,null,null,null,null,null,null,null,null,null,null,null,null,null,null,null,null,null,null,null,null,null,null,null,null,null,null,null,null,null,null,777,"","","","","","","","","","","","","","","","","","","","","","","","","","","","","","","","","","","","","","","","","","","","","","","","","","","","","","","","","","","","","","","","","","","","","","","","","","","","","","","","","","","","","","","","","","","","","","","","","","","","","","","","","","","","","","","","","","","","","","","","","","","","","","","","","","","","","","","","","","","","","","","","","","","","","","","","","","","","","","","","","","","","","","","","","","","","","","","","","",2,0,-2,0,0]
[null,null,null,null,null,null,792,null,null,null,null,null,null,null,null,null,null,null,null,null,null,null,null,null,null,null,null,null,null,null,null,null,null,null,null,null,null,null,null,null,null,null,null,null,null,null,null,null,null,null,null,null,null,null,null,null,null,null,null,null,null,null,null,null,null,null,null,null,null,null,null,null,null,null,null,null,null,null,null,null,null,null,null,null,null,null,null,null,null,null,null,null,null,null,null,null,null,null,null,null,null,null,null,null,null,null,null,null,null,null,null,null,null,null,null,null,null,null,null,null,null,null,null,null,null,null,null,null,null,null,null,null,null,null,null,null,null,null,null,null,null,null,null,null,null,null,null,null,null,null,null,null,null,null,null,null,null,null,null,null,null,null,null,null,null,null,null,null,null,null,null,null,null,null,null,null,null,null,null,null,null,null,null,null,null,null,null,792,"","","","","","","","","","","","","","","","","","","","","","","","","","","","","","","","","","","","","","","","","","","","","","","","","","","","","","","","","","","","","","","","","","","","","","","","","","","","","","","","","","","","","","","","","","","","","","","","","","","","","","","","","","","","","","","","","","","","","","","","","","","","","","","","","","","","","","","","","","","","","","","","","","","","","","","","","","","","","","","","","","","","","","","","","","","","","","","","","",2,0,-2,0,0]
[null,null,null,null,null,null,808,null,null,null,null,null,null,null,null,null,null,null,null,null,null,null,null,null,null,null,null,null,null,null,null,null,null,null,null,null,null,null,null,null,null,null,null,null,null,null,null,null,null,null,null,null,null,null,null,null,null,null,null,null,null,null,null,null,null,null,null,null,null,null,null,null,null,null,null,null,null,null,null,null,null,null,null,null,null,null,null,null,null,null,null,null,null,null,null,null,null,null,null,null,null,null,null,null,null,null,null,null,null,null,null,null,null,null,null,null,null,null,null,null,null,null,null,null,null,null,null,null,null,null,null,null,null,null,null,null,null,null,null,null,null,null,null,null,null,null,null,null,null,null,null,null,null,null,null,null,null,null,null,null,null,null,null,null,null,null,null,null,null,null,null,null,null,null,null,null,null,null,null,null,null,null,null,null,null,null,null,808,"","","","","","","","","","","","","","","","","","","","","","","","","","","","","","","","","","","","","","","","","","","","","","","","","","","","","","","","","","","","","","","","","","","","","","","","","","","","","","","","","","","","","","","","","","","","","","","","","","","","","","","","","","","","","","","","","","","","","","","","","","","","","","","","","","","","","","","","","","","","","","","","","","","","","","","","","","","","","","","","","","","","","","","","","","","","","","","","","",2,0,-2,0,0]
[null,null,null,null,null,null,823,null,null,null,null,null,null,null,null,null,null,null,null,null,null,null,null,null,null,null,null,null,null,null,null,null,null,null,null,null,null,null,null,null,null,null,null,null,null,null,null,null,null,null,null,null,null,null,null,null,null,null,null,null,null,null,null,null,null,null,null,null,null,null,null,null,null,null,null,null,null,null,null,null,null,null,null,null,null,null,null,null,null,null,null,null,null,null,null,null,null,null,null,null,null,null,null,null,null,null,null,null,null,null,null,null,null,null,null,null,null,null,null,null,null,null,null,null,null,null,null,null,null,null,null,null,null,null,null,null,null,null,null,null,null,null,null,null,null,null,null,null,null,null,null,null,null,null,null,null,null,null,null,null,null,null,null,null,null,null,null,null,null,null,null,null,null,null,null,null,null,null,null,null,null,null,null,null,null,null,null,823,"","","","","","","","","","","","","","","","","","","","","","","","","","","","","","","","","","","","","","","","","","","","","","","","","","","","","","","","","","","","","","","","","","","","","","","","","","","","","","","","","","","","","","","","","","","","","","","","","","","","","","","","","","","","","","","","","","","","","","","","","","","","","","","","","","","","","","","","","","","","","","","","","","","","","","","","","","","","","","","","","","","","","","","","","","","","","","","","","",2,0,-2,0,0]
[null,null,null,null,null,null,846,null,null,null,null,null,null,null,null,null,null,null,null,null,null,null,null,null,null,null,null,null,null,null,null,null,null,null,null,null,null,null,null,null,null,null,null,null,null,null,null,null,null,null,null,null,null,null,null,null,null,null,null,null,null,null,null,null,null,null,null,null,null,null,null,null,null,null,null,null,null,null,null,null,null,null,null,null,null,null,null,null,null,null,null,null,null,null,null,null,null,null,null,null,null,null,null,null,null,null,null,null,null,null,null,null,null,null,null,null,null,null,null,null,null,null,null,null,null,null,null,null,null,null,null,null,null,null,null,null,null,null,null,null,null,null,null,null,null,null,null,null,null,null,null,null,null,null,null,null,null,null,null,null,null,null,null,null,null,null,null,null,null,null,null,null,null,null,null,null,null,null,null,null,null,null,null,null,null,null,null,846,"","","","","","","","","","","","","","","","","","","","","","","","","","","","","","","","","","","","","","","","","","","","","","","","","","","","","","","","","","","","","","","","","","","","","","","","","","","","","","","","","","","","","","","","","","","","","","","","","","","","","","","","","","","","","","","","","","","","","","","","","","","","","","","","","","","","","","","","","","","","","","","","","","","","","","","","","","","","","","","","","","","","","","","","","","","","","","","","","",2,0,-2,0,0]
[null,null,null,null,null,null,855,null,null,null,null,null,null,null,null,null,null,null,null,null,null,null,null,null,null,null,null,null,null,null,null,null,null,null,null,null,null,null,null,null,null,null,null,null,null,null,null,null,null,null,null,null,null,null,null,null,null,null,null,null,null,null,null,null,null,null,null,null,null,null,null,null,null,null,null,null,null,null,null,null,null,null,null,null,null,null,null,null,null,null,null,null,null,null,null,null,null,null,null,null,null,null,null,null,null,null,null,null,null,null,null,null,null,null,null,null,null,null,null,null,null,null,null,null,null,null,null,null,null,null,null,null,null,null,null,null,null,null,null,null,null,null,null,null,null,null,null,null,null,null,null,null,null,null,null,null,null,null,null,null,null,null,null,null,null,null,null,null,null,null,null,null,null,null,null,null,null,null,null,null,null,null,null,null,null,null,null,855,"","","","","","","","","","","","","","","","","","","","","","","","","","","","","","","","","","","","","","","","","","","","","","","","","","","","","","","","","","","","","","","","","","","","","","","","","","","","","","","","","","","","","","","","","","","","","","","","","","","","","","","","","","","","","","","","","","","","","","","","","","","","","","","","","","","","","","","","","","","","","","","","","","","","","","","","","","","","","","","","","","","","","","","","","","","","","","","","","",2,0,-2,0,0]
[null,null,null,null,null,null,870,null,null,null,null,null,null,null,null,null,null,null,null,null,null,null,null,null,null,null,null,null,null,null,null,null,null,null,null,null,null,null,null,null,null,null,null,null,null,null,null,null,null,null,null,null,null,null,null,null,null,null,null,null,null,null,null,null,null,null,null,null,null,null,null,null,null,null,null,null,null,null,null,null,null,null,null,null,null,null,null,null,null,null,null,null,null,null,null,null,null,null,null,null,null,null,null,null,null,null,null,null,null,null,null,null,null,null,null,null,null,null,null,null,null,null,null,null,null,null,null,null,null,null,null,null,null,null,null,null,null,null,null,null,null,null,null,null,null,null,null,null,null,null,null,null,null,null,null,null,null,null,null,null,null,null,null,null,null,null,null,null,null,null,null,null,null,null,null,null,null,null,null,null,null,null,null,null,null,null,null,870,"","","","","","","","","","","","","","","","","","","","","","","","","","","","","","","","","","","","","","","","","","","","","","","","","","","","","","","","","","","","","","","","","","","","","","","","","","","","","","","","","","","","","","","","","","","","","","","","","",{"$f":"IF(DC890=\"\",\"\",IF(OR(DC890=1,DC890=2,DC890=3,DC890=4,DC890=5,DC890=99),1,0))","v":""},"","","","","","","","","","","","","","","","","","","","","","","","","","","","","","","","","","","","","","","","","","","","","","","","","","","","","","","","","","","","","","","","","","","","","","","","","","","","","","","",2,0,-2,0,0]
[null,null,null,null,null,null,886,null,null,null,null,null,null,null,null,null,null,null,null,null,null,null,null,null,null,null,null,null,null,null,null,null,null,null,null,null,null,null,null,null,null,null,null,null,null,null,null,null,null,null,null,null,null,null,null,null,null,null,null,null,null,null,null,null,null,null,null,null,null,null,null,null,null,null,null,null,null,null,null,null,null,null,null,null,null,null,null,null,null,null,null,null,null,null,null,null,null,null,null,null,null,null,null,null,null,null,null,null,null,null,null,null,null,null,null,null,null,null,null,null,null,null,null,null,null,null,null,null,null,null,null,null,null,null,null,null,null,null,null,null,null,null,null,null,null,null,null,null,null,null,null,null,null,null,null,null,null,null,null,null,null,null,null,null,null,null,null,null,null,null,null,null,null,null,null,null,null,null,null,null,null,null,null,null,null,null,null,886,"","","","","","","",{"$f":"IF(Q906=\"\",\"\",IF(OR(Q906=1,Q906=2,Q906=3,Q906=4,Q906=5,Q906=99),1,0))","v":""},"","","","","","","","","","","","","","","","","","","","","","","","","","","","","","","",{"$f":"IF(AW906=\"\",\"\",IF(OR(AW906=1,AW906=2,AW906=3,AW906=4,AW906=5,AW906=99),1,0))","v":""},"","","","","","","","","","","","","","","","","","","","","","","","","","","","","","","","","","","","","","","","","","","","","","","","","","","","","","","","","","","","","","","","","","","","","","","","","","","","","","","","","","","","","","","","","","","","","","","","","","","","","","","","","","","","","","","","","","","","","","","","","","","","","","","","","","","","","","","","","",2,0,-2,0,0]
[null,null,null,null,null,null,901,null,null,null,null,null,null,null,null,null,null,null,null,null,null,null,null,null,null,null,null,null,null,null,null,null,null,null,null,null,null,null,null,null,null,null,null,null,null,null,null,null,null,null,null,null,null,null,null,null,null,null,null,null,null,null,null,null,null,null,null,null,null,null,null,null,null,null,null,null,null,null,null,null,null,null,null,null,null,null,null,null,null,null,null,null,null,null,null,null,null,null,null,null,null,null,null,null,null,null,null,null,null,null,null,null,null,null,null,null,null,null,null,null,null,null,null,null,null,null,null,null,null,null,null,null,null,null,null,null,null,null,null,null,null,null,null,null,null,null,null,null,null,null,null,null,null,null,null,null,null,null,null,null,null,null,null,null,null,null,null,null,null,null,null,null,null,null,null,null,null,null,null,null,null,null,null,null,null,null,null,901,"","","","","","","","","","","","","","","","","","","","","","","","","","","","","","","","","","","","","","","","","","","","","","","","","","","","","","","","","","","","","","","","","","","","","","","","","","","","","","","","","","","","","",{"$f":"IF(CQ921=\"\",\"\",IF(OR(CQ921=1,CQ921=2,CQ921=3,CQ921=4,CQ921=5,CQ921=99),1,0))","v":""},"","","","","","","","","","","","","","","","","","","","","","","","","","","","","","","","","","","","","","","","","","","","","","","","","","","","","","","","","","","","","","","","","","","","","","","","","","","","","","","","","","","","","","","","","","","",2,0,-2,0,0]
[null,null,null,null,null,null,911,null,null,null,null,null,null,null,null,null,null,null,null,null,null,null,null,null,null,null,null,null,null,null,null,null,null,null,null,null,null,null,null,null,null,null,null,null,null,null,null,null,null,null,null,null,null,null,null,null,null,null,null,null,null,null,null,null,null,null,null,null,null,null,null,null,null,null,null,null,null,null,null,null,null,null,null,null,null,null,null,null,null,null,null,null,null,null,null,null,null,null,null,null,null,null,null,null,null,null,null,null,null,null,null,null,null,null,null,null,null,null,null,null,null,null,null,null,null,null,null,null,null,null,null,null,null,null,null,null,null,null,null,null,null,null,null,null,null,null,null,null,null,null,null,null,null,null,null,null,null,null,null,null,null,null,null,null,null,null,null,null,null,null,null,null,null,null,null,null,null,null,null,null,null,null,null,null,null,null,null,911,"","","","","","","","","","","","","","","","",{"$f":"IF(Z931=\"\",\"\",IF(OR(Z931=1,Z931=2,Z931=3,Z931=4,Z931=5,Z931=99),1,0))","v":""},"","","","","","","","","","","","","","","","","","","","","","","","","","","","","","","","","","","","","","","","","","","","","","","","","","","","","","","","","","","","","","","","","","","","","","","","","","","","","","","","","","","","","","","","","","","","","","","","","","","","","","","","","","","","","","","","","","","","","","","","","","","","","","","","","","","","","","","","","","","","","","","","","","","","","","","","","","","","","","","","",2,0,-2,0,0]
[null,null,null,null,null,null,933,null,null,null,null,null,null,null,null,null,null,null,null,null,null,null,null,null,null,null,null,null,null,null,null,null,null,null,null,null,null,null,null,null,null,null,null,null,null,null,null,null,null,null,null,null,null,null,null,null,null,null,null,null,null,null,null,null,null,null,null,null,null,null,null,null,null,null,null,null,null,null,null,null,null,null,null,null,null,null,null,null,null,null,null,null,null,null,null,null,null,null,null,null,null,null,null,null,null,null,null,null,null,null,null,null,null,null,null,null,null,null,null,null,null,null,null,null,null,null,null,null,null,null,null,null,null,null,null,null,null,null,null,null,null,null,null,null,null,null,null,null,null,null,null,null,null,null,null,null,null,null,null,null,null,null,null,null,null,null,null,null,null,null,null,null,null,null,null,null,null,null,null,null,null,null,null,null,null,null,null,933,"","","","","","","","","","","","","","","","","","","","","","","","","","","","","","","","","","","","","","","","","","","","","","","","","","","","","","","","","","","","","","","","","","","","","","","","","","","","","","","","","","","","","","","","","","","","","","","","","","","","","","","","","","","","","","","","","","","","","","","","","","","","","","","","","","","","","","","","","","","","","","","","","","","","","","","","","","","","","","","","","","","","","","","","","","","","","","","","","",2,0,-2,0,0]
[null,null,null,null,null,null,948,null,null,null,null,null,null,null,null,null,null,null,null,null,null,null,null,null,null,null,null,null,null,null,null,null,null,null,null,null,null,null,null,null,null,null,null,null,null,null,null,null,null,null,null,null,null,null,null,null,null,null,null,null,null,null,null,null,null,null,null,null,null,null,null,null,null,null,null,null,null,null,null,null,null,null,null,null,null,null,null,null,null,null,null,null,null,null,null,null,null,null,null,null,null,null,null,null,null,null,null,null,null,null,null,null,null,null,null,null,null,null,null,null,null,null,null,null,null,null,null,null,null,null,null,null,null,null,null,null,null,null,null,null,null,null,null,null,null,null,null,null,null,null,null,null,null,null,null,null,null,null,null,null,null,null,null,null,null,null,null,null,null,null,null,null,null,null,null,null,null,null,null,null,null,null,null,null,null,null,null,948,"","","","","","","","","","","","","","","","","","","","","","","","","","","","","","","","","","","","","","","","","","","","","","","","","","","","","","","","","","","","","","","","","","","","","","","","","","","","","","","","","","","","","","","","","","","","","","","","","","","","","","","","","","","","","","","","","","","","","","","","","","","","","","","","","","","","","","","","","","","","","","","","","","","","","","","","","","","","","","","","","","","","","","","","","","","",{"$f":"IF(FY968=\"\",\"\",IF(OR(FY968=1,FY968=2,FY968=3,FY968=4,FY968=5,FY968=99),1,0))","v":""},"","","","","",2,0,-2,0,0]
[null,null,null,null,null,null,963,null,null,null,null,null,null,null,null,null,null,null,null,null,null,null,null,null,null,null,null,null,null,null,null,null,null,null,null,null,null,null,null,null,null,null,null,null,null,null,null,null,null,null,null,null,null,null,null,null,null,null,null,null,null,null,null,null,null,null,null,null,null,null,null,null,null,null,null,null,null,null,null,null,null,null,null,null,null,null,null,null,null,null,null,null,null,null,null,null,null,null,null,null,null,null,null,null,null,null,null,null,null,null,null,null,null,null,null,null,null,null,null,null,null,null,null,null,null,null,null,null,null,null,null,null,null,null,null,null,null,null,null,null,null,null,null,null,null,null,null,null,null,null,null,null,null,null,null,null,null,null,null,null,null,null,null,null,null,null,null,null,null,null,null,null,null,null,null,null,null,null,null,null,null,null,null,null,null,null,null,963,"","","","","","","","","","","","","","","","","","","","","","","","","","","","","","","","","","","","","","","","","","","","","","","","","","","","","","","","","","","","","","","","","","","","","","","","","","","","","","","","","","","","","","","","","","","","","","","","","","","","","","","","","","","","","","","","","","","","","","","","","","","","","","","","","","","","","","","","","","","","","","","","","","","","","","","","","","","","","","","","","","","","","","","","","","","","","","","","","",2,0,-2,0,0]
[null,null,null,null,null,null,976,null,null,null,null,null,null,null,null,null,null,null,null,null,null,null,null,null,null,null,null,null,null,null,null,null,null,null,null,null,null,null,null,null,null,null,null,null,null,null,null,null,null,null,null,null,null,null,null,null,null,null,null,null,null,null,null,null,null,null,null,null,null,null,null,null,null,null,null,null,null,null,null,null,null,null,null,null,null,null,null,null,null,null,null,null,null,null,null,null,null,null,null,null,null,null,null,null,null,null,null,null,null,null,null,null,null,null,null,null,null,null,null,null,null,null,null,null,null,null,null,null,null,null,null,null,null,null,null,null,null,null,null,null,null,null,null,null,null,null,null,null,null,null,null,null,null,null,null,null,null,null,null,null,null,null,null,null,null,null,null,null,null,null,null,null,null,null,null,null,null,null,null,null,null,null,null,null,null,null,null,976,"","","","","","","","","","","","","","","","","","","","","","","","","","","","","","","","","","","","","","","","","","","","","","","","","","","","","","","","","","","","","","","","","","","","","","","","","","","","","","","","","","","","","","","","","","","","","","","","","","","","","","","","","","","","","","","","","","","","","","","","","","","","","","","","","","","","","","","","","","","","","","","","","","","","","","","","","","","","","","","","","","","","","","","","","","","","","","","","","",2,0,-2,0,0]
[null,null,null,null,null,null,986,null,null,null,null,null,null,null,null,null,null,null,null,null,null,null,null,null,null,null,null,null,null,null,null,null,null,null,null,null,null,null,null,null,null,null,null,null,null,null,null,null,null,null,null,null,null,null,null,null,null,null,null,null,null,null,null,null,null,null,null,null,null,null,null,null,null,null,null,null,null,null,null,null,null,null,null,null,null,null,null,null,null,null,null,null,null,null,null,null,null,null,null,null,null,null,null,null,null,null,null,null,null,null,null,null,null,null,null,null,null,null,null,null,null,null,null,null,null,null,null,null,null,null,null,null,null,null,null,null,null,null,null,null,null,null,null,null,null,null,null,null,null,null,null,null,null,null,null,null,null,null,null,null,null,null,null,null,null,null,null,null,null,null,null,null,null,null,null,null,null,null,null,null,null,null,null,null,null,null,null,986,"","","","","","","","","","","","","","","","","","","","","","","","","","","","","","","","",{"$f":"IF(AP1006=\"\",\"\",IF(OR(AP1006=1,AP1006=2,AP1006=3,AP1006=4,AP1006=5,AP1006=99),1,0))","v":""},"","","","","","","","","","","","","","","","","","","","","","","","","","","",{"$f":"IF(BR1006=\"\",\"\",IF(OR(BR1006=1,BR1006=2,BR1006=3,BR1006=4,BR1006=5,BR1006=99),1,0))","v":""},"","","","","","","","","","","","","","","","","","","","","","","","","","","","","","","","","","","","","","","","","","","","","","","","","","","","","","","","","","","","","","","","","","","","","","","","","","","","","","","","","","","","","","","","","","","","","","","","","","","","","","","","","","","","","","","","","","","","",2,0,-2,0,0]
[null,null,null,null,null,null,987,null,null,null,null,null,null,null,null,null,null,null,null,null,null,null,null,null,null,null,null,null,null,null,null,null,null,null,null,null,null,null,null,null,null,null,null,null,null,null,null,null,null,null,null,null,null,null,null,null,null,null,null,null,null,null,null,null,null,null,null,null,null,null,null,null,null,null,null,null,null,null,null,null,null,null,null,null,null,null,null,null,null,null,null,null,null,null,null,null,null,null,null,null,null,null,null,null,null,null,null,null,null,null,null,null,null,null,null,null,null,null,null,null,null,null,null,null,null,null,null,null,null,null,null,null,null,null,null,null,null,null,null,null,null,null,null,null,null,null,null,null,null,null,null,null,null,null,null,null,null,null,null,null,null,null,null,null,null,null,null,null,null,null,null,null,null,null,null,null,null,null,null,null,null,null,null,null,null,null,null,987,"","","","","","","","","","","","","","","","","","","","","","","","","","","","","","","","","","","","","","","","","","","","","","","","","","","","","","","","","","","","","","","","","","","","","","","","","","","","","","","","","","","","","","","","","","","","",{"$f":"IF(CX1007=\"\",\"\",IF(OR(CX1007=1,CX1007=2,CX1007=3,CX1007=4,CX1007=5,CX1007=99),1,0))","v":""},"","","","","","","","","","","","","","","","","","","","","","","","","","","","","","","","","","","","","","","","","","","","","","","","","","","","","","","","","","","","","","","","","","","","","","","","","","","","","","","","","","","","",2,0,-2,0,0]
[null,null,null,null,null,null,988,null,null,null,null,null,null,null,null,null,null,null,null,null,null,null,null,null,null,null,null,null,null,null,null,null,null,null,null,null,null,null,null,null,null,null,null,null,null,null,null,null,null,null,null,null,null,null,null,null,null,null,null,null,null,null,null,null,null,null,null,null,null,null,null,null,null,null,null,null,null,null,null,null,null,null,null,null,null,null,null,null,null,null,null,null,null,null,null,null,null,null,null,null,null,null,null,null,null,null,null,null,null,null,null,null,null,null,null,null,null,null,null,null,null,null,null,null,null,null,null,null,null,null,null,null,null,null,null,null,null,null,null,null,null,null,null,null,null,null,null,null,null,null,null,null,null,null,null,null,null,null,null,null,null,null,null,null,null,null,null,null,null,null,null,null,null,null,null,null,null,null,null,null,null,null,null,null,null,null,null,988,"","","","","","","","","","","","","","","","","","","","","","","","","","","","","","","","","","","","","","","","","",{"$f":"IF(AY1008=\"\",\"\",IF(OR(AY1008=1,AY1008=2,AY1008=3,AY1008=4,AY1008=5,AY1008=99),1,0))","v":""},"","","","","","","","","","","","","","","","","","","","","","","","","","","","","","","","","","","","","","","","","","","","","","","","","","","","","","","","","","","","","","","","","","","","","","","","","","","","","","","","","","","","","","","","","","","","","","","","","","","","","","","","","","","","","","","","","","","","","","","","","","","","","","","","","","","","","","","",2,0,-2,0,0]
[null,null,null,null,null,null,989,null,null,null,null,null,null,null,null,null,null,null,null,null,null,null,null,null,null,null,null,null,null,null,null,null,null,null,null,null,null,null,null,null,null,null,null,null,null,null,null,null,null,null,null,null,null,null,null,null,null,null,null,null,null,null,null,null,null,null,null,null,null,null,null,null,null,null,null,null,null,null,null,null,null,null,null,null,null,null,null,null,null,null,null,null,null,null,null,null,null,null,null,null,null,null,null,null,null,null,null,null,null,null,null,null,null,null,null,null,null,null,null,null,null,null,null,null,null,null,null,null,null,null,null,null,null,null,null,null,null,null,null,null,null,null,null,null,null,null,null,null,null,null,null,null,null,null,null,null,null,null,null,null,null,null,null,null,null,null,null,null,null,null,null,null,null,null,null,null,null,null,null,null,null,null,null,null,null,null,null,989,"","","","","","","","","","","","","","","","","","","","","","","","","","","","","","","","","","","","","","","","","","","","","","","","","","","","","","","","","","","","","","","","","","","","","","","","","","","","","","","","","","","","","","","","","","","","","","","","","","","","","","","","","","","","","","","","","","","","","","","","","","","","","","","","","","","","","","","","","","","","","","","","","","","","","","","","","","","","","","","","","","","","","","","","","","","","","","","","","",2,0,-2,0,0]
[null,null,null,null,null,null,990,null,null,null,null,null,null,null,null,null,null,null,null,null,null,null,null,null,null,null,null,null,null,null,null,null,null,null,null,null,null,null,null,null,null,null,null,null,null,null,null,null,null,null,null,null,null,null,null,null,null,null,null,null,null,null,null,null,null,null,null,null,null,null,null,null,null,null,null,null,null,null,null,null,null,null,null,null,null,null,null,null,null,null,null,null,null,null,null,null,null,null,null,null,null,null,null,null,null,null,null,null,null,null,null,null,null,null,null,null,null,null,null,null,null,null,null,null,null,null,null,null,null,null,null,null,null,null,null,null,null,null,null,null,null,null,null,null,null,null,null,null,null,null,null,null,null,null,null,null,null,null,null,null,null,null,null,null,null,null,null,null,null,null,null,null,null,null,null,null,null,null,null,null,null,null,null,null,null,null,null,990,"","","","","","","","","","","","","","","","","","","","","","","","","","","","","","","","","","","","","","","","","","","","","","","","","","","","","","","","","","","","","","","","","","","","","","","","","","","","","","","","","","","","","","","","","","","","","","","","","","","","","","","","","","","","","","","","","","","","","",{"$f":"IF(DW1010=\"\",\"\",IF(OR(DW1010=1,DW1010=2,DW1010=3,DW1010=4,DW1010=5,DW1010=99),1,0))","v":""},"","","","","","","","","","","","","","","","","","","","","","","","","","","","","","","","","","","","","","","","","","","","","","","","","","","","","","","","","","","",2,0,-2,0,0]
[null,null,null,null,null,null,991,null,null,null,null,null,null,null,null,null,null,null,null,null,null,null,null,null,null,null,null,null,null,null,null,null,null,null,null,null,null,null,null,null,null,null,null,null,null,null,null,null,null,null,null,null,null,null,null,null,null,null,null,null,null,null,null,null,null,null,null,null,null,null,null,null,null,null,null,null,null,null,null,null,null,null,null,null,null,null,null,null,null,null,null,null,null,null,null,null,null,null,null,null,null,null,null,null,null,null,null,null,null,null,null,null,null,null,null,null,null,null,null,null,null,null,null,null,null,null,null,null,null,null,null,null,null,null,null,null,null,null,null,null,null,null,null,null,null,null,null,null,null,null,null,null,null,null,null,null,null,null,null,null,null,null,null,null,null,null,null,null,null,null,null,null,null,null,null,null,null,null,null,null,null,null,null,null,null,null,null,991,"","","","","","","","","","","","","","","","","","","","","","","","","","","","","",{"$f":"IF(AM1011=\"\",\"\",IF(OR(AM1011=1,AM1011=2,AM1011=3,AM1011=4,AM1011=5,AM1011=99),1,0))","v":""},"","","","","","","","","","","","","","","","","","","","","","","","","","","","","","","","","","","","","","","","","","","","","","","","","","","","","","","","","","","","",{"$f":"IF(CV1011=\"\",\"\",IF(OR(CV1011=1,CV1011=2,CV1011=3,CV1011=4,CV1011=5,CV1011=99),1,0))","v":""},"","","","","","","","","","","","","","","","","","","","","","","","","","","","","","","","","","","","","","","","","","","","","","","","","","","","","","","","","","","","","","","","","","","","","","","","","","","","","","","","","","","","","","",2,0,-2,0,0]
[null,null,null,null,null,null,992,null,null,null,null,null,null,null,null,null,null,null,null,null,null,null,null,null,null,null,null,null,null,null,null,null,null,null,null,null,null,null,null,null,null,null,null,null,null,null,null,null,null,null,null,null,null,null,null,null,null,null,null,null,null,null,null,null,null,null,null,null,null,null,null,null,null,null,null,null,null,null,null,null,null,null,null,null,null,null,null,null,null,null,null,null,null,null,null,null,null,null,null,null,null,null,null,null,null,null,null,null,null,null,null,null,null,null,null,null,null,null,null,null,null,null,null,null,null,null,null,null,null,null,null,null,null,null,null,null,null,null,null,null,null,null,null,null,null,null,null,null,null,null,null,null,null,null,null,null,null,null,null,null,null,null,null,null,null,null,null,null,null,null,null,null,null,null,null,null,null,null,null,null,null,null,null,null,null,null,null,992,"","","","","","","","","","","","","","","","","","","","","","","","","","","","","","","","","","","","","","","","","","","","","","","","","","","","","","","","","","","","","","","","","","","","","","","","","","","","","","","","","","","","","","","","","","","","","","","","","","","","","","","","","","","","","","","","","","","","","","","","","","","","","","","","","","","","","","","","","","","","","","","","","","","","","","","","","","","","","","","","","","","","","","","","","","","","","","","","","",2,0,-2,0,0]
[null,null,null,null,null,null,993,null,null,null,null,null,null,null,null,null,null,null,null,null,null,null,null,null,null,null,null,null,null,null,null,null,null,null,null,null,null,null,null,null,null,null,null,null,null,null,null,null,null,null,null,null,null,null,null,null,null,null,null,null,null,null,null,null,null,null,null,null,null,null,null,null,null,null,null,null,null,null,null,null,null,null,null,null,null,null,null,null,null,null,null,null,null,null,null,null,null,null,null,null,null,null,null,null,null,null,null,null,null,null,null,null,null,null,null,null,null,null,null,null,null,null,null,null,null,null,null,null,null,null,null,null,null,null,null,null,null,null,null,null,null,null,null,null,null,null,null,null,null,null,null,null,null,null,null,null,null,null,null,null,null,null,null,null,null,null,null,null,null,null,null,null,null,null,null,null,null,null,null,null,null,null,null,null,null,null,null,993,"","","","","","","","","","","","","","","","","","","","","","","","","","","","","","","","","","","","","","","","","","","","","","","","","","","","","","","","","","","","","","","","","","","","","","","","","","","","","","","","","","","","","","","","","","","","","","","","","","","","","","","","","","","","","","","","","","","","","","","","","","","","","","","","","","","","","","","","","","","","","","","","","","","","","","","","","","","","","","","","","","","","","","","","","","","","","","","","","",2,0,-2,0,0]
[null,null,null,null,null,null,994,null,null,null,null,null,null,null,null,null,null,null,null,null,null,null,null,null,null,null,null,null,null,null,null,null,null,null,null,null,null,null,null,null,null,null,null,null,null,null,null,null,null,null,null,null,null,null,null,null,null,null,null,null,null,null,null,null,null,null,null,null,null,null,null,null,null,null,null,null,null,null,null,null,null,null,null,null,null,null,null,null,null,null,null,null,null,null,null,null,null,null,null,null,null,null,null,null,null,null,null,null,null,null,null,null,null,null,null,null,null,null,null,null,null,null,null,null,null,null,null,null,null,null,null,null,null,null,null,null,null,null,null,null,null,null,null,null,null,null,null,null,null,null,null,null,null,null,null,null,null,null,null,null,null,null,null,null,null,null,null,null,null,null,null,null,null,null,null,null,null,null,null,null,null,null,null,null,null,null,null,994,"","","","","","","","","","","","","","","","","","","","","","","","","","","","","","","","","","","","","","","","","","","","","","","","","","","","","","","","","","","","","","","","","","","","","","","","","","","","","","","","","","","","","","","","","","","","","","","","","","","","","","","","","","","","","","","","","","","","","","","","","","","","","","","","","","","","","","","","","","","","","","","","","","","","","","","","","","","","","","","","","","","","","","","","","","","","","","","","","",2,0,-2,0,0]
[null,null,null,null,null,null,995,null,null,null,null,null,null,null,null,null,null,null,null,null,null,null,null,null,null,null,null,null,null,null,null,null,null,null,null,null,null,null,null,null,null,null,null,null,null,null,null,null,null,null,null,null,null,null,null,null,null,null,null,null,null,null,null,null,null,null,null,null,null,null,null,null,null,null,null,null,null,null,null,null,null,null,null,null,null,null,null,null,null,null,null,null,null,null,null,null,null,null,null,null,null,null,null,null,null,null,null,null,null,null,null,null,null,null,null,null,null,null,null,null,null,null,null,null,null,null,null,null,null,null,null,null,null,null,null,null,null,null,null,null,null,null,null,null,null,null,null,null,null,null,null,null,null,null,null,null,null,null,null,null,null,null,null,null,null,null,null,null,null,null,null,null,null,null,null,null,null,null,null,null,null,null,null,null,null,null,null,995,"","","","","","","","","","","","","","","","","","","","","","","","","","","","","","","","","","","","","","","","","","","","","","","","","","","","","","","","","","","","","","","","","","","","","","","","","","","","","","","","","","","","","","","","","","","","","","","","","","","","","","","","","","","","","","","","","","","","","","","","","","","","","","","","","","","","","","","","","","","","","","","","","","","","","","","","","","","","","","","","","","","","","","","","","","","","","","","","","",2,0,-2,0,0]
[null,null,null,null,null,null,996,null,null,null,null,null,null,null,null,null,null,null,null,null,null,null,null,null,null,null,null,null,null,null,null,null,null,null,null,null,null,null,null,null,null,null,null,null,null,null,null,null,null,null,null,null,null,null,null,null,null,null,null,null,null,null,null,null,null,null,null,null,null,null,null,null,null,null,null,null,null,null,null,null,null,null,null,null,null,null,null,null,null,null,null,null,null,null,null,null,null,null,null,null,null,null,null,null,null,null,null,null,null,null,null,null,null,null,null,null,null,null,null,null,null,null,null,null,null,null,null,null,null,null,null,null,null,null,null,null,null,null,null,null,null,null,null,null,null,null,null,null,null,null,null,null,null,null,null,null,null,null,null,null,null,null,null,null,null,null,null,null,null,null,null,null,null,null,null,null,null,null,null,null,null,null,null,null,null,null,null,996,"","","","","","","","","","","","","","","","","","","","","","","","","","","","","","","","","","","","","","","","","","","","","","","","","","","","","","","","","","","","","","","","","","","","","","","","","","","","","","","","","","","","","","","","","","","","","","","","","","","","","","","","","","","","","","","","","","","","","","","","","","","","","","","","","","","","","","","","","","","","","","","","","","","","","","","","","","","","","","","","","","","","","","","","","","","","","","","","","",2,0,-2,0,0]
[null,null,null,null,null,null,997,null,null,null,null,null,null,null,null,null,null,null,null,null,null,null,null,null,null,null,null,null,null,null,null,null,null,null,null,null,null,null,null,null,null,null,null,null,null,null,null,null,null,null,null,null,null,null,null,null,null,null,null,null,null,null,null,null,null,null,null,null,null,null,null,null,null,null,null,null,null,null,null,null,null,null,null,null,null,null,null,null,null,null,null,null,null,null,null,null,null,null,null,null,null,null,null,null,null,null,null,null,null,null,null,null,null,null,null,null,null,null,null,null,null,null,null,null,null,null,null,null,null,null,null,null,null,null,null,null,null,null,null,null,null,null,null,null,null,null,null,null,null,null,null,null,null,null,null,null,null,null,null,null,null,null,null,null,null,null,null,null,null,null,null,null,null,null,null,null,null,null,null,null,null,null,null,null,null,null,null,997,"","","","","","","","","","","","","","","","","","","","","","","","","","","","","","","","","","","","","","","","","","","","","","","","","","","","","","","","","","","","","","","","","","","","","","","","","","","","","","","","","","","","","","","","","","","","","","","","","","","","","","","","","","","","","","","","","","","","","","","","","","","","","","","","","","","","","","","","","","","","","","","","","","","","","","","","","","","","","","","","","","","","","","","","","","","","","","","","","",2,0,-2,0,0]
[null,null,null,null,null,null,998,null,null,null,null,null,null,null,null,null,null,null,null,null,null,null,null,null,null,null,null,null,null,null,null,null,null,null,null,null,null,null,null,null,null,null,null,null,null,null,null,null,null,null,null,null,null,null,null,null,null,null,null,null,null,null,null,null,null,null,null,null,null,null,null,null,null,null,null,null,null,null,null,null,null,null,null,null,null,null,null,null,null,null,null,null,null,null,null,null,null,null,null,null,null,null,null,null,null,null,null,null,null,null,null,null,null,null,null,null,null,null,null,null,null,null,null,null,null,null,null,null,null,null,null,null,null,null,null,null,null,null,null,null,null,null,null,null,null,null,null,null,null,null,null,null,null,null,null,null,null,null,null,null,null,null,null,null,null,null,null,null,null,null,null,null,null,null,null,null,null,null,null,null,null,null,null,null,null,null,null,998,"","","","","","","","","","","","","","","","","","","","","","","","","","","","","","","","","","","","","","","","","","","","","","","","","","","","","","","","","","","","","","","","","","","","","","","","","","","","","","","","","","","","","","","","","","","","","","","","","","","","","","","","","","","","","","","","","","","","","","","","","","","","","","","","","","","","","","","","","","","","","","","","",{"$f":"IF(EX1018=\"\",\"\",IF(OR(EX1018=1,EX1018=2,EX1018=3,EX1018=4,EX1018=5,EX1018=99),1,0))","v":""},"","","","","","","","","","","","","","","","","","","","","","","","","","","","","","","","",2,0,-2,0,0]
[null,null,null,null,null,null,999,null,null,null,null,null,null,null,null,null,null,null,null,null,null,null,null,null,null,null,null,null,null,null,null,null,null,null,null,null,null,null,null,null,null,null,null,null,null,null,null,null,null,null,null,null,null,null,null,null,null,null,null,null,null,null,null,null,null,null,null,null,null,null,null,null,null,null,null,null,null,null,null,null,null,null,null,null,null,null,null,null,null,null,null,null,null,null,null,null,null,null,null,null,null,null,null,null,null,null,null,null,null,null,null,null,null,null,null,null,null,null,null,null,null,null,null,null,null,null,null,null,null,null,null,null,null,null,null,null,null,null,null,null,null,null,null,null,null,null,null,null,null,null,null,null,null,null,null,null,null,null,null,null,null,null,null,null,null,null,null,null,null,null,null,null,null,null,null,null,null,null,null,null,null,null,null,null,null,null,null,999,"","","","","","","","","","","","","","","","","","","","","","","","","","","","","","","","","","","","","","","","","","","","","","","","","","","","","","","",{"$f":"IF(BM1019=\"\",\"\",IF(OR(BM1019=1,BM1019=2,BM1019=3,BM1019=4,BM1019=5,BM1019=99),1,0))","v":""},"","","","","","","","","","","","","","","","","","","","","","","","","","","","","","","","","","","","","","","","","","","","","","","","","","","","","","","","","","","","","","","","","","","","","","","","","","","","","","","","",{"$f":"IF(EP1019=\"\",\"\",IF(OR(EP1019=1,EP1019=2,EP1019=3,EP1019=4,EP1019=5,EP1019=99),1,0))","v":""},"","","","","","","","","","","","","","","","","","","","","","","","","","","","","","","",{"$f":"IF(FV1019=\"\",\"\",IF(OR(FV1019=1,FV1019=2,FV1019=3,FV1019=4,FV1019=5,FV1019=99),1,0))","v":""},"","","","","","","","",2,0,-2,0,0]
[null,null,null,null,null,null,1000,null,null,null,null,null,null,null,null,null,null,null,null,null,null,null,null,null,null,null,null,null,null,null,null,null,null,null,null,null,null,null,null,null,null,null,null,null,null,null,null,null,null,null,null,null,null,null,null,null,null,null,null,null,null,null,null,null,null,null,null,null,null,null,null,null,null,null,null,null,null,null,null,null,null,null,null,null,null,null,null,null,null,null,null,null,null,null,null,null,null,null,null,null,null,null,null,null,null,null,null,null,null,null,null,null,null,null,null,null,null,null,null,null,null,null,null,null,null,null,null,null,null,null,null,null,null,null,null,null,null,null,null,null,null,null,null,null,null,null,null,null,null,null,null,null,null,null,null,null,null,null,null,null,null,null,null,null,null,null,null,null,null,null,null,null,null,null,null,null,null,null,null,null,null,null,null,null,null,null,null,1000,"","","","","","","","","","","","","","","","","","","","","","","","","","","","","","","","","","","","","","","","","","","","","","","","","","","","","","","","","","","","","","","","","","","","","","","","","","","","","","","","","","","","","","","","","","","","","","","","","","","","","","","","","","","","","","","","","","","","","","","","","","","","","","","","","","","","","","","","","","","","","","","","","","","","","","","","","","","","","","","","","","","","","","","","","","","","","","","","","",2,0,-2,0,0]

{"sheet":"4_cpp_misc","index":31,"n_rows":192,"n_cols":5,"rows_kept":192,"cut":false,"hidden":true,"merged":[]}
[{"$f":"'Step 4 CPP'!#REF!","v":{"$error":"#REF!"}},{"$f":"'Step 4 CPP'!#REF!","v":{"$error":"#REF!"}},{"$f":"IF(AND(A1=1, B1=0), 1, 0)","v":{"$error":"#REF!"}},null,{"$f":"IF(SUM(C:C)=0, 0, 1)","v":{"$error":"#REF!"}}]
[{"$f":"'Step 4 CPP'!#REF!","v":{"$error":"#REF!"}},{"$f":"'Step 4 CPP'!#REF!","v":{"$error":"#REF!"}},{"$f":"IF(AND(A2=1, B2=0), 1, 0)","v":{"$error":"#REF!"}}]
[{"$f":"'Step 4 CPP'!#REF!","v":{"$error":"#REF!"}},{"$f":"'Step 4 CPP'!#REF!","v":{"$error":"#REF!"}},{"$error":"#REF!"}]
[{"$f":"'Step 4 CPP'!#REF!","v":{"$error":"#REF!"}},{"$f":"'Step 4 CPP'!#REF!","v":{"$error":"#REF!"}},{"$error":"#REF!"}]
[{"$f":"'Step 4 CPP'!#REF!","v":{"$error":"#REF!"}},{"$f":"'Step 4 CPP'!#REF!","v":{"$error":"#REF!"}},{"$error":"#REF!"}]
[{"$f":"'Step 4 CPP'!#REF!","v":{"$error":"#REF!"}},{"$f":"'Step 4 CPP'!#REF!","v":{"$error":"#REF!"}},{"$error":"#REF!"}]
[{"$f":"'Step 4 CPP'!#REF!","v":{"$error":"#REF!"}},{"$f":"'Step 4 CPP'!#REF!","v":{"$error":"#REF!"}},{"$error":"#REF!"}]
[{"$f":"'Step 4 CPP'!#REF!","v":{"$error":"#REF!"}},{"$f":"'Step 4 CPP'!#REF!","v":{"$error":"#REF!"}},{"$error":"#REF!"}]
[{"$f":"'Step 4 CPP'!#REF!","v":{"$error":"#REF!"}},{"$f":"'Step 4 CPP'!#REF!","v":{"$error":"#REF!"}},{"$error":"#REF!"}]
[{"$f":"'Step 4 CPP'!#REF!","v":{"$error":"#REF!"}},{"$f":"'Step 4 CPP'!#REF!","v":{"$error":"#REF!"}},{"$error":"#REF!"}]
[{"$f":"'Step 4 CPP'!#REF!","v":{"$error":"#REF!"}},{"$f":"'Step 4 CPP'!#REF!","v":{"$error":"#REF!"}},{"$error":"#REF!"}]
[{"$f":"'Step 4 CPP'!#REF!","v":{"$error":"#REF!"}},{"$f":"'Step 4 CPP'!#REF!","v":{"$error":"#REF!"}},{"$error":"#REF!"}]
[{"$f":"'Step 4 CPP'!#REF!","v":{"$error":"#REF!"}},{"$f":"'Step 4 CPP'!#REF!","v":{"$error":"#REF!"}},{"$error":"#REF!"}]
[{"$f":"'Step 4 CPP'!#REF!","v":{"$error":"#REF!"}},{"$f":"'Step 4 CPP'!#REF!","v":{"$error":"#REF!"}},{"$error":"#REF!"}]
[{"$f":"'Step 4 CPP'!#REF!","v":{"$error":"#REF!"}},{"$f":"'Step 4 CPP'!#REF!","v":{"$error":"#REF!"}},{"$error":"#REF!"}]
[{"$f":"'Step 4 CPP'!#REF!","v":{"$error":"#REF!"}},{"$f":"'Step 4 CPP'!#REF!","v":{"$error":"#REF!"}},{"$error":"#REF!"}]
[{"$f":"'Step 4 CPP'!#REF!","v":{"$error":"#REF!"}},{"$f":"'Step 4 CPP'!#REF!","v":{"$error":"#REF!"}},{"$error":"#REF!"}]
[{"$f":"'Step 4 CPP'!#REF!","v":{"$error":"#REF!"}},{"$f":"'Step 4 CPP'!#REF!","v":{"$error":"#REF!"}},{"$error":"#REF!"}]
[{"$f":"'Step 4 CPP'!#REF!","v":{"$error":"#REF!"}},{"$f":"'Step 4 CPP'!#REF!","v":{"$error":"#REF!"}},{"$error":"#REF!"}]
[{"$f":"'Step 4 CPP'!#REF!","v":{"$error":"#REF!"}},{"$f":"'Step 4 CPP'!#REF!","v":{"$error":"#REF!"}},{"$error":"#REF!"}]
[{"$f":"'Step 4 CPP'!#REF!","v":{"$error":"#REF!"}},{"$f":"'Step 4 CPP'!#REF!","v":{"$error":"#REF!"}},{"$error":"#REF!"}]
[{"$f":"'Step 4 CPP'!#REF!","v":{"$error":"#REF!"}},{"$f":"'Step 4 CPP'!#REF!","v":{"$error":"#REF!"}},{"$error":"#REF!"}]
[{"$f":"'Step 4 CPP'!#REF!","v":{"$error":"#REF!"}},{"$f":"'Step 4 CPP'!#REF!","v":{"$error":"#REF!"}},{"$error":"#REF!"}]
[{"$f":"'Step 4 CPP'!#REF!","v":{"$error":"#REF!"}},{"$f":"'Step 4 CPP'!#REF!","v":{"$error":"#REF!"}},{"$error":"#REF!"}]
[{"$f":"'Step 4 CPP'!#REF!","v":{"$error":"#REF!"}},{"$f":"'Step 4 CPP'!#REF!","v":{"$error":"#REF!"}},{"$error":"#REF!"}]
[{"$f":"'Step 4 CPP'!#REF!","v":{"$error":"#REF!"}},{"$f":"'Step 4 CPP'!#REF!","v":{"$error":"#REF!"}},{"$error":"#REF!"}]
[{"$f":"'Step 4 CPP'!#REF!","v":{"$error":"#REF!"}},{"$f":"'Step 4 CPP'!#REF!","v":{"$error":"#REF!"}},{"$error":"#REF!"}]
[{"$f":"'Step 4 CPP'!#REF!","v":{"$error":"#REF!"}},{"$f":"'Step 4 CPP'!#REF!","v":{"$error":"#REF!"}},{"$error":"#REF!"}]
[{"$f":"'Step 4 CPP'!#REF!","v":{"$error":"#REF!"}},{"$f":"'Step 4 CPP'!#REF!","v":{"$error":"#REF!"}},{"$error":"#REF!"}]
[{"$f":"'Step 4 CPP'!#REF!","v":{"$error":"#REF!"}},{"$f":"'Step 4 CPP'!#REF!","v":{"$error":"#REF!"}},{"$error":"#REF!"}]
[{"$f":"'Step 4 CPP'!#REF!","v":{"$error":"#REF!"}},{"$f":"'Step 4 CPP'!#REF!","v":{"$error":"#REF!"}},{"$error":"#REF!"}]
[{"$f":"'Step 4 CPP'!#REF!","v":{"$error":"#REF!"}},{"$f":"'Step 4 CPP'!#REF!","v":{"$error":"#REF!"}},{"$error":"#REF!"}]
[{"$f":"'Step 4 CPP'!#REF!","v":{"$error":"#REF!"}},{"$f":"'Step 4 CPP'!#REF!","v":{"$error":"#REF!"}},{"$error":"#REF!"}]
[{"$f":"'Step 4 CPP'!#REF!","v":{"$error":"#REF!"}},{"$f":"'Step 4 CPP'!#REF!","v":{"$error":"#REF!"}},{"$error":"#REF!"}]
[{"$f":"'Step 4 CPP'!#REF!","v":{"$error":"#REF!"}},{"$f":"'Step 4 CPP'!#REF!","v":{"$error":"#REF!"}},{"$error":"#REF!"}]
[{"$f":"'Step 4 CPP'!#REF!","v":{"$error":"#REF!"}},{"$f":"'Step 4 CPP'!#REF!","v":{"$error":"#REF!"}},{"$error":"#REF!"}]
[{"$f":"'Step 4 CPP'!#REF!","v":{"$error":"#REF!"}},{"$f":"'Step 4 CPP'!#REF!","v":{"$error":"#REF!"}},{"$error":"#REF!"}]
[{"$f":"'Step 4 CPP'!#REF!","v":{"$error":"#REF!"}},{"$f":"'Step 4 CPP'!#REF!","v":{"$error":"#REF!"}},{"$error":"#REF!"}]
[{"$f":"'Step 4 CPP'!#REF!","v":{"$error":"#REF!"}},{"$f":"'Step 4 CPP'!#REF!","v":{"$error":"#REF!"}},{"$error":"#REF!"}]
[{"$f":"'Step 4 CPP'!#REF!","v":{"$error":"#REF!"}},{"$f":"'Step 4 CPP'!#REF!","v":{"$error":"#REF!"}},{"$error":"#REF!"}]
[{"$f":"'Step 4 CPP'!#REF!","v":{"$error":"#REF!"}},{"$f":"'Step 4 CPP'!#REF!","v":{"$error":"#REF!"}},{"$error":"#REF!"}]
[{"$f":"'Step 4 CPP'!#REF!","v":{"$error":"#REF!"}},{"$f":"'Step 4 CPP'!#REF!","v":{"$error":"#REF!"}},{"$error":"#REF!"}]
[{"$f":"'Step 4 CPP'!#REF!","v":{"$error":"#REF!"}},{"$f":"'Step 4 CPP'!#REF!","v":{"$error":"#REF!"}},{"$error":"#REF!"}]
[{"$f":"'Step 4 CPP'!#REF!","v":{"$error":"#REF!"}},{"$f":"'Step 4 CPP'!#REF!","v":{"$error":"#REF!"}},{"$error":"#REF!"}]
[{"$f":"'Step 4 CPP'!#REF!","v":{"$error":"#REF!"}},{"$f":"'Step 4 CPP'!#REF!","v":{"$error":"#REF!"}},{"$error":"#REF!"}]
[{"$f":"'Step 4 CPP'!#REF!","v":{"$error":"#REF!"}},{"$f":"'Step 4 CPP'!#REF!","v":{"$error":"#REF!"}},{"$error":"#REF!"}]
[{"$f":"'Step 4 CPP'!#REF!","v":{"$error":"#REF!"}},{"$f":"'Step 4 CPP'!#REF!","v":{"$error":"#REF!"}},{"$error":"#REF!"}]
[{"$f":"'Step 4 CPP'!#REF!","v":{"$error":"#REF!"}},{"$f":"'Step 4 CPP'!#REF!","v":{"$error":"#REF!"}},{"$error":"#REF!"}]
[{"$f":"'Step 4 CPP'!#REF!","v":{"$error":"#REF!"}},{"$f":"'Step 4 CPP'!#REF!","v":{"$error":"#REF!"}},{"$error":"#REF!"}]
[{"$f":"'Step 4 CPP'!#REF!","v":{"$error":"#REF!"}},{"$f":"'Step 4 CPP'!#REF!","v":{"$error":"#REF!"}},{"$error":"#REF!"}]
[{"$f":"'Step 4 CPP'!#REF!","v":{"$error":"#REF!"}},{"$f":"'Step 4 CPP'!#REF!","v":{"$error":"#REF!"}},{"$error":"#REF!"}]
[{"$f":"'Step 4 CPP'!#REF!","v":{"$error":"#REF!"}},{"$f":"'Step 4 CPP'!#REF!","v":{"$error":"#REF!"}},{"$error":"#REF!"}]
[{"$f":"'Step 4 CPP'!#REF!","v":{"$error":"#REF!"}},{"$f":"'Step 4 CPP'!#REF!","v":{"$error":"#REF!"}},{"$error":"#REF!"}]
[{"$f":"'Step 4 CPP'!#REF!","v":{"$error":"#REF!"}},{"$f":"'Step 4 CPP'!#REF!","v":{"$error":"#REF!"}},{"$error":"#REF!"}]
[{"$f":"'Step 4 CPP'!#REF!","v":{"$error":"#REF!"}},{"$f":"'Step 4 CPP'!#REF!","v":{"$error":"#REF!"}},{"$error":"#REF!"}]
[{"$f":"'Step 4 CPP'!#REF!","v":{"$error":"#REF!"}},{"$f":"'Step 4 CPP'!#REF!","v":{"$error":"#REF!"}},{"$error":"#REF!"}]
[{"$f":"'Step 4 CPP'!#REF!","v":{"$error":"#REF!"}},{"$f":"'Step 4 CPP'!#REF!","v":{"$error":"#REF!"}},{"$error":"#REF!"}]
[{"$f":"'Step 4 CPP'!#REF!","v":{"$error":"#REF!"}},{"$f":"'Step 4 CPP'!#REF!","v":{"$error":"#REF!"}},{"$error":"#REF!"}]
[{"$f":"'Step 4 CPP'!#REF!","v":{"$error":"#REF!"}},{"$f":"'Step 4 CPP'!#REF!","v":{"$error":"#REF!"}},{"$error":"#REF!"}]
[{"$f":"'Step 4 CPP'!#REF!","v":{"$error":"#REF!"}},{"$f":"'Step 4 CPP'!#REF!","v":{"$error":"#REF!"}},{"$error":"#REF!"}]
[{"$f":"'Step 4 CPP'!#REF!","v":{"$error":"#REF!"}},{"$f":"'Step 4 CPP'!#REF!","v":{"$error":"#REF!"}},{"$error":"#REF!"}]
[{"$f":"'Step 4 CPP'!#REF!","v":{"$error":"#REF!"}},{"$f":"'Step 4 CPP'!#REF!","v":{"$error":"#REF!"}},{"$error":"#REF!"}]
[{"$f":"'Step 4 CPP'!#REF!","v":{"$error":"#REF!"}},{"$f":"'Step 4 CPP'!#REF!","v":{"$error":"#REF!"}},{"$error":"#REF!"}]
[{"$f":"'Step 4 CPP'!#REF!","v":{"$error":"#REF!"}},{"$f":"'Step 4 CPP'!#REF!","v":{"$error":"#REF!"}},{"$error":"#REF!"}]
[{"$f":"'Step 4 CPP'!#REF!","v":{"$error":"#REF!"}},{"$f":"'Step 4 CPP'!#REF!","v":{"$error":"#REF!"}},{"$error":"#REF!"}]
[{"$f":"'Step 4 CPP'!#REF!","v":{"$error":"#REF!"}},{"$f":"'Step 4 CPP'!#REF!","v":{"$error":"#REF!"}},{"$f":"IF(AND(A66=1, B66=0), 1, 0)","v":{"$error":"#REF!"}}]
[{"$f":"'Step 4 CPP'!#REF!","v":{"$error":"#REF!"}},{"$f":"'Step 4 CPP'!#REF!","v":{"$error":"#REF!"}},{"$error":"#REF!"}]
[{"$f":"'Step 4 CPP'!#REF!","v":{"$error":"#REF!"}},{"$f":"'Step 4 CPP'!#REF!","v":{"$error":"#REF!"}},{"$error":"#REF!"}]
[{"$f":"'Step 4 CPP'!#REF!","v":{"$error":"#REF!"}},{"$f":"'Step 4 CPP'!#REF!","v":{"$error":"#REF!"}},{"$error":"#REF!"}]
[{"$f":"'Step 4 CPP'!#REF!","v":{"$error":"#REF!"}},{"$f":"'Step 4 CPP'!#REF!","v":{"$error":"#REF!"}},{"$error":"#REF!"}]
[{"$f":"'Step 4 CPP'!#REF!","v":{"$error":"#REF!"}},{"$f":"'Step 4 CPP'!#REF!","v":{"$error":"#REF!"}},{"$error":"#REF!"}]
[{"$f":"'Step 4 CPP'!#REF!","v":{"$error":"#REF!"}},{"$f":"'Step 4 CPP'!#REF!","v":{"$error":"#REF!"}},{"$error":"#REF!"}]
[{"$f":"'Step 4 CPP'!#REF!","v":{"$error":"#REF!"}},{"$f":"'Step 4 CPP'!#REF!","v":{"$error":"#REF!"}},{"$error":"#REF!"}]
[{"$f":"'Step 4 CPP'!#REF!","v":{"$error":"#REF!"}},{"$f":"'Step 4 CPP'!#REF!","v":{"$error":"#REF!"}},{"$error":"#REF!"}]
[{"$f":"'Step 4 CPP'!#REF!","v":{"$error":"#REF!"}},{"$f":"'Step 4 CPP'!#REF!","v":{"$error":"#REF!"}},{"$error":"#REF!"}]
[{"$f":"'Step 4 CPP'!#REF!","v":{"$error":"#REF!"}},{"$f":"'Step 4 CPP'!#REF!","v":{"$error":"#REF!"}},{"$error":"#REF!"}]
[{"$f":"'Step 4 CPP'!#REF!","v":{"$error":"#REF!"}},{"$f":"'Step 4 CPP'!#REF!","v":{"$error":"#REF!"}},{"$error":"#REF!"}]
[{"$f":"'Step 4 CPP'!#REF!","v":{"$error":"#REF!"}},{"$f":"'Step 4 CPP'!#REF!","v":{"$error":"#REF!"}},{"$error":"#REF!"}]
[{"$f":"'Step 4 CPP'!#REF!","v":{"$error":"#REF!"}},{"$f":"'Step 4 CPP'!#REF!","v":{"$error":"#REF!"}},{"$error":"#REF!"}]
[{"$f":"'Step 4 CPP'!#REF!","v":{"$error":"#REF!"}},{"$f":"'Step 4 CPP'!#REF!","v":{"$error":"#REF!"}},{"$error":"#REF!"}]
[{"$f":"'Step 4 CPP'!#REF!","v":{"$error":"#REF!"}},{"$f":"'Step 4 CPP'!#REF!","v":{"$error":"#REF!"}},{"$error":"#REF!"}]
[{"$f":"'Step 4 CPP'!#REF!","v":{"$error":"#REF!"}},{"$f":"'Step 4 CPP'!#REF!","v":{"$error":"#REF!"}},{"$error":"#REF!"}]
[{"$f":"'Step 4 CPP'!#REF!","v":{"$error":"#REF!"}},{"$f":"'Step 4 CPP'!#REF!","v":{"$error":"#REF!"}},{"$error":"#REF!"}]
[{"$f":"'Step 4 CPP'!#REF!","v":{"$error":"#REF!"}},{"$f":"'Step 4 CPP'!#REF!","v":{"$error":"#REF!"}},{"$error":"#REF!"}]
[{"$f":"'Step 4 CPP'!#REF!","v":{"$error":"#REF!"}},{"$f":"'Step 4 CPP'!#REF!","v":{"$error":"#REF!"}},{"$error":"#REF!"}]
[{"$f":"'Step 4 CPP'!#REF!","v":{"$error":"#REF!"}},{"$f":"'Step 4 CPP'!#REF!","v":{"$error":"#REF!"}},{"$error":"#REF!"}]
[{"$f":"'Step 4 CPP'!#REF!","v":{"$error":"#REF!"}},{"$f":"'Step 4 CPP'!#REF!","v":{"$error":"#REF!"}},{"$error":"#REF!"}]
[{"$f":"'Step 4 CPP'!#REF!","v":{"$error":"#REF!"}},{"$f":"'Step 4 CPP'!#REF!","v":{"$error":"#REF!"}},{"$error":"#REF!"}]
[{"$f":"'Step 4 CPP'!#REF!","v":{"$error":"#REF!"}},{"$f":"'Step 4 CPP'!#REF!","v":{"$error":"#REF!"}},{"$error":"#REF!"}]
[{"$f":"'Step 4 CPP'!#REF!","v":{"$error":"#REF!"}},{"$f":"'Step 4 CPP'!#REF!","v":{"$error":"#REF!"}},{"$error":"#REF!"}]
[{"$f":"'Step 4 CPP'!#REF!","v":{"$error":"#REF!"}},{"$f":"'Step 4 CPP'!#REF!","v":{"$error":"#REF!"}},{"$error":"#REF!"}]
[{"$f":"'Step 4 CPP'!#REF!","v":{"$error":"#REF!"}},{"$f":"'Step 4 CPP'!#REF!","v":{"$error":"#REF!"}},{"$error":"#REF!"}]
[{"$f":"'Step 4 CPP'!#REF!","v":{"$error":"#REF!"}},{"$f":"'Step 4 CPP'!#REF!","v":{"$error":"#REF!"}},{"$error":"#REF!"}]
[{"$f":"'Step 4 CPP'!#REF!","v":{"$error":"#REF!"}},{"$f":"'Step 4 CPP'!#REF!","v":{"$error":"#REF!"}},{"$error":"#REF!"}]
[{"$f":"'Step 4 CPP'!#REF!","v":{"$error":"#REF!"}},{"$f":"'Step 4 CPP'!#REF!","v":{"$error":"#REF!"}},{"$error":"#REF!"}]
[{"$f":"'Step 4 CPP'!#REF!","v":{"$error":"#REF!"}},{"$f":"'Step 4 CPP'!#REF!","v":{"$error":"#REF!"}},{"$error":"#REF!"}]
[{"$f":"'Step 4 CPP'!#REF!","v":{"$error":"#REF!"}},{"$f":"'Step 4 CPP'!#REF!","v":{"$error":"#REF!"}},{"$error":"#REF!"}]
[{"$f":"'Step 4 CPP'!#REF!","v":{"$error":"#REF!"}},{"$f":"'Step 4 CPP'!#REF!","v":{"$error":"#REF!"}},{"$error":"#REF!"}]
[{"$f":"'Step 4 CPP'!#REF!","v":{"$error":"#REF!"}},{"$f":"'Step 4 CPP'!#REF!","v":{"$error":"#REF!"}},{"$error":"#REF!"}]
[{"$f":"'Step 4 CPP'!#REF!","v":{"$error":"#REF!"}},{"$f":"'Step 4 CPP'!#REF!","v":{"$error":"#REF!"}},{"$error":"#REF!"}]
[{"$f":"'Step 4 CPP'!#REF!","v":{"$error":"#REF!"}},{"$f":"'Step 4 CPP'!#REF!","v":{"$error":"#REF!"}},{"$error":"#REF!"}]
[{"$f":"'Step 4 CPP'!#REF!","v":{"$error":"#REF!"}},{"$f":"'Step 4 CPP'!#REF!","v":{"$error":"#REF!"}},{"$error":"#REF!"}]
[{"$f":"'Step 4 CPP'!#REF!","v":{"$error":"#REF!"}},{"$f":"'Step 4 CPP'!#REF!","v":{"$error":"#REF!"}},{"$error":"#REF!"}]
[{"$f":"'Step 4 CPP'!#REF!","v":{"$error":"#REF!"}},{"$f":"'Step 4 CPP'!#REF!","v":{"$error":"#REF!"}},{"$error":"#REF!"}]
[{"$f":"'Step 4 CPP'!#REF!","v":{"$error":"#REF!"}},{"$f":"'Step 4 CPP'!#REF!","v":{"$error":"#REF!"}},{"$error":"#REF!"}]
[{"$f":"'Step 4 CPP'!#REF!","v":{"$error":"#REF!"}},{"$f":"'Step 4 CPP'!#REF!","v":{"$error":"#REF!"}},{"$error":"#REF!"}]
[{"$f":"'Step 4 CPP'!#REF!","v":{"$error":"#REF!"}},{"$f":"'Step 4 CPP'!#REF!","v":{"$error":"#REF!"}},{"$error":"#REF!"}]
[{"$f":"'Step 4 CPP'!#REF!","v":{"$error":"#REF!"}},{"$f":"'Step 4 CPP'!#REF!","v":{"$error":"#REF!"}},{"$error":"#REF!"}]
[{"$f":"'Step 4 CPP'!#REF!","v":{"$error":"#REF!"}},{"$f":"'Step 4 CPP'!#REF!","v":{"$error":"#REF!"}},{"$error":"#REF!"}]
[{"$f":"'Step 4 CPP'!#REF!","v":{"$error":"#REF!"}},{"$f":"'Step 4 CPP'!#REF!","v":{"$error":"#REF!"}},{"$error":"#REF!"}]
[{"$f":"'Step 4 CPP'!#REF!","v":{"$error":"#REF!"}},{"$f":"'Step 4 CPP'!#REF!","v":{"$error":"#REF!"}},{"$error":"#REF!"}]
[{"$f":"'Step 4 CPP'!#REF!","v":{"$error":"#REF!"}},{"$f":"'Step 4 CPP'!#REF!","v":{"$error":"#REF!"}},{"$error":"#REF!"}]
[{"$f":"'Step 4 CPP'!#REF!","v":{"$error":"#REF!"}},{"$f":"'Step 4 CPP'!#REF!","v":{"$error":"#REF!"}},{"$error":"#REF!"}]
[{"$f":"'Step 4 CPP'!#REF!","v":{"$error":"#REF!"}},{"$f":"'Step 4 CPP'!#REF!","v":{"$error":"#REF!"}},{"$error":"#REF!"}]
[{"$f":"'Step 4 CPP'!#REF!","v":{"$error":"#REF!"}},{"$f":"'Step 4 CPP'!#REF!","v":{"$error":"#REF!"}},{"$error":"#REF!"}]
[{"$f":"'Step 4 CPP'!#REF!","v":{"$error":"#REF!"}},{"$f":"'Step 4 CPP'!#REF!","v":{"$error":"#REF!"}},{"$error":"#REF!"}]
[{"$f":"'Step 4 CPP'!#REF!","v":{"$error":"#REF!"}},{"$f":"'Step 4 CPP'!#REF!","v":{"$error":"#REF!"}},{"$error":"#REF!"}]
[{"$f":"'Step 4 CPP'!#REF!","v":{"$error":"#REF!"}},{"$f":"'Step 4 CPP'!#REF!","v":{"$error":"#REF!"}},{"$error":"#REF!"}]
[{"$f":"'Step 4 CPP'!#REF!","v":{"$error":"#REF!"}},{"$f":"'Step 4 CPP'!#REF!","v":{"$error":"#REF!"}},{"$error":"#REF!"}]
[{"$f":"'Step 4 CPP'!#REF!","v":{"$error":"#REF!"}},{"$f":"'Step 4 CPP'!#REF!","v":{"$error":"#REF!"}},{"$error":"#REF!"}]
[{"$f":"'Step 4 CPP'!#REF!","v":{"$error":"#REF!"}},{"$f":"'Step 4 CPP'!#REF!","v":{"$error":"#REF!"}},{"$error":"#REF!"}]
[{"$f":"'Step 4 CPP'!#REF!","v":{"$error":"#REF!"}},{"$f":"'Step 4 CPP'!#REF!","v":{"$error":"#REF!"}},{"$error":"#REF!"}]
[{"$f":"'Step 4 CPP'!#REF!","v":{"$error":"#REF!"}},{"$f":"'Step 4 CPP'!#REF!","v":{"$error":"#REF!"}},{"$error":"#REF!"}]
[{"$f":"'Step 4 CPP'!#REF!","v":{"$error":"#REF!"}},{"$f":"'Step 4 CPP'!#REF!","v":{"$error":"#REF!"}},{"$error":"#REF!"}]
[{"$f":"'Step 4 CPP'!#REF!","v":{"$error":"#REF!"}},{"$f":"'Step 4 CPP'!#REF!","v":{"$error":"#REF!"}},{"$error":"#REF!"}]
[{"$f":"'Step 4 CPP'!#REF!","v":{"$error":"#REF!"}},{"$f":"'Step 4 CPP'!#REF!","v":{"$error":"#REF!"}},{"$error":"#REF!"}]
[{"$f":"'Step 4 CPP'!#REF!","v":{"$error":"#REF!"}},{"$f":"'Step 4 CPP'!#REF!","v":{"$error":"#REF!"}},{"$error":"#REF!"}]
[{"$f":"'Step 4 CPP'!#REF!","v":{"$error":"#REF!"}},{"$f":"'Step 4 CPP'!#REF!","v":{"$error":"#REF!"}},{"$error":"#REF!"}]
[{"$f":"'Step 4 CPP'!#REF!","v":{"$error":"#REF!"}},{"$f":"'Step 4 CPP'!#REF!","v":{"$error":"#REF!"}},{"$error":"#REF!"}]
[{"$f":"'Step 4 CPP'!#REF!","v":{"$error":"#REF!"}},{"$f":"'Step 4 CPP'!#REF!","v":{"$error":"#REF!"}},{"$f":"IF(AND(A130=1, B130=0), 1, 0)","v":{"$error":"#REF!"}}]
[{"$f":"'Step 4 CPP'!#REF!","v":{"$error":"#REF!"}},{"$f":"'Step 4 CPP'!#REF!","v":{"$error":"#REF!"}},{"$error":"#REF!"}]
[{"$f":"'Step 4 CPP'!#REF!","v":{"$error":"#REF!"}},{"$f":"'Step 4 CPP'!#REF!","v":{"$error":"#REF!"}},{"$error":"#REF!"}]
[{"$f":"'Step 4 CPP'!#REF!","v":{"$error":"#REF!"}},{"$f":"'Step 4 CPP'!#REF!","v":{"$error":"#REF!"}},{"$error":"#REF!"}]
[{"$f":"'Step 4 CPP'!#REF!","v":{"$error":"#REF!"}},{"$f":"'Step 4 CPP'!#REF!","v":{"$error":"#REF!"}},{"$error":"#REF!"}]
[{"$f":"'Step 4 CPP'!#REF!","v":{"$error":"#REF!"}},{"$f":"'Step 4 CPP'!#REF!","v":{"$error":"#REF!"}},{"$error":"#REF!"}]
[{"$f":"'Step 4 CPP'!#REF!","v":{"$error":"#REF!"}},{"$f":"'Step 4 CPP'!#REF!","v":{"$error":"#REF!"}},{"$error":"#REF!"}]
[{"$f":"'Step 4 CPP'!#REF!","v":{"$error":"#REF!"}},{"$f":"'Step 4 CPP'!#REF!","v":{"$error":"#REF!"}},{"$error":"#REF!"}]
[{"$f":"'Step 4 CPP'!#REF!","v":{"$error":"#REF!"}},{"$f":"'Step 4 CPP'!#REF!","v":{"$error":"#REF!"}},{"$error":"#REF!"}]
[{"$f":"'Step 4 CPP'!#REF!","v":{"$error":"#REF!"}},{"$f":"'Step 4 CPP'!#REF!","v":{"$error":"#REF!"}},{"$error":"#REF!"}]
[{"$f":"'Step 4 CPP'!#REF!","v":{"$error":"#REF!"}},{"$f":"'Step 4 CPP'!#REF!","v":{"$error":"#REF!"}},{"$error":"#REF!"}]
[{"$f":"'Step 4 CPP'!#REF!","v":{"$error":"#REF!"}},{"$f":"'Step 4 CPP'!#REF!","v":{"$error":"#REF!"}},{"$error":"#REF!"}]
[{"$f":"'Step 4 CPP'!#REF!","v":{"$error":"#REF!"}},{"$f":"'Step 4 CPP'!#REF!","v":{"$error":"#REF!"}},{"$error":"#REF!"}]
[{"$f":"'Step 4 CPP'!#REF!","v":{"$error":"#REF!"}},{"$f":"'Step 4 CPP'!#REF!","v":{"$error":"#REF!"}},{"$error":"#REF!"}]
[{"$f":"'Step 4 CPP'!#REF!","v":{"$error":"#REF!"}},{"$f":"'Step 4 CPP'!#REF!","v":{"$error":"#REF!"}},{"$error":"#REF!"}]
[{"$f":"'Step 4 CPP'!#REF!","v":{"$error":"#REF!"}},{"$f":"'Step 4 CPP'!#REF!","v":{"$error":"#REF!"}},{"$error":"#REF!"}]
[{"$f":"'Step 4 CPP'!#REF!","v":{"$error":"#REF!"}},{"$f":"'Step 4 CPP'!#REF!","v":{"$error":"#REF!"}},{"$error":"#REF!"}]
[{"$f":"'Step 4 CPP'!#REF!","v":{"$error":"#REF!"}},{"$f":"'Step 4 CPP'!#REF!","v":{"$error":"#REF!"}},{"$error":"#REF!"}]
[{"$f":"'Step 4 CPP'!#REF!","v":{"$error":"#REF!"}},{"$f":"'Step 4 CPP'!#REF!","v":{"$error":"#REF!"}},{"$error":"#REF!"}]
[{"$f":"'Step 4 CPP'!#REF!","v":{"$error":"#REF!"}},{"$f":"'Step 4 CPP'!#REF!","v":{"$error":"#REF!"}},{"$error":"#REF!"}]
[{"$f":"'Step 4 CPP'!#REF!","v":{"$error":"#REF!"}},{"$f":"'Step 4 CPP'!#REF!","v":{"$error":"#REF!"}},{"$error":"#REF!"}]
[{"$f":"'Step 4 CPP'!#REF!","v":{"$error":"#REF!"}},{"$f":"'Step 4 CPP'!#REF!","v":{"$error":"#REF!"}},{"$error":"#REF!"}]
[{"$f":"'Step 4 CPP'!#REF!","v":{"$error":"#REF!"}},{"$f":"'Step 4 CPP'!#REF!","v":{"$error":"#REF!"}},{"$error":"#REF!"}]
[{"$f":"'Step 4 CPP'!#REF!","v":{"$error":"#REF!"}},{"$f":"'Step 4 CPP'!#REF!","v":{"$error":"#REF!"}},{"$error":"#REF!"}]
[{"$f":"'Step 4 CPP'!#REF!","v":{"$error":"#REF!"}},{"$f":"'Step 4 CPP'!#REF!","v":{"$error":"#REF!"}},{"$error":"#REF!"}]
[{"$f":"'Step 4 CPP'!#REF!","v":{"$error":"#REF!"}},{"$f":"'Step 4 CPP'!#REF!","v":{"$error":"#REF!"}},{"$error":"#REF!"}]
[{"$f":"'Step 4 CPP'!#REF!","v":{"$error":"#REF!"}},{"$f":"'Step 4 CPP'!#REF!","v":{"$error":"#REF!"}},{"$error":"#REF!"}]
[{"$f":"'Step 4 CPP'!#REF!","v":{"$error":"#REF!"}},{"$f":"'Step 4 CPP'!#REF!","v":{"$error":"#REF!"}},{"$error":"#REF!"}]
[{"$f":"'Step 4 CPP'!#REF!","v":{"$error":"#REF!"}},{"$f":"'Step 4 CPP'!#REF!","v":{"$error":"#REF!"}},{"$error":"#REF!"}]
[{"$f":"'Step 4 CPP'!#REF!","v":{"$error":"#REF!"}},{"$f":"'Step 4 CPP'!#REF!","v":{"$error":"#REF!"}},{"$error":"#REF!"}]
[{"$f":"'Step 4 CPP'!#REF!","v":{"$error":"#REF!"}},{"$f":"'Step 4 CPP'!#REF!","v":{"$error":"#REF!"}},{"$error":"#REF!"}]
[{"$f":"'Step 4 CPP'!#REF!","v":{"$error":"#REF!"}},{"$f":"'Step 4 CPP'!#REF!","v":{"$error":"#REF!"}},{"$error":"#REF!"}]
[{"$f":"'Step 4 CPP'!#REF!","v":{"$error":"#REF!"}},{"$f":"'Step 4 CPP'!#REF!","v":{"$error":"#REF!"}},{"$error":"#REF!"}]
[{"$f":"'Step 4 CPP'!#REF!","v":{"$error":"#REF!"}},{"$f":"'Step 4 CPP'!#REF!","v":{"$error":"#REF!"}},{"$error":"#REF!"}]
[{"$f":"'Step 4 CPP'!#REF!","v":{"$error":"#REF!"}},{"$f":"'Step 4 CPP'!#REF!","v":{"$error":"#REF!"}},{"$error":"#REF!"}]
[{"$f":"'Step 4 CPP'!#REF!","v":{"$error":"#REF!"}},{"$f":"'Step 4 CPP'!#REF!","v":{"$error":"#REF!"}},{"$error":"#REF!"}]
[{"$f":"'Step 4 CPP'!#REF!","v":{"$error":"#REF!"}},{"$f":"'Step 4 CPP'!#REF!","v":{"$error":"#REF!"}},{"$error":"#REF!"}]
[{"$f":"'Step 4 CPP'!#REF!","v":{"$error":"#REF!"}},{"$f":"'Step 4 CPP'!#REF!","v":{"$error":"#REF!"}},{"$error":"#REF!"}]
[{"$f":"'Step 4 CPP'!#REF!","v":{"$error":"#REF!"}},{"$f":"'Step 4 CPP'!#REF!","v":{"$error":"#REF!"}},{"$error":"#REF!"}]
[{"$f":"'Step 4 CPP'!#REF!","v":{"$error":"#REF!"}},{"$f":"'Step 4 CPP'!#REF!","v":{"$error":"#REF!"}},{"$error":"#REF!"}]
[{"$f":"'Step 4 CPP'!#REF!","v":{"$error":"#REF!"}},{"$f":"'Step 4 CPP'!#REF!","v":{"$error":"#REF!"}},{"$error":"#REF!"}]
[{"$f":"'Step 4 CPP'!#REF!","v":{"$error":"#REF!"}},{"$f":"'Step 4 CPP'!#REF!","v":{"$error":"#REF!"}},{"$error":"#REF!"}]
[{"$f":"'Step 4 CPP'!#REF!","v":{"$error":"#REF!"}},{"$f":"'Step 4 CPP'!#REF!","v":{"$error":"#REF!"}},{"$error":"#REF!"}]
[{"$f":"'Step 4 CPP'!#REF!","v":{"$error":"#REF!"}},{"$f":"'Step 4 CPP'!#REF!","v":{"$error":"#REF!"}},{"$error":"#REF!"}]
[{"$f":"'Step 4 CPP'!#REF!","v":{"$error":"#REF!"}},{"$f":"'Step 4 CPP'!#REF!","v":{"$error":"#REF!"}},{"$error":"#REF!"}]
[{"$f":"'Step 4 CPP'!#REF!","v":{"$error":"#REF!"}},{"$f":"'Step 4 CPP'!#REF!","v":{"$error":"#REF!"}},{"$error":"#REF!"}]
[{"$f":"'Step 4 CPP'!#REF!","v":{"$error":"#REF!"}},{"$f":"'Step 4 CPP'!#REF!","v":{"$error":"#REF!"}},{"$error":"#REF!"}]
[{"$f":"'Step 4 CPP'!#REF!","v":{"$error":"#REF!"}},{"$f":"'Step 4 CPP'!#REF!","v":{"$error":"#REF!"}},{"$error":"#REF!"}]
[{"$f":"'Step 4 CPP'!#REF!","v":{"$error":"#REF!"}},{"$f":"'Step 4 CPP'!#REF!","v":{"$error":"#REF!"}},{"$error":"#REF!"}]
[{"$f":"'Step 4 CPP'!#REF!","v":{"$error":"#REF!"}},{"$f":"'Step 4 CPP'!#REF!","v":{"$error":"#REF!"}},{"$error":"#REF!"}]
[{"$f":"'Step 4 CPP'!#REF!","v":{"$error":"#REF!"}},{"$f":"'Step 4 CPP'!#REF!","v":{"$error":"#REF!"}},{"$error":"#REF!"}]
[{"$f":"'Step 4 CPP'!#REF!","v":{"$error":"#REF!"}},{"$f":"'Step 4 CPP'!#REF!","v":{"$error":"#REF!"}},{"$error":"#REF!"}]
[{"$f":"'Step 4 CPP'!#REF!","v":{"$error":"#REF!"}},{"$f":"'Step 4 CPP'!#REF!","v":{"$error":"#REF!"}},{"$error":"#REF!"}]
[{"$f":"'Step 4 CPP'!#REF!","v":{"$error":"#REF!"}},{"$f":"'Step 4 CPP'!#REF!","v":{"$error":"#REF!"}},{"$error":"#REF!"}]
[{"$f":"'Step 4 CPP'!#REF!","v":{"$error":"#REF!"}},{"$f":"'Step 4 CPP'!#REF!","v":{"$error":"#REF!"}},{"$error":"#REF!"}]
[{"$f":"'Step 4 CPP'!#REF!","v":{"$error":"#REF!"}},{"$f":"'Step 4 CPP'!#REF!","v":{"$error":"#REF!"}},{"$error":"#REF!"}]
[{"$f":"'Step 4 CPP'!#REF!","v":{"$error":"#REF!"}},{"$f":"'Step 4 CPP'!#REF!","v":{"$error":"#REF!"}},{"$error":"#REF!"}]
[{"$f":"'Step 4 CPP'!#REF!","v":{"$error":"#REF!"}},{"$f":"'Step 4 CPP'!#REF!","v":{"$error":"#REF!"}},{"$error":"#REF!"}]
[{"$f":"'Step 4 CPP'!#REF!","v":{"$error":"#REF!"}},{"$f":"'Step 4 CPP'!#REF!","v":{"$error":"#REF!"}},{"$error":"#REF!"}]
[{"$f":"'Step 4 CPP'!#REF!","v":{"$error":"#REF!"}},{"$f":"'Step 4 CPP'!#REF!","v":{"$error":"#REF!"}},{"$error":"#REF!"}]
[{"$f":"'Step 4 CPP'!#REF!","v":{"$error":"#REF!"}},{"$f":"'Step 4 CPP'!#REF!","v":{"$error":"#REF!"}},{"$error":"#REF!"}]
[{"$f":"'Step 4 CPP'!#REF!","v":{"$error":"#REF!"}},{"$f":"'Step 4 CPP'!#REF!","v":{"$error":"#REF!"}},{"$error":"#REF!"}]
[{"$f":"'Step 4 CPP'!#REF!","v":{"$error":"#REF!"}},{"$f":"'Step 4 CPP'!#REF!","v":{"$error":"#REF!"}},{"$error":"#REF!"}]

{"sheet":"data_longform","index":32,"n_rows":1,"n_cols":179,"rows_kept":1,"cut":false,"hidden":true,"merged":[]}
["prog_name","org_name","Tena1","Tena2","Conf1","Conf2","Conf3","Conf4","Conf5","Proa1","Proa2","Grow1","Grow2","Care1","Care2","Care3","Cult1","Glob1","Glob2","Glob3","Glob4","Inno1","Crit1","Crit2","Crit3","Prob1","Prob2","Prob3","Prob4","Prob5","Team1","Team2","Team3","Team4","Team5","Team6","Stak1","Stak2","Stak3","Stak4","Proj1","Emot1","Emot2","Emot3","Emot4","Emot5","Fina1","Phys1","Phys2","Nati1","Nati_pers1","Nati_pers2","Nati_pers3","Nati_pers4","Publ1","Trus1","Trus2","Trus3","Trus4","Soci1","Soci2","Open1","Open2","Empa1","Abil_comm1","Abil_comm2","Civi_comm1","Civi_comm2","Civi_comm3","Civi_comm4","Civi_comm5","Civi_comm6","Civi_comm7","Civi_env1","Civi_env2","Civi_env3","Civi_env4","Civi_env5","Civi_env6","Abil_govt1","Tena1","Tena2","Conf1","Conf2","Conf3","Conf4","Conf5","Proa1","Proa2","Grow1","Grow2","Care1","Care2","Care3","Cult1","Glob1","Glob2","Glob3","Glob4","Inno1","Crit1","Crit2","Crit3","Prob1","Prob2","Prob3","Prob4","Prob5","Team1","Team2","Team3","Team4","Team5","Team6","Stak1","Stak2","Stak3","Stak4","Proj1","Emot1","Emot2","Emot3","Emot4","Emot5","Fina1","Phys1","Phys2","Nati1","Nati_pers1","Nati_pers2","Nati_pers3","Nati_pers4","Publ1","Trus1","Trus2","Trus3","Trus4","Soci1","Soci2","Open1","Open2","Empa1","Abil_comm1","Abil_comm2","Civi_comm1","Civi_comm2","Civi_comm3","Civi_comm4","Civi_comm5","Civi_comm6","Civi_comm7","Civi_env1","Civi_env2","Civi_env3","Civi_env4","Civi_env5","Civi_env6","Abil_govt1","Prog_imp1","Prog_imp2","Prog_imp3","Prog_imp4","Prog_imp5","Feed1","Feed2","Feed3","Feed4","Feed5","Feed6","Feed7","Feed8","Feed9","Over1","Over2","Over3","Over4","Over5","Nric_Pre","Nric_Post"]

{"sheet":"Sheet1","index":33,"n_rows":0,"n_cols":0,"rows_kept":0,"cut":false,"hidden":true,"merged":[]}

{"sheet":"data_entry_misc","index":34,"n_rows":66,"n_cols":5,"rows_kept":66,"cut":false,"hidden":true,"merged":[]}
["Strongly disagree",null,null,"Count Pre PP",{"$f":"COUNTIFS(data_longform!#REF!, 1, data_longform!#REF!, \"Pre\")/COUNTIF('Step 4A PP Pre'!#REF!, 1)","v":{"$error":"#REF!"}}]
["Disagree",null,null,"Count Post PP",{"$f":"COUNTIFS(data_longform!#REF!, 1, data_longform!#REF!, \"Post\")/COUNTIF('Step 4B PP Post'!#REF!, 1)","v":{"$error":"#REF!"}}]
["Neither agree nor disagree",null,null,"Count CPP",{"$f":"IFERROR(COUNTIFS(data_longform!#REF!, 1, data_longform!#REF!, \"Pre\")/COUNTIFS('Step 4 CPP'!#REF!, 1, 'Step 4 CPP'!#REF!, \"Pre\"), 0)","v":0}]
["Agree"]
["Strongly agree",null,null,{"$f":"COUNTA(data_longform!#REF!)","v":1}]
["Blank/NA/No response"]
[]
["Too slow"]
["Slow"]
["Just right"]
["Long"]
["Too long"]
["Blank/NA/No response"]
[]
["Too slow"]
["Slow"]
["Just right"]
["Fast"]
["Too fast"]
["Blank/NA/No response"]
[]
["Very poor"]
["Poor"]
["Fair"]
["Good"]
["Very good"]
["Blank/NA/No response"]
[]
["Not at all"]
["To a little extent"]
["To some extent"]
["To a great extent"]
["To a very great extent"]
["Blank/NA/No response"]
[]
["Yes"]
["No"]
["Blank/NA/No response"]
[]
["Male"]
["Female"]
["Blank/NA/No response"]
[]
["Chinese"]
["Malay"]
["Indian"]
["Others"]
["Blank/NA/No response"]
[]
["14 and below"]
["15 to 19 years old"]
["20 to 24 years old"]
["25 to 29 years old"]
["30 to 34 years old"]
["35 and older"]
["Blank/NA/No response"]
[]
["Student (Secondary School)"]
["Student (Junior College/Centralised Institute/IB & IP schools)"]
["Student (ITE/Vocational institute)"]
["Student (Polytechnic)"]
["Student (University)"]
["Student (Private Educational Institutions)"]
["Working Adult"]
["Others (e.g. Madrasah/Homeschool/NS/Gap year)"]
["Blank/NA/No response"]

{"sheet":"End","index":35,"n_rows":4,"n_cols":2,"rows_kept":4,"cut":false,"hidden":true,"merged":[]}
[]
[null,"End"]
[]
[null,"You have come to the end of the toolkit. Please click below to generate a CSV file of the data which you should send to NYC."]

{"sheet":"Results","index":36,"n_rows":81,"n_cols":5,"rows_kept":81,"cut":false,"hidden":true,"merged":[[1,0,1,2]]}
["Youth Outcome Indicators"]
["Questions",null,null,"Mean","Mean"]
["Subconstruct","question","Indicator","Pre","Post"]
["Tenacity","Tena1","I am able to persevere in the face of challenges.",{"$f":"IF(IFERROR(AVERAGE(OFFSET(data_longform!$B:$B, 0, MATCH(Results!B4, data_longform!$C$1:$CB$1, 0))), \"\")=0, \"\", IFERROR(AVERAGE(OFFSET(data_longform!$B:$B, 0, MATCH(Results!B4, data_longform!$C$1:$CB$1, 0))), \"\"))","v":""},{"$f":"IF(IFERROR(AVERAGE(OFFSET(data_longform!$CB:$CB, 0, MATCH(Results!B4, data_longform!$C$1:$FB$1, 0))), \"\")=0, \"\", IFERROR(AVERAGE(OFFSET(data_longform!$CB:$CB, 0, MATCH(Results!B4, data_longform!$C$1:$FB$1, 0))), \"\"))","v":""}]
["Tenacity","Tena2","I do not give up even after experiencing failure. ",{"$f":"IF(IFERROR(AVERAGE(OFFSET(data_longform!$B:$B, 0, MATCH(Results!B5, data_longform!$C$1:$CB$1, 0))), \"\")=0, \"\", IFERROR(AVERAGE(OFFSET(data_longform!$B:$B, 0, MATCH(Results!B5, data_longform!$C$1:$CB$1, 0))), \"\"))","v":""},{"$f":"IF(IFERROR(AVERAGE(OFFSET(data_longform!$CB:$CB, 0, MATCH(Results!B5, data_longform!$C$1:$FB$1, 0))), \"\")=0, \"\", IFERROR(AVERAGE(OFFSET(data_longform!$CB:$CB, 0, MATCH(Results!B5, data_longform!$C$1:$FB$1, 0))), \"\"))","v":""}]
["Confidence","Conf1","I feel that I have a number of good qualities.",{"$f":"IF(IFERROR(AVERAGE(OFFSET(data_longform!$B:$B, 0, MATCH(Results!B6, data_longform!$C$1:$CB$1, 0))), \"\")=0, \"\", IFERROR(AVERAGE(OFFSET(data_longform!$B:$B, 0, MATCH(Results!B6, data_longform!$C$1:$CB$1, 0))), \"\"))","v":""},{"$f":"IF(IFERROR(AVERAGE(OFFSET(data_longform!$CB:$CB, 0, MATCH(Results!B6, data_longform!$C$1:$FB$1, 0))), \"\")=0, \"\", IFERROR(AVERAGE(OFFSET(data_longform!$CB:$CB, 0, MATCH(Results!B6, data_longform!$C$1:$FB$1, 0))), \"\"))","v":""}]
["Confidence","Conf2","I am able to do things as well as most other people. ",{"$f":"IF(IFERROR(AVERAGE(OFFSET(data_longform!$B:$B, 0, MATCH(Results!B7, data_longform!$C$1:$CB$1, 0))), \"\")=0, \"\", IFERROR(AVERAGE(OFFSET(data_longform!$B:$B, 0, MATCH(Results!B7, data_longform!$C$1:$CB$1, 0))), \"\"))","v":""},{"$f":"IF(IFERROR(AVERAGE(OFFSET(data_longform!$CB:$CB, 0, MATCH(Results!B7, data_longform!$C$1:$FB$1, 0))), \"\")=0, \"\", IFERROR(AVERAGE(OFFSET(data_longform!$CB:$CB, 0, MATCH(Results!B7, data_longform!$C$1:$FB$1, 0))), \"\"))","v":""}]
["Confidence","Conf3","I believe I can achieve my goals.",{"$f":"IF(IFERROR(AVERAGE(OFFSET(data_longform!$B:$B, 0, MATCH(Results!B8, data_longform!$C$1:$CB$1, 0))), \"\")=0, \"\", IFERROR(AVERAGE(OFFSET(data_longform!$B:$B, 0, MATCH(Results!B8, data_longform!$C$1:$CB$1, 0))), \"\"))","v":""},{"$f":"IF(IFERROR(AVERAGE(OFFSET(data_longform!$CB:$CB, 0, MATCH(Results!B8, data_longform!$C$1:$FB$1, 0))), \"\")=0, \"\", IFERROR(AVERAGE(OFFSET(data_longform!$CB:$CB, 0, MATCH(Results!B8, data_longform!$C$1:$FB$1, 0))), \"\"))","v":""}]
["Confidence","Conf4","I believe I have the ability to succeed in the things I want to do.",{"$f":"IF(IFERROR(AVERAGE(OFFSET(data_longform!$B:$B, 0, MATCH(Results!B9, data_longform!$C$1:$CB$1, 0))), \"\")=0, \"\", IFERROR(AVERAGE(OFFSET(data_longform!$B:$B, 0, MATCH(Results!B9, data_longform!$C$1:$CB$1, 0))), \"\"))","v":""},{"$f":"IF(IFERROR(AVERAGE(OFFSET(data_longform!$CB:$CB, 0, MATCH(Results!B9, data_longform!$C$1:$FB$1, 0))), \"\")=0, \"\", IFERROR(AVERAGE(OFFSET(data_longform!$CB:$CB, 0, MATCH(Results!B9, data_longform!$C$1:$FB$1, 0))), \"\"))","v":""}]
["Confidence","Conf5","I am confident I can succeed when I try my best.",{"$f":"IF(IFERROR(AVERAGE(OFFSET(data_longform!$B:$B, 0, MATCH(Results!B10, data_longform!$C$1:$CB$1, 0))), \"\")=0, \"\", IFERROR(AVERAGE(OFFSET(data_longform!$B:$B, 0, MATCH(Results!B10, data_longform!$C$1:$CB$1, 0))), \"\"))","v":""},{"$f":"IF(IFERROR(AVERAGE(OFFSET(data_longform!$CB:$CB, 0, MATCH(Results!B10, data_longform!$C$1:$FB$1, 0))), \"\")=0, \"\", IFERROR(AVERAGE(OFFSET(data_longform!$CB:$CB, 0, MATCH(Results!B10, data_longform!$C$1:$FB$1, 0))), \"\"))","v":""}]
["Proactiveness","Proa1","I seize the opportunity whenever I see one. ",{"$f":"IF(IFERROR(AVERAGE(OFFSET(data_longform!$B:$B, 0, MATCH(Results!B11, data_longform!$C$1:$CB$1, 0))), \"\")=0, \"\", IFERROR(AVERAGE(OFFSET(data_longform!$B:$B, 0, MATCH(Results!B11, data_longform!$C$1:$CB$1, 0))), \"\"))","v":""},{"$f":"IF(IFERROR(AVERAGE(OFFSET(data_longform!$CB:$CB, 0, MATCH(Results!B11, data_longform!$C$1:$FB$1, 0))), \"\")=0, \"\", IFERROR(AVERAGE(OFFSET(data_longform!$CB:$CB, 0, MATCH(Results!B11, data_longform!$C$1:$FB$1, 0))), \"\"))","v":""}]
["Proactiveness","Proa2","I take initiative instead of waiting for things to happen.",{"$f":"IF(IFERROR(AVERAGE(OFFSET(data_longform!$B:$B, 0, MATCH(Results!B12, data_longform!$C$1:$CB$1, 0))), \"\")=0, \"\", IFERROR(AVERAGE(OFFSET(data_longform!$B:$B, 0, MATCH(Results!B12, data_longform!$C$1:$CB$1, 0))), \"\"))","v":""},{"$f":"IF(IFERROR(AVERAGE(OFFSET(data_longform!$CB:$CB, 0, MATCH(Results!B12, data_longform!$C$1:$FB$1, 0))), \"\")=0, \"\", IFERROR(AVERAGE(OFFSET(data_longform!$CB:$CB, 0, MATCH(Results!B12, data_longform!$C$1:$FB$1, 0))), \"\"))","v":""}]
["Growth mindset","Grow1","I believe it is important to challenge myself to grow. ",{"$f":"IF(IFERROR(AVERAGE(OFFSET(data_longform!$B:$B, 0, MATCH(Results!B13, data_longform!$C$1:$CB$1, 0))), \"\")=0, \"\", IFERROR(AVERAGE(OFFSET(data_longform!$B:$B, 0, MATCH(Results!B13, data_longform!$C$1:$CB$1, 0))), \"\"))","v":""},{"$f":"IF(IFERROR(AVERAGE(OFFSET(data_longform!$CB:$CB, 0, MATCH(Results!B13, data_longform!$C$1:$FB$1, 0))), \"\")=0, \"\", IFERROR(AVERAGE(OFFSET(data_longform!$CB:$CB, 0, MATCH(Results!B13, data_longform!$C$1:$FB$1, 0))), \"\"))","v":""}]
["Growth mindset","Grow2","Difficult times are an opportunity for me to learn and grow as a person.",{"$f":"IF(IFERROR(AVERAGE(OFFSET(data_longform!$B:$B, 0, MATCH(Results!B14, data_longform!$C$1:$CB$1, 0))), \"\")=0, \"\", IFERROR(AVERAGE(OFFSET(data_longform!$B:$B, 0, MATCH(Results!B14, data_longform!$C$1:$CB$1, 0))), \"\"))","v":""},{"$f":"IF(IFERROR(AVERAGE(OFFSET(data_longform!$CB:$CB, 0, MATCH(Results!B14, data_longform!$C$1:$FB$1, 0))), \"\")=0, \"\", IFERROR(AVERAGE(OFFSET(data_longform!$CB:$CB, 0, MATCH(Results!B14, data_longform!$C$1:$FB$1, 0))), \"\"))","v":""}]
["Career preparedness","Care1","I am aware of the skills that will help me to succeed in my career in future.",{"$f":"IF(IFERROR(AVERAGE(OFFSET(data_longform!$B:$B, 0, MATCH(Results!B15, data_longform!$C$1:$CB$1, 0))), \"\")=0, \"\", IFERROR(AVERAGE(OFFSET(data_longform!$B:$B, 0, MATCH(Results!B15, data_longform!$C$1:$CB$1, 0))), \"\"))","v":""},{"$f":"IF(IFERROR(AVERAGE(OFFSET(data_longform!$CB:$CB, 0, MATCH(Results!B15, data_longform!$C$1:$FB$1, 0))), \"\")=0, \"\", IFERROR(AVERAGE(OFFSET(data_longform!$CB:$CB, 0, MATCH(Results!B15, data_longform!$C$1:$FB$1, 0))), \"\"))","v":""}]
["Career preparedness","Care2","I am aware of the potential career pathways that I can take to achieve my goals.",{"$f":"IF(IFERROR(AVERAGE(OFFSET(data_longform!$B:$B, 0, MATCH(Results!B16, data_longform!$C$1:$CB$1, 0))), \"\")=0, \"\", IFERROR(AVERAGE(OFFSET(data_longform!$B:$B, 0, MATCH(Results!B16, data_longform!$C$1:$CB$1, 0))), \"\"))","v":""},{"$f":"IF(IFERROR(AVERAGE(OFFSET(data_longform!$CB:$CB, 0, MATCH(Results!B16, data_longform!$C$1:$FB$1, 0))), \"\")=0, \"\", IFERROR(AVERAGE(OFFSET(data_longform!$CB:$CB, 0, MATCH(Results!B16, data_longform!$C$1:$FB$1, 0))), \"\"))","v":""}]
["Career preparedness","Care3","I believe I can achieve my career goals. ",{"$f":"IF(IFERROR(AVERAGE(OFFSET(data_longform!$B:$B, 0, MATCH(Results!B17, data_longform!$C$1:$CB$1, 0))), \"\")=0, \"\", IFERROR(AVERAGE(OFFSET(data_longform!$B:$B, 0, MATCH(Results!B17, data_longform!$C$1:$CB$1, 0))), \"\"))","v":""},{"$f":"IF(IFERROR(AVERAGE(OFFSET(data_longform!$CB:$CB, 0, MATCH(Results!B17, data_longform!$C$1:$FB$1, 0))), \"\")=0, \"\", IFERROR(AVERAGE(OFFSET(data_longform!$CB:$CB, 0, MATCH(Results!B17, data_longform!$C$1:$FB$1, 0))), \"\"))","v":""}]
["Cultural awareness","Cult1","I am aware of differences between cultures.",{"$f":"IF(IFERROR(AVERAGE(OFFSET(data_longform!$B:$B, 0, MATCH(Results!B18, data_longform!$C$1:$CB$1, 0))), \"\")=0, \"\", IFERROR(AVERAGE(OFFSET(data_longform!$B:$B, 0, MATCH(Results!B18, data_longform!$C$1:$CB$1, 0))), \"\"))","v":""},{"$f":"IF(IFERROR(AVERAGE(OFFSET(data_longform!$CB:$CB, 0, MATCH(Results!B18, data_longform!$C$1:$FB$1, 0))), \"\")=0, \"\", IFERROR(AVERAGE(OFFSET(data_longform!$CB:$CB, 0, MATCH(Results!B18, data_longform!$C$1:$FB$1, 0))), \"\"))","v":""}]
["Global perspectives","Glob1","I am aware of issues affecting other countries",{"$f":"IF(IFERROR(AVERAGE(OFFSET(data_longform!$B:$B, 0, MATCH(Results!B19, data_longform!$C$1:$CB$1, 0))), \"\")=0, \"\", IFERROR(AVERAGE(OFFSET(data_longform!$B:$B, 0, MATCH(Results!B19, data_longform!$C$1:$CB$1, 0))), \"\"))","v":""},{"$f":"IF(IFERROR(AVERAGE(OFFSET(data_longform!$CB:$CB, 0, MATCH(Results!B19, data_longform!$C$1:$FB$1, 0))), \"\")=0, \"\", IFERROR(AVERAGE(OFFSET(data_longform!$CB:$CB, 0, MATCH(Results!B19, data_longform!$C$1:$FB$1, 0))), \"\"))","v":""}]
["Global perspectives","Glob2","I understand how changes around the world affect other countries.",{"$f":"IF(IFERROR(AVERAGE(OFFSET(data_longform!$B:$B, 0, MATCH(Results!B20, data_longform!$C$1:$CB$1, 0))), \"\")=0, \"\", IFERROR(AVERAGE(OFFSET(data_longform!$B:$B, 0, MATCH(Results!B20, data_longform!$C$1:$CB$1, 0))), \"\"))","v":""},{"$f":"IF(IFERROR(AVERAGE(OFFSET(data_longform!$CB:$CB, 0, MATCH(Results!B20, data_longform!$C$1:$FB$1, 0))), \"\")=0, \"\", IFERROR(AVERAGE(OFFSET(data_longform!$CB:$CB, 0, MATCH(Results!B20, data_longform!$C$1:$FB$1, 0))), \"\"))","v":""}]
["Global perspectives","Glob3","I understand the opportunities and challenges other countries have.",{"$f":"IF(IFERROR(AVERAGE(OFFSET(data_longform!$B:$B, 0, MATCH(Results!B21, data_longform!$C$1:$CB$1, 0))), \"\")=0, \"\", IFERROR(AVERAGE(OFFSET(data_longform!$B:$B, 0, MATCH(Results!B21, data_longform!$C$1:$CB$1, 0))), \"\"))","v":""},{"$f":"IF(IFERROR(AVERAGE(OFFSET(data_longform!$CB:$CB, 0, MATCH(Results!B21, data_longform!$C$1:$FB$1, 0))), \"\")=0, \"\", IFERROR(AVERAGE(OFFSET(data_longform!$CB:$CB, 0, MATCH(Results!B21, data_longform!$C$1:$FB$1, 0))), \"\"))","v":""}]
["Global perspectives","Glob4","I understand the difficulties in trying to solve global issues.",{"$f":"IF(IFERROR(AVERAGE(OFFSET(data_longform!$B:$B, 0, MATCH(Results!B22, data_longform!$C$1:$CB$1, 0))), \"\")=0, \"\", IFERROR(AVERAGE(OFFSET(data_longform!$B:$B, 0, MATCH(Results!B22, data_longform!$C$1:$CB$1, 0))), \"\"))","v":""},{"$f":"IF(IFERROR(AVERAGE(OFFSET(data_longform!$CB:$CB, 0, MATCH(Results!B22, data_longform!$C$1:$FB$1, 0))), \"\")=0, \"\", IFERROR(AVERAGE(OFFSET(data_longform!$CB:$CB, 0, MATCH(Results!B22, data_longform!$C$1:$FB$1, 0))), \"\"))","v":""}]
["Innovative","Inno1","I know of ways to come up with new ideas. ",{"$f":"IF(IFERROR(AVERAGE(OFFSET(data_longform!$B:$B, 0, MATCH(Results!B23, data_longform!$C$1:$CB$1, 0))), \"\")=0, \"\", IFERROR(AVERAGE(OFFSET(data_longform!$B:$B, 0, MATCH(Results!B23, data_longform!$C$1:$CB$1, 0))), \"\"))","v":""},{"$f":"IF(IFERROR(AVERAGE(OFFSET(data_longform!$CB:$CB, 0, MATCH(Results!B23, data_longform!$C$1:$FB$1, 0))), \"\")=0, \"\", IFERROR(AVERAGE(OFFSET(data_longform!$CB:$CB, 0, MATCH(Results!B23, data_longform!$C$1:$FB$1, 0))), \"\"))","v":""}]
["Critical thinking","Crit1","I am able to link different information together. ",{"$f":"IF(IFERROR(AVERAGE(OFFSET(data_longform!$B:$B, 0, MATCH(Results!B24, data_longform!$C$1:$CB$1, 0))), \"\")=0, \"\", IFERROR(AVERAGE(OFFSET(data_longform!$B:$B, 0, MATCH(Results!B24, data_longform!$C$1:$CB$1, 0))), \"\"))","v":""},{"$f":"IF(IFERROR(AVERAGE(OFFSET(data_longform!$CB:$CB, 0, MATCH(Results!B24, data_longform!$C$1:$FB$1, 0))), \"\")=0, \"\", IFERROR(AVERAGE(OFFSET(data_longform!$CB:$CB, 0, MATCH(Results!B24, data_longform!$C$1:$FB$1, 0))), \"\"))","v":""}]
["Critical thinking","Crit2","I think through issues from different angles.",{"$f":"IF(IFERROR(AVERAGE(OFFSET(data_longform!$B:$B, 0, MATCH(Results!B25, data_longform!$C$1:$CB$1, 0))), \"\")=0, \"\", IFERROR(AVERAGE(OFFSET(data_longform!$B:$B, 0, MATCH(Results!B25, data_longform!$C$1:$CB$1, 0))), \"\"))","v":""},{"$f":"IF(IFERROR(AVERAGE(OFFSET(data_longform!$CB:$CB, 0, MATCH(Results!B25, data_longform!$C$1:$FB$1, 0))), \"\")=0, \"\", IFERROR(AVERAGE(OFFSET(data_longform!$CB:$CB, 0, MATCH(Results!B25, data_longform!$C$1:$FB$1, 0))), \"\"))","v":""}]
["Critical thinking","Crit3","I analyse an issue thoroughly before coming to a conclusion.",{"$f":"IF(IFERROR(AVERAGE(OFFSET(data_longform!$B:$B, 0, MATCH(Results!B26, data_longform!$C$1:$CB$1, 0))), \"\")=0, \"\", IFERROR(AVERAGE(OFFSET(data_longform!$B:$B, 0, MATCH(Results!B26, data_longform!$C$1:$CB$1, 0))), \"\"))","v":""},{"$f":"IF(IFERROR(AVERAGE(OFFSET(data_longform!$CB:$CB, 0, MATCH(Results!B26, data_longform!$C$1:$FB$1, 0))), \"\")=0, \"\", IFERROR(AVERAGE(OFFSET(data_longform!$CB:$CB, 0, MATCH(Results!B26, data_longform!$C$1:$FB$1, 0))), \"\"))","v":""}]
["Problem solving","Prob1","I know how to identify and solve problems.",{"$f":"IF(IFERROR(AVERAGE(OFFSET(data_longform!$B:$B, 0, MATCH(Results!B27, data_longform!$C$1:$CB$1, 0))), \"\")=0, \"\", IFERROR(AVERAGE(OFFSET(data_longform!$B:$B, 0, MATCH(Results!B27, data_longform!$C$1:$CB$1, 0))), \"\"))","v":""},{"$f":"IF(IFERROR(AVERAGE(OFFSET(data_longform!$CB:$CB, 0, MATCH(Results!B27, data_longform!$C$1:$FB$1, 0))), \"\")=0, \"\", IFERROR(AVERAGE(OFFSET(data_longform!$CB:$CB, 0, MATCH(Results!B27, data_longform!$C$1:$FB$1, 0))), \"\"))","v":""}]
["Problem solving","Prob2","I am able to solve problems that I face.",{"$f":"IF(IFERROR(AVERAGE(OFFSET(data_longform!$B:$B, 0, MATCH(Results!B28, data_longform!$C$1:$CB$1, 0))), \"\")=0, \"\", IFERROR(AVERAGE(OFFSET(data_longform!$B:$B, 0, MATCH(Results!B28, data_longform!$C$1:$CB$1, 0))), \"\"))","v":""},{"$f":"IF(IFERROR(AVERAGE(OFFSET(data_longform!$CB:$CB, 0, MATCH(Results!B28, data_longform!$C$1:$FB$1, 0))), \"\")=0, \"\", IFERROR(AVERAGE(OFFSET(data_longform!$CB:$CB, 0, MATCH(Results!B28, data_longform!$C$1:$FB$1, 0))), \"\"))","v":""}]
["Problem solving","Prob3","After I have tried to solve a problem, I examine why it did or did not work.",{"$f":"IF(IFERROR(AVERAGE(OFFSET(data_longform!$B:$B, 0, MATCH(Results!B29, data_longform!$C$1:$CB$1, 0))), \"\")=0, \"\", IFERROR(AVERAGE(OFFSET(data_longform!$B:$B, 0, MATCH(Results!B29, data_longform!$C$1:$CB$1, 0))), \"\"))","v":""},{"$f":"IF(IFERROR(AVERAGE(OFFSET(data_longform!$CB:$CB, 0, MATCH(Results!B29, data_longform!$C$1:$FB$1, 0))), \"\")=0, \"\", IFERROR(AVERAGE(OFFSET(data_longform!$CB:$CB, 0, MATCH(Results!B29, data_longform!$C$1:$FB$1, 0))), \"\"))","v":""}]
["Problem solving","Prob4","When solving a problem, I compare the pros and cons of my solutions. ",{"$f":"IF(IFERROR(AVERAGE(OFFSET(data_longform!$B:$B, 0, MATCH(Results!B30, data_longform!$C$1:$CB$1, 0))), \"\")=0, \"\", IFERROR(AVERAGE(OFFSET(data_longform!$B:$B, 0, MATCH(Results!B30, data_longform!$C$1:$CB$1, 0))), \"\"))","v":""},{"$f":"IF(IFERROR(AVERAGE(OFFSET(data_longform!$CB:$CB, 0, MATCH(Results!B30, data_longform!$C$1:$FB$1, 0))), \"\")=0, \"\", IFERROR(AVERAGE(OFFSET(data_longform!$CB:$CB, 0, MATCH(Results!B30, data_longform!$C$1:$FB$1, 0))), \"\"))","v":""}]
["Problem solving","Prob5","When faced with a problem, I try to find out the cause of the problem.",{"$f":"IF(IFERROR(AVERAGE(OFFSET(data_longform!$B:$B, 0, MATCH(Results!B31, data_longform!$C$1:$CB$1, 0))), \"\")=0, \"\", IFERROR(AVERAGE(OFFSET(data_longform!$B:$B, 0, MATCH(Results!B31, data_longform!$C$1:$CB$1, 0))), \"\"))","v":""},{"$f":"IF(IFERROR(AVERAGE(OFFSET(data_longform!$CB:$CB, 0, MATCH(Results!B31, data_longform!$C$1:$FB$1, 0))), \"\")=0, \"\", IFERROR(AVERAGE(OFFSET(data_longform!$CB:$CB, 0, MATCH(Results!B31, data_longform!$C$1:$FB$1, 0))), \"\"))","v":""}]
["Teamwork","Team1","I know how to work well in a team.",{"$f":"IF(IFERROR(AVERAGE(OFFSET(data_longform!$B:$B, 0, MATCH(Results!B32, data_longform!$C$1:$CB$1, 0))), \"\")=0, \"\", IFERROR(AVERAGE(OFFSET(data_longform!$B:$B, 0, MATCH(Results!B32, data_longform!$C$1:$CB$1, 0))), \"\"))","v":""},{"$f":"IF(IFERROR(AVERAGE(OFFSET(data_longform!$CB:$CB, 0, MATCH(Results!B32, data_longform!$C$1:$FB$1, 0))), \"\")=0, \"\", IFERROR(AVERAGE(OFFSET(data_longform!$CB:$CB, 0, MATCH(Results!B32, data_longform!$C$1:$FB$1, 0))), \"\"))","v":""}]
["Teamwork","Team2","I support others in the team.",{"$f":"IF(IFERROR(AVERAGE(OFFSET(data_longform!$B:$B, 0, MATCH(Results!B33, data_longform!$C$1:$CB$1, 0))), \"\")=0, \"\", IFERROR(AVERAGE(OFFSET(data_longform!$B:$B, 0, MATCH(Results!B33, data_longform!$C$1:$CB$1, 0))), \"\"))","v":""},{"$f":"IF(IFERROR(AVERAGE(OFFSET(data_longform!$CB:$CB, 0, MATCH(Results!B33, data_longform!$C$1:$FB$1, 0))), \"\")=0, \"\", IFERROR(AVERAGE(OFFSET(data_longform!$CB:$CB, 0, MATCH(Results!B33, data_longform!$C$1:$FB$1, 0))), \"\"))","v":""}]
["Teamwork","Team3","I communicate well with my team members.",{"$f":"IF(IFERROR(AVERAGE(OFFSET(data_longform!$B:$B, 0, MATCH(Results!B34, data_longform!$C$1:$CB$1, 0))), \"\")=0, \"\", IFERROR(AVERAGE(OFFSET(data_longform!$B:$B, 0, MATCH(Results!B34, data_longform!$C$1:$CB$1, 0))), \"\"))","v":""},{"$f":"IF(IFERROR(AVERAGE(OFFSET(data_longform!$CB:$CB, 0, MATCH(Results!B34, data_longform!$C$1:$FB$1, 0))), \"\")=0, \"\", IFERROR(AVERAGE(OFFSET(data_longform!$CB:$CB, 0, MATCH(Results!B34, data_longform!$C$1:$FB$1, 0))), \"\"))","v":""}]
["Teamwork","Team4","I work well in a team.",{"$f":"IF(IFERROR(AVERAGE(OFFSET(data_longform!$B:$B, 0, MATCH(Results!B35, data_longform!$C$1:$CB$1, 0))), \"\")=0, \"\", IFERROR(AVERAGE(OFFSET(data_longform!$B:$B, 0, MATCH(Results!B35, data_longform!$C$1:$CB$1, 0))), \"\"))","v":""},{"$f":"IF(IFERROR(AVERAGE(OFFSET(data_longform!$CB:$CB, 0, MATCH(Results!B35, data_longform!$C$1:$FB$1, 0))), \"\")=0, \"\", IFERROR(AVERAGE(OFFSET(data_longform!$CB:$CB, 0, MATCH(Results!B35, data_longform!$C$1:$FB$1, 0))), \"\"))","v":""}]
["Teamwork","Team5","I treat other members of my team as equal to myself.",{"$f":"IF(IFERROR(AVERAGE(OFFSET(data_longform!$B:$B, 0, MATCH(Results!B36, data_longform!$C$1:$CB$1, 0))), \"\")=0, \"\", IFERROR(AVERAGE(OFFSET(data_longform!$B:$B, 0, MATCH(Results!B36, data_longform!$C$1:$CB$1, 0))), \"\"))","v":""},{"$f":"IF(IFERROR(AVERAGE(OFFSET(data_longform!$CB:$CB, 0, MATCH(Results!B36, data_longform!$C$1:$FB$1, 0))), \"\")=0, \"\", IFERROR(AVERAGE(OFFSET(data_longform!$CB:$CB, 0, MATCH(Results!B36, data_longform!$C$1:$FB$1, 0))), \"\"))","v":""}]
["Teamwork","Team6","I am able to work with people who have different working styles from me.",{"$f":"IF(IFERROR(AVERAGE(OFFSET(data_longform!$B:$B, 0, MATCH(Results!B37, data_longform!$C$1:$CB$1, 0))), \"\")=0, \"\", IFERROR(AVERAGE(OFFSET(data_longform!$B:$B, 0, MATCH(Results!B37, data_longform!$C$1:$CB$1, 0))), \"\"))","v":""},{"$f":"IF(IFERROR(AVERAGE(OFFSET(data_longform!$CB:$CB, 0, MATCH(Results!B37, data_longform!$C$1:$FB$1, 0))), \"\")=0, \"\", IFERROR(AVERAGE(OFFSET(data_longform!$CB:$CB, 0, MATCH(Results!B37, data_longform!$C$1:$FB$1, 0))), \"\"))","v":""}]
["Stakeholder management","Stak1","I know how to work well with my stakeholders.",{"$f":"IF(IFERROR(AVERAGE(OFFSET(data_longform!$B:$B, 0, MATCH(Results!B38, data_longform!$C$1:$CB$1, 0))), \"\")=0, \"\", IFERROR(AVERAGE(OFFSET(data_longform!$B:$B, 0, MATCH(Results!B38, data_longform!$C$1:$CB$1, 0))), \"\"))","v":""},{"$f":"IF(IFERROR(AVERAGE(OFFSET(data_longform!$CB:$CB, 0, MATCH(Results!B38, data_longform!$C$1:$FB$1, 0))), \"\")=0, \"\", IFERROR(AVERAGE(OFFSET(data_longform!$CB:$CB, 0, MATCH(Results!B38, data_longform!$C$1:$FB$1, 0))), \"\"))","v":""}]
["Stakeholder management","Stak2","I seek to understand the needs of my stakeholders.",{"$f":"IF(IFERROR(AVERAGE(OFFSET(data_longform!$B:$B, 0, MATCH(Results!B39, data_longform!$C$1:$CB$1, 0))), \"\")=0, \"\", IFERROR(AVERAGE(OFFSET(data_longform!$B:$B, 0, MATCH(Results!B39, data_longform!$C$1:$CB$1, 0))), \"\"))","v":""},{"$f":"IF(IFERROR(AVERAGE(OFFSET(data_longform!$CB:$CB, 0, MATCH(Results!B39, data_longform!$C$1:$FB$1, 0))), \"\")=0, \"\", IFERROR(AVERAGE(OFFSET(data_longform!$CB:$CB, 0, MATCH(Results!B39, data_longform!$C$1:$FB$1, 0))), \"\"))","v":""}]
["Stakeholder management","Stak3","I am able to establish common understanding and build trust with my stakeholders.",{"$f":"IF(IFERROR(AVERAGE(OFFSET(data_longform!$B:$B, 0, MATCH(Results!B40, data_longform!$C$1:$CB$1, 0))), \"\")=0, \"\", IFERROR(AVERAGE(OFFSET(data_longform!$B:$B, 0, MATCH(Results!B40, data_longform!$C$1:$CB$1, 0))), \"\"))","v":""},{"$f":"IF(IFERROR(AVERAGE(OFFSET(data_longform!$CB:$CB, 0, MATCH(Results!B40, data_longform!$C$1:$FB$1, 0))), \"\")=0, \"\", IFERROR(AVERAGE(OFFSET(data_longform!$CB:$CB, 0, MATCH(Results!B40, data_longform!$C$1:$FB$1, 0))), \"\"))","v":""}]
["Stakeholder management","Stak4","I work well with my stakeholders.",{"$f":"IF(IFERROR(AVERAGE(OFFSET(data_longform!$B:$B, 0, MATCH(Results!B41, data_longform!$C$1:$CB$1, 0))), \"\")=0, \"\", IFERROR(AVERAGE(OFFSET(data_longform!$B:$B, 0, MATCH(Results!B41, data_longform!$C$1:$CB$1, 0))), \"\"))","v":""},{"$f":"IF(IFERROR(AVERAGE(OFFSET(data_longform!$CB:$CB, 0, MATCH(Results!B41, data_longform!$C$1:$FB$1, 0))), \"\")=0, \"\", IFERROR(AVERAGE(OFFSET(data_longform!$CB:$CB, 0, MATCH(Results!B41, data_longform!$C$1:$FB$1, 0))), \"\"))","v":""}]
["Project management","Proj1","I understand the factors that are critical to the smooth running of an event or a project. ",{"$f":"IF(IFERROR(AVERAGE(OFFSET(data_longform!$B:$B, 0, MATCH(Results!B42, data_longform!$C$1:$CB$1, 0))), \"\")=0, \"\", IFERROR(AVERAGE(OFFSET(data_longform!$B:$B, 0, MATCH(Results!B42, data_longform!$C$1:$CB$1, 0))), \"\"))","v":""},{"$f":"IF(IFERROR(AVERAGE(OFFSET(data_longform!$CB:$CB, 0, MATCH(Results!B42, data_longform!$C$1:$FB$1, 0))), \"\")=0, \"\", IFERROR(AVERAGE(OFFSET(data_longform!$CB:$CB, 0, MATCH(Results!B42, data_longform!$C$1:$FB$1, 0))), \"\"))","v":""}]
["Emotional awareness","Emot1","I know how to identify symptoms of mental and emotional distress. ",{"$f":"IF(IFERROR(AVERAGE(OFFSET(data_longform!$B:$B, 0, MATCH(Results!B43, data_longform!$C$1:$CB$1, 0))), \"\")=0, \"\", IFERROR(AVERAGE(OFFSET(data_longform!$B:$B, 0, MATCH(Results!B43, data_longform!$C$1:$CB$1, 0))), \"\"))","v":""},{"$f":"IF(IFERROR(AVERAGE(OFFSET(data_longform!$CB:$CB, 0, MATCH(Results!B43, data_longform!$C$1:$FB$1, 0))), \"\")=0, \"\", IFERROR(AVERAGE(OFFSET(data_longform!$CB:$CB, 0, MATCH(Results!B43, data_longform!$C$1:$FB$1, 0))), \"\"))","v":""}]
["Emotional support","Emot2","I am able to support those struggling mentally and emotionally. ",{"$f":"IF(IFERROR(AVERAGE(OFFSET(data_longform!$B:$B, 0, MATCH(Results!B44, data_longform!$C$1:$CB$1, 0))), \"\")=0, \"\", IFERROR(AVERAGE(OFFSET(data_longform!$B:$B, 0, MATCH(Results!B44, data_longform!$C$1:$CB$1, 0))), \"\"))","v":""},{"$f":"IF(IFERROR(AVERAGE(OFFSET(data_longform!$CB:$CB, 0, MATCH(Results!B44, data_longform!$C$1:$FB$1, 0))), \"\")=0, \"\", IFERROR(AVERAGE(OFFSET(data_longform!$CB:$CB, 0, MATCH(Results!B44, data_longform!$C$1:$FB$1, 0))), \"\"))","v":""}]
["Emotional management","Emot3","I know how I can manage negative thoughts and emotions. ",{"$f":"IF(IFERROR(AVERAGE(OFFSET(data_longform!$B:$B, 0, MATCH(Results!B45, data_longform!$C$1:$CB$1, 0))), \"\")=0, \"\", IFERROR(AVERAGE(OFFSET(data_longform!$B:$B, 0, MATCH(Results!B45, data_longform!$C$1:$CB$1, 0))), \"\"))","v":""},{"$f":"IF(IFERROR(AVERAGE(OFFSET(data_longform!$CB:$CB, 0, MATCH(Results!B45, data_longform!$C$1:$FB$1, 0))), \"\")=0, \"\", IFERROR(AVERAGE(OFFSET(data_longform!$CB:$CB, 0, MATCH(Results!B45, data_longform!$C$1:$FB$1, 0))), \"\"))","v":""}]
["Emotional management","Emot4","I know where to seek help when I have distressing thoughts and emotions beyond my control. ",{"$f":"IF(IFERROR(AVERAGE(OFFSET(data_longform!$B:$B, 0, MATCH(Results!B46, data_longform!$C$1:$CB$1, 0))), \"\")=0, \"\", IFERROR(AVERAGE(OFFSET(data_longform!$B:$B, 0, MATCH(Results!B46, data_longform!$C$1:$CB$1, 0))), \"\"))","v":""},{"$f":"IF(IFERROR(AVERAGE(OFFSET(data_longform!$CB:$CB, 0, MATCH(Results!B46, data_longform!$C$1:$FB$1, 0))), \"\")=0, \"\", IFERROR(AVERAGE(OFFSET(data_longform!$CB:$CB, 0, MATCH(Results!B46, data_longform!$C$1:$FB$1, 0))), \"\"))","v":""}]
["Emotional management","Emot5","If I have distressing thoughts and emotions beyond my control, I would seek help.",{"$f":"IF(IFERROR(AVERAGE(OFFSET(data_longform!$B:$B, 0, MATCH(Results!B47, data_longform!$C$1:$CB$1, 0))), \"\")=0, \"\", IFERROR(AVERAGE(OFFSET(data_longform!$B:$B, 0, MATCH(Results!B47, data_longform!$C$1:$CB$1, 0))), \"\"))","v":""},{"$f":"IF(IFERROR(AVERAGE(OFFSET(data_longform!$CB:$CB, 0, MATCH(Results!B47, data_longform!$C$1:$FB$1, 0))), \"\")=0, \"\", IFERROR(AVERAGE(OFFSET(data_longform!$CB:$CB, 0, MATCH(Results!B47, data_longform!$C$1:$FB$1, 0))), \"\"))","v":""}]
["Financial literacy","Fina1","I know the steps that I can take to meet my financial goals.",{"$f":"IF(IFERROR(AVERAGE(OFFSET(data_longform!$B:$B, 0, MATCH(Results!B48, data_longform!$C$1:$CB$1, 0))), \"\")=0, \"\", IFERROR(AVERAGE(OFFSET(data_longform!$B:$B, 0, MATCH(Results!B48, data_longform!$C$1:$CB$1, 0))), \"\"))","v":""},{"$f":"IF(IFERROR(AVERAGE(OFFSET(data_longform!$CB:$CB, 0, MATCH(Results!B48, data_longform!$C$1:$FB$1, 0))), \"\")=0, \"\", IFERROR(AVERAGE(OFFSET(data_longform!$CB:$CB, 0, MATCH(Results!B48, data_longform!$C$1:$FB$1, 0))), \"\"))","v":""}]
["Physical health","Phys1","I believe it is important to stay physically healthy. ",{"$f":"IF(IFERROR(AVERAGE(OFFSET(data_longform!$B:$B, 0, MATCH(Results!B49, data_longform!$C$1:$CB$1, 0))), \"\")=0, \"\", IFERROR(AVERAGE(OFFSET(data_longform!$B:$B, 0, MATCH(Results!B49, data_longform!$C$1:$CB$1, 0))), \"\"))","v":""},{"$f":"IF(IFERROR(AVERAGE(OFFSET(data_longform!$CB:$CB, 0, MATCH(Results!B49, data_longform!$C$1:$FB$1, 0))), \"\")=0, \"\", IFERROR(AVERAGE(OFFSET(data_longform!$CB:$CB, 0, MATCH(Results!B49, data_longform!$C$1:$FB$1, 0))), \"\"))","v":""}]
["Physical health","Phys2","I make a conscious effort to maintain a healthy lifestyle.",{"$f":"IF(IFERROR(AVERAGE(OFFSET(data_longform!$B:$B, 0, MATCH(Results!B50, data_longform!$C$1:$CB$1, 0))), \"\")=0, \"\", IFERROR(AVERAGE(OFFSET(data_longform!$B:$B, 0, MATCH(Results!B50, data_longform!$C$1:$CB$1, 0))), \"\"))","v":""},{"$f":"IF(IFERROR(AVERAGE(OFFSET(data_longform!$CB:$CB, 0, MATCH(Results!B50, data_longform!$C$1:$FB$1, 0))), \"\")=0, \"\", IFERROR(AVERAGE(OFFSET(data_longform!$CB:$CB, 0, MATCH(Results!B50, data_longform!$C$1:$FB$1, 0))), \"\"))","v":""}]
["National pride","Nati1","I am proud to be a Singaporean. ",{"$f":"IF(IFERROR(AVERAGE(OFFSET(data_longform!$B:$B, 0, MATCH(Results!B51, data_longform!$C$1:$CB$1, 0))), \"\")=0, \"\", IFERROR(AVERAGE(OFFSET(data_longform!$B:$B, 0, MATCH(Results!B51, data_longform!$C$1:$CB$1, 0))), \"\"))","v":""},{"$f":"IF(IFERROR(AVERAGE(OFFSET(data_longform!$CB:$CB, 0, MATCH(Results!B51, data_longform!$C$1:$FB$1, 0))), \"\")=0, \"\", IFERROR(AVERAGE(OFFSET(data_longform!$CB:$CB, 0, MATCH(Results!B51, data_longform!$C$1:$FB$1, 0))), \"\"))","v":""}]
["National perspectives","Nati_pers1","I am aware of issues affecting Singapore.",{"$f":"IF(IFERROR(AVERAGE(OFFSET(data_longform!$B:$B, 0, MATCH(Results!B52, data_longform!$C$1:$CB$1, 0))), \"\")=0, \"\", IFERROR(AVERAGE(OFFSET(data_longform!$B:$B, 0, MATCH(Results!B52, data_longform!$C$1:$CB$1, 0))), \"\"))","v":""},{"$f":"IF(IFERROR(AVERAGE(OFFSET(data_longform!$CB:$CB, 0, MATCH(Results!B52, data_longform!$C$1:$FB$1, 0))), \"\")=0, \"\", IFERROR(AVERAGE(OFFSET(data_longform!$CB:$CB, 0, MATCH(Results!B52, data_longform!$C$1:$FB$1, 0))), \"\"))","v":""}]
["National perspectives","Nati_pers2","I understand how changes around the world affect Singapore and its future.",{"$f":"IF(IFERROR(AVERAGE(OFFSET(data_longform!$B:$B, 0, MATCH(Results!B53, data_longform!$C$1:$CB$1, 0))), \"\")=0, \"\", IFERROR(AVERAGE(OFFSET(data_longform!$B:$B, 0, MATCH(Results!B53, data_longform!$C$1:$CB$1, 0))), \"\"))","v":""},{"$f":"IF(IFERROR(AVERAGE(OFFSET(data_longform!$CB:$CB, 0, MATCH(Results!B53, data_longform!$C$1:$FB$1, 0))), \"\")=0, \"\", IFERROR(AVERAGE(OFFSET(data_longform!$CB:$CB, 0, MATCH(Results!B53, data_longform!$C$1:$FB$1, 0))), \"\"))","v":""}]
["National perspectives","Nati_pers3","I understand the opportunities and challenges that Singapore has.",{"$f":"IF(IFERROR(AVERAGE(OFFSET(data_longform!$B:$B, 0, MATCH(Results!B54, data_longform!$C$1:$CB$1, 0))), \"\")=0, \"\", IFERROR(AVERAGE(OFFSET(data_longform!$B:$B, 0, MATCH(Results!B54, data_longform!$C$1:$CB$1, 0))), \"\"))","v":""},{"$f":"IF(IFERROR(AVERAGE(OFFSET(data_longform!$CB:$CB, 0, MATCH(Results!B54, data_longform!$C$1:$FB$1, 0))), \"\")=0, \"\", IFERROR(AVERAGE(OFFSET(data_longform!$CB:$CB, 0, MATCH(Results!B54, data_longform!$C$1:$FB$1, 0))), \"\"))","v":""}]
["National perspectives","Nati_pers4","I understand the difficulties in trying to solve issues affecting Singapore's society.",{"$f":"IF(IFERROR(AVERAGE(OFFSET(data_longform!$B:$B, 0, MATCH(Results!B55, data_longform!$C$1:$CB$1, 0))), \"\")=0, \"\", IFERROR(AVERAGE(OFFSET(data_longform!$B:$B, 0, MATCH(Results!B55, data_longform!$C$1:$CB$1, 0))), \"\"))","v":""},{"$f":"IF(IFERROR(AVERAGE(OFFSET(data_longform!$CB:$CB, 0, MATCH(Results!B55, data_longform!$C$1:$FB$1, 0))), \"\")=0, \"\", IFERROR(AVERAGE(OFFSET(data_longform!$CB:$CB, 0, MATCH(Results!B55, data_longform!$C$1:$FB$1, 0))), \"\"))","v":""}]
["Public policy awareness","Publ1","I am aware of policies and programmes that tackle issues affecting Singapore's society.",{"$f":"IF(IFERROR(AVERAGE(OFFSET(data_longform!$B:$B, 0, MATCH(Results!B56, data_longform!$C$1:$CB$1, 0))), \"\")=0, \"\", IFERROR(AVERAGE(OFFSET(data_longform!$B:$B, 0, MATCH(Results!B56, data_longform!$C$1:$CB$1, 0))), \"\"))","v":""},{"$f":"IF(IFERROR(AVERAGE(OFFSET(data_longform!$CB:$CB, 0, MATCH(Results!B56, data_longform!$C$1:$FB$1, 0))), \"\")=0, \"\", IFERROR(AVERAGE(OFFSET(data_longform!$CB:$CB, 0, MATCH(Results!B56, data_longform!$C$1:$FB$1, 0))), \"\"))","v":""}]
["Trust in the Government","Trus1","I trust the government. ",{"$f":"IF(IFERROR(AVERAGE(OFFSET(data_longform!$B:$B, 0, MATCH(Results!B57, data_longform!$C$1:$CB$1, 0))), \"\")=0, \"\", IFERROR(AVERAGE(OFFSET(data_longform!$B:$B, 0, MATCH(Results!B57, data_longform!$C$1:$CB$1, 0))), \"\"))","v":""},{"$f":"IF(IFERROR(AVERAGE(OFFSET(data_longform!$CB:$CB, 0, MATCH(Results!B57, data_longform!$C$1:$FB$1, 0))), \"\")=0, \"\", IFERROR(AVERAGE(OFFSET(data_longform!$CB:$CB, 0, MATCH(Results!B57, data_longform!$C$1:$FB$1, 0))), \"\"))","v":""}]
["Trust in the Government","Trus2","I feel that the government understands the concerns of Singaporeans like me.",{"$f":"IF(IFERROR(AVERAGE(OFFSET(data_longform!$B:$B, 0, MATCH(Results!B58, data_longform!$C$1:$CB$1, 0))), \"\")=0, \"\", IFERROR(AVERAGE(OFFSET(data_longform!$B:$B, 0, MATCH(Results!B58, data_longform!$C$1:$CB$1, 0))), \"\"))","v":""},{"$f":"IF(IFERROR(AVERAGE(OFFSET(data_longform!$CB:$CB, 0, MATCH(Results!B58, data_longform!$C$1:$FB$1, 0))), \"\")=0, \"\", IFERROR(AVERAGE(OFFSET(data_longform!$CB:$CB, 0, MATCH(Results!B58, data_longform!$C$1:$FB$1, 0))), \"\"))","v":""}]
["Trust in the Government","Trus3","I feel that the government cares for the wellbeing of Singaporeans like me.",{"$f":"IF(IFERROR(AVERAGE(OFFSET(data_longform!$B:$B, 0, MATCH(Results!B59, data_longform!$C$1:$CB$1, 0))), \"\")=0, \"\", IFERROR(AVERAGE(OFFSET(data_longform!$B:$B, 0, MATCH(Results!B59, data_longform!$C$1:$CB$1, 0))), \"\"))","v":""},{"$f":"IF(IFERROR(AVERAGE(OFFSET(data_longform!$CB:$CB, 0, MATCH(Results!B59, data_longform!$C$1:$FB$1, 0))), \"\")=0, \"\", IFERROR(AVERAGE(OFFSET(data_longform!$CB:$CB, 0, MATCH(Results!B59, data_longform!$C$1:$FB$1, 0))), \"\"))","v":""}]
["Trust in the Government","Trus4","I feel that the government values my views.",{"$f":"IF(IFERROR(AVERAGE(OFFSET(data_longform!$B:$B, 0, MATCH(Results!B60, data_longform!$C$1:$CB$1, 0))), \"\")=0, \"\", IFERROR(AVERAGE(OFFSET(data_longform!$B:$B, 0, MATCH(Results!B60, data_longform!$C$1:$CB$1, 0))), \"\"))","v":""},{"$f":"IF(IFERROR(AVERAGE(OFFSET(data_longform!$CB:$CB, 0, MATCH(Results!B60, data_longform!$C$1:$FB$1, 0))), \"\")=0, \"\", IFERROR(AVERAGE(OFFSET(data_longform!$CB:$CB, 0, MATCH(Results!B60, data_longform!$C$1:$FB$1, 0))), \"\"))","v":""}]
["Social support networks","Soci1","I have people that I can talk with about my problems.",{"$f":"IF(IFERROR(AVERAGE(OFFSET(data_longform!$B:$B, 0, MATCH(Results!B61, data_longform!$C$1:$CB$1, 0))), \"\")=0, \"\", IFERROR(AVERAGE(OFFSET(data_longform!$B:$B, 0, MATCH(Results!B61, data_longform!$C$1:$CB$1, 0))), \"\"))","v":""},{"$f":"IF(IFERROR(AVERAGE(OFFSET(data_longform!$CB:$CB, 0, MATCH(Results!B61, data_longform!$C$1:$FB$1, 0))), \"\")=0, \"\", IFERROR(AVERAGE(OFFSET(data_longform!$CB:$CB, 0, MATCH(Results!B61, data_longform!$C$1:$FB$1, 0))), \"\"))","v":""}]
["Social support networks","Soci2","I have people whom I can turn to for support. ",{"$f":"IF(IFERROR(AVERAGE(OFFSET(data_longform!$B:$B, 0, MATCH(Results!B62, data_longform!$C$1:$CB$1, 0))), \"\")=0, \"\", IFERROR(AVERAGE(OFFSET(data_longform!$B:$B, 0, MATCH(Results!B62, data_longform!$C$1:$CB$1, 0))), \"\"))","v":""},{"$f":"IF(IFERROR(AVERAGE(OFFSET(data_longform!$CB:$CB, 0, MATCH(Results!B62, data_longform!$C$1:$FB$1, 0))), \"\")=0, \"\", IFERROR(AVERAGE(OFFSET(data_longform!$CB:$CB, 0, MATCH(Results!B62, data_longform!$C$1:$FB$1, 0))), \"\"))","v":""}]
["Open to diversity","Open1","I respect the opinions of others, even if I do not agree with it. ",{"$f":"IF(IFERROR(AVERAGE(OFFSET(data_longform!$B:$B, 0, MATCH(Results!B63, data_longform!$C$1:$CB$1, 0))), \"\")=0, \"\", IFERROR(AVERAGE(OFFSET(data_longform!$B:$B, 0, MATCH(Results!B63, data_longform!$C$1:$CB$1, 0))), \"\"))","v":""},{"$f":"IF(IFERROR(AVERAGE(OFFSET(data_longform!$CB:$CB, 0, MATCH(Results!B63, data_longform!$C$1:$FB$1, 0))), \"\")=0, \"\", IFERROR(AVERAGE(OFFSET(data_longform!$CB:$CB, 0, MATCH(Results!B63, data_longform!$C$1:$FB$1, 0))), \"\"))","v":""}]
["Open to diversity","Open2","I respect the values and beliefs of people who are of a different background from me.",{"$f":"IF(IFERROR(AVERAGE(OFFSET(data_longform!$B:$B, 0, MATCH(Results!B64, data_longform!$C$1:$CB$1, 0))), \"\")=0, \"\", IFERROR(AVERAGE(OFFSET(data_longform!$B:$B, 0, MATCH(Results!B64, data_longform!$C$1:$CB$1, 0))), \"\"))","v":""},{"$f":"IF(IFERROR(AVERAGE(OFFSET(data_longform!$CB:$CB, 0, MATCH(Results!B64, data_longform!$C$1:$FB$1, 0))), \"\")=0, \"\", IFERROR(AVERAGE(OFFSET(data_longform!$CB:$CB, 0, MATCH(Results!B64, data_longform!$C$1:$FB$1, 0))), \"\"))","v":""}]
["Empathy","Empa1","I put myself in the shoes of others to understand how they feel.",{"$f":"IF(IFERROR(AVERAGE(OFFSET(data_longform!$B:$B, 0, MATCH(Results!B65, data_longform!$C$1:$CB$1, 0))), \"\")=0, \"\", IFERROR(AVERAGE(OFFSET(data_longform!$B:$B, 0, MATCH(Results!B65, data_longform!$C$1:$CB$1, 0))), \"\"))","v":""},{"$f":"IF(IFERROR(AVERAGE(OFFSET(data_longform!$CB:$CB, 0, MATCH(Results!B65, data_longform!$C$1:$FB$1, 0))), \"\")=0, \"\", IFERROR(AVERAGE(OFFSET(data_longform!$CB:$CB, 0, MATCH(Results!B65, data_longform!$C$1:$FB$1, 0))), \"\"))","v":""}]
["Ability to effect change (community)","Abil_comm1","I believe that I can make a difference in the community.",{"$f":"IF(IFERROR(AVERAGE(OFFSET(data_longform!$B:$B, 0, MATCH(Results!B66, data_longform!$C$1:$CB$1, 0))), \"\")=0, \"\", IFERROR(AVERAGE(OFFSET(data_longform!$B:$B, 0, MATCH(Results!B66, data_longform!$C$1:$CB$1, 0))), \"\"))","v":""},{"$f":"IF(IFERROR(AVERAGE(OFFSET(data_longform!$CB:$CB, 0, MATCH(Results!B66, data_longform!$C$1:$FB$1, 0))), \"\")=0, \"\", IFERROR(AVERAGE(OFFSET(data_longform!$CB:$CB, 0, MATCH(Results!B66, data_longform!$C$1:$FB$1, 0))), \"\"))","v":""}]
["Ability to effect change (community)","Abil_comm2","I believe I can help to shape society.",{"$f":"IF(IFERROR(AVERAGE(OFFSET(data_longform!$B:$B, 0, MATCH(Results!B67, data_longform!$C$1:$CB$1, 0))), \"\")=0, \"\", IFERROR(AVERAGE(OFFSET(data_longform!$B:$B, 0, MATCH(Results!B67, data_longform!$C$1:$CB$1, 0))), \"\"))","v":""},{"$f":"IF(IFERROR(AVERAGE(OFFSET(data_longform!$CB:$CB, 0, MATCH(Results!B67, data_longform!$C$1:$FB$1, 0))), \"\")=0, \"\", IFERROR(AVERAGE(OFFSET(data_longform!$CB:$CB, 0, MATCH(Results!B67, data_longform!$C$1:$FB$1, 0))), \"\"))","v":""}]
["Civic Engagement (Community)","Civi_comm1","I am aware of the needs in the community.",{"$f":"IF(IFERROR(AVERAGE(OFFSET(data_longform!$B:$B, 0, MATCH(Results!B68, data_longform!$C$1:$CB$1, 0))), \"\")=0, \"\", IFERROR(AVERAGE(OFFSET(data_longform!$B:$B, 0, MATCH(Results!B68, data_longform!$C$1:$CB$1, 0))), \"\"))","v":""},{"$f":"IF(IFERROR(AVERAGE(OFFSET(data_longform!$CB:$CB, 0, MATCH(Results!B68, data_longform!$C$1:$FB$1, 0))), \"\")=0, \"\", IFERROR(AVERAGE(OFFSET(data_longform!$CB:$CB, 0, MATCH(Results!B68, data_longform!$C$1:$FB$1, 0))), \"\"))","v":""}]
["Civic Engagement (Community)","Civi_comm2","I understand the ways that I can contribute to the community.",{"$f":"IF(IFERROR(AVERAGE(OFFSET(data_longform!$B:$B, 0, MATCH(Results!B69, data_longform!$C$1:$CB$1, 0))), \"\")=0, \"\", IFERROR(AVERAGE(OFFSET(data_longform!$B:$B, 0, MATCH(Results!B69, data_longform!$C$1:$CB$1, 0))), \"\"))","v":""},{"$f":"IF(IFERROR(AVERAGE(OFFSET(data_longform!$CB:$CB, 0, MATCH(Results!B69, data_longform!$C$1:$FB$1, 0))), \"\")=0, \"\", IFERROR(AVERAGE(OFFSET(data_longform!$CB:$CB, 0, MATCH(Results!B69, data_longform!$C$1:$FB$1, 0))), \"\"))","v":""}]
["Civic Engagement (Community)","Civi_comm3","I believe I have a role to play in improving the community.",{"$f":"IF(IFERROR(AVERAGE(OFFSET(data_longform!$B:$B, 0, MATCH(Results!B70, data_longform!$C$1:$CB$1, 0))), \"\")=0, \"\", IFERROR(AVERAGE(OFFSET(data_longform!$B:$B, 0, MATCH(Results!B70, data_longform!$C$1:$CB$1, 0))), \"\"))","v":""},{"$f":"IF(IFERROR(AVERAGE(OFFSET(data_longform!$CB:$CB, 0, MATCH(Results!B70, data_longform!$C$1:$FB$1, 0))), \"\")=0, \"\", IFERROR(AVERAGE(OFFSET(data_longform!$CB:$CB, 0, MATCH(Results!B70, data_longform!$C$1:$FB$1, 0))), \"\"))","v":""}]
["Civic Engagement (Community)","Civi_comm4","I feel a strong conviction to give back to the community.",{"$f":"IF(IFERROR(AVERAGE(OFFSET(data_longform!$B:$B, 0, MATCH(Results!B71, data_longform!$C$1:$CB$1, 0))), \"\")=0, \"\", IFERROR(AVERAGE(OFFSET(data_longform!$B:$B, 0, MATCH(Results!B71, data_longform!$C$1:$CB$1, 0))), \"\"))","v":""},{"$f":"IF(IFERROR(AVERAGE(OFFSET(data_longform!$CB:$CB, 0, MATCH(Results!B71, data_longform!$C$1:$FB$1, 0))), \"\")=0, \"\", IFERROR(AVERAGE(OFFSET(data_longform!$CB:$CB, 0, MATCH(Results!B71, data_longform!$C$1:$FB$1, 0))), \"\"))","v":""}]
["Civic Engagement (Community)","Civi_comm5","I actively participate in efforts that help to improve the community.",{"$f":"IF(IFERROR(AVERAGE(OFFSET(data_longform!$B:$B, 0, MATCH(Results!B72, data_longform!$C$1:$CB$1, 0))), \"\")=0, \"\", IFERROR(AVERAGE(OFFSET(data_longform!$B:$B, 0, MATCH(Results!B72, data_longform!$C$1:$CB$1, 0))), \"\"))","v":""},{"$f":"IF(IFERROR(AVERAGE(OFFSET(data_longform!$CB:$CB, 0, MATCH(Results!B72, data_longform!$C$1:$FB$1, 0))), \"\")=0, \"\", IFERROR(AVERAGE(OFFSET(data_longform!$CB:$CB, 0, MATCH(Results!B72, data_longform!$C$1:$FB$1, 0))), \"\"))","v":""}]
["Civic Engagement (Community)","Civi_comm6","I participate in discussions on national, community or social issues.",{"$f":"IF(IFERROR(AVERAGE(OFFSET(data_longform!$B:$B, 0, MATCH(Results!B73, data_longform!$C$1:$CB$1, 0))), \"\")=0, \"\", IFERROR(AVERAGE(OFFSET(data_longform!$B:$B, 0, MATCH(Results!B73, data_longform!$C$1:$CB$1, 0))), \"\"))","v":""},{"$f":"IF(IFERROR(AVERAGE(OFFSET(data_longform!$CB:$CB, 0, MATCH(Results!B73, data_longform!$C$1:$FB$1, 0))), \"\")=0, \"\", IFERROR(AVERAGE(OFFSET(data_longform!$CB:$CB, 0, MATCH(Results!B73, data_longform!$C$1:$FB$1, 0))), \"\"))","v":""}]
["Civic Engagement (Community)","Civi_comm7","I encourage my peers to participate in activities that help to improve the community.",{"$f":"IF(IFERROR(AVERAGE(OFFSET(data_longform!$B:$B, 0, MATCH(Results!B74, data_longform!$C$1:$CB$1, 0))), \"\")=0, \"\", IFERROR(AVERAGE(OFFSET(data_longform!$B:$B, 0, MATCH(Results!B74, data_longform!$C$1:$CB$1, 0))), \"\"))","v":""},{"$f":"IF(IFERROR(AVERAGE(OFFSET(data_longform!$CB:$CB, 0, MATCH(Results!B74, data_longform!$C$1:$FB$1, 0))), \"\")=0, \"\", IFERROR(AVERAGE(OFFSET(data_longform!$CB:$CB, 0, MATCH(Results!B74, data_longform!$C$1:$FB$1, 0))), \"\"))","v":""}]
["Civic Engagement (Environmental)","Civi_env1","I am aware of the effects of my actions on the environment.",{"$f":"IF(IFERROR(AVERAGE(OFFSET(data_longform!$B:$B, 0, MATCH(Results!B75, data_longform!$C$1:$CB$1, 0))), \"\")=0, \"\", IFERROR(AVERAGE(OFFSET(data_longform!$B:$B, 0, MATCH(Results!B75, data_longform!$C$1:$CB$1, 0))), \"\"))","v":""},{"$f":"IF(IFERROR(AVERAGE(OFFSET(data_longform!$CB:$CB, 0, MATCH(Results!B75, data_longform!$C$1:$FB$1, 0))), \"\")=0, \"\", IFERROR(AVERAGE(OFFSET(data_longform!$CB:$CB, 0, MATCH(Results!B75, data_longform!$C$1:$FB$1, 0))), \"\"))","v":""}]
["Civic Engagement (Environmental)","Civi_env2","I understand the ways that I can care for the environment.",{"$f":"IF(IFERROR(AVERAGE(OFFSET(data_longform!$B:$B, 0, MATCH(Results!B76, data_longform!$C$1:$CB$1, 0))), \"\")=0, \"\", IFERROR(AVERAGE(OFFSET(data_longform!$B:$B, 0, MATCH(Results!B76, data_longform!$C$1:$CB$1, 0))), \"\"))","v":""},{"$f":"IF(IFERROR(AVERAGE(OFFSET(data_longform!$CB:$CB, 0, MATCH(Results!B76, data_longform!$C$1:$FB$1, 0))), \"\")=0, \"\", IFERROR(AVERAGE(OFFSET(data_longform!$CB:$CB, 0, MATCH(Results!B76, data_longform!$C$1:$FB$1, 0))), \"\"))","v":""}]
["Civic Engagement (Environmental)","Civi_env3","I feel responsible towards the environment.",{"$f":"IF(IFERROR(AVERAGE(OFFSET(data_longform!$B:$B, 0, MATCH(Results!B77, data_longform!$C$1:$CB$1, 0))), \"\")=0, \"\", IFERROR(AVERAGE(OFFSET(data_longform!$B:$B, 0, MATCH(Results!B77, data_longform!$C$1:$CB$1, 0))), \"\"))","v":""},{"$f":"IF(IFERROR(AVERAGE(OFFSET(data_longform!$CB:$CB, 0, MATCH(Results!B77, data_longform!$C$1:$FB$1, 0))), \"\")=0, \"\", IFERROR(AVERAGE(OFFSET(data_longform!$CB:$CB, 0, MATCH(Results!B77, data_longform!$C$1:$FB$1, 0))), \"\"))","v":""}]
["Civic Engagement (Environmental)","Civi_env4","My efforts to care for the environment will make a difference.",{"$f":"IF(IFERROR(AVERAGE(OFFSET(data_longform!$B:$B, 0, MATCH(Results!B78, data_longform!$C$1:$CB$1, 0))), \"\")=0, \"\", IFERROR(AVERAGE(OFFSET(data_longform!$B:$B, 0, MATCH(Results!B78, data_longform!$C$1:$CB$1, 0))), \"\"))","v":""},{"$f":"IF(IFERROR(AVERAGE(OFFSET(data_longform!$CB:$CB, 0, MATCH(Results!B78, data_longform!$C$1:$FB$1, 0))), \"\")=0, \"\", IFERROR(AVERAGE(OFFSET(data_longform!$CB:$CB, 0, MATCH(Results!B78, data_longform!$C$1:$FB$1, 0))), \"\"))","v":""}]
["Civic Engagement (Environmental)","Civi_env5","I actively participate in efforts to care for the environment.",{"$f":"IF(IFERROR(AVERAGE(OFFSET(data_longform!$B:$B, 0, MATCH(Results!B79, data_longform!$C$1:$CB$1, 0))), \"\")=0, \"\", IFERROR(AVERAGE(OFFSET(data_longform!$B:$B, 0, MATCH(Results!B79, data_longform!$C$1:$CB$1, 0))), \"\"))","v":""},{"$f":"IF(IFERROR(AVERAGE(OFFSET(data_longform!$CB:$CB, 0, MATCH(Results!B79, data_longform!$C$1:$FB$1, 0))), \"\")=0, \"\", IFERROR(AVERAGE(OFFSET(data_longform!$CB:$CB, 0, MATCH(Results!B79, data_longform!$C$1:$FB$1, 0))), \"\"))","v":""}]
["Civic Engagement (Environmental)","Civi_env6","I encourage my peers to care for the environment.",{"$f":"IF(IFERROR(AVERAGE(OFFSET(data_longform!$B:$B, 0, MATCH(Results!B80, data_longform!$C$1:$CB$1, 0))), \"\")=0, \"\", IFERROR(AVERAGE(OFFSET(data_longform!$B:$B, 0, MATCH(Results!B80, data_longform!$C$1:$CB$1, 0))), \"\"))","v":""},{"$f":"IF(IFERROR(AVERAGE(OFFSET(data_longform!$CB:$CB, 0, MATCH(Results!B80, data_longform!$C$1:$FB$1, 0))), \"\")=0, \"\", IFERROR(AVERAGE(OFFSET(data_longform!$CB:$CB, 0, MATCH(Results!B80, data_longform!$C$1:$FB$1, 0))), \"\"))","v":""}]
["Ability to Effect Change (Government)","Abil_govt1","I believe that I can influence government decisions on issues. ",{"$f":"IF(IFERROR(AVERAGE(OFFSET(data_longform!$B:$B, 0, MATCH(Results!B81, data_longform!$C$1:$CB$1, 0))), \"\")=0, \"\", IFERROR(AVERAGE(OFFSET(data_longform!$B:$B, 0, MATCH(Results!B81, data_longform!$C$1:$CB$1, 0))), \"\"))","v":""},{"$f":"IF(IFERROR(AVERAGE(OFFSET(data_longform!$CB:$CB, 0, MATCH(Results!B81, data_longform!$C$1:$FB$1, 0))), \"\")=0, \"\", IFERROR(AVERAGE(OFFSET(data_longform!$CB:$CB, 0, MATCH(Results!B81, data_longform!$C$1:$FB$1, 0))), \"\"))","v":""}]

{"sheet":"Sheet7","index":37,"n_rows":30,"n_cols":4,"rows_kept":30,"cut":false,"hidden":true,"merged":[]}
["Subconstruct","Pre","Post","Show"]
["Tenacity",{"$f":"ROUND(AVERAGEIF(Results!$A$4:$A$81, $A2, Results!$D$4:$D$81), 3)","v":{"$error":"#DIV/0!"}},{"$f":"ROUND(AVERAGEIF(Results!$A$4:$A$81, $A2, Results!$E$4:$E$81), 3)","v":{"$error":"#DIV/0!"}},{"$f":"IF(AND(B2>0, C2>0), 1, 0)","v":{"$error":"#DIV/0!"}}]
["Confidence",{"$f":"ROUND(AVERAGEIF(Results!$A$4:$A$81, $A3, Results!$D$4:$D$81), 3)","v":{"$error":"#DIV/0!"}},{"$f":"ROUND(AVERAGEIF(Results!$A$4:$A$81, $A3, Results!$E$4:$E$81), 3)","v":{"$error":"#DIV/0!"}},{"$f":"IF(AND(B3>0, C3>0), 1, 0)","v":{"$error":"#DIV/0!"}}]
["Proactiveness",{"$f":"ROUND(AVERAGEIF(Results!$A$4:$A$81, $A4, Results!$D$4:$D$81), 3)","v":{"$error":"#DIV/0!"}},{"$f":"ROUND(AVERAGEIF(Results!$A$4:$A$81, $A4, Results!$E$4:$E$81), 3)","v":{"$error":"#DIV/0!"}},{"$error":"#DIV/0!"}]
["Growth mindset",{"$f":"ROUND(AVERAGEIF(Results!$A$4:$A$81, $A5, Results!$D$4:$D$81), 3)","v":{"$error":"#DIV/0!"}},{"$f":"ROUND(AVERAGEIF(Results!$A$4:$A$81, $A5, Results!$E$4:$E$81), 3)","v":{"$error":"#DIV/0!"}},{"$error":"#DIV/0!"}]
["Career preparedness",{"$f":"ROUND(AVERAGEIF(Results!$A$4:$A$81, $A6, Results!$D$4:$D$81), 3)","v":{"$error":"#DIV/0!"}},{"$f":"ROUND(AVERAGEIF(Results!$A$4:$A$81, $A6, Results!$E$4:$E$81), 3)","v":{"$error":"#DIV/0!"}},{"$error":"#DIV/0!"}]
["Cultural awareness",{"$f":"ROUND(AVERAGEIF(Results!$A$4:$A$81, $A7, Results!$D$4:$D$81), 3)","v":{"$error":"#DIV/0!"}},{"$f":"ROUND(AVERAGEIF(Results!$A$4:$A$81, $A7, Results!$E$4:$E$81), 3)","v":{"$error":"#DIV/0!"}},{"$error":"#DIV/0!"}]
["Global perspectives",{"$f":"ROUND(AVERAGEIF(Results!$A$4:$A$81, $A8, Results!$D$4:$D$81), 3)","v":{"$error":"#DIV/0!"}},{"$f":"ROUND(AVERAGEIF(Results!$A$4:$A$81, $A8, Results!$E$4:$E$81), 3)","v":{"$error":"#DIV/0!"}},{"$error":"#DIV/0!"}]
["Innovative",{"$f":"ROUND(AVERAGEIF(Results!$A$4:$A$81, $A9, Results!$D$4:$D$81), 3)","v":{"$error":"#DIV/0!"}},{"$f":"ROUND(AVERAGEIF(Results!$A$4:$A$81, $A9, Results!$E$4:$E$81), 3)","v":{"$error":"#DIV/0!"}},{"$error":"#DIV/0!"}]
["Critical thinking",{"$f":"ROUND(AVERAGEIF(Results!$A$4:$A$81, $A10, Results!$D$4:$D$81), 3)","v":{"$error":"#DIV/0!"}},{"$f":"ROUND(AVERAGEIF(Results!$A$4:$A$81, $A10, Results!$E$4:$E$81), 3)","v":{"$error":"#DIV/0!"}},{"$error":"#DIV/0!"}]
["Problem solving",{"$f":"ROUND(AVERAGEIF(Results!$A$4:$A$81, $A11, Results!$D$4:$D$81), 3)","v":{"$error":"#DIV/0!"}},{"$f":"ROUND(AVERAGEIF(Results!$A$4:$A$81, $A11, Results!$E$4:$E$81), 3)","v":{"$error":"#DIV/0!"}},{"$error":"#DIV/0!"}]
["Teamwork",{"$f":"ROUND(AVERAGEIF(Results!$A$4:$A$81, $A12, Results!$D$4:$D$81), 3)","v":{"$error":"#DIV/0!"}},{"$f":"ROUND(AVERAGEIF(Results!$A$4:$A$81, $A12, Results!$E$4:$E$81), 3)","v":{"$error":"#DIV/0!"}},{"$error":"#DIV/0!"}]
["Stakeholder management",{"$f":"ROUND(AVERAGEIF(Results!$A$4:$A$81, $A13, Results!$D$4:$D$81), 3)","v":{"$error":"#DIV/0!"}},{"$f":"ROUND(AVERAGEIF(Results!$A$4:$A$81, $A13, Results!$E$4:$E$81), 3)","v":{"$error":"#DIV/0!"}},{"$error":"#DIV/0!"}]
["Project management",{"$f":"ROUND(AVERAGEIF(Results!$A$4:$A$81, $A14, Results!$D$4:$D$81), 3)","v":{"$error":"#DIV/0!"}},{"$f":"ROUND(AVERAGEIF(Results!$A$4:$A$81, $A14, Results!$E$4:$E$81), 3)","v":{"$error":"#DIV/0!"}},{"$error":"#DIV/0!"}]
["Emotional awareness",{"$f":"ROUND(AVERAGEIF(Results!$A$4:$A$81, $A15, Results!$D$4:$D$81), 3)","v":{"$error":"#DIV/0!"}},{"$f":"ROUND(AVERAGEIF(Results!$A$4:$A$81, $A15, Results!$E$4:$E$81), 3)","v":{"$error":"#DIV/0!"}},{"$error":"#DIV/0!"}]
["Emotional support",{"$f":"ROUND(AVERAGEIF(Results!$A$4:$A$81, $A16, Results!$D$4:$D$81), 3)","v":{"$error":"#DIV/0!"}},{"$f":"ROUND(AVERAGEIF(Results!$A$4:$A$81, $A16, Results!$E$4:$E$81), 3)","v":{"$error":"#DIV/0!"}},{"$error":"#DIV/0!"}]
["Emotional management",{"$f":"ROUND(AVERAGEIF(Results!$A$4:$A$81, $A17, Results!$D$4:$D$81), 3)","v":{"$error":"#DIV/0!"}},{"$f":"ROUND(AVERAGEIF(Results!$A$4:$A$81, $A17, Results!$E$4:$E$81), 3)","v":{"$error":"#DIV/0!"}},{"$error":"#DIV/0!"}]
["Financial literacy",{"$f":"ROUND(AVERAGEIF(Results!$A$4:$A$81, $A18, Results!$D$4:$D$81), 3)","v":{"$error":"#DIV/0!"}},{"$f":"ROUND(AVERAGEIF(Results!$A$4:$A$81, $A18, Results!$E$4:$E$81), 3)","v":{"$error":"#DIV/0!"}},{"$error":"#DIV/0!"}]
["Physical health",{"$f":"ROUND(AVERAGEIF(Results!$A$4:$A$81, $A19, Results!$D$4:$D$81), 3)","v":{"$error":"#DIV/0!"}},{"$f":"ROUND(AVERAGEIF(Results!$A$4:$A$81, $A19, Results!$E$4:$E$81), 3)","v":{"$error":"#DIV/0!"}},{"$error":"#DIV/0!"}]
["National pride",{"$f":"ROUND(AVERAGEIF(Results!$A$4:$A$81, $A20, Results!$D$4:$D$81), 3)","v":{"$error":"#DIV/0!"}},{"$f":"ROUND(AVERAGEIF(Results!$A$4:$A$81, $A20, Results!$E$4:$E$81), 3)","v":{"$error":"#DIV/0!"}},{"$error":"#DIV/0!"}]
["National perspectives",{"$f":"ROUND(AVERAGEIF(Results!$A$4:$A$81, $A21, Results!$D$4:$D$81), 3)","v":{"$error":"#DIV/0!"}},{"$f":"ROUND(AVERAGEIF(Results!$A$4:$A$81, $A21, Results!$E$4:$E$81), 3)","v":{"$error":"#DIV/0!"}},{"$error":"#DIV/0!"}]
["Public policy awareness",{"$f":"ROUND(AVERAGEIF(Results!$A$4:$A$81, $A22, Results!$D$4:$D$81), 3)","v":{"$error":"#DIV/0!"}},{"$f":"ROUND(AVERAGEIF(Results!$A$4:$A$81, $A22, Results!$E$4:$E$81), 3)","v":{"$error":"#DIV/0!"}},{"$error":"#DIV/0!"}]
["Trust in the Government",{"$f":"ROUND(AVERAGEIF(Results!$A$4:$A$81, $A23, Results!$D$4:$D$81), 3)","v":{"$error":"#DIV/0!"}},{"$f":"ROUND(AVERAGEIF(Results!$A$4:$A$81, $A23, Results!$E$4:$E$81), 3)","v":{"$error":"#DIV/0!"}},{"$error":"#DIV/0!"}]
["Social support networks",{"$f":"ROUND(AVERAGEIF(Results!$A$4:$A$81, $A24, Results!$D$4:$D$81), 3)","v":{"$error":"#DIV/0!"}},{"$f":"ROUND(AVERAGEIF(Results!$A$4:$A$81, $A24, Results!$E$4:$E$81), 3)","v":{"$error":"#DIV/0!"}},{"$error":"#DIV/0!"}]
["Open to diversity",{"$f":"ROUND(AVERAGEIF(Results!$A$4:$A$81, $A25, Results!$D$4:$D$81), 3)","v":{"$error":"#DIV/0!"}},{"$f":"ROUND(AVERAGEIF(Results!$A$4:$A$81, $A25, Results!$E$4:$E$81), 3)","v":{"$error":"#DIV/0!"}},{"$error":"#DIV/0!"}]
["Empathy",{"$f":"ROUND(AVERAGEIF(Results!$A$4:$A$81, $A26, Results!$D$4:$D$81), 3)","v":{"$error":"#DIV/0!"}},{"$f":"ROUND(AVERAGEIF(Results!$A$4:$A$81, $A26, Results!$E$4:$E$81), 3)","v":{"$error":"#DIV/0!"}},{"$error":"#DIV/0!"}]
["Ability to effect change (community)",{"$f":"ROUND(AVERAGEIF(Results!$A$4:$A$81, $A27, Results!$D$4:$D$81), 3)","v":{"$error":"#DIV/0!"}},{"$f":"ROUND(AVERAGEIF(Results!$A$4:$A$81, $A27, Results!$E$4:$E$81), 3)","v":{"$error":"#DIV/0!"}},{"$error":"#DIV/0!"}]
["Civic Engagement (Community)",{"$f":"ROUND(AVERAGEIF(Results!$A$4:$A$81, $A28, Results!$D$4:$D$81), 3)","v":{"$error":"#DIV/0!"}},{"$f":"ROUND(AVERAGEIF(Results!$A$4:$A$81, $A28, Results!$E$4:$E$81), 3)","v":{"$error":"#DIV/0!"}},{"$error":"#DIV/0!"}]
["Civic Engagement (Environmental)",{"$f":"ROUND(AVERAGEIF(Results!$A$4:$A$81, $A29, Results!$D$4:$D$81), 3)","v":{"$error":"#DIV/0!"}},{"$f":"ROUND(AVERAGEIF(Results!$A$4:$A$81, $A29, Results!$E$4:$E$81), 3)","v":{"$error":"#DIV/0!"}},{"$error":"#DIV/0!"}]
["Ability to Effect Change (Government)",{"$f":"ROUND(AVERAGEIF(Results!$A$4:$A$81, $A30, Results!$D$4:$D$81), 3)","v":{"$error":"#DIV/0!"}},{"$f":"ROUND(AVERAGEIF(Results!$A$4:$A$81, $A30, Results!$E$4:$E$81), 3)","v":{"$error":"#DIV/0!"}},{"$error":"#DIV/0!"}]

{"sheet":"Sheet6","index":38,"n_rows":19,"n_cols":5,"rows_kept":19,"cut":false,"hidden":true,"merged":[]}
["Process","question","Question","%_Positive","Show"]
["Programme Implementation","Prog_imp1","What do you think of the duration of programme_name?",{"$f":"COUNTIFS(OFFSET(data_longform!$A:$A,0,MATCH(B2,data_longform!$A$1:$FW$1,0)-1),\">\"&1, OFFSET(data_longform!$A:$A,0,MATCH(B2,data_longform!$A$1:$FW$1,0)-1),\"<\"&5)/COUNT(OFFSET(data_longform!$A:$A,0,MATCH(B2,data_longform!$A$1:$FW$1,0)-1))","v":{"$error":"#DIV/0!"}},{"$f":"IF(D2>0,1, 0)","v":{"$error":"#DIV/0!"}}]
["Programme Implementation","Prog_imp2","I feel that the pace of programme_name was…",{"$f":"COUNTIFS(OFFSET(data_longform!$A:$A,0,MATCH(B3,data_longform!$A$1:$FW$1,0)-1),\">\"&1, OFFSET(data_longform!$A:$A,0,MATCH(B3,data_longform!$A$1:$FW$1,0)-1),\"<\"&5)/COUNT(OFFSET(data_longform!$A:$A,0,MATCH(B3,data_longform!$A$1:$FW$1,0)-1))","v":{"$error":"#DIV/0!"}},{"$f":"IF(D3>0,1, 0)","v":{"$error":"#DIV/0!"}}]
["Programme Implementation","Prog_imp3","The accommodation is of acceptable standard.",{"$f":"COUNTIF(OFFSET(data_longform!$A:$A,0,MATCH(B4,data_longform!$A$1:$FW$1,0)-1),\">\"&2)/COUNT(OFFSET(data_longform!$A:$A,0,MATCH(B4,data_longform!$A$1:$FW$1,0)-1))","v":{"$error":"#DIV/0!"}},{"$error":"#DIV/0!"}]
["Programme Implementation","Prog_imp4","The meal(s) are of acceptable standard.",{"$f":"COUNTIF(OFFSET(data_longform!$A:$A,0,MATCH(B5,data_longform!$A$1:$FW$1,0)-1),\">\"&2)/COUNT(OFFSET(data_longform!$A:$A,0,MATCH(B5,data_longform!$A$1:$FW$1,0)-1))","v":{"$error":"#DIV/0!"}},{"$error":"#DIV/0!"}]
["Programme Implementation","Prog_imp5","The facilities are of acceptable standard.",{"$f":"COUNTIF(OFFSET(data_longform!$A:$A,0,MATCH(B6,data_longform!$A$1:$FW$1,0)-1),\">\"&2)/COUNT(OFFSET(data_longform!$A:$A,0,MATCH(B6,data_longform!$A$1:$FW$1,0)-1))","v":{"$error":"#DIV/0!"}},{"$error":"#DIV/0!"}]
["Feedback on Mentor","Feed1","The mentor provided sufficient guidance. ",{"$f":"COUNTIF(OFFSET(data_longform!$A:$A,0,MATCH(B7,data_longform!$A$1:$FW$1,0)-1),\">\"&2)/COUNT(OFFSET(data_longform!$A:$A,0,MATCH(B7,data_longform!$A$1:$FW$1,0)-1))","v":{"$error":"#DIV/0!"}},{"$error":"#DIV/0!"}]
["Feedback on Mentor","Feed2","The mentor provided useful insights.",{"$f":"COUNTIF(OFFSET(data_longform!$A:$A,0,MATCH(B8,data_longform!$A$1:$FW$1,0)-1),\">\"&2)/COUNT(OFFSET(data_longform!$A:$A,0,MATCH(B8,data_longform!$A$1:$FW$1,0)-1))","v":{"$error":"#DIV/0!"}},{"$error":"#DIV/0!"}]
["Feedback on Mentor","Feed3","The mentor was able to facilitate learning through reflections and asking critical questions. ",{"$f":"COUNTIF(OFFSET(data_longform!$A:$A,0,MATCH(B9,data_longform!$A$1:$FW$1,0)-1),\">\"&2)/COUNT(OFFSET(data_longform!$A:$A,0,MATCH(B9,data_longform!$A$1:$FW$1,0)-1))","v":{"$error":"#DIV/0!"}},{"$error":"#DIV/0!"}]
["Feedback on Mentor","Feed4","The mentor provided useful feedback for my personal growth.",{"$f":"COUNTIF(OFFSET(data_longform!$A:$A,0,MATCH(B10,data_longform!$A$1:$FW$1,0)-1),\">\"&2)/COUNT(OFFSET(data_longform!$A:$A,0,MATCH(B10,data_longform!$A$1:$FW$1,0)-1))","v":{"$error":"#DIV/0!"}},{"$error":"#DIV/0!"}]
["Feedback on Mentor","Feed5","The mentor has the necessary knowledge and skills for the role.",{"$f":"COUNTIF(OFFSET(data_longform!$A:$A,0,MATCH(B11,data_longform!$A$1:$FW$1,0)-1),\">\"&2)/COUNT(OFFSET(data_longform!$A:$A,0,MATCH(B11,data_longform!$A$1:$FW$1,0)-1))","v":{"$error":"#DIV/0!"}},{"$error":"#DIV/0!"}]
["Feedback on Mentor","Feed6","The mentor was able to point me to useful resources.",{"$f":"COUNTIF(OFFSET(data_longform!$A:$A,0,MATCH(B12,data_longform!$A$1:$FW$1,0)-1),\">\"&2)/COUNT(OFFSET(data_longform!$A:$A,0,MATCH(B12,data_longform!$A$1:$FW$1,0)-1))","v":{"$error":"#DIV/0!"}},{"$error":"#DIV/0!"}]
["Feedback on Mentor","Feed7","The mentor is able to communicate well with the group.",{"$f":"COUNTIF(OFFSET(data_longform!$A:$A,0,MATCH(B13,data_longform!$A$1:$FW$1,0)-1),\">\"&2)/COUNT(OFFSET(data_longform!$A:$A,0,MATCH(B13,data_longform!$A$1:$FW$1,0)-1))","v":{"$error":"#DIV/0!"}},{"$error":"#DIV/0!"}]
["Feedback on Mentor","Feed8","The mentor was able to manage the group effectively",{"$f":"COUNTIF(OFFSET(data_longform!$A:$A,0,MATCH(B14,data_longform!$A$1:$FW$1,0)-1),\">\"&2)/COUNT(OFFSET(data_longform!$A:$A,0,MATCH(B14,data_longform!$A$1:$FW$1,0)-1))","v":{"$error":"#DIV/0!"}},{"$error":"#DIV/0!"}]
["Feedback on Mentor","Feed9","How would you rate the mentor as a whole?",{"$f":"COUNTIF(OFFSET(data_longform!$A:$A,0,MATCH(B15,data_longform!$A$1:$FW$1,0)-1),\">\"&2)/COUNT(OFFSET(data_longform!$A:$A,0,MATCH(B15,data_longform!$A$1:$FW$1,0)-1))","v":{"$error":"#DIV/0!"}},{"$error":"#DIV/0!"}]
["Overall Feedback","Over1","Overall, I am satisfied with programme_name.",{"$f":"COUNTIF(OFFSET(data_longform!$A:$A,0,MATCH(B16,data_longform!$A$1:$FW$1,0)-1),\">\"&2)/COUNT(OFFSET(data_longform!$A:$A,0,MATCH(B16,data_longform!$A$1:$FW$1,0)-1))","v":{"$error":"#DIV/0!"}},{"$error":"#DIV/0!"}]
["Overall Feedback","Over3","I would recommend programme_name to others. ",{"$f":"COUNTIF(OFFSET(data_longform!$A:$A,0,MATCH(B17,data_longform!$A$1:$FW$1,0)-1),\">\"&2)/COUNT(OFFSET(data_longform!$A:$A,0,MATCH(B17,data_longform!$A$1:$FW$1,0)-1))","v":{"$error":"#DIV/0!"}},{"$error":"#DIV/0!"}]
["Overall Feedback","Over5","This programme has allowed me to expand my networks.",{"$f":"COUNTIF(OFFSET(data_longform!$A:$A,0,MATCH(B18,data_longform!$A$1:$FW$1,0)-1),\">\"&2)/COUNT(OFFSET(data_longform!$A:$A,0,MATCH(B18,data_longform!$A$1:$FW$1,0)-1))","v":{"$error":"#DIV/0!"}},{"$error":"#DIV/0!"}]
["Overall Feedback","Over2","How would you rate programme_name as a whole? ",{"$f":"COUNTIF(OFFSET(data_longform!$A:$A,0,MATCH(B19,data_longform!$A$1:$FW$1,0)-1),\">\"&2)/COUNT(OFFSET(data_longform!$A:$A,0,MATCH(B19,data_longform!$A$1:$FW$1,0)-1))","v":{"$error":"#DIV/0!"}},{"$error":"#DIV/0!"}]